{"text_format":"1","workbook":"xlsx","n_sheets":5,"sheets":["Carbon Calculator (EN)","FE Calculator (EN)","Carbon Calculator (CY)","FE Calculator (CY)","Master List"],"not_rendered":{"charts":0,"images":2,"macros":0,"external_links":1,"defined_names":1,"comments":0,"pivot_tables":0},"unopened":[],"bounds":{"document_bytes":16777216,"sheet_cells":100000,"rows_first":2000,"rows_last":500,"rows_between":2000,"halvings":0,"cell_chars":16384,"cell_head_chars":4096},"cells_cut":0,"cells_raw":0,"read":"whole","date_system":"1900"}

{"sheet":"Carbon Calculator (EN)","index":0,"n_rows":37,"n_cols":6,"rows_kept":37,"cut":false,"hidden":false,"merged":[[16,2,16,4],[17,2,17,4],[18,2,18,4]]}
["NHS WALES SHARED SERVICES PARTNERSHIP - PROCUREMENT SERVICES "]
[]
["Supply Chain Carbon Calculator 24-25"]
[]
["Instructions"]
["Colleagues can utilise this document to calculate their Supply Chain Carbon Footprint."]
["Colleagues need to add the supplier name and appropriate spend to Columns A and B respectively and utilise the outputs of Column F as the associated Supply Chain Carbon Emissions."]
["Colleagues will need to ensure the supplier name matches the supplier name within our Financial Management System to ensure automation of this calculator. "]
["Colleagues should note that this calculator is for illustrative purposes only and that due to ongoing reporting improvement should be updated each financial year."]
[]
["Exclusions"]
["Please note that intra NHS spend, Anaesthetic Gases, Utilities, Waste, and Expenses related carbon emissions are excluded from this calculator. "]
[]
["Personnel"]
["For further information please contact:"]
[]
["Name","Role","Email Address",null,null,"Contact Type"]
["Daniel Gregory","Foundational Economy Manager","Daniel.Gregory@wales.nhs.uk",null,null,"Primary"]
["Aled Guy","Head of Sustainability and Net Zero Carbon Management","Aled.Guy@wales.nhs.uk",null,null,"Escalation"]
[]
["Links"]
["This calculator aligns with the current Welsh Public Sector Net Zero reporting guide and reporting spreadsheet. "]
["Public sector net zero reporting guide | GOV.WALES"]
[]
["Carbon Calculator"]
[]
["Supplier Name","Spend","T1 EF","T2 EF","Combined EF (KG CO2e)","Emissions from Spend (KG CO2e)"]
[null,null,{"$f":"VLOOKUP(A28,'Master List'!$A$1:$Q$25000,17,FALSE)","v":{"$error":"#N/A"}},{"$f":"VLOOKUP(A28,'Master List'!$A$1:$X$25000,24,FALSE)","v":{"$error":"#N/A"}},{"$f":"IF(D28<=0.000001,C28,D28)","v":{"$error":"#N/A"}},{"$f":"E28*B28","v":{"$error":"#N/A"}}]
[null,null,{"$f":"VLOOKUP(A29,'Master List'!$A$1:$Q$25000,17,FALSE)","v":{"$error":"#N/A"}},{"$f":"VLOOKUP(A29,'Master List'!$A$1:$X$25000,24,FALSE)","v":{"$error":"#N/A"}},{"$f":"IF(D29<=0.000001,C29,D29)","v":{"$error":"#N/A"}},{"$f":"E29*B29","v":{"$error":"#N/A"}}]
[null,null,{"$f":"VLOOKUP(A30,'Master List'!$A$1:$Q$25000,17,FALSE)","v":{"$error":"#N/A"}},{"$f":"VLOOKUP(A30,'Master List'!$A$1:$X$25000,24,FALSE)","v":{"$error":"#N/A"}},{"$error":"#N/A"},{"$error":"#N/A"}]
[null,null,{"$f":"VLOOKUP(A31,'Master List'!$A$1:$Q$25000,17,FALSE)","v":{"$error":"#N/A"}},{"$f":"VLOOKUP(A31,'Master List'!$A$1:$X$25000,24,FALSE)","v":{"$error":"#N/A"}},{"$error":"#N/A"},{"$error":"#N/A"}]
[null,null,{"$f":"VLOOKUP(A32,'Master List'!$A$1:$Q$25000,17,FALSE)","v":{"$error":"#N/A"}},{"$f":"VLOOKUP(A32,'Master List'!$A$1:$X$25000,24,FALSE)","v":{"$error":"#N/A"}},{"$error":"#N/A"},{"$error":"#N/A"}]
[null,null,{"$f":"VLOOKUP(A33,'Master List'!$A$1:$Q$25000,17,FALSE)","v":{"$error":"#N/A"}},{"$f":"VLOOKUP(A33,'Master List'!$A$1:$X$25000,24,FALSE)","v":{"$error":"#N/A"}},{"$error":"#N/A"},{"$error":"#N/A"}]
[null,null,{"$f":"VLOOKUP(A34,'Master List'!$A$1:$Q$25000,17,FALSE)","v":{"$error":"#N/A"}},{"$f":"VLOOKUP(A34,'Master List'!$A$1:$X$25000,24,FALSE)","v":{"$error":"#N/A"}},{"$error":"#N/A"},{"$error":"#N/A"}]
[null,null,{"$f":"VLOOKUP(A35,'Master List'!$A$1:$Q$25000,17,FALSE)","v":{"$error":"#N/A"}},{"$f":"VLOOKUP(A35,'Master List'!$A$1:$X$25000,24,FALSE)","v":{"$error":"#N/A"}},{"$error":"#N/A"},{"$error":"#N/A"}]
[null,null,{"$f":"VLOOKUP(A36,'Master List'!$A$1:$Q$25000,17,FALSE)","v":{"$error":"#N/A"}},{"$f":"VLOOKUP(A36,'Master List'!$A$1:$X$25000,24,FALSE)","v":{"$error":"#N/A"}},{"$error":"#N/A"},{"$error":"#N/A"}]
[null,null,{"$f":"VLOOKUP(A37,'Master List'!$A$1:$Q$25000,17,FALSE)","v":{"$error":"#N/A"}},{"$f":"VLOOKUP(A37,'Master List'!$A$1:$X$25000,24,FALSE)","v":{"$error":"#N/A"}},{"$error":"#N/A"},{"$error":"#N/A"}]

{"sheet":"FE Calculator (EN)","index":1,"n_rows":47,"n_cols":6,"rows_kept":47,"cut":false,"hidden":false,"merged":[[30,2,30,4],[31,2,31,4],[32,2,32,4]]}
["NHS WALES SHARED SERVICES PARTNERSHIP - PROCUREMENT SERVICES "]
[]
["Supply Chain Foundational Economy Calculator 24-25"]
[]
["Instructions"]
["Colleagues can utilise this document to calculate their Supply Chain Foundational Economy Spend, spend within specific regions and spend with specific Health Board geographical footprint(s). "]
["Colleagues need to add the supplier name and appropriate spend to Columns A and B respectively and utilise the outputs of Column F, G and H as the associated Foundational Economy spend, spend within region(s) and spend within specific Health Board geographical footprint(s)"]
["Colleagues will need to ensure the supplier name matches the supplier name within our Financial Management System to ensure automation of this calculator. "]
["Colleagues should note that this calculator is for illustrative purposes and may not include suppliers who are new to NHS Wales."]
[]
["Exclusions and notes"]
["Please note that the Foundational Economy spend relates to the head quarters of the supply organisation or where the monetary value of projects is retained. "]
["Furthermore for clarity the below map outlines the specific regions of Wales aligned to this reporting"]
[]
[]
[]
[]
[]
[]
[]
[]
[]
[]
[]
[]
[]
[]
["Personnel"]
["For further information please contact:"]
[]
["Name","Role","Email Address",null,null,"Contact Type"]
["Daniel Gregory","Foundational Economy Manager","Daniel.Gregory@wales.nhs.uk",null,null,"Primary"]
["Aled Guy","Head of Sustainability and Net Zero Carbon Management","Aled.Guy@wales.nhs.uk",null,null,"Escalation"]
[]
["Foundational Economy Calculator"]
[]
["Supplier Name","Spend","HQ Location - Welsh (Y/N)","HQ Locaion - Region ","HQ Location - Health Board or Trust","Foundational Economy Spend"]
[null,null,{"$f":"VLOOKUP(A38,'Master List'!$A$1:$Q$25000,4,FALSE)","v":{"$error":"#N/A"}},{"$f":"VLOOKUP(A38,'Master List'!$A$1:$Q$25000,11,FALSE)","v":{"$error":"#N/A"}},{"$f":"VLOOKUP(A38,'Master List'!$A$1:$Q$25000,12,FALSE)","v":{"$error":"#N/A"}},{"$f":"VLOOKUP(A38,'Master List'!$A$1:$Q$25000,3,FALSE)*B38","v":{"$error":"#N/A"}}]
[null,null,{"$f":"VLOOKUP(A39,'Master List'!$A$1:$Q$25000,4,FALSE)","v":{"$error":"#N/A"}},{"$f":"VLOOKUP(A39,'Master List'!$A$1:$Q$25000,11,FALSE)","v":{"$error":"#N/A"}},{"$f":"VLOOKUP(A39,'Master List'!$A$1:$Q$25000,12,FALSE)","v":{"$error":"#N/A"}},{"$f":"VLOOKUP(A39,'Master List'!$A$1:$Q$25000,3,FALSE)*B39","v":{"$error":"#N/A"}}]
[null,null,{"$f":"VLOOKUP(A40,'Master List'!$A$1:$Q$25000,4,FALSE)","v":{"$error":"#N/A"}},{"$f":"VLOOKUP(A40,'Master List'!$A$1:$Q$25000,11,FALSE)","v":{"$error":"#N/A"}},{"$f":"VLOOKUP(A40,'Master List'!$A$1:$Q$25000,12,FALSE)","v":{"$error":"#N/A"}},{"$f":"VLOOKUP(A40,'Master List'!$A$1:$Q$25000,3,FALSE)*B40","v":{"$error":"#N/A"}}]
[null,null,{"$f":"VLOOKUP(A41,'Master List'!$A$1:$Q$25000,4,FALSE)","v":{"$error":"#N/A"}},{"$f":"VLOOKUP(A41,'Master List'!$A$1:$Q$25000,11,FALSE)","v":{"$error":"#N/A"}},{"$f":"VLOOKUP(A41,'Master List'!$A$1:$Q$25000,12,FALSE)","v":{"$error":"#N/A"}},{"$f":"VLOOKUP(A41,'Master List'!$A$1:$Q$25000,3,FALSE)*B41","v":{"$error":"#N/A"}}]
[null,null,{"$f":"VLOOKUP(A42,'Master List'!$A$1:$Q$25000,4,FALSE)","v":{"$error":"#N/A"}},{"$f":"VLOOKUP(A42,'Master List'!$A$1:$Q$25000,11,FALSE)","v":{"$error":"#N/A"}},{"$f":"VLOOKUP(A42,'Master List'!$A$1:$Q$25000,12,FALSE)","v":{"$error":"#N/A"}},{"$f":"VLOOKUP(A42,'Master List'!$A$1:$Q$25000,3,FALSE)*B42","v":{"$error":"#N/A"}}]
[null,null,{"$f":"VLOOKUP(A43,'Master List'!$A$1:$Q$25000,4,FALSE)","v":{"$error":"#N/A"}},{"$f":"VLOOKUP(A43,'Master List'!$A$1:$Q$25000,11,FALSE)","v":{"$error":"#N/A"}},{"$f":"VLOOKUP(A43,'Master List'!$A$1:$Q$25000,12,FALSE)","v":{"$error":"#N/A"}},{"$f":"VLOOKUP(A43,'Master List'!$A$1:$Q$25000,3,FALSE)*B43","v":{"$error":"#N/A"}}]
[null,null,{"$f":"VLOOKUP(A44,'Master List'!$A$1:$Q$25000,4,FALSE)","v":{"$error":"#N/A"}},{"$f":"VLOOKUP(A44,'Master List'!$A$1:$Q$25000,11,FALSE)","v":{"$error":"#N/A"}},{"$f":"VLOOKUP(A44,'Master List'!$A$1:$Q$25000,12,FALSE)","v":{"$error":"#N/A"}},{"$f":"VLOOKUP(A44,'Master List'!$A$1:$Q$25000,3,FALSE)*B44","v":{"$error":"#N/A"}}]
[null,null,{"$f":"VLOOKUP(A45,'Master List'!$A$1:$Q$25000,4,FALSE)","v":{"$error":"#N/A"}},{"$f":"VLOOKUP(A45,'Master List'!$A$1:$Q$25000,11,FALSE)","v":{"$error":"#N/A"}},{"$f":"VLOOKUP(A45,'Master List'!$A$1:$Q$25000,12,FALSE)","v":{"$error":"#N/A"}},{"$f":"VLOOKUP(A45,'Master List'!$A$1:$Q$25000,3,FALSE)*B45","v":{"$error":"#N/A"}}]
[null,null,{"$f":"VLOOKUP(A46,'Master List'!$A$1:$Q$25000,4,FALSE)","v":{"$error":"#N/A"}},{"$f":"VLOOKUP(A46,'Master List'!$A$1:$Q$25000,11,FALSE)","v":{"$error":"#N/A"}},{"$f":"VLOOKUP(A46,'Master List'!$A$1:$Q$25000,12,FALSE)","v":{"$error":"#N/A"}},{"$f":"VLOOKUP(A46,'Master List'!$A$1:$Q$25000,3,FALSE)*B46","v":{"$error":"#N/A"}}]
[null,null,{"$f":"VLOOKUP(A47,'Master List'!$A$1:$Q$25000,4,FALSE)","v":{"$error":"#N/A"}},{"$f":"VLOOKUP(A47,'Master List'!$A$1:$Q$25000,11,FALSE)","v":{"$error":"#N/A"}},{"$f":"VLOOKUP(A47,'Master List'!$A$1:$Q$25000,12,FALSE)","v":{"$error":"#N/A"}},{"$f":"VLOOKUP(A47,'Master List'!$A$1:$Q$25000,3,FALSE)*B47","v":{"$error":"#N/A"}}]

{"sheet":"Carbon Calculator (CY)","index":2,"n_rows":37,"n_cols":6,"rows_kept":37,"cut":false,"hidden":false,"merged":[[16,2,16,4],[17,2,17,4],[18,2,18,4]]}
["PARTNERIAETH CYDWASANAETHAU GIG CYMRU - GWASANAETHAU CAFFAEL "]
[]
["Cyfrifiannell Carbon y Gadwyn Gyflenwi 24-25"]
[]
["Cyfarwyddiadau"]
["Gall cydweithwyr ddefnyddio'r ddogfen hon i gyfrifo eu Hôl Troed Carbon yn y Gadwyn Gyflenwi."]
["Mae angen i gydweithwyr ychwanegu enw'r cyflenwr a'r gwariant priodol yn Ngholofnau A a B yn y drefn honno a defnyddio allbynnau Colofn F fel yr Allyriadau Carbon Cadwyn Cyflenwi cysylltiedig."]
["Bydd angen i gydweithwyr sicrhau bod enw’r cyflenwr yn cyfateb i enw’r cyflenwr yn ein System Rheoli Ariannol er mwyn sicrhau bod y gyfrifiannell hon yn cael ei awtomeiddio. "]
["Dylai cydweithwyr gadw mewn cof bod y gyfrifiannell hon at ddibenion enghreifftiol yn unig a dylid ei diweddaru bob blwyddyn ariannol oherwydd gwelliannau adrodd parhaus."]
[]
["Eithriadau"]
["Sylwch fod gwariant o fewn y GIG, Nwyon Anesthetig, Cyfleustodau, Gwastraff, ac allyriadau carbon yn ymwneud â Threuliau wedi'u heithrio o'r gyfrifiannell hon. "]
[]
["Personél"]
["I gael gwybodaeth bellach, cysylltwch â:"]
[]
["Enw","Rôl","Cyfeiriad E-bost",null,null,"Math o Gontract"]
["Daniel Gregory","Rheolwr Yr Economi Sylfaenol","Daniel.Gregory@wales.nhs.uk",null,null,"Sylfaenol"]
["Aled Guy","Pennaeth Cynaliadwyedd a Rheoli Carbon Sero Net","Aled.Guy@wales.nhs.uk",null,null,"Uwchgyfeirio"]
[]
["Dolenni"]
["Mae'r gyfrifiannell hon yn cyd-fynd â chanllaw adrodd a thaenlen adrodd Sero Net Sector Cyhoeddus Cymru ar hyn o bryd. "]
["Canllaw sector cyhoeddus ar gyfer adrodd ar garbon sero-net | LLYW.CYMRU "]
[]
["Cyfrifiannell Carbon"]
[]
["Enw'r Cyflenwr","Gwariant","Ffactor Allyriadau Haen 1","Ffactor Allyriadau Haen 2","Ffactor Allyriadau Cyfun (KG CO2e)","Allyriadau o Wariant (KG CO2e)"]
[null,null,{"$f":"VLOOKUP(A28,'Master List'!$A$1:$Q$25000,16,FALSE)","v":{"$error":"#N/A"}},{"$f":"VLOOKUP(A28,'Master List'!$A$1:$X$25000,23,FALSE)","v":{"$error":"#N/A"}},{"$f":"IF(D28<=0.000001,C28,D28)","v":{"$error":"#N/A"}},{"$f":"E28*B28","v":{"$error":"#N/A"}}]
[null,null,{"$f":"VLOOKUP(A29,'Master List'!$A$1:$Q$25000,17,FALSE)","v":{"$error":"#N/A"}},{"$f":"VLOOKUP(A29,'Master List'!$A$1:$X$25000,24,FALSE)","v":{"$error":"#N/A"}},{"$error":"#N/A"},{"$error":"#N/A"}]
[null,null,{"$f":"VLOOKUP(A30,'Master List'!$A$1:$Q$25000,17,FALSE)","v":{"$error":"#N/A"}},{"$f":"VLOOKUP(A30,'Master List'!$A$1:$X$25000,24,FALSE)","v":{"$error":"#N/A"}},{"$error":"#N/A"},{"$error":"#N/A"}]
[null,null,{"$f":"VLOOKUP(A31,'Master List'!$A$1:$Q$25000,17,FALSE)","v":{"$error":"#N/A"}},{"$f":"VLOOKUP(A31,'Master List'!$A$1:$X$25000,24,FALSE)","v":{"$error":"#N/A"}},{"$error":"#N/A"},{"$error":"#N/A"}]
[null,null,{"$f":"VLOOKUP(A32,'Master List'!$A$1:$Q$25000,17,FALSE)","v":{"$error":"#N/A"}},{"$f":"VLOOKUP(A32,'Master List'!$A$1:$X$25000,24,FALSE)","v":{"$error":"#N/A"}},{"$error":"#N/A"},{"$error":"#N/A"}]
[null,null,{"$f":"VLOOKUP(A33,'Master List'!$A$1:$Q$25000,17,FALSE)","v":{"$error":"#N/A"}},{"$f":"VLOOKUP(A33,'Master List'!$A$1:$X$25000,24,FALSE)","v":{"$error":"#N/A"}},{"$error":"#N/A"},{"$error":"#N/A"}]
[null,null,{"$f":"VLOOKUP(A34,'Master List'!$A$1:$Q$25000,17,FALSE)","v":{"$error":"#N/A"}},{"$f":"VLOOKUP(A34,'Master List'!$A$1:$X$25000,24,FALSE)","v":{"$error":"#N/A"}},{"$error":"#N/A"},{"$error":"#N/A"}]
[null,null,{"$f":"VLOOKUP(A35,'Master List'!$A$1:$Q$25000,17,FALSE)","v":{"$error":"#N/A"}},{"$f":"VLOOKUP(A35,'Master List'!$A$1:$X$25000,24,FALSE)","v":{"$error":"#N/A"}},{"$error":"#N/A"},{"$error":"#N/A"}]
[null,null,{"$f":"VLOOKUP(A36,'Master List'!$A$1:$Q$25000,17,FALSE)","v":{"$error":"#N/A"}},{"$f":"VLOOKUP(A36,'Master List'!$A$1:$X$25000,24,FALSE)","v":{"$error":"#N/A"}},{"$error":"#N/A"},{"$error":"#N/A"}]
[null,null,{"$f":"VLOOKUP(A37,'Master List'!$A$1:$Q$25000,17,FALSE)","v":{"$error":"#N/A"}},{"$f":"VLOOKUP(A37,'Master List'!$A$1:$X$25000,24,FALSE)","v":{"$error":"#N/A"}},{"$error":"#N/A"},{"$error":"#N/A"}]

{"sheet":"FE Calculator (CY)","index":3,"n_rows":47,"n_cols":6,"rows_kept":47,"cut":false,"hidden":false,"merged":[[30,2,30,4],[31,2,31,4],[32,2,32,4]]}
["NHS WALES SHARED SERVICES PARTNERSHIP - PROCUREMENT SERVICES "]
[]
["Supply Chain Foundational Economy Calculator 24-25"]
[]
["Instructions"]
["Colleagues can utilise this document to calculate their Supply Chain Foundational Economy Spend, spend within specific regions and spend with specific Health Board geographical footprint(s). "]
["Colleagues need to add the supplier name and appropriate spend to Columns A and B respectively and utilise the outputs of Column F, G and H as the associated Foundational Economy spend, spend within region(s) and spend within specific Health Board geographical footprint(s)"]
["Colleagues will need to ensure the supplier name matches the supplier name within our Financial Management System to ensure automation of this calculator. "]
["Colleagues should note that this calculator is for illustrative purposes and may not include suppliers who are new to NHS Wales."]
[]
["Exclusions and notes"]
["Please note that the Foundational Economy spend relates to the head quarters of the supply organisation or where the monetary value of projects is retained. "]
["Furthermore for clarity the below map outlines the specific regions of Wales aligned to this reporting"]
[]
[]
[]
[]
[]
[]
[]
[]
[]
[]
[]
[]
[]
[]
["\nPersonél"]
["Am ragor o wybodaeth cysylltwch â:"]
[]
["Enw","Rôl","Cyfeiriad e-bost",null,null,"Math o Gyswllt"]
["Daniel Gregory","Foundational Economy Manager","Daniel.Gregory@wales.nhs.uk",null,null,"Prif"]
["Aled Guy","Head of Sustainability and Net Zero Carbon Management","Aled.Guy@wales.nhs.uk",null,null,"Uwchgyfeirio"]
[]
["Cyfrifiannell yr Economi Sylfaenol"]
[]
["Enw'r Cyflenwr","Gwariant","Lleoliad Pencadlys - Cymru (Ie/Na)","Lleoliad Pencadlys - Rhanbarth","Lleoliad y Pencadlys - Bwrdd Iechyd neu Ymddiriedolaeth ","Gwariant ar yr Economi Sylfaenol"]
[null,null,{"$f":"VLOOKUP(A38,'Master List'!$A$1:$Q$25000,4,FALSE)","v":{"$error":"#N/A"}},{"$f":"VLOOKUP(A38,'Master List'!$A$1:$Q$25000,11,FALSE)","v":{"$error":"#N/A"}},{"$f":"VLOOKUP(A38,'Master List'!$A$1:$Q$25000,12,FALSE)","v":{"$error":"#N/A"}},{"$f":"VLOOKUP(A38,'Master List'!$A$1:$Q$25000,3,FALSE)*B38","v":{"$error":"#N/A"}}]
[null,null,{"$f":"VLOOKUP(A39,'Master List'!$A$1:$Q$25000,4,FALSE)","v":{"$error":"#N/A"}},{"$f":"VLOOKUP(A39,'Master List'!$A$1:$Q$25000,11,FALSE)","v":{"$error":"#N/A"}},{"$f":"VLOOKUP(A39,'Master List'!$A$1:$Q$25000,12,FALSE)","v":{"$error":"#N/A"}},{"$f":"VLOOKUP(A39,'Master List'!$A$1:$Q$25000,3,FALSE)*B39","v":{"$error":"#N/A"}}]
[null,null,{"$f":"VLOOKUP(A40,'Master List'!$A$1:$Q$25000,4,FALSE)","v":{"$error":"#N/A"}},{"$f":"VLOOKUP(A40,'Master List'!$A$1:$Q$25000,11,FALSE)","v":{"$error":"#N/A"}},{"$f":"VLOOKUP(A40,'Master List'!$A$1:$Q$25000,12,FALSE)","v":{"$error":"#N/A"}},{"$f":"VLOOKUP(A40,'Master List'!$A$1:$Q$25000,3,FALSE)*B40","v":{"$error":"#N/A"}}]
[null,null,{"$f":"VLOOKUP(A41,'Master List'!$A$1:$Q$25000,4,FALSE)","v":{"$error":"#N/A"}},{"$f":"VLOOKUP(A41,'Master List'!$A$1:$Q$25000,11,FALSE)","v":{"$error":"#N/A"}},{"$f":"VLOOKUP(A41,'Master List'!$A$1:$Q$25000,12,FALSE)","v":{"$error":"#N/A"}},{"$f":"VLOOKUP(A41,'Master List'!$A$1:$Q$25000,3,FALSE)*B41","v":{"$error":"#N/A"}}]
[null,null,{"$f":"VLOOKUP(A42,'Master List'!$A$1:$Q$25000,4,FALSE)","v":{"$error":"#N/A"}},{"$f":"VLOOKUP(A42,'Master List'!$A$1:$Q$25000,11,FALSE)","v":{"$error":"#N/A"}},{"$f":"VLOOKUP(A42,'Master List'!$A$1:$Q$25000,12,FALSE)","v":{"$error":"#N/A"}},{"$f":"VLOOKUP(A42,'Master List'!$A$1:$Q$25000,3,FALSE)*B42","v":{"$error":"#N/A"}}]
[null,null,{"$f":"VLOOKUP(A43,'Master List'!$A$1:$Q$25000,4,FALSE)","v":{"$error":"#N/A"}},{"$f":"VLOOKUP(A43,'Master List'!$A$1:$Q$25000,11,FALSE)","v":{"$error":"#N/A"}},{"$f":"VLOOKUP(A43,'Master List'!$A$1:$Q$25000,12,FALSE)","v":{"$error":"#N/A"}},{"$f":"VLOOKUP(A43,'Master List'!$A$1:$Q$25000,3,FALSE)*B43","v":{"$error":"#N/A"}}]
[null,null,{"$f":"VLOOKUP(A44,'Master List'!$A$1:$Q$25000,4,FALSE)","v":{"$error":"#N/A"}},{"$f":"VLOOKUP(A44,'Master List'!$A$1:$Q$25000,11,FALSE)","v":{"$error":"#N/A"}},{"$f":"VLOOKUP(A44,'Master List'!$A$1:$Q$25000,12,FALSE)","v":{"$error":"#N/A"}},{"$f":"VLOOKUP(A44,'Master List'!$A$1:$Q$25000,3,FALSE)*B44","v":{"$error":"#N/A"}}]
[null,null,{"$f":"VLOOKUP(A45,'Master List'!$A$1:$Q$25000,4,FALSE)","v":{"$error":"#N/A"}},{"$f":"VLOOKUP(A45,'Master List'!$A$1:$Q$25000,11,FALSE)","v":{"$error":"#N/A"}},{"$f":"VLOOKUP(A45,'Master List'!$A$1:$Q$25000,12,FALSE)","v":{"$error":"#N/A"}},{"$f":"VLOOKUP(A45,'Master List'!$A$1:$Q$25000,3,FALSE)*B45","v":{"$error":"#N/A"}}]
[null,null,{"$f":"VLOOKUP(A46,'Master List'!$A$1:$Q$25000,4,FALSE)","v":{"$error":"#N/A"}},{"$f":"VLOOKUP(A46,'Master List'!$A$1:$Q$25000,11,FALSE)","v":{"$error":"#N/A"}},{"$f":"VLOOKUP(A46,'Master List'!$A$1:$Q$25000,12,FALSE)","v":{"$error":"#N/A"}},{"$f":"VLOOKUP(A46,'Master List'!$A$1:$Q$25000,3,FALSE)*B46","v":{"$error":"#N/A"}}]
[null,null,{"$f":"VLOOKUP(A47,'Master List'!$A$1:$Q$25000,4,FALSE)","v":{"$error":"#N/A"}},{"$f":"VLOOKUP(A47,'Master List'!$A$1:$Q$25000,11,FALSE)","v":{"$error":"#N/A"}},{"$f":"VLOOKUP(A47,'Master List'!$A$1:$Q$25000,12,FALSE)","v":{"$error":"#N/A"}},{"$f":"VLOOKUP(A47,'Master List'!$A$1:$Q$25000,3,FALSE)*B47","v":{"$error":"#N/A"}}]

{"sheet":"Master List","index":4,"n_rows":20228,"n_cols":30,"rows_kept":2250,"cut":true,"hidden":true,"merged":[],"bounds":{"rows_first":1000,"rows_last":250,"rows_between":1000,"halvings":1}}
["Supplier Name","Supplier Number","Welsh 0/1","WELSH Corrected","System Welsh","Amendment? ","Nation","SME","Sector","HQ Postcode","WG Region","LHB Region","Supplier Site","SIC Long Code","SIC Short Code","SIC Description","Emmissions Factor Tier 1","Period of CRP (Calander / Financial Year / Other)","Scope 1 Emissions (KGCO2e)","Scope 2 Emissions (KGCO2e)","Scope 3 Emissions (KGCO2e)","Total Emissions (KGCo2e)","Turnover (£)","Emmissions Factor Tier 2","Notes","Revised 22-23 Value",1,2,"Net Zero reporting Position (Supplier List)","Net Zero reporting Position (Master Supplier List)"]
["5 BOROUGHS PARTNERSHIP NHS TRUST",5395,0,null,null,null,"GB","N","PUBLIC SECTOR","WF3 1WE",null,null,"WAKEFIELD WF3",0,0,0,null,null,null,null,null,null,null,null,null,0,null,null,{"$f":"VLOOKUP(A2,'[1]Update Sheet'!$A$3:$Y$15578,25,FALSE)","v":{"$error":"#N/A"}},"Exclude- Intra NHS "]
["PURPLE SURGICAL UK LTD",84,null,"N","N",true,"GB","N","PRIVATE SECTOR","WD7 9AD",null,null,"PHARMACY",46460,46,"Wholesale trade services, except of motor vehicles and motorcycles       ",2.0310031510736858E-2,null,null,null,null,null,null,null,null,266404.38,"*",null,{"$f":"VLOOKUP(A3,'[1]Update Sheet'!$A$3:$Y$15578,25,FALSE)","v":0},"Reportable"]
["AIREDALE NHS FOUNDATION TRUST",47888,0,null,null,null,"GB","N","PUBLIC SECTOR","BD20 6TD",null,null,"KEIGHLEY BD20",null,null,null,null,null,null,null,null,null,null,null,null,2916.73,"*",null,{"$f":"VLOOKUP(A4,'[1]Update Sheet'!$A$3:$Y$15578,25,FALSE)","v":"Public Sector- Exclude"},"Exclude- Intra NHS "]
["AIREDALE NHST",38449,0,null,null,null,"GB","N","PUBLIC SECTOR","BD20 6TD",null,null,"KEIGHLEY BD20",null,null,null,null,null,null,null,null,null,null,null,null,23089.91,"*",null,{"$f":"VLOOKUP(A5,'[1]Update Sheet'!$A$3:$Y$15578,25,FALSE)","v":"Public Sector- Exclude"},"Exclude- Intra NHS "]
["BOOTS UK LTD",5291,null,"N","N",true,"GB","N","PRIVATE SECTOR","NG2 3AA",null,null,"PCS PAY",47730,47,"Retail trade services, except of motor vehicles and motorcycles       ",0.17404287306456559,2022,79136000,42708000,1026131000,1147975000,6512000000,0.17628608722358721,"Boots UK Limited Used",107398136.52,"*",null,{"$f":"VLOOKUP(A6,'[1]Update Sheet'!$A$3:$Y$15578,25,FALSE)","v":"Review as T2 higher than T1"},"Reportable"]
["BESTWAY NATIONAL CHEMISTS LTD",55733,null,"N","N",true,"GB","N","PRIVATE SECTOR","M3 4LZ",null,null,"PCS PAY",47730,47,"Retail trade services, except of motor vehicles and motorcycles       ",0.17404287306456559,null,null,null,null,null,null,null,"No data available",106082724.73999999,"*",null,{"$f":"VLOOKUP(A7,'[1]Update Sheet'!$A$3:$Y$15578,25,FALSE)","v":0},"Reportable"]
["ALDERHEY CHILDRENS HOSPITAL",6714,0,null,null,null,"GB","N","PUBLIC SECTOR","L12 2AP",null,null,"LIVERPOOL L12",0,0,0,null,null,null,null,null,null,null,null,null,23799376.690000001,"*",null,{"$f":"VLOOKUP(A8,'[1]Update Sheet'!$A$3:$Y$15578,25,FALSE)","v":"Public Sector- Exclude"},"Exclude- Intra NHS "]
["AMB PETTY CASH",31560,1,null,null,null,"GB","N","PUBLIC SECTOR","SA7 9EH",null,null,"FACTORTHANET",0,0,0,null,null,null,null,null,null,null,null,null,0,null,null,{"$f":"VLOOKUP(A9,'[1]Update Sheet'!$A$3:$Y$15578,25,FALSE)","v":"Public Sector- Exclude"},"N/A - Not Used for 23-24"]
["SCIENSUS PHARMA SERVICES LTD",3293,null,"N","N",true,"GB","N","PRIVATE SECTOR","DE14 1SZ",null,null,"PHARMACY",21200,21,"Basic pharmaceutical products and pharmaceutical preparations          ",0.62099518156965727,"22-23",6842000,713000,149000,7704000,1647474000,4.6762498224554678E-3,"https://s3.eu-west-2.amazonaws.com/document-api-images-live.ch.gov.uk/docs/gWKfbmpCtrXwPs6wgp5yMdn0gSpkC1HRH8eTJaksDNM/application-pdf?X-Amz-Algorithm=AWS4-HMAC-SHA256&X-Amz-Credential=ASIAWRGBDBV3FRSUTUYH%2F20240214%2Feu-west-2%2Fs3%2Faws4_request&X-Amz-Date=20240214T102303Z&X-Amz-Expires=60&X-Amz-Security-Token=IQoJb3JpZ2luX2VjELH%2F%2F%2F%2F%2F%2F%2F%2F%2F%2FwEaCWV1LXdlc3QtMiJHMEUCIB4o8JsoxhxliqMUXEqPmymPgHJiuCJMaBdIF4Rs8uxpAiEA6RKX7DB%2Fo1yVPFWxbYmRPSKUjhdiGmAZggKKlHORr6YqxAUIif%2F%2F%2F%2F%2F%2F%2F%2F%2F%2FARAEGgw0NDkyMjkwMzI4MjIiDDBmkUb7uM1zPTXu4SqYBUmAcgLfXpLV%2F3Hlzoj08kmWX8j8CXmGYjfUJzr4iGwSXTR2IjFubL%2Fxzg0kkpPiMA%2Fd1mP1rK%2FURaFN4V%2BdZN97c3BXDJKZ7Wc7PZblB5oBptAPGAkg2NlY20gn1gLuIJfK8WW45uwr6pLb4VPKVU2k4uFL5ikfkStj3h6kCzT%2Fhs3pthEaLyyQSG5vAYbGbhGUYS6dZ2pTSzFF6dQQjKk8RW5rhGrLRiw3cw%2FJHJiFaUWRCOxICddU9duhoS6hbIvyhq5JlWfPRzrMiHXSNOiN8lALvVhyWNJ4MoIpBUSe6SIiZiyd21nMbEVYXkRPazYF9itomNJb67tzVTlqTaoGcAzdc6EV545sXQ1b%2FysUpgbYOD0ngcfXo1D1U0Eg0FiYwGbFaoXqzDgjlhHp60Te%2BjoWqxyJc8PKrFuPvZXm7bRxWGrHdjP8L2LypvkHDR1%2BA3d7fH4srdEmkRXpHoEJDJfjSpEvSJcHL3TR3GGLrO0AMlrk%2BFDXaNAw2URWVZAy1vfQkCJVISfTKGjn%2F3frDQyZ0DPgUZD6%2BGXRMfIb79%2F4tlYz5cMO4lbJKuuFLNRV%2FjUBA1W0CYy3ojRZ9zA%2FDqRU6pYMSMRGhvCR086WfrKX815DCpoXXg7de9CfsLrxehP9DRgdro2jvqU5O7SDjH5jalRkj3Q0N8L2X9lJGu%2B63Tp1iZ5Gt074urcg%2FIqeAI9swd5spgzD8ZGSiPMcCv36wlcKPxOJ0xPoW5cN7XVCJY2pBpae8j%2FlZaVY24b2JPt8CQbcl6t67WBv4lDLlZ52oPibXy%2F68pgtBrqij%2B9U2OPXinlIcdam8ZM01PkCKOqiGCJ%2BRanO4KNY3GwL6OKIWBnVddFJY%2Fk7%2Fykq%2B4hp8EejLQcwn%2B%2BxrgY6sQEcyGQ0vEkuKNxTMYFcKl742p2hiw0QCi5oB5qhGOSFGO55LetsAtFbu%2BpGHdEyOiDH3Urf%2Bu3%2FFnn3TeSfSsJavnjb%2B4eThuwRqXtun54lcrbyh1Gvx0qvUELn1r9jIc9E5wHNTq%2FJUBqESMGDXDYM6aXvuYN0kmnCUv45Pw3RtL%2BrZJwKHpLRvYEgXMu%2BdiNVd7KkDVnD32QSScLCez6sCHVJObXtuE1dbHGXfIi8Oa8%3D&X-Amz-SignedHeaders=host&response-content-disposition=inline%3Bfilename%3D%22companies_house_document.pdf%22&X-Amz-Signature=ca5be549588434eadd87f224fdd64f40243a5ccfa73b708241c5c72a6709b6d5",86425890.670000449,"*",null,{"$f":"VLOOKUP(A10,'[1]Update Sheet'!$A$3:$Y$15578,25,FALSE)","v":"In Master List"},"Reportable"]
["ANEURIN BEVAN UNIVERSITY HEALTH BOARD",2832,1,null,null,null,"GB","N","PUBLIC SECTOR","NP44 8YN",null,null,"CWMBRAN NP44",null,null,null,null,null,null,null,null,null,null,null,null,40804583.690000042,"*",null,{"$f":"VLOOKUP(A11,'[1]Update Sheet'!$A$3:$Y$15578,25,FALSE)","v":"Public Sector- Exclude"},"Exclude- Intra NHS "]
["NHS SUPPLY CHAIN",662,null,"N","N",true,"GB","N","PUBLIC SECTOR","TA6 4RN",null,null,"PHARMACY",86101,86,"Human health services             ",0.29193168620018201,null,null,null,null,null,null,null,"No data available",65839837.020000026,"*",null,{"$f":"VLOOKUP(A12,'[1]Update Sheet'!$A$3:$Y$15578,25,FALSE)","v":0},"Reportable"]
["BRITISH GAS BUSINESS",26850,null,"N","N",true,"GB","N","PRIVATE SECTOR","GU15 3WA",null,null,"CAMBERLEY GU95",35140,35.1,"Electricity, transmission and distribution",1.8815371821710341,null,null,null,null,null,null,null,null,60617961.550000004,"*",null,{"$f":"VLOOKUP(A13,'[1]Update Sheet'!$A$3:$Y$15578,25,FALSE)","v":"Do not include in master list- EFPMS"},"Exclude- Captured under Waste, Energy, Water or Invesments"]
["AVICENNA RETAIL LTD",71825,null,"N","Y","Removal of a False Welsh Supplier","GB","N","PRIVATE SECTOR","CR2 8LD",null,null,"PCS PAY",47730,47,"Retail trade services, except of motor vehicles and motorcycles       ",0.17404287306456559,null,null,null,null,null,null,null,null,56859858.32,"*",null,{"$f":"VLOOKUP(A14,'[1]Update Sheet'!$A$3:$Y$15578,25,FALSE)","v":0},"Reportable"]
["L ROWLAND & CO",5024,null,"N","N",true,"GB","N","PRIVATE SECTOR",null,null,null,"PCS PAY",47730,47,"Retail trade services, except of motor vehicles and motorcycles       ",0.17404287306456559,null,null,null,null,null,null,null,null,56089270.909999996,"*",null,{"$f":"VLOOKUP(A15,'[1]Update Sheet'!$A$3:$Y$15578,25,FALSE)","v":0},"Reportable"]
["ASHFORD & ST PETERS HOSPITALS NHS FOUNDATION TRUST",7743,0,null,null,null,"GB","N","PUBLIC SECTOR",null,null,null,"WAKEFIELD WF3",null,null,null,null,null,null,null,null,null,null,null,null,222949.36,"*",null,{"$f":"VLOOKUP(A16,'[1]Update Sheet'!$A$3:$Y$15578,25,FALSE)","v":"Public Sector- Exclude"},"Exclude- Intra NHS "]
["CARDIFF COUNCIL",6310,1,"Y","Y",true,"GB","N","PUBLIC SECTOR","CF10 3ND","South East Wales","Cardiff and Vale UHB","CARDIFF CF10",84110,84,"Public administration and defence services; compulsory social security services       ",0.1703405261372164,null,null,null,null,null,null,null,null,52893632.729999997,"*",null,{"$f":"VLOOKUP(A17,'[1]Update Sheet'!$A$3:$Y$15578,25,FALSE)","v":0},"Reportable"]
["INTERSERVE CONSTRUCTION LTD – PBA",69574,1,"Y","Y",true,"GB","N","PRIVATE SECTOR","SA5 8LT","South West Wales","Swansea Bay UHB","CTM-PCH-M232",41201,41.2,"Buildings and building construction works           ",0.30500636264243469,null,1430000,475000,13635000,15540000,391993000,3.9643565063661852E-2,null,52350377.139999993,"*",null,{"$f":"VLOOKUP(A18,'[1]Update Sheet'!$A$3:$Y$15578,25,FALSE)","v":"In Master List"},"Reportable"]
["ALLIANCE HEALTHCARE (DISTRIBUTION) LTD",308,null,"N","N",true,"GB","N","PRIVATE SECTOR","KT9 1SN",null,null,"PHARMACY",46460,46,"Wholesale trade services, except of motor vehicles and motorcycles       ",2.0310031510736858E-2,2022,30118000,132000,42504000,72754000,6319000000,1.1513530621933851E-2,"CRP",52331162.719999976,"*",null,{"$f":"VLOOKUP(A19,'[1]Update Sheet'!$A$3:$Y$15578,25,FALSE)","v":"In Master List"},"Reportable"]
["AVON & WILTSHIRE MENTAL HEALTH NHS PARTNERSHIPS",1328,0,null,null,null,"GB","N","PUBLIC SECTOR","BA1 3QE",null,null,"BATH BA1",0,0,0,null,null,null,null,null,null,null,null,null,3046.74,"*",null,{"$f":"VLOOKUP(A20,'[1]Update Sheet'!$A$3:$Y$15578,25,FALSE)","v":"Public Sector- Exclude"},"Exclude- Intra NHS "]
["AAH PHARMACEUTICALS LTD",3,null,"N","N",true,"GB","N","PRIVATE SECTOR","CV2 2ZG",null,null,"PHARMACY",21100,21,"Basic pharmaceutical products and pharmaceutical preparations          ",0.62099518156965727,null,null,null,null,null,null,null,null,47765390.969999991,"*",null,{"$f":"VLOOKUP(A21,'[1]Update Sheet'!$A$3:$Y$15578,25,FALSE)","v":0},"Reportable"]
["KIER CONSTRUCTION LTD",12033,1,"Y","Y",true,"GB","N","PRIVATE SECTOR","CF3 0EY","South East Wales","Cardiff and Vale UHB","WESTERN & WALES",41201,41.2,"Buildings and building construction works           ",0.30500636264243469,2022,31340000,3600000,68955000,103895000,1318930000,7.8772186545154027E-2,null,44990285.919999994,"*",null,{"$f":"VLOOKUP(A22,'[1]Update Sheet'!$A$3:$Y$15578,25,FALSE)","v":"In Master List"},"Reportable"]
["AYRSHIRE & ARRAN HEALTH BOARD",23407,0,null,null,null,"GB","N","PUBLIC SECTOR","KA6 6AB",null,null,"AYR KA6",0,0,0,null,null,null,null,null,null,null,null,null,13828.73,"*",null,{"$f":"VLOOKUP(A23,'[1]Update Sheet'!$A$3:$Y$15578,25,FALSE)","v":"Public Sector- Exclude"},"Exclude- Intra NHS "]
["BARKING HAVERING & REDBRIDGE HOSPITALS NHS TRUST",23941,0,null,null,null,"GB","N","PUBLIC SECTOR",null,null,null,"WAKEFIELD WF3",null,null,null,null,null,null,null,null,null,null,null,null,720,"*",null,{"$f":"VLOOKUP(A24,'[1]Update Sheet'!$A$3:$Y$15578,25,FALSE)","v":"Public Sector- Exclude"},"Exclude- Intra NHS "]
["BARNET, ENFIELD AND HARINGEY MENTAL HEALTH NHS TRUST",65283,0,null,null,null,"GB","N","PUBLIC SECTOR","N15 3TH",null,null,"LONDON N15",null,null,null,null,null,null,null,null,null,null,null,null,0,null,null,{"$f":"VLOOKUP(A25,'[1]Update Sheet'!$A$3:$Y$15578,25,FALSE)","v":"Public Sector- Exclude"},"Exclude- Intra NHS "]
["CARDIFF UNIVERSITY",1523,1,"Y","Y",true,"GB","N","PUBLIC SECTOR","CF14 4XY","South East Wales","Cardiff and Vale UHB","CARDIFF CF10",85421,85,"Education services              ",0.10257966678326461,null,null,null,null,null,null,null,null,39917062.580000021,"*",null,{"$f":"VLOOKUP(A26,'[1]Update Sheet'!$A$3:$Y$15578,25,FALSE)","v":0},"Reportable"]
["LLOYDS PHARMACY CLINICAL HOMECARE",34873,null,"N","N",true,"GB","N","PRIVATE SECTOR","CM19 5GU",null,null,"PHARMACY",46460,46,"Wholesale trade services, except of motor vehicles and motorcycles       ",2.0310031510736858E-2,null,null,null,null,null,null,null,null,39495705.640000105,"*",null,{"$f":"VLOOKUP(A27,'[1]Update Sheet'!$A$3:$Y$15578,25,FALSE)","v":0},"Reportable"]
["TRUSTMARQUE SOLUTIONS LTD",4899,null,"N","N",true,"GB","N","PRIVATE SECTOR","YO32 9WN",null,null,"YORK YO32",62020,62,"Computer programming, consultancy and related services          ",0.13144659704407699,2022,33000,20000,707000,760000,130378000,5.8292043136111919E-3,"https://www.trustmarque.com/wp-content/uploads/2023/06/Trustmarque-CRP-24.4.23.pdf",39192644.130000018,"*",null,{"$f":"VLOOKUP(A28,'[1]Update Sheet'!$A$3:$Y$15578,25,FALSE)","v":"In Master List"},"Reportable"]
["BARNSLEY HOSPITAL NHS FOUNDATION TRUST",42637,0,null,null,null,"GB","N","PUBLIC SECTOR","S75 2EP",null,null,"BARNSLEY S75",null,null,null,null,null,null,null,null,null,null,null,null,0,null,null,{"$f":"VLOOKUP(A29,'[1]Update Sheet'!$A$3:$Y$15578,25,FALSE)","v":"Public Sector- Exclude"},"Exclude- Intra NHS "]
["BARTS HEALTH NHS TRUST",5128,0,null,null,null,"GB","N","PUBLIC SECTOR","E1 8PR",null,null,"LONDON E1",null,null,null,null,null,null,null,null,null,null,null,null,675067.27,"*",null,{"$f":"VLOOKUP(A30,'[1]Update Sheet'!$A$3:$Y$15578,25,FALSE)","v":"Public Sector- Exclude"},"Exclude- Intra NHS "]
["RHONDDA CYNON TAFF COUNTY BOROUGH",5879,1,"Y","Y",true,"GB","N","PUBLIC SECTOR","CF39 9DL","South East Wales","Cwm Taf Morgannwg UHB","PORTH CF39",84110,84,"Public administration and defence services; compulsory social security services       ",0.1703405261372164,null,null,null,null,null,null,null,null,34392440.359999999,"*",null,{"$f":"VLOOKUP(A31,'[1]Update Sheet'!$A$3:$Y$15578,25,FALSE)","v":0},"Reportable"]
["SWANSEA UNIVERSITY",1973,1,"Y","Y",true,"GB","N","PUBLIC SECTOR","SA2 8PP","South West Wales","Swansea Bay UHB","SWANSEA SA2",85421,85,"Education services              ",0.10257966678326461,null,null,null,null,null,null,null,null,32395018.75999999,"*",null,{"$f":"VLOOKUP(A32,'[1]Update Sheet'!$A$3:$Y$15578,25,FALSE)","v":0},"Reportable"]
["KNIGHTS CHEMIST LTD",72271,null,"N","N",true,"GB","N","PRIVATE SECTOR","B98 0RF",null,null,"PCS PAY",47730,47,"Retail trade services, except of motor vehicles and motorcycles       ",0.17404287306456559,null,null,null,null,null,null,null,null,32304108.420000002,"*",null,{"$f":"VLOOKUP(A33,'[1]Update Sheet'!$A$3:$Y$15578,25,FALSE)","v":0},"Reportable"]
["ELYSIUM HEALTHCARE LTD",59655,null,"N","N",true,"GB","N","PRIVATE SECTOR","WD6 1JN",null,null,"BOREHAMWO WD6",86101,86,"Human health services             ",0.29193168620018201,null,null,null,null,null,null,null,null,31205159.410000008,"*",null,{"$f":"VLOOKUP(A34,'[1]Update Sheet'!$A$3:$Y$15578,25,FALSE)","v":0},"Reportable"]
["ROCHE PRODUCTS LTD",253,null,"N","N",true,"GB","N","PRIVATE SECTOR","AL7 1TW",null,null,"PHARMACY",72190,72,"Scientific research and development services           ",0.18562764998368861,2021,254060000,168735000,7898074000,8320869000,54816400000,0.15179524740771011,null,30692674.989999991,"*",null,{"$f":"VLOOKUP(A35,'[1]Update Sheet'!$A$3:$Y$15578,25,FALSE)","v":"In Master List"},"Reportable"]
["BASINGSTOKE & NORTH HAMPSHIRE NHS TRUST",38543,0,null,null,null,"GB","N","PUBLIC SECTOR","WF3 1WE",null,null,"WAKEFIELD WF3",0,0,0,null,null,null,null,null,null,null,null,null,0,null,null,{"$f":"VLOOKUP(A36,'[1]Update Sheet'!$A$3:$Y$15578,25,FALSE)","v":{"$error":"#N/A"}},"Exclude- Intra NHS "]
["BCU PETTY CASH",40614,1,null,null,null,"GB","N","PUBLIC SECTOR","LL33 0HH",null,null,"FACTORDAVIESD",0,0,0,null,null,null,null,null,null,null,null,null,223927.30999999997,"*",null,{"$f":"VLOOKUP(A37,'[1]Update Sheet'!$A$3:$Y$15578,25,FALSE)","v":"Public Sector- Exclude"},"?"]
["BCU RENAL PATIENTS",73510,1,null,null,null,"GB","N","PUBLIC SECTOR",null,null,null,"FACTOR 23",0,0,0,null,null,null,null,null,null,null,null,null,16652.720000000005,"*",null,{"$f":"VLOOKUP(A38,'[1]Update Sheet'!$A$3:$Y$15578,25,FALSE)","v":"Public Sector- Exclude"},"?"]
["SPECSAVERS",1185,null,"N","N",true,"GB","N","PRIVATE SECTOR",null,null,null,"PCS PAY",47782,47,"Retail trade services, except of motor vehicles and motorcycles       ",0.17404287306456559,null,null,null,null,null,null,null,null,28023046.079999998,"*",null,{"$f":"VLOOKUP(A39,'[1]Update Sheet'!$A$3:$Y$15578,25,FALSE)","v":0},"Reportable"]
["CARMARTHENSHIRE COUNTY COUNCIL",5703,1,"Y","Y",true,"GB","N","PUBLIC SECTOR","SA31 1LE","South West Wales","Hywel Dda UHB","CARMARTHE SA31",84110,84,"Public administration and defence services; compulsory social security services       ",0.1703405261372164,null,null,null,null,null,null,null,null,27920672.920000028,"*",null,{"$f":"VLOOKUP(A40,'[1]Update Sheet'!$A$3:$Y$15578,25,FALSE)","v":0},"Reportable"]
["MEDTRONIC LTD",1788,null,"N","N",true,"GB","N","PRIVATE SECTOR","WD18 8WW",null,null,"PHARMACY",32500,32,"Other manufactured goods             ",0.67238249414981133,2022,817300,119280,283809420,284746000,576325000,0.49407192122500326,null,27651359.330000021,"*",null,{"$f":"VLOOKUP(A41,'[1]Update Sheet'!$A$3:$Y$15578,25,FALSE)","v":"In Master List"},"Reportable"]
["ALLOGA UK LTD",309,null,"N","N",true,"GB","N","PRIVATE SECTOR","DE55 2FH",null,null,"PHARMACY",46460,46,"Wholesale trade services, except of motor vehicles and motorcycles       ",2.0310031510736858E-2,"21-22",11917160,2694550,15310,14627020,146152000,0.10008087470578576,"https://www.alloga.co.uk/sites/g/files/xpfdlm101/files/2023-03/Alloga%20UK%20-%20Carbon%20Reduction%20Plan%202023.pdf",27561688.809999991,"*",null,{"$f":"VLOOKUP(A42,'[1]Update Sheet'!$A$3:$Y$15578,25,FALSE)","v":"Review as T2 higher than T1"},"Reportable"]
["LLOYDS PHARMACY LTD",4230,null,"N","N",true,"GB","N","PRIVATE SECTOR",null,null,null,"PCS PAY",86900,86,"Human health services             ",0.29193168620018201,null,null,null,null,null,null,null,null,26119203.899999999,"*",null,{"$f":"VLOOKUP(A43,'[1]Update Sheet'!$A$3:$Y$15578,25,FALSE)","v":0},"Reportable"]
["BCU SALARY & WAGES",40608,1,null,null,null,"GB","N","PUBLIC SECTOR",null,null,null,"FACTOR0002",null,null,null,null,null,null,null,null,null,null,null,null,21521.370000000006,"*",null,{"$f":"VLOOKUP(A44,'[1]Update Sheet'!$A$3:$Y$15578,25,FALSE)","v":"Public Sector- Exclude"},"?"]
["PURPLE SURGICAL",84,null,"N","N",true,"GB","N","PRIVATE SECTOR","WD7 9AD",null,null,"PHARMACY",46460,46,"Wholesale trade services, except of motor vehicles and motorcycles       ",2.0310031510736858E-2,null,null,null,null,null,null,null,null,0,null,null,{"$f":"VLOOKUP(A45,'[1]Update Sheet'!$A$3:$Y$15578,25,FALSE)","v":0},"Reportable"]
["BCU WELFARE VOLUNTEERS",73758,1,null,null,null,"GB","N","PUBLIC SECTOR","LL57 2PW",null,null,"FACTOR 21",null,null,null,null,null,null,null,null,null,null,null,null,3329.84,"*",null,{"$f":"VLOOKUP(A46,'[1]Update Sheet'!$A$3:$Y$15578,25,FALSE)","v":"Public Sector- Exclude"},"?"]
["BEDFORD HOSPITAL NHS TRUST",25064,0,null,null,null,"GB","N","PUBLIC SECTOR",null,null,null,"BEDFORD MK42",null,null,null,null,null,null,null,null,null,null,null,null,0,null,null,{"$f":"VLOOKUP(A47,'[1]Update Sheet'!$A$3:$Y$15578,25,FALSE)","v":"Public Sector- Exclude"},"Exclude- Intra NHS "]
["BAGLAN MOOR HEALTHCARE",18477,null,"N","N",true,"GB","Y","PRIVATE SECTOR","BA2 3RH",null,null,"BATH BA2",74990,74,"Other professional, scientific and technical services          ",0.19142587698446711,null,null,null,null,null,null,null,null,22616154.309999999,"*",null,{"$f":"VLOOKUP(A48,'[1]Update Sheet'!$A$3:$Y$15578,25,FALSE)","v":0},"Reportable"]
["EDF ENERGY CUSTOMERS PLC",29696,null,"N","N",true,"GB","N","PRIVATE SECTOR","GL4 7ZE",null,null,"EXETER EX1",35130,35.1,"Electricity, transmission and distribution",1.8815371821710341,null,null,null,null,null,null,null,null,22505952.799999997,"*",null,{"$f":"VLOOKUP(A49,'[1]Update Sheet'!$A$3:$Y$15578,25,FALSE)","v":"Do not include in master list- EFPMS"},"Exclude- Captured under Waste, Energy, Water or Invesments"]
["BEDFORDSHIRE HOSPITALS NHS FOUNDATION TRUST",20427,0,null,null,null,"GB","N","PUBLIC SECTOR",null,null,null,"BEDFORD",null,null,null,null,null,null,null,null,null,null,null,null,0,null,null,{"$f":"VLOOKUP(A50,'[1]Update Sheet'!$A$3:$Y$15578,25,FALSE)","v":"Public Sector- Exclude"},"Exclude- Intra NHS "]
["BAYER PLC",40,null,"N","N",true,"GB","N","PRIVATE SECTOR","RG2 6AD",null,null,"PHARMACY",46460,46,"Wholesale trade services, except of motor vehicles and motorcycles       ",2.0310031510736858E-2,2021,1145000,278000,64000,1487000,750662000,1.9809181762231202E-3,"carbon reduction plan",21835614.390000001,"*",null,{"$f":"VLOOKUP(A51,'[1]Update Sheet'!$A$3:$Y$15578,25,FALSE)","v":"In Master List"},"Reportable"]
["HEALTHNET HOMECARE (UK) LTD",63005,null,"N","N",true,"GB","N","PRIVATE SECTOR","WF7 6EP",null,null,"PHARMACY",47730,47,"Retail trade services, except of motor vehicles and motorcycles       ",0.17404287306456559,null,null,null,null,null,null,null,null,21443450.060000002,"*",null,{"$f":"VLOOKUP(A52,'[1]Update Sheet'!$A$3:$Y$15578,25,FALSE)","v":0},"Reportable"]
["CAERPHILLY COUNTY BOROUGH COUNCIL",1476,1,"Y","Y",true,"GB","N","PUBLIC SECTOR","CF83 8BJ","South East Wales","Aneurin Bevan UHB","HENGOED CF82",84110,84,"Public administration and defence services; compulsory social security services       ",0.1703405261372164,null,null,null,null,null,null,null,null,20912145.910000019,"*",null,{"$f":"VLOOKUP(A53,'[1]Update Sheet'!$A$3:$Y$15578,25,FALSE)","v":0},"Reportable"]
["BELFAST HEALTH & SOCIAL CARE TRUST",37171,0,null,null,null,"GB","N","PUBLIC SECTOR","BT1 6DN",null,null,"BELFAST BT1",0,0,0,null,null,null,null,null,null,null,null,null,5418,"*",null,{"$f":"VLOOKUP(A54,'[1]Update Sheet'!$A$3:$Y$15578,25,FALSE)","v":"Public Sector- Exclude"},"Exclude- Intra NHS "]
["INTEGRATED HEALTH PROJECTS (IHP) - PBA",71383,1,"Y","Y",true,"GB","N","PRIVATE SECTOR","WD24 4WW","Various","Various","HDT GGH FPS PH1",70229,70,"Services of head offices; management consulting services         ",9.3681183759862049E-2,null,null,null,null,null,null,null,null,19645897.379999999,"*",null,{"$f":"VLOOKUP(A55,'[1]Update Sheet'!$A$3:$Y$15578,25,FALSE)","v":0},"Reportable"]
["BERKSHIRE HEALTHCARE NHS FT",47808,0,null,null,null,"GB","N","PUBLIC SECTOR","RG12 1BQ",null,null,"BRACKNELL RG12",null,null,null,null,null,null,null,null,null,null,null,null,0,null,null,{"$f":"VLOOKUP(A56,'[1]Update Sheet'!$A$3:$Y$15578,25,FALSE)","v":"Public Sector- Exclude"},"Exclude- Intra NHS "]
["UNIVERSITY OF SOUTH WALES",884,1,"Y","Y",true,"GB","N","PUBLIC SECTOR","CF14 4UJ","South East Wales","Cardiff and Vale UHB","PONTYPRID CF37",85421,85,"Education services              ",0.10257966678326461,null,null,null,null,null,null,null,null,18939774.589999989,"*",null,{"$f":"VLOOKUP(A57,'[1]Update Sheet'!$A$3:$Y$15578,25,FALSE)","v":0},"Reportable"]
["PHARMAXO PHARMACY LTD",51911,null,"N","N",true,"GB","N","PRIVATE SECTOR","SN13 9RG",null,null,"PHARMACY",46460,46,"Wholesale trade services, except of motor vehicles and motorcycles       ",2.0310031510736858E-2,"22-23",0,37350,4675730,4713140,123549492,3.8147789389534684E-2,"https://pharmaxohealthcare.com/about-us/carbon-reduction-plan/",18232862.02999999,"*",null,{"$f":"VLOOKUP(A58,'[1]Update Sheet'!$A$3:$Y$15578,25,FALSE)","v":"Review as T2 higher than T1"},"Reportable"]
["DELL COMPUTER CORPORATION LTD",6114,null,"N","N",true,"GB","N","PRIVATE SECTOR","RG12 1LF",null,null,"BRACKNELL RG12",62020,62,"Computer programming, consultancy and related services          ",0.13144659704407699,2022,626000,445000,48385000,{"$f":"SUM(S59:U59)","v":49456000},{"$f":"3503501*1000","v":3503501000},{"$f":"V59/W59","v":1.4116165515579987E-2},null,18217866.489999998,"*",null,{"$f":"VLOOKUP(A59,'[1]Update Sheet'!$A$3:$Y$15578,25,FALSE)","v":"In Master List"},"Reportable"]
["JOHNSON & JOHNSON MEDICAL LTD",157,null,"N","N",true,"GB","N","PRIVATE SECTOR","HP12 5DP",null,null,"PHARMACY",32500,32,"Other manufactured goods             ",0.67238249414981133,"21-22",367674000,616093000,1948223000,2931990000,73144500000,4.0084900436806598E-2,"Global emissions with $ to £ turnover conversion",17614299.030000001,"*",null,{"$f":"VLOOKUP(A60,'[1]Update Sheet'!$A$3:$Y$15578,25,FALSE)","v":"In Master List"},"Reportable"]
["BETSI CADWALADR UNIVERSITY LOCAL HEALTH BOARD",1795,1,null,null,null,"GB","N","PUBLIC SECTOR","LL22 8DP",null,null,"ABERGELE LL22",null,null,null,null,null,null,null,null,null,null,null,null,44160906.710000008,"*",null,{"$f":"VLOOKUP(A61,'[1]Update Sheet'!$A$3:$Y$15578,25,FALSE)","v":"Public Sector- Exclude"},"Exclude- Intra NHS "]
["BETSI COVID VACCINE BOOST",71145,1,null,null,null,"GB","N","PUBLIC SECTOR",null,null,null,"FACTOR 7",0,0,0,null,null,null,null,null,null,null,null,null,135,"*",null,{"$f":"VLOOKUP(A62,'[1]Update Sheet'!$A$3:$Y$15578,25,FALSE)","v":"Public Sector- Exclude"},"?"]
["RETINUE SOLUTIONS LTD",64769,null,"N","N",true,"GB","Y","PRIVATE SECTOR","EC2R 5AR",null,null,"LONDON EC2R",78300,78,"Employment services              ",0.1176282196328419,2022,1930,990,66930,69850,122326000,5.7101515622189883E-4,null,17008146.57,"*",null,{"$f":"VLOOKUP(A63,'[1]Update Sheet'!$A$3:$Y$15578,25,FALSE)","v":"In Master List"},"Reportable"]
["ROCHE DIAGNOSTICS LTD",252,null,"N","N",true,"GB","N","PRIVATE SECTOR","RH15 9RY",null,null,"PHARMACY",74909,74,"Other professional, scientific and technical services          ",0.19142587698446711,null,null,null,null,null,null,null,null,16596878.640000004,"*",null,{"$f":"VLOOKUP(A64,'[1]Update Sheet'!$A$3:$Y$15578,25,FALSE)","v":0},"Reportable"]
["PEMBROKESHIRE COUNTY COUNCIL",6277,1,"Y","Y",true,"GB","N","PUBLIC SECTOR","SA61 1TP","South West Wales","Swansea Bay UHB","HAVERFORD SA61",84110,84,"Public administration and defence services; compulsory social security services       ",0.1703405261372164,null,null,null,null,null,null,null,null,16544236.139999984,"*",null,{"$f":"VLOOKUP(A65,'[1]Update Sheet'!$A$3:$Y$15578,25,FALSE)","v":0},"Reportable"]
["MEDACS HEALTHCARE PLC",607,null,"N","N",true,"GB","N","PRIVATE SECTOR","LU1 3BA",null,null,"SKIPTON BD23",78200,78,"Employment services              ",0.1176282196328419,null,200810,176810,448120,825740,165765000,4.9813893162006457E-3,null,16156885.970000001,"*",null,{"$f":"VLOOKUP(A66,'[1]Update Sheet'!$A$3:$Y$15578,25,FALSE)","v":"In Master List"},"Reportable"]
["POWYS COUNTY COUNCIL",6319,1,"Y","Y",true,"GB","N","PUBLIC SECTOR","LD1 5LG","Mid Wales","Powys Teaching HB","BRECON LD3",84110,84,"Public administration and defence services; compulsory social security services       ",0.1703405261372164,null,null,null,null,null,null,null,null,16086821.819999989,"*",null,{"$f":"VLOOKUP(A67,'[1]Update Sheet'!$A$3:$Y$15578,25,FALSE)","v":0},"Reportable"]
["FLINTSHIRE COUNTY COUNCIL",6382,1,"Y","Y",true,"GB","N","PUBLIC SECTOR","CH7 6NA","North Wales","Betsi Cadwaladr UHB","MOLD CH7",84110,84,"Public administration and defence services; compulsory social security services       ",0.1703405261372164,null,null,null,null,null,null,null,null,16039860.77,"*",null,{"$f":"VLOOKUP(A68,'[1]Update Sheet'!$A$3:$Y$15578,25,FALSE)","v":0},"Reportable"]
["TOTALENERGIES GAS & POWER LTD",5029,null,"N","N",true,"GB","N","PRIVATE SECTOR","RH1 1RX",null,null,"REDHILL RH1",35130,35.1,"Electricity, transmission and distribution",1.8815371821710341,null,null,null,null,null,null,null,null,15591095.330000002,"*",null,{"$f":"VLOOKUP(A69,'[1]Update Sheet'!$A$3:$Y$15578,25,FALSE)","v":"Do not include in master list- EFPMS"},"Exclude- Captured under Waste, Energy, Water or Invesments"]
["BANGOR UNIVERSITY",4135,1,"Y","Y",true,"GB","N","PUBLIC SECTOR","LL57 2AS","North Wales","Betsi Cadwaladr UHB","BANGOR LL57",85421,85,"Education services              ",0.10257966678326461,null,null,null,null,null,null,null,null,15114468,"*",null,{"$f":"VLOOKUP(A70,'[1]Update Sheet'!$A$3:$Y$15578,25,FALSE)","v":0},"Reportable"]
["BRISTOL-MYERS SQUIBB PHARM",61,null,"N","N",true,"GB","Y","PRIVATE SECTOR","UB8 1DH",null,null,"PHARMACY",21100,21,"Basic pharmaceutical products and pharmaceutical preparations          ",0.62099518156965727,2022,202290000,161907000,1794903000,2159100000,46159000000,4.6775276760761715E-2,"Global CRP and Turnover",14767009.41,"*",null,{"$f":"VLOOKUP(A71,'[1]Update Sheet'!$A$3:$Y$15578,25,FALSE)","v":"In Master List"},"Reportable"]
["TESCO STORES LTD",1852,1,"Y","Y",true,"GB","N","PRIVATE SECTOR","AL7 1GA","Various","Various","PCS PAY",47110,47,"Retail trade services, except of motor vehicles and motorcycles       ",0.17404287306456559,2023,1039346000,575462000,1047142000,2661950000,47481000000,5.6063478022788063E-2,null,14722955.619999999,"*",null,{"$f":"VLOOKUP(A72,'[1]Update Sheet'!$A$3:$Y$15578,25,FALSE)","v":"In Master List"},"Reportable"]
["ALCURA UK LTD",5508,null,"N","N",true,"GB","N","PRIVATE SECTOR","GU34 2QJ",null,null,"PHARMACY",46460,46,"Wholesale trade services, except of motor vehicles and motorcycles       ",2.0310031510736858E-2,null,null,null,null,null,null,null,null,14664769.320000021,"*",null,{"$f":"VLOOKUP(A73,'[1]Update Sheet'!$A$3:$Y$15578,25,FALSE)","v":0},"Reportable"]
["ID MEDICAL",22350,null,"N","N",true,"GB","Y","PRIVATE SECTOR","MK12 5ZD",null,null,"MILTON KE MK12",64209,64,"Financial services, except insurance and pension funding         ",0.1103075939416239,2022,5000,113000,24000,142000,145387140,9.7670261620113035E-4,"https://www.id-medical.com/wp-content/uploads/2023/12/FE07-Carbon-Reduction-Plan.pdf",14396075.249999991,"*",null,{"$f":"VLOOKUP(A74,'[1]Update Sheet'!$A$3:$Y$15578,25,FALSE)","v":"In Master List"},"Reportable"]
["BRIDGEND COUNTY BOROUGH COUNCIL",1420,1,"Y","Y",true,"GB","N","PUBLIC SECTOR","CF31 4WB","South East Wales","Cwm Taf Morgannwg UHB","BRIDGEND CF31",84110,84,"Public administration and defence services; compulsory social security services       ",0.1703405261372164,null,null,null,null,null,null,null,null,14312700.100000001,"*",null,{"$f":"VLOOKUP(A75,'[1]Update Sheet'!$A$3:$Y$15578,25,FALSE)","v":0},"Reportable"]
["BIRMINGHAM & SOLIHULL MENTAL HEALTH NHS TRUST",20040,0,null,null,null,"GB","N","PUBLIC SECTOR","B1 3RB",null,null,"BIRMINGHA B1",null,null,null,null,null,null,null,null,null,null,null,null,274581,"*",null,{"$f":"VLOOKUP(A76,'[1]Update Sheet'!$A$3:$Y$15578,25,FALSE)","v":"Public Sector- Exclude"},"Exclude- Intra NHS "]
["YOUR WORLD NURSING LTD",60548,null,"N","N",true,"GB","N","PRIVATE SECTOR","EC2A 2EW",null,null,"LONDON EC2A",78200,78,"Employment services              ",0.1176282196328419,2022,30480,8520,182910,{"$f":"SUM(S77:U77)","v":221910},66839708,{"$f":"V77/W77","v":3.3200324573530453E-3},null,14179952.829999991,"*",null,{"$f":"VLOOKUP(A77,'[1]Update Sheet'!$A$3:$Y$15578,25,FALSE)","v":"In Master List"},"Reportable"]
["CALEA UK LTD",3630,null,"N","N",true,"GB","N","PRIVATE SECTOR","WA7 1NT",null,null,"PHARMACY",21200,21,"Basic pharmaceutical products and pharmaceutical preparations          ",0.62099518156965727,"20-21",1624000,492000,3873000,5989000,103000000,5.8145631067961168E-2,"https://calea.co.uk/wp-content/uploads/2023/03/UK-Carbon-Reduction-Plan-2022-Calea-UK-Limited-.pdf",14017607.109999988,"*",null,{"$f":"VLOOKUP(A78,'[1]Update Sheet'!$A$3:$Y$15578,25,FALSE)","v":"In Master List"},"Reportable"]
["NEATH PORT TALBOT COUNCIL",5922,1,"Y","Y",true,"GB","N","PUBLIC SECTOR","SA11 3QZ","South West Wales","Swansea Bay UHB","NEATH SA11",84110,84,"Public administration and defence services; compulsory social security services       ",0.1703405261372164,null,null,null,null,null,null,null,null,13696092.43,"*",null,{"$f":"VLOOKUP(A79,'[1]Update Sheet'!$A$3:$Y$15578,25,FALSE)","v":0},"Reportable"]
["CYGNET HEALTHCARE LTD",15952,null,"N","N",true,"GB","N","PRIVATE SECTOR","SG1 4YS",null,null,"STEVENAGE SG1",86101,86,"Human health services             ",0.29193168620018201,2022,626000,445000,48385000,{"$f":"SUM(S80:U80)","v":49456000},{"$f":"3503501*1000","v":3503501000},{"$f":"V80/W80","v":1.4116165515579987E-2},null,13652703.83,"*",null,{"$f":"VLOOKUP(A80,'[1]Update Sheet'!$A$3:$Y$15578,25,FALSE)","v":"In Master List"},"Reportable"]
["BIRMINGHAM COMMUNITY HEALTHCARE NHS TRUST",43565,0,null,null,null,"GB","N","PUBLIC SECTOR","BB3 0FG",null,null,"CHC DARWEN BB3",null,null,null,null,null,null,null,null,null,null,null,null,0,null,null,{"$f":"VLOOKUP(A81,'[1]Update Sheet'!$A$3:$Y$15578,25,FALSE)","v":"Public Sector- Exclude"},"Exclude- Intra NHS "]
["PARTNERSHIPS IN CARE LTD",15425,null,"N","N",true,"GB","N","PRIVATE SECTOR","GL3 4AB",null,null,"BOREHAMWO WD6",86101,86,"Human health services             ",0.29193168620018201,null,null,null,null,null,null,null,null,13340969.190000001,"*",null,{"$f":"VLOOKUP(A82,'[1]Update Sheet'!$A$3:$Y$15578,25,FALSE)","v":0},"Reportable"]
["BAXTER HEALTHCARE LTD",39,null,"N","N",true,"GB","N","PRIVATE SECTOR","NN4 7UF",null,null,"PHARMACY",21100,21,"Basic pharmaceutical products and pharmaceutical preparations          ",0.62099518156965727,2022,373000000,242000000,6178000000,6793000000,11699900000,0.58060325301925653,null,13043925.77,"*",null,{"$f":"VLOOKUP(A83,'[1]Update Sheet'!$A$3:$Y$15578,25,FALSE)","v":"In Master List"},"Reportable"]
["QUALASEPT LTD",29238,null,"N","N",true,"GB","N","PRIVATE SECTOR","SN13 9RG",null,null,"PHARMACY",64209,64,"Financial services, except insurance and pension funding         ",0.1103075939416239,2022,55000,343250,3984000,4382250,142458852,3.0761514209029284E-2,null,13043811.65,"*",null,{"$f":"VLOOKUP(A84,'[1]Update Sheet'!$A$3:$Y$15578,25,FALSE)","v":"In Master List"},"Reportable"]
["CONWY COUNTY BOROUGH COUNCIL",5280,1,"Y","Y",true,"GB","N","PUBLIC SECTOR","LL30 9GN","North Wales","Betsi Cadwaladr UHB","CONWY LL32",84110,84,"Public administration and defence services; compulsory social security services       ",0.1703405261372164,null,null,null,null,null,null,null,null,12912828.950000003,"*",null,{"$f":"VLOOKUP(A85,'[1]Update Sheet'!$A$3:$Y$15578,25,FALSE)","v":0},"Reportable"]
["B BRAUN AVITUM (UK) LTD",34587,null,"N","N",true,"GB","Y","PRIVATE SECTOR","S35 2PW",null,null,"SHEFFIELD S35",86900,86,"Human health services             ",0.29193168620018201,2022,1033000,494000,7135000,7135000,200475000,3.5590472627509667E-2,null,12747937.880000001,"*",null,{"$f":"VLOOKUP(A86,'[1]Update Sheet'!$A$3:$Y$15578,25,FALSE)","v":"In Master List"},"Reportable"]
["MEDICSPRO LTD",52926,null,"N","N",true,"GB","N","PRIVATE SECTOR","RM1 1ES",null,null,"ROMFORD RM1",78200,78,"Employment services              ",0.1176282196328419,2023,0,28800,81000,109820,60578949,1.8128409589938577E-3,null,12707364.86000007,"*",null,{"$f":"VLOOKUP(A87,'[1]Update Sheet'!$A$3:$Y$15578,25,FALSE)","v":"In Master List"},"Reportable"]
["QUANTUM PHARMACEUTICAL LTD",50907,null,"N","N",true,"GB","N","PRIVATE SECTOR","NE16 6EA",null,null,"PHARMACY",21200,21,"Basic pharmaceutical products and pharmaceutical preparations          ",0.62099518156965727,null,null,null,null,null,null,null,null,12640290.55000001,"*",null,{"$f":"VLOOKUP(A88,'[1]Update Sheet'!$A$3:$Y$15578,25,FALSE)","v":0},"Reportable"]
["RAJJA LTD",68663,null,"N","N",true,"GB","Y","PRIVATE SECTOR","B32 1RJ",null,null,"PCS PAY",86900,86,"Human health services             ",0.29193168620018201,2022,2094000,98000,2656000,4848000,45129438,0.10742433796760333,null,12254564.960000001,"*",null,{"$f":"VLOOKUP(A89,'[1]Update Sheet'!$A$3:$Y$15578,25,FALSE)","v":"In Master List"},"Reportable"]
["NOVARTIS PHARMACEUTICALS UK LTD",209,null,"N","N",true,"GB","N","PRIVATE SECTOR","W12 7FQ",null,null,"PHARMACY",21100,21,"Basic pharmaceutical products and pharmaceutical preparations          ",0.62099518156965727,2022,343149000,147501000,7663118000,8153768000,36394800000,0.22403662061613197,"sustainability strategy",12095660.460000001,"*",null,{"$f":"VLOOKUP(A90,'[1]Update Sheet'!$A$3:$Y$15578,25,FALSE)","v":"In Master List"},"Reportable"]
["MAGAWELL LTD T/A EVANS PHARMACY",65880,1,"Y","Y",true,"GB","Y","PRIVATE SECTOR",null,"South East Wales","Aneurin Bevan UHB","PCS PAY",47730,47,"Retail trade services, except of motor vehicles and motorcycles       ",0.17404287306456559,null,null,null,null,null,null,null,null,12080203.359999999,"*",null,{"$f":"VLOOKUP(A91,'[1]Update Sheet'!$A$3:$Y$15578,25,FALSE)","v":0},"Reportable"]
["NEWPORT CITY COUNCIL",5923,1,"Y","Y",true,"GB","N","PUBLIC SECTOR","NP20 9LU","South East Wales","Aneurin Bevan UHB","NEWPORT NP20",84110,84,"Public administration and defence services; compulsory social security services       ",0.1703405261372164,null,null,null,null,null,null,null,null,12063509.77,"*",null,{"$f":"VLOOKUP(A92,'[1]Update Sheet'!$A$3:$Y$15578,25,FALSE)","v":0},"Reportable"]
["NEXT STEP NURSING LTD",61024,null,"N","N",true,"GB","Y","PRIVATE SECTOR","CR0 2FT",null,null,"CROYDON CR9",78200,78,"Employment services              ",0.1176282196328419,null,null,null,null,null,null,null,null,11660061.600000029,"*",null,{"$f":"VLOOKUP(A93,'[1]Update Sheet'!$A$3:$Y$15578,25,FALSE)","v":0},"Reportable"]
["BIRMINGHAM WOMENS & CHILDRENS NHS FOUNDATION TRUST (BWC)",52,0,null,null,null,"GB","N","PUBLIC SECTOR","B4 6NH",null,null,"BIRMINGHA B4",null,null,null,null,null,null,null,null,null,null,null,null,2897265.52,"*",null,{"$f":"VLOOKUP(A94,'[1]Update Sheet'!$A$3:$Y$15578,25,FALSE)","v":"Public Sector- Exclude"},"Exclude- Intra NHS "]
["DENBIGHSHIRE COUNTY COUNCIL",2372,1,"Y","Y",true,"GB","N","PUBLIC SECTOR","LL18 5PU","North Wales","Betsi Cadwaladr UHB","ESTATES",84110,84,"Public administration and defence services; compulsory social security services       ",0.1703405261372164,null,null,null,null,null,null,null,null,11613157.729999999,"*",null,{"$f":"VLOOKUP(A95,'[1]Update Sheet'!$A$3:$Y$15578,25,FALSE)","v":0},"Reportable"]
["ENFERM MEDICAL LTD",60996,null,"N","N",true,"GB","Y","PRIVATE SECTOR","MK12 5TW",null,null,"MILTON MK12",78200,78,"Employment services              ",0.1176282196328419,null,null,null,null,null,null,null,null,11566409.0300001,"*",null,{"$f":"VLOOKUP(A96,'[1]Update Sheet'!$A$3:$Y$15578,25,FALSE)","v":0},"Reportable"]
["BLACK COUNTRY HEALTHCARE NHS FOUNDATION TRUST",44681,0,null,null,null,"GB","N","PUBLIC SECTOR","B70 9PL",null,null,"WEST BROM B70",null,null,null,null,null,null,null,null,null,null,null,null,7921.56,"*",null,{"$f":"VLOOKUP(A97,'[1]Update Sheet'!$A$3:$Y$15578,25,FALSE)","v":"Public Sector- Exclude"},"Exclude- Intra NHS "]
["STRYKER UK LTD",6192,null,"N","N",true,"GB","N","PRIVATE SECTOR",null,null,null,"PHARMACY",86900,86,"Human health services             ",0.29193168620018201,2022,24883000,114213000,480269000,619365000,15982200000,3.875342568607576E-2,null,11526813.719999989,"*",null,{"$f":"VLOOKUP(A98,'[1]Update Sheet'!$A$3:$Y$15578,25,FALSE)","v":"In Master List"},"Reportable"]
["PHOENIX HEALTHCARE DISTRIBUTION LTD",21686,null,"N","N",true,"GB","N","PRIVATE SECTOR","WA7 3DJ",null,null,"PHARMACY",46460,46,"Wholesale trade services, except of motor vehicles and motorcycles       ",2.0310031510736858E-2,null,null,null,null,null,null,null,null,11411948.37999999,"*",null,{"$f":"VLOOKUP(A99,'[1]Update Sheet'!$A$3:$Y$15578,25,FALSE)","v":0},"Reportable"]
["SOFTCAT",32231,null,"N","N",true,"GB","N","PRIVATE SECTOR","SL7 1LW",null,null,"MARLOW SL7",62090,62,"Computer programming, consultancy and related services          ",0.13144659704407699,2022,229000,334000,383014000,383577000,1077900000,0.35585583078207628,"carbon reduction plan",11373517.119999999,"*",null,{"$f":"VLOOKUP(A100,'[1]Update Sheet'!$A$3:$Y$15578,25,FALSE)","v":"Review as T2 higher than T1"},"Reportable"]
["JANSSEN CILAG LTD",154,null,"N","N",true,"GB","N","PRIVATE SECTOR","HP12 4EG",null,null,"PHARMACY",21200,21,"Basic pharmaceutical products and pharmaceutical preparations          ",0.62099518156965727,null,null,null,null,null,null,null,null,11289777.43,"*",null,{"$f":"VLOOKUP(A101,'[1]Update Sheet'!$A$3:$Y$15578,25,FALSE)","v":0},"Reportable"]
["ACCOMPLISH GROUP LTD",16064,null,"N","N",true,"GB","Y","PRIVATE SECTOR","SA1 3YJ",null,null,"BIRMINGH B45",87200,87,"Residential care services             ",0.16514437058930551,null,null,null,null,null,null,null,null,11173687.34,"*",null,{"$f":"VLOOKUP(A102,'[1]Update Sheet'!$A$3:$Y$15578,25,FALSE)","v":0},"Reportable"]
["OVERDRAKE LTD",68640,1,"Y","Y",true,"GB","Y","PRIVATE SECTOR",null,"South West Wales","Swansea Bay UHB","PCS PAY",47730,47,"Retail trade services, except of motor vehicles and motorcycles       ",0.17404287306456559,null,null,null,null,null,null,null,null,11103499.539999999,"*",null,{"$f":"VLOOKUP(A103,'[1]Update Sheet'!$A$3:$Y$15578,25,FALSE)","v":0},"Reportable"]
["SHARIEF HEALTHCARE LTD",76118,null,"N","N",true,"GB","N","PRIVATE SECTOR","WA9 4TU",null,null,"PCS PAY",47730,47,"Retail trade services, except of motor vehicles and motorcycles       ",0.17404287306456559,null,null,null,null,null,null,null,null,10998068.370000003,"*",null,{"$f":"VLOOKUP(A104,'[1]Update Sheet'!$A$3:$Y$15578,25,FALSE)","v":0},"Reportable"]
["GWYNEDD COUNCIL",5332,1,"Y","Y",true,"GB","N","PUBLIC SECTOR","LL55 1BN","North Wales","Betsi Cadwaladr UHB","CAERNARFO LL55",84110,84,"Public administration and defence services; compulsory social security services       ",0.1703405261372164,null,null,null,null,null,null,null,null,10859701.720000001,"*",null,{"$f":"VLOOKUP(A105,'[1]Update Sheet'!$A$3:$Y$15578,25,FALSE)","v":0},"Reportable"]
["CTT L&C",50084,1,"Y","Y",true,"GB","N","PUBLIC SECTOR","CF44 7PF","South East Wales","Cwm Taf Morgannwg UHB","FACTOR 00828",86101,86,"Human health services             ",0.29193168620018201,null,null,null,null,null,null,null,null,10832802.029999999,"*",null,{"$f":"VLOOKUP(A106,'[1]Update Sheet'!$A$3:$Y$15578,25,FALSE)","v":0},"Reportable"]
["CSL BEHRING UK LTD",5977,null,"N","N",true,"GB","N","PRIVATE SECTOR","RH16 1DB",null,null,"PHARMACY",46460,46,"Wholesale trade services, except of motor vehicles and motorcycles       ",2.0310031510736858E-2,null,null,null,null,null,null,null,null,10737754.98,"*",null,{"$f":"VLOOKUP(A107,'[1]Update Sheet'!$A$3:$Y$15578,25,FALSE)","v":0},"Reportable"]
["INDEPENDENT CLINICAL SERVICES LTD TA THORNBURY NURSING SERVICES",1873,null,"N","N",true,"GB","Y","PRIVATE SECTOR","BS41 9FH",null,null,"BRISTOL BS41",86101,86,"Human health services             ",0.29193168620018201,2022,1527400,580300,5078600,7186300,2280531000,3.1511520781782841E-3,null,10598098.02999993,"*",null,{"$f":"VLOOKUP(A108,'[1]Update Sheet'!$A$3:$Y$15578,25,FALSE)","v":"In Master List"},"Reportable"]
["BOSTON SCIENTIFIC LTD",377,null,"N","N",true,"GB","N","PRIVATE SECTOR","HP2 4TZ",null,null,"HEMEL HEM HP2",46690,46,"Wholesale trade services, except of motor vehicles and motorcycles       ",2.0310031510736858E-2,2022,423000,37000,1330000,1790000,247628000,7.2285848127029255E-3,null,10544710.5,"*",null,{"$f":"VLOOKUP(A109,'[1]Update Sheet'!$A$3:$Y$15578,25,FALSE)","v":"In Master List"},"Reportable"]
["TORFAEN COUNTY BOROUGH COUNCIL",6321,1,"Y","Y",true,"GB","N","PUBLIC SECTOR","NP4 6YB","South East Wales","Aneurin Bevan UHB","PONTYPOOL NP4",84110,84,"Public administration and defence services; compulsory social security services       ",0.1703405261372164,null,null,null,null,null,null,null,null,10358493.460000001,"*",null,{"$f":"VLOOKUP(A110,'[1]Update Sheet'!$A$3:$Y$15578,25,FALSE)","v":0},"Reportable"]
["MAWDSLEY BROOKS & CO LTD",18192,null,"N","N",true,"GB","N","PRIVATE SECTOR","M50 2PW",null,null,"PHARMACY",46460,46,"Wholesale trade services, except of motor vehicles and motorcycles       ",2.0310031510736858E-2,"21-22",4090000,0,967000,5057000,398900000,1.2677362747555779E-2,"https://www.mawdsleys.co.uk/wp-content/uploads/2023/11/Carbon-reduction-plan_Nov-23-1.pdf",10186654.02,"*",null,{"$f":"VLOOKUP(A111,'[1]Update Sheet'!$A$3:$Y$15578,25,FALSE)","v":"In Master List"},"Reportable"]
["WREXHAM COUNTY BOROUGH COUNCIL",120,1,"Y","Y",true,"GB","N","PUBLIC SECTOR","LL11 1AR","North Wales","Betsi Cadwaladr UHB","ESTATES",84110,84,"Public administration and defence services; compulsory social security services       ",0.1703405261372164,null,null,null,null,null,null,null,null,10164979.009999998,"*",null,{"$f":"VLOOKUP(A112,'[1]Update Sheet'!$A$3:$Y$15578,25,FALSE)","v":0},"Reportable"]
["MONMOUTHSHIRE COUNTY COUNCIL",6311,1,"Y","Y",true,"GB","N","PUBLIC SECTOR","NP7 6EL","South East Wales","Aneurin Bevan UHB","CALDICOT NP26",84110,84,"Public administration and defence services; compulsory social security services       ",0.1703405261372164,null,null,null,null,null,null,null,null,9826701.6899999976,"*",null,{"$f":"VLOOKUP(A113,'[1]Update Sheet'!$A$3:$Y$15578,25,FALSE)","v":0},"Reportable"]
["CEREDIGION COUNTY COUNCIL",6160,1,"Y","Y",true,"GB","N","PUBLIC SECTOR","SY23 2EB","Mid Wales","Hywel Dda UHB","ABERYSTWY SY23",84110,84,"Public administration and defence services; compulsory social security services       ",0.1703405261372164,null,null,null,null,null,null,null,null,9715080.7400000338,"*",null,{"$f":"VLOOKUP(A114,'[1]Update Sheet'!$A$3:$Y$15578,25,FALSE)","v":0},"Reportable"]
["CASTELL HOWELL FOODS LTD",1536,1,"Y","Y",true,"GB","N","PRIVATE SECTOR","SA14 6SX","South West Wales","Hywel Dda UHB","LLANELLI SA14",46390,46,"Wholesale trade services, except of motor vehicles and motorcycles       ",2.0310031510736858E-2,null,null,null,null,null,null,null,null,9607250.1300000045,"*",null,{"$f":"VLOOKUP(A115,'[1]Update Sheet'!$A$3:$Y$15578,25,FALSE)","v":0},"Reportable"]
["MPS HEALTHCARE LTD",1989,null,"N","N",true,"GB","Y","PRIVATE SECTOR","CF72 8XN",null,null,"COVENTRY CV1",78200,78,"Employment services              ",0.1176282196328419,null,null,null,null,null,null,null,null,9598317.25,"*",null,{"$f":"VLOOKUP(A116,'[1]Update Sheet'!$A$3:$Y$15578,25,FALSE)","v":0},"Reportable"]
["BLUESTONES MEDICAL",45600,null,"N","N",true,"GB","Y","PRIVATE SECTOR","CH2 4RG",null,null,"CHESTER CH1",86900,86,"Human health services             ",0.29193168620018201,2022,4073,2909,4254,11236,8044541,{"$f":"V117/W117","v":1.3967235669505569E-3},null,9585244.1599999275,"*",null,{"$f":"VLOOKUP(A117,'[1]Update Sheet'!$A$3:$Y$15578,25,FALSE)","v":"In Master List"},"Reportable"]
["EVERLIGHT RADIOLOGY LTD",72935,null,"N","N",true,"GB","N","PRIVATE SECTOR","NW1 3AX",null,null,"LONDON NW1",86900,86,"Human health services             ",0.29193168620018201,"23-24",0,68800,636900,705700,46265000,1.525343131957203E-2,"https://view.officeapps.live.com/op/view.aspx?src=https%3A%2F%2Fwww.everlightradiology.com%2Fhubfs%2FCarbon%2520reduction%2520Plan%2FCarbon%2520reduction%2520plan%2520Everlight%2520Radiology%25202023.docx&wdOrigin=BROWSELINK",9475476.1800000016,"*",null,{"$f":"VLOOKUP(A118,'[1]Update Sheet'!$A$3:$Y$15578,25,FALSE)","v":"In Master List"},"Reportable"]
["ABBOTT LABORATORIES LTD",5,null,"N","N",true,"GB","N","PRIVATE SECTOR",null,null,null,"PHARMACY",46460,46,"Wholesale trade services, except of motor vehicles and motorcycles       ",2.0310031510736858E-2,2022,508000,336000,10447000,11292000,479308000,2.3558964173349912E-2,null,9475002.3299999963,"*",null,{"$f":"VLOOKUP(A119,'[1]Update Sheet'!$A$3:$Y$15578,25,FALSE)","v":"Review as T2 higher than T1"},"Reportable"]
["ONTEX HEALTHCARE UK LTD",2132,null,"N","N",true,"GB","N","PRIVATE SECTOR","NN17 5JG",null,null,"CORBY NN17",82110,82,"Office administrative, office support and other business support services       ",0.1180504360352973,null,null,null,null,null,null,null,null,9354669.9400000032,"*",null,{"$f":"VLOOKUP(A120,'[1]Update Sheet'!$A$3:$Y$15578,25,FALSE)","v":0},"Reportable"]
["POLAR SPEED DISTRIBUTION LTD",16791,null,"N","N",true,"GB","N","PRIVATE SECTOR","LU7 4WG",null,null,"PHARMACY",49410,"49.3-5","Land transport services and transport services via pipelines, excluding rail transport     ",0.60315703544097854,2022,8333969.9999999991,387250,10661910,19383130,50923930,0.38062910698369118,null,9275283.8300000131,"*",null,{"$f":"VLOOKUP(A121,'[1]Update Sheet'!$A$3:$Y$15578,25,FALSE)","v":"In Master List"},"Reportable"]
["BAM CONSTRUCTION LTD",16712,1,"Y","Y",true,"GB","N","PRIVATE SECTOR","CF83 3ED","South East Wales","Aneurin Bevan UHB","ESTATES",41201,41.2,"Buildings and building construction works           ",0.30500636264243469,"22-23",33410000,7630000,153920000,194750000,900900000,0.21617271617271616,"https://www.bam.co.uk/docs/default-source/sustainability-reports/1336_bam-construct---carbon-reduction-plan-2022-new.pdf?sfvrsn=643727c2_12#:~:text=Following%20the%20work%20with%20ANZ,IGBC)%20Net%20Zero%20Ireland%20commitment.",9218839.75,"*",null,{"$f":"VLOOKUP(A122,'[1]Update Sheet'!$A$3:$Y$15578,25,FALSE)","v":"In Master List"},"Reportable"]
["ALLSTAR BUSINESS SOLUTIONS LTD",21224,null,"N","N",true,"GB","N","PRIVATE SECTOR","SN5 6PS",null,null,"SWINDON SN5",82990,82,"Office administrative, office support and other business support services       ",0.1180504360352973,null,null,null,null,null,null,null,null,9035504.370000001,"*",null,{"$f":"VLOOKUP(A123,'[1]Update Sheet'!$A$3:$Y$15578,25,FALSE)","v":0},"Exclude- Captured under Waste, Energy, Water or Invesments"]
["INTERSYSTEMS CORPORATION",29487,null,"N","N",true,"GB","N","PRIVATE SECTOR","SL4 6BB",null,null,"WINDSOR SL4",63110,63,"Information services              ",0.16934169875693919,null,null,null,null,null,null,null,null,8711847.4000000022,"*",null,{"$f":"VLOOKUP(A124,'[1]Update Sheet'!$A$3:$Y$15578,25,FALSE)","v":0},"Reportable"]
["THE PRIORY GROUP",30830,null,"N","N",true,"GB","N","PRIVATE SECTOR","DL2 1TS",null,null,"AVALON",68201,"68.2IMP","Owner-Occupiers' Housing Services",3.9621368125994462E-2,null,null,null,null,null,null,null,null,8673988.9600000009,"*",null,{"$f":"VLOOKUP(A125,'[1]Update Sheet'!$A$3:$Y$15578,25,FALSE)","v":0},"Reportable"]
["BAYWATER HEALTHCARE UK LTD",49560,null,"N","N",true,"GB","N","PRIVATE SECTOR","CW1 6GW",null,null,"CREWE CW1",86900,86,"Human health services             ",0.29193168620018201,2022,1960700,43300,347000,2351000,31395000,0.1734657284709076,"https://www.baywater.co.uk/app/uploads/Carbon-Reduction-Plan-June-2023.pdf",8653699.0699999984,"*",null,{"$f":"VLOOKUP(A126,'[1]Update Sheet'!$A$3:$Y$15578,25,FALSE)","v":"In Master List"},"Reportable"]
["CDW LTD",5878,null,"N","N",true,"GB","N","PRIVATE SECTOR","EC4M 9AF",null,null,"SWANSEA SA1",47910,47,"Retail trade services, except of motor vehicles and motorcycles       ",0.17404287306456559,2021,337500,359300,265100,961900,1090100000,8.8239611044858271E-4,null,8600173.3499999996,"*",null,{"$f":"VLOOKUP(A127,'[1]Update Sheet'!$A$3:$Y$15578,25,FALSE)","v":"In Master List"},"Reportable"]
["WREXHAM UNIVERSITY",34655,1,"Y","Y",true,"GB","N","PUBLIC SECTOR","LL11 2AW","North Wales","Betsi Cadwaladr UHB","WREXHAM LL1",85421,85,"Education services              ",0.10257966678326461,null,null,null,null,null,null,null,null,8517360.3100000005,"*",null,{"$f":"VLOOKUP(A128,'[1]Update Sheet'!$A$3:$Y$15578,25,FALSE)","v":0},"Reportable"]
["DOWLAIS PHARMACY LTD",68442,1,"Y","Y",true,"GB","Y","PRIVATE SECTOR",null,"South East Wales","Cwm Taf Morgannwg UHB","PCS PAY",86900,86,"Human health services             ",0.29193168620018201,null,null,null,null,null,null,null,null,8489591.620000001,"*",null,{"$f":"VLOOKUP(A129,'[1]Update Sheet'!$A$3:$Y$15578,25,FALSE)","v":0},"Reportable"]
["TY CWM GWENDRAETH LTD",69665,1,"Y","Y",true,"GB","Y","PRIVATE SECTOR","SA7 9LA","South West Wales","Swansea Bay UHB","SWANSEA SA7",87300,87,"Residential care services             ",0.16514437058930551,null,null,null,null,null,null,null,null,8403566.5600000005,"*",null,{"$f":"VLOOKUP(A130,'[1]Update Sheet'!$A$3:$Y$15578,25,FALSE)","v":0},"Reportable"]
["MAYBERRY PHARMACY LTD",67949,1,"Y","Y",true,"GB","N","PRIVATE SECTOR","NP12 1AA","South East Wales","Aneurin Bevan UHB","PCS PAY",86900,86,"Human health services             ",0.29193168620018201,null,null,null,null,null,null,null,null,8324078.1500000004,"*",null,{"$f":"VLOOKUP(A131,'[1]Update Sheet'!$A$3:$Y$15578,25,FALSE)","v":0},"Reportable"]
["OAKFIELD PHARMA LTD",75623,null,"N","N",true,"GB","N","PRIVATE SECTOR","WA9 4TU",null,null,"PCS PAY",47730,47,"Retail trade services, except of motor vehicles and motorcycles       ",0.17404287306456559,null,null,null,null,null,null,null,null,8262311.5599999996,"*",null,{"$f":"VLOOKUP(A132,'[1]Update Sheet'!$A$3:$Y$15578,25,FALSE)","v":0},"Reportable"]
["VECTOR CONSUMER LTD",73651,null,"N","N",true,"GB","N","PRIVATE SECTOR","CH41 7EL",null,null,"BIDSTON CH41",21100,21,"Basic pharmaceutical products and pharmaceutical preparations          ",0.62099518156965727,null,null,null,null,null,null,null,"https://blob-static.vector.co.nz/blob/vector/media/vector2021/vector_tcfd_2021.pdf",8204667.4800000004,"*",null,{"$f":"VLOOKUP(A133,'[1]Update Sheet'!$A$3:$Y$15578,25,FALSE)","v":0},"Reportable"]
["VARIAN MEDICAL SYSTEMS UK LTD",58871,null,"N","N",true,"GB","N","PRIVATE SECTOR",null,null,null,"CRAWLEY RH10",26600,26,"Computer, electronic and optical products           ",0.38174938765811312,null,null,null,null,null,null,null,null,8120263.6799999997,"*",null,{"$f":"VLOOKUP(A134,'[1]Update Sheet'!$A$3:$Y$15578,25,FALSE)","v":0},"Reportable"]
["CAE TECHNOLOGY SERVICES",34345,null,"N","N",true,"GB","N","PRIVATE SECTOR","WD24 4PT",null,null,"WATFORD WD24",62090,62,"Computer programming, consultancy and related services          ",0.13144659704407699,2022,25000,4500,171900,{"$f":"SUM(S135:U135)","v":201400},174849655,{"$f":"V135/W135","v":1.1518467108213625E-3},"Turnover estimated via pomanda",7949966.4599999981,"*",null,{"$f":"VLOOKUP(A135,'[1]Update Sheet'!$A$3:$Y$15578,25,FALSE)","v":"In Master List"},"Reportable"]
["SRCL LTD",23419,null,"N","N",true,"GB","N","PRIVATE SECTOR","LS10 2LF",null,null,"LEEDS LS10",82990,82,"Office administrative, office support and other business support services       ",0.1180504360352973,null,null,null,null,null,null,null,"Utilities or Waste provider- scope 1 duplicates other NHS reporting remove",7836798.3099999996,"*",null,{"$f":"VLOOKUP(A136,'[1]Update Sheet'!$A$3:$Y$15578,25,FALSE)","v":"Do not include in master list- EFPMS"},"Exclude- Captured under Waste, Energy, Water or Invesments"]
["HIGHFIELD PENDINE PARK NURSING",10134,1,"Y","Y",true,"GB","N","PRIVATE SECTOR","LL55 2YU","North Wales","Betsi Cadwaladr UHB","BRYN SEIONT",87100,87,"Residential care services             ",0.16514437058930551,null,null,null,null,null,null,null,null,7802317.5899999999,"*",null,{"$f":"VLOOKUP(A137,'[1]Update Sheet'!$A$3:$Y$15578,25,FALSE)","v":0},"Reportable"]
["DIRECT NURSING SERVICES LTD",11734,1,"Y","Y",true,"GB","N","PRIVATE SECTOR","SA10 6ER","South West Wales","Swansea Bay UHB","NEATH SA10",86210,86,"Human health services             ",0.29193168620018201,null,null,null,null,null,null,null,null,7776179.2100000018,"*",null,{"$f":"VLOOKUP(A138,'[1]Update Sheet'!$A$3:$Y$15578,25,FALSE)","v":0},"Reportable"]
["PURE HEALTHCARE GROUP LTD",70053,null,"N","N",true,"GB","N","PRIVATE SECTOR","EC2M 7EA",null,null,"LONDON EC2M",78109,78,"Employment services              ",0.1176282196328419,null,null,null,null,null,null,null,null,7716600.7799999677,"*",null,{"$f":"VLOOKUP(A139,'[1]Update Sheet'!$A$3:$Y$15578,25,FALSE)","v":0},"Reportable"]
["BECTON DICKINSON (UK) LTD",42,null,"N","N",true,"GB","Y","PRIVATE SECTOR","RG41 5TS",null,null,"PHARMACY",82990,82,"Office administrative, office support and other business support services       ",0.1180504360352973,2021,551000,90000,12160000,12801000,488939000,2.6181180065406932E-2,null,7654911.4399999985,"*",null,{"$f":"VLOOKUP(A140,'[1]Update Sheet'!$A$3:$Y$15578,25,FALSE)","v":"In Master List"},"Reportable"]
["GORGEMEAD LTD",68495,null,"N","N",true,"GB","Y","PRIVATE SECTOR",null,null,null,"PCS PAY",96090,96,"Other personal services             ",7.6712791957121843E-2,null,null,null,null,null,null,null,null,7499230.1899999995,"*",null,{"$f":"VLOOKUP(A141,'[1]Update Sheet'!$A$3:$Y$15578,25,FALSE)","v":0},"Reportable"]
["ABBOTT MEDICAL UK LTD",1662,null,"N","N",true,"GB","N","PRIVATE SECTOR","B90 8AJ",null,null,"STRATFORD CV37",86900,86,"Human health services             ",0.29193168620018201,2022,307000,35000,2801000,3143000,160976000,1.9524649637212999E-2,null,7445590.1199999982,"*",null,{"$f":"VLOOKUP(A142,'[1]Update Sheet'!$A$3:$Y$15578,25,FALSE)","v":"In Master List"},"Reportable"]
["CYGNET BEHAVIOURAL HEALTH LTD",27095,null,"N","N",true,"GB","N","PRIVATE SECTOR","TN15 7RS",null,null,"LONDON W6",86101,86,"Human health services             ",0.29193168620018201,2020,8499000,3444000,38874000,50817000,{"$f":"456.3*1000000","v":456300000},{"$f":"V143/W143","v":0.11136752136752137},null,7370507.3000000007,"*",null,{"$f":"VLOOKUP(A143,'[1]Update Sheet'!$A$3:$Y$15578,25,FALSE)","v":"In Master List"},"Reportable"]
["KAINOS SOFTWARE LTD",43984,null,"N","N",true,"GB","N","PRIVATE SECTOR","BT7 1NT",null,null,"BELFAST BT7",62012,62,"Computer programming, consultancy and related services          ",0.13144659704407699,2023,{"$f":"77*1000","v":77000},{"$f":"25*1000","v":25000},{"$f":"2620.2*1000","v":2620200},{"$f":"SUM(S144:U144)","v":2722200},{"$f":"209241*1000","v":209241000},{"$f":"V144/W144","v":1.3009878561085065E-2},"carbon reduction plan",7290149.040000001,"*",null,{"$f":"VLOOKUP(A144,'[1]Update Sheet'!$A$3:$Y$15578,25,FALSE)","v":"In Master List"},"Reportable"]
["ORBIS EDUCATION & CARE LTD",38325,1,"Y","Y",true,"GB","N","PRIVATE SECTOR","CF10 2EF","South East Wales","Cardiff and Vale UHB","CARDIFF CF23",87200,87,"Residential care services             ",0.16514437058930551,null,null,null,null,null,null,null,null,7185772.2500000019,"*",null,{"$f":"VLOOKUP(A145,'[1]Update Sheet'!$A$3:$Y$15578,25,FALSE)","v":0},"Reportable"]
["EDWARDS LIFESCIENCES LTD",107,null,"N","N",true,"GB","Y","PRIVATE SECTOR","RG14 2PZ",null,null,"PHARMACY",47749,47,"Retail trade services, except of motor vehicles and motorcycles       ",0.17404287306456559,2022,126340,0,1242390,1368730,140371998,9.7507339034954826E-3,"https://www.edwards.com/sustainability/documents/2019-Metrics-at-a-glance1.pdf\n\nhttps://s3.eu-west-2.amazonaws.com/document-api-images-live.ch.gov.uk/docs/luuVPjnVKsEB-_jD7t34iHafilckSTtntpiZ9mCDfsI/application-pdf?X-Amz-Algorithm=AWS4-HMAC-SHA256&X-Amz-Credential=ASIAWRGBDBV3NI4TCGVZ%2F20240125%2Feu-west-2%2Fs3%2Faws4_request&X-Amz-Date=20240125T163314Z&X-Amz-Expires=60&X-Amz-Security-Token=IQoJb3JpZ2luX2VjENT%2F%2F%2F%2F%2F%2F%2F%2F%2F%2FwEaCWV1LXdlc3QtMiJHMEUCIQDApp5AwaJwKUEM%2F10VmRKxmXua5%2FibAIxl9yFVGyRcdgIgWlGxCO3z70gdDpWKuwB6W3yFUiO5PtgzVB5PcvPNjf0qxAUIjf%2F%2F%2F%2F%2F%2F%2F%2F%2F%2FARAEGgw0NDkyMjkwMzI4MjIiDMocO3CuERtQoAhrhiqYBaZXreRIQeZgnRbMRArZ6ZXrVoNuTXDJw76IUexGWeysnqlWUjq1kxRFrJ2j%2FOfk%2B8eyH55OoPTWDhk6KKXnzvN4OyI%2BLaMA6mnT7uuQxodTP%2BWSmfLFc0Hd0VHlbc80RviaIGnaDITsBykaoSvKw1%2BhaaKXXS%2FtB%2FFo%2FEdDLaF0vKry9YZPi0SR675o3eAGVgwCJzieQ5Vrber9jKdVNq80%2BHHTA0IZuBRL0UqxcF3d22jPvmuVzPoEDIBeAmbbemJX%2FrLEmtgYx4jPdrMJuooVrUoyXdCkhl5sZlCg1F2GpXo0yKy559AZ4srEDQlHj7bRq%2Bil0nfL6pS4l9wrxVyOEZ4LOKUcEWFSnQERwe1M5xzyP3%2BnF1mjliVXkNfuGA%2F0Kn%2F%2Ffbs0Q4fB%2BfFl3x4w%2B6tTbxHclxaVLvzIU9%2FTVVqQuj4vUy9G2ZamglpjMBa%2BHvZSQVOX62kBgVpxDLeio0GZ7Lx2YDB0it2GDd5yI2lbXdzn5%2FnkY8QRo4WMBR8iwJylt%2F86BSIO0TCqz1s3FSjj2JdXcGf3ZuC1kMqxxfR%2BOXAdtfOfT31rE0Mg%2F3BX7BBPY0DenfkaOnuBtc1iD5RBOngNoAIZ%2FiM%2BOCPLJTp7cT2zoL%2Bcru00kc6u16KZakGkZw8c7wa7nq4VU0W727Y9IlNFUVLdtzzVnfi%2BqJeIyLChYfyya%2FhwR4PIvwJCR41036Sg53EaGx3Oi24lp4IGoQlnOesZrYIlyOT8Wn59cxyTeDrhGCvJhtBssDs1EXzaYYrZXo1oc8Sm%2BDw6OHp5hcVA7uE00URIPG%2FrHRQf504cXOw5sDdhEd5yQdj5eYpCHHgStfDxKVyk0rNnFY8e2KzxAgF%2BZM3mkVyF3Z81fMQAsScwrpzJrQY6sQHWrvPeo5kbbscTt%2Bg17eP4rJqzhPsOnocfs0UrLjji0tk6mRwbgYnwDSZxYlH6E07YBiAXyz9rIqrwik94GNgbyu7PFx2ShSDROXfgXmpxtGypy4gDdk6R%2F%2BFvgi%2BhtvX6xTMkLDffOc0yYdKxHQWAqmB%2BM%2BgPGPQUukrvaLe1URrRbx5Y5QCV6zdYfUDmCHsQGkz%2FyY%2BGGrNxHcbZrETJUaMPvVXIHIRweh8z%2BsbNNjw%3D&X-Amz-SignedHeaders=host&response-content-disposition=inline%3Bfilename%3D%22companies_house_document.pdf%22&X-Amz-Signature=0781e7c13c94f74ccedbb6d5ecc2e137261cf761a1ad2dc8a9d016edad99e1f3",7167779.3699999982,"*",null,{"$f":"VLOOKUP(A146,'[1]Update Sheet'!$A$3:$Y$15578,25,FALSE)","v":"In Master List"},"Reportable"]
["T RICHARD JONES BETWS LTD",15230,1,"Y","Y",true,"GB","Y","PRIVATE SECTOR","SA18 2LS","South West Wales","Hywel Dda UHB","AMMANFORD SA18",41201,41.2,"Buildings and building construction works           ",0.30500636264243469,null,null,null,null,null,null,null,null,7131512.7400000002,"*",null,{"$f":"VLOOKUP(A147,'[1]Update Sheet'!$A$3:$Y$15578,25,FALSE)","v":0},"Reportable"]
["WELSH WATER",624,1,"Y","Y",true,"GB","N","VCSE",null,"South East Wales","Cardiff and Vale UHB","CARDIFF CF3",74990,74,"Other professional, scientific and technical services          ",0.19142587698446711,null,null,null,null,null,null,null,null,7056068.6200000001,"*",null,{"$f":"VLOOKUP(A148,'[1]Update Sheet'!$A$3:$Y$15578,25,FALSE)","v":"Do not include in master list- EFPMS"},"Exclude- Captured under Waste, Energy, Water or Invesments"]
["ARJO UK LTD",25,null,"N","N",true,"GB","N","PRIVATE SECTOR","LU5 5XF",null,null,"PHARMACY",32500,32,"Other manufactured goods             ",0.67238249414981133,2022,10161000,477380,17484200,28122841,86260000,0.3260241247391607,null,7052090.8299999963,"*",null,{"$f":"VLOOKUP(A149,'[1]Update Sheet'!$A$3:$Y$15578,25,FALSE)","v":"In Master List"},"Reportable"]
["SACYR UK LTD",76080,null,"N","N",true,"GB","N","PRIVATE SECTOR","W6 0NB",null,null,"LONDON W6",41201,"42.1-2","Constructions and construction works for civil engineering         ",0.38802246325570439,2023,{"$f":"87540.03*1000","v":87540030},{"$f":"259841.3*1000","v":259841300},{"$f":"1682394.79*1000","v":1682394790},{"$f":"SUM(S150:U150)","v":2029776120},{"$f":"(4609*1000000000)*0.85","v":3917650000000},{"$f":"V150/W150","v":5.1811063264967517E-4},null,7009491.0699999994,"*",null,{"$f":"VLOOKUP(A150,'[1]Update Sheet'!$A$3:$Y$15578,25,FALSE)","v":"In Master List"},"Reportable"]
["LIBERTY CARE LTD",39276,1,"Y","Y",true,"GB","Y","PRIVATE SECTOR","NP12 2JY","South East Wales","Aneurin Bevan UHB","BLACKWOOD NP12",86900,86,"Human health services             ",0.29193168620018201,null,null,null,null,null,null,null,null,6992872.4599999972,"*",null,{"$f":"VLOOKUP(A151,'[1]Update Sheet'!$A$3:$Y$15578,25,FALSE)","v":0},"Reportable"]
["BLACKPOOL TEACHING HOSPITALS FOUNDATION TRUST",1390,0,null,null,null,"GB","N","PUBLIC SECTOR","FY3 8NR",null,null,"BLACKPOOL FY3",0,0,0,null,null,null,null,null,null,null,null,null,249198.71000000002,"*",null,{"$f":"VLOOKUP(A152,'[1]Update Sheet'!$A$3:$Y$15578,25,FALSE)","v":"Public Sector- Exclude"},"Exclude- Intra NHS "]
["ZIMMER BIOMET UK LTD",2214,null,"N","N",true,"GB","N","PRIVATE SECTOR","SN5 6NX",null,null,"PHARMACY",46460,46,"Wholesale trade services, except of motor vehicles and motorcycles       ",2.0310031510736858E-2,null,null,null,null,null,null,null,null,6913599.0899999989,"*",null,{"$f":"VLOOKUP(A153,'[1]Update Sheet'!$A$3:$Y$15578,25,FALSE)","v":0},"Reportable"]
["BOLTON NHS FOUNDATION TRUST",53450,0,null,null,null,"GB","N","PUBLIC SECTOR","BL4 0JR",null,null,"LANCASHIRE BL4",null,null,null,null,null,null,null,null,null,null,null,null,0,null,null,{"$f":"VLOOKUP(A154,'[1]Update Sheet'!$A$3:$Y$15578,25,FALSE)","v":"Public Sector- Exclude"},"Exclude- Intra NHS "]
["GILEAD SCIENCES LTD",128,null,"N","N",true,"GB","N","PRIVATE SECTOR","CB21 6GT",null,null,"PHARMACY",46460,46,"Wholesale trade services, except of motor vehicles and motorcycles       ",2.0310031510736858E-2,2022,55459000,57722000,1037905000,1151086000,21421640000,5.3734728060036485E-2,"Global Emissions from ESG reprort",6892982.6600000011,"*",null,{"$f":"VLOOKUP(A155,'[1]Update Sheet'!$A$3:$Y$15578,25,FALSE)","v":"Review as T2 higher than T1"},"Reportable"]
["BOC LTD",54,null,"N","N",true,"GB","N","PRIVATE SECTOR","S60 5NT",null,null,"PHARMACY",86900,86,"Human health services             ",0.29193168620018201,null,null,null,null,null,null,null,null,6848197.2299999995,"*",null,{"$f":"VLOOKUP(A156,'[1]Update Sheet'!$A$3:$Y$15578,25,FALSE)","v":0},"Reportable"]
["AMGEN LTD",23,null,"N","N",true,"GB","N","PRIVATE SECTOR","CB4 0WD",null,null,"PHARMACY",62020,62,"Computer programming, consultancy and related services          ",0.13144659704407699,2022,0,0,4385000,4385000,305203000,1.4367486558126885E-2,null,6798292.5600000015,"*",null,{"$f":"VLOOKUP(A157,'[1]Update Sheet'!$A$3:$Y$15578,25,FALSE)","v":"In Master List"},"Reportable"]
["BORDERS HEALTH BOARD",38577,0,null,null,null,"GB","N","PUBLIC SECTOR","TD6 9DA",null,null,"MELROSE TD6",0,0,0,null,null,null,null,null,null,null,null,null,22425.4,"*",null,{"$f":"VLOOKUP(A158,'[1]Update Sheet'!$A$3:$Y$15578,25,FALSE)","v":"Public Sector- Exclude"},"Exclude- Intra NHS "]
["DAVIES CHEMISTS BRITON FERRY LTD",68126,1,"Y","Y",true,"GB","Y","PRIVATE SECTOR",null,"Mid Wales","Powys Teaching HB","PCS PAY",47730,47,"Retail trade services, except of motor vehicles and motorcycles       ",0.17404287306456559,null,null,null,null,null,null,null,null,6703626.8599999994,"*",null,{"$f":"VLOOKUP(A159,'[1]Update Sheet'!$A$3:$Y$15578,25,FALSE)","v":0},"Reportable"]
["XGENERIC ADHOC",44770,1,"Y","Y",true,"GB","N","PRIVATE SECTOR","CF5 1AB","South East Wales","Cardiff and Vale UHB","FACTOR10028",86101,86,"Human health services             ",0.29193168620018201,null,null,null,null,null,null,null,null,6664130.4000000004,"*",null,{"$f":"VLOOKUP(A160,'[1]Update Sheet'!$A$3:$Y$15578,25,FALSE)","v":0},"Reportable"]
["CAMELLA HEALTHCARE LTD",68419,1,"Y","Y",true,"GB","Y","PRIVATE SECTOR","LL18 1LH","North Wales","Betsi Cadwaladr UHB","PCS PAY",86900,86,"Human health services             ",0.29193168620018201,null,null,null,null,null,null,null,null,6663053.0500000007,"*",null,{"$f":"VLOOKUP(A161,'[1]Update Sheet'!$A$3:$Y$15578,25,FALSE)","v":0},"Reportable"]
["H SHACKLETON & CO",12520,1,"Y","Y",true,"GB","N","PRIVATE SECTOR","NP7 5AA","South East Wales","Aneurin Bevan UHB","PCS PAY",96090,96,"Other personal services             ",7.6712791957121843E-2,null,null,null,null,null,null,null,null,6639260.4199999999,"*",null,{"$f":"VLOOKUP(A162,'[1]Update Sheet'!$A$3:$Y$15578,25,FALSE)","v":0},"Reportable"]
["VALE OF GLAMORGAN COUNCIL",6309,1,"Y","Y",true,"GB","N","PUBLIC SECTOR","CF63 4RU","South East Wales","Cardiff and Vale UHB","BARRY CF63",84110,84,"Public administration and defence services; compulsory social security services       ",0.1703405261372164,null,null,null,null,null,null,null,null,6634359.8899999997,"*",null,{"$f":"VLOOKUP(A163,'[1]Update Sheet'!$A$3:$Y$15578,25,FALSE)","v":0},"Reportable"]
["PARTNERSHIP OF CARE LTD",40660,1,"Y","Y",true,"GB","N","PRIVATE SECTOR","CF82 7DW","South East Wales","Aneurin Bevan UHB","YSTRAD MY CF82",55900,55,"Accommodation services              ",0.32444602703376968,null,null,null,null,null,null,null,null,6628037.7499999972,"*",null,{"$f":"VLOOKUP(A164,'[1]Update Sheet'!$A$3:$Y$15578,25,FALSE)","v":0},"Reportable"]
["RICHMOND NURSING AGENCY LTD",705,1,"Y","Y",true,"GB","Y","PRIVATE SECTOR","SA15 2DS","South West Wales","Hywel Dda UHB","LLANELLI SA15",86900,86,"Human health services             ",0.29193168620018201,null,null,null,null,null,null,null,null,6587594.8900000351,"*",null,{"$f":"VLOOKUP(A165,'[1]Update Sheet'!$A$3:$Y$15578,25,FALSE)","v":0},"Reportable"]
["BARCHESTER HEALTHCARE",16146,1,"Y","Y",true,"GB","N","PRIVATE SECTOR","SA15 1HU","South West Wales","Hywel Dda UHB","CARDIFF CF3",70100,70,"Services of head offices; management consulting services         ",9.3681183759862049E-2,null,null,null,null,null,null,null,null,6514556.5899999999,"*",null,{"$f":"VLOOKUP(A166,'[1]Update Sheet'!$A$3:$Y$15578,25,FALSE)","v":0},"Reportable"]
["BRADFORD DISTRICT CARE TRUST",28957,0,null,null,null,"GB","N","PUBLIC SECTOR","WF3 1WE",null,null,"SALTAIRE BD18",0,0,0,null,null,null,null,null,null,null,null,null,0,null,null,{"$f":"VLOOKUP(A167,'[1]Update Sheet'!$A$3:$Y$15578,25,FALSE)","v":{"$error":"#N/A"}},"Exclude- Intra NHS "]
["EURO COMMERCIALS (SOUTH WALES)LTD",2676,1,"Y","Y",true,"GB","N","PRIVATE SECTOR","CF23 9AQ","South East Wales","Cardiff and Vale UHB","CARDIFF CF23",45111,45,"Wholesale and retail trade and repair services of motor vehicles and motorcycles    ",0.21034629699726889,null,null,null,null,null,null,null,null,6331488.2900000028,"*",null,{"$f":"VLOOKUP(A168,'[1]Update Sheet'!$A$3:$Y$15578,25,FALSE)","v":0},"Reportable"]
["NIGEL WILLIAMS CHEMISTS LTD",68615,1,"Y","Y",true,"GB","Y","PRIVATE SECTOR",null,"South West Wales","Hywel Dda UHB","PCS PAY",47730,47,"Retail trade services, except of motor vehicles and motorcycles       ",0.17404287306456559,null,null,null,null,null,null,null,null,6293302.4100000001,"*",null,{"$f":"VLOOKUP(A169,'[1]Update Sheet'!$A$3:$Y$15578,25,FALSE)","v":0},"Reportable"]
["ZDUP PHARMACEUTICAL PACKAGING LEEDS",228,null,"N","N",true,"GB","Y","PRIVATE SECTOR","LS1 5PS",null,null,{"$error":"#N/A"},18121,18,"Printing and recording services            ",0.38173396113307168,null,null,null,null,null,null,null,null,932.25999999999988,"*",null,{"$f":"VLOOKUP(A170,'[1]Update Sheet'!$A$3:$Y$15578,25,FALSE)","v":0},"Reportable"]
["ILLUMINA CAMBRIDGE LTD",49197,null,"N","N",true,"GB","N","PRIVATE SECTOR","CB10 1XL",null,null,"SAFFRON W CB10",72110,72,"Scientific research and development services           ",0.18562764998368861,2019,12489000,21915000,254507000,288911000,3543000000,8.1544171605983623E-2,"climate change report",6090769.5899999989,"*",null,{"$f":"VLOOKUP(A171,'[1]Update Sheet'!$A$3:$Y$15578,25,FALSE)","v":"In Master List"},"Reportable"]
["WELCHEM LTD",68720,1,"Y","Y",true,"GB","Y","PRIVATE SECTOR",null,"South West Wales","Swansea Bay UHB","PCS PAY",47730,47,"Retail trade services, except of motor vehicles and motorcycles       ",0.17404287306456559,null,null,null,null,null,null,null,null,6015447.6900000004,"*",null,{"$f":"VLOOKUP(A172,'[1]Update Sheet'!$A$3:$Y$15578,25,FALSE)","v":0},"Reportable"]
["OCEAN COMMUNITY SERVICES LTD",29132,1,"Y","Y",true,"GB","N","PRIVATE SECTOR","CF3 0LT","South East Wales","Cardiff and Vale UHB","CARDIFF CF3",86900,86,"Human health services             ",0.29193168620018201,2023,12421500,1077500,166307330,179806330,516944000,0.34782554783496861,null,5995882.0700000012,"*",null,{"$f":"VLOOKUP(A173,'[1]Update Sheet'!$A$3:$Y$15578,25,FALSE)","v":"Review as T2 higher than T1"},"Reportable"]
["SIEMENS HEALTHCARE LTD",44180,null,"N","N",true,"GB","N","PRIVATE SECTOR","GU15 3YL",null,null,"MANCHESTE M20",32500,32,"Other manufactured goods             ",0.67238249414981133,2022,793700,255900,2372100,3421800,662968000,5.1613350870630256E-3,"on accounts and carbon reduction plan",5914547.0099999998,"*",null,{"$f":"VLOOKUP(A174,'[1]Update Sheet'!$A$3:$Y$15578,25,FALSE)","v":"In Master List"},"Reportable"]
["GN HEARING UK LTD",2416,null,"N","N",true,"GB","Y","PRIVATE SECTOR","OX26 4JT",null,null,"KIRTLINGT OX5",46460,46,"Wholesale trade services, except of motor vehicles and motorcycles       ",2.0310031510736858E-2,2021,2002000,11168000,483064000,496234000,1735250000,0.28597262642270566,"esg report",5863556.2999999998,"*",null,{"$f":"VLOOKUP(A175,'[1]Update Sheet'!$A$3:$Y$15578,25,FALSE)","v":"Review as T2 higher than T1"},"Reportable"]
["AIRWAVE SOLUTIONS LTD",32708,null,"N","N",true,"GB","N","PRIVATE SECTOR","SL1 2EJ",null,null,"SLOUGH SL12",61900,61,"Telecommunications services              ",0.10520703191029331,2022,2239000,3301000,343000,5883000,463409000,1.2695049081912522E-2,null,5859950.040000001,"*",null,{"$f":"VLOOKUP(A176,'[1]Update Sheet'!$A$3:$Y$15578,25,FALSE)","v":"In Master List"},"Reportable"]
["RESPOND HEALTHCARE LTD",65850,null,"N","N",true,"GB","Y","PRIVATE SECTOR","BT23 5QY",null,null,"PCS PAY",46460,46,"Wholesale trade services, except of motor vehicles and motorcycles       ",2.0310031510736858E-2,null,null,null,null,null,null,null,null,5844620.8199999994,"*",null,{"$f":"VLOOKUP(A177,'[1]Update Sheet'!$A$3:$Y$15578,25,FALSE)","v":0},"Reportable"]
["FRESENIUS MEDICAL CARE RENAL SERVICES LTD",22722,null,"N","N",true,"GB","Y","PRIVATE SECTOR","NG17 2HU",null,null,"SUTTON IN NG17",86900,86,"Human health services             ",0.29193168620018201,null,null,null,null,null,null,null,null,5752270.3399999989,"*",null,{"$f":"VLOOKUP(A178,'[1]Update Sheet'!$A$3:$Y$15578,25,FALSE)","v":0},"Reportable"]
["BRADFORD HOSPITAL NHS TRUST",23430,0,null,null,null,"GB","N","PUBLIC SECTOR",null,null,null,"WAKEFIELD WF3",null,null,null,null,null,null,null,null,null,null,null,null,2870.7800000000011,"*",null,{"$f":"VLOOKUP(A179,'[1]Update Sheet'!$A$3:$Y$15578,25,FALSE)","v":"Public Sector- Exclude"},"Exclude- Intra NHS "]
["MENTAL HEALTH CARE (UK) LTD",14881,null,"N","N",true,"GB","Y","PRIVATE SECTOR","DL1 1GY",null,null,"DARLINGTO DL1",96090,96,"Other personal services             ",7.6712791957121843E-2,null,null,null,null,null,null,null,null,5725618.7900000019,"*",null,{"$f":"VLOOKUP(A180,'[1]Update Sheet'!$A$3:$Y$15578,25,FALSE)","v":0},"Reportable"]
["WM MORRISON SUPERMARKET",50590,1,"Y","Y",true,"GB","N","PRIVATE SECTOR",null,"Various","Various","PCS PAY",47110,47,"Retail trade services, except of motor vehicles and motorcycles       ",0.17404287306456559,null,null,null,null,null,null,null,null,5710103.6699999999,"*",null,{"$f":"VLOOKUP(A181,'[1]Update Sheet'!$A$3:$Y$15578,25,FALSE)","v":0},"Reportable"]
["WALTERS UK LTD",58081,1,"Y","Y",true,"GB","N","PRIVATE SECTOR","CF44 9UL","South East Wales","Cwm Taf Morgannwg UHB","ABERDARE CF44",41201,41.2,"Buildings and building construction works           ",0.30500636264243469,2020,6556000,98000,85000,6739000,38910000,0.17319455152916988,null,5707741.8500000006,"*",null,{"$f":"VLOOKUP(A182,'[1]Update Sheet'!$A$3:$Y$15578,25,FALSE)","v":"In Master List"},"Reportable"]
["BRIDGEND JUNIOR DOCTORS MESS",11521,1,null,null,null,"GB","N","PUBLIC SECTOR","CF31 1LT",null,null,"BRIDGEND CF31",null,null,null,null,null,null,null,null,null,null,null,null,270,"*",null,{"$f":"VLOOKUP(A183,'[1]Update Sheet'!$A$3:$Y$15578,25,FALSE)","v":"Public Sector- Exclude"},"?"]
["IMC ST DAVIDS LTD",8151,null,"N","N",true,"GB","Y","PRIVATE SECTOR","BA2 3RH",null,null,"BRISTOL BS1",86102,86,"Human health services             ",0.29193168620018201,null,null,null,null,null,null,null,null,5671506.71,"*",null,{"$f":"VLOOKUP(A184,'[1]Update Sheet'!$A$3:$Y$15578,25,FALSE)","v":0},"Reportable"]
["BRIDGEND NHS CREDIT UNION",11524,1,null,null,null,"GB","N","PUBLIC SECTOR","CF32 9SW",null,null,"SARN CF32",null,null,null,null,null,null,null,null,null,null,null,null,603788.56999999983,"*",null,{"$f":"VLOOKUP(A185,'[1]Update Sheet'!$A$3:$Y$15578,25,FALSE)","v":"Public Sector- Exclude"},"?"]
["LLANHARAN PHARMACY LTD",68531,1,"Y","Y",true,"GB","Y","PRIVATE SECTOR","CF72 9NR","South East Wales","Cwm Taf Morgannwg UHB","PCS PAY",86900,86,"Human health services             ",0.29193168620018201,null,null,null,null,null,null,null,null,5605379.1899999995,"*",null,{"$f":"VLOOKUP(A186,'[1]Update Sheet'!$A$3:$Y$15578,25,FALSE)","v":0},"Reportable"]
["ASDA STORES LTD",1293,1,"Y","Y",true,"GB","N","PRIVATE SECTOR",null,"Various","Various","PCS PAY",96090,96,"Other personal services             ",7.6712791957121843E-2,null,null,null,null,null,null,null,null,5469217.6000000015,"*",null,{"$f":"VLOOKUP(A187,'[1]Update Sheet'!$A$3:$Y$15578,25,FALSE)","v":0},"Reportable"]
["LORNE STEWART PLC",1678,1,"Y","Y",true,"GB","N","PRIVATE SECTOR","CF15 7NE","South East Wales","Cardiff and Vale UHB","CARDIFF CF15",43210,42.99,"Specialised construction works             ",0.31026786628535008,null,null,null,null,null,null,null,null,5417121.910000002,"*",null,{"$f":"VLOOKUP(A188,'[1]Update Sheet'!$A$3:$Y$15578,25,FALSE)","v":0},"Reportable"]
["LEWIS CONSTRUCTION BUILDING CONTRACTORS WALES LTD",37509,1,"Y","Y",true,"GB","Y","PRIVATE SECTOR","SA14 9UU","South West Wales","Hywel Dda UHB","LLANELLI SA14",42990,42.99,"Specialised construction works             ",0.31026786628535008,null,null,null,null,null,null,null,null,5391466.5899999999,"*",null,{"$f":"VLOOKUP(A189,'[1]Update Sheet'!$A$3:$Y$15578,25,FALSE)","v":0},"Reportable"]
["CARDIFF METROPOLITAN UNIVERSITY (UWIC)",1971,1,"Y","Y",true,"GB","N","PUBLIC SECTOR","CF5 2SG","South East Wales","Cardiff and Vale UHB","CARDIFF CF5",85421,85,"Education services              ",0.10257966678326461,null,null,null,null,null,null,null,null,5291488.3600000022,"*",null,{"$f":"VLOOKUP(A190,'[1]Update Sheet'!$A$3:$Y$15578,25,FALSE)","v":0},"Reportable"]
["BRIDGEWATER COMMUNITY HEALTHCARE NHS TRUST",45186,0,null,null,null,"GB","N","PUBLIC SECTOR",null,null,null,"WAKEFIELD WF3",null,null,null,null,null,null,null,null,null,null,null,null,0,null,null,{"$f":"VLOOKUP(A191,'[1]Update Sheet'!$A$3:$Y$15578,25,FALSE)","v":"Public Sector- Exclude"},"Exclude- Intra NHS "]
["DEXCOM INTERNATIONAL LTD",67707,null,"N","N",true,"GB","N","PRIVATE SECTOR","EH3 5DA",null,null,"EDINBURGH EH3",74990,74,"Other professional, scientific and technical services          ",0.19142587698446711,null,null,null,null,null,null,null,null,5162816.4800000004,"*",null,{"$f":"VLOOKUP(A192,'[1]Update Sheet'!$A$3:$Y$15578,25,FALSE)","v":0},"Reportable"]
["BUCKINGHAM HEALTHCARE NHS TRUST",20906,0,null,null,null,"GB","N","PUBLIC SECTOR","HP7 0JD",null,null,"AMERSHAM HP7",null,null,null,null,null,null,null,null,null,null,null,null,54750.999999999993,"*",null,{"$f":"VLOOKUP(A193,'[1]Update Sheet'!$A$3:$Y$15578,25,FALSE)","v":"Public Sector- Exclude"},"Exclude- Intra NHS "]
["MARIE CURIE CANCER CARE",8103,null,"N","N",true,"GB","N","VCSE","SW11 7BW",null,null,"LONDON SW11",63990,63,"Information services              ",0.16934169875693919,null,null,null,null,null,null,null,null,5104516.6999999993,"*",null,{"$f":"VLOOKUP(A194,'[1]Update Sheet'!$A$3:$Y$15578,25,FALSE)","v":0},"Reportable"]
["HAFOD HOUSING ASSOCIATION LTD",34823,1,"Y","Y",true,"GB","N","VCSE","CF83 2AX","South East Wales","Aneurin Bevan UHB","CARDIFF CF5",68201,"68.2IMP","Owner-Occupiers' Housing Services",3.9621368125994462E-2,null,null,null,null,null,null,null,null,5077169.9999999991,"*",null,{"$f":"VLOOKUP(A195,'[1]Update Sheet'!$A$3:$Y$15578,25,FALSE)","v":0},"Reportable"]
["HEATHERWOOD COURT LTD",39129,1,"Y","Y",true,"GB","Y","PRIVATE SECTOR","CF3 0LT","South East Wales","Cardiff and Vale UHB","CARDIFF CF3",86101,86,"Human health services             ",0.29193168620018201,null,null,null,null,null,null,null,null,5051480.8,"*",null,{"$f":"VLOOKUP(A196,'[1]Update Sheet'!$A$3:$Y$15578,25,FALSE)","v":0},"Reportable"]
["PEN Y BONT COURT LTD",34815,1,"Y","Y",true,"GB","Y","PRIVATE SECTOR","SA7 9LA","South West Wales","Swansea Bay UHB","SWANSEA SA7",87200,87,"Residential care services             ",0.16514437058930551,null,null,null,null,null,null,null,null,5047507.7799999993,"*",null,{"$f":"VLOOKUP(A197,'[1]Update Sheet'!$A$3:$Y$15578,25,FALSE)","v":0},"Reportable"]
["COMPUTACENTER (UK) LTD",11311,null,"N","N",true,"GB","N","PRIVATE SECTOR","SE1 8HL",null,null,"HATFIELD AL10",62020,62,"Computer programming, consultancy and related services          ",0.13144659704407699,2020,1249000,4538000,3830000,9617000,1759790000,5.4648566022082179E-3,"carbon reduction plan",5031293.3,"*",null,{"$f":"VLOOKUP(A198,'[1]Update Sheet'!$A$3:$Y$15578,25,FALSE)","v":"In Master List"},"Reportable"]
["BLAENAU GWENT COUNTY BOROUGH COUNCIL",6293,1,"Y","Y",true,"GB","N","PUBLIC SECTOR",null,"South East Wales","Aneurin Bevan UHB","EBBW VALE NP23",84110,84,"Public administration and defence services; compulsory social security services       ",0.1703405261372164,null,null,null,null,null,null,null,null,4988054.22,"*",null,{"$f":"VLOOKUP(A199,'[1]Update Sheet'!$A$3:$Y$15578,25,FALSE)","v":0},"Reportable"]
["NEWHALL JANITORIAL",6198,1,"Y","Y",true,"GB","Y","PRIVATE SECTOR","CF11 8BS","South East Wales","Cardiff and Vale UHB","PHARMACY",46760,46,"Wholesale trade services, except of motor vehicles and motorcycles       ",2.0310031510736858E-2,null,null,null,null,null,null,null,null,4973507.2600000016,"*",null,{"$f":"VLOOKUP(A200,'[1]Update Sheet'!$A$3:$Y$15578,25,FALSE)","v":0},"Reportable"]
["BIOMERIEUX UK LTD",215,null,"N","N",true,"GB","N","PRIVATE SECTOR","RG24 8NA",null,null,"PHARMACY",32990,32,"Other manufactured goods             ",0.67238249414981133,2023,380000,90000,6400000,6870000,77304985,8.8868783817757674E-2,"corporate social responsibilty report",4949430.29,"*",null,{"$f":"VLOOKUP(A201,'[1]Update Sheet'!$A$3:$Y$15578,25,FALSE)","v":"In Master List"},"Reportable"]
["OLYMPUS KEYMED",557,null,"N","N",true,"GB","N","PRIVATE SECTOR","SS2 5QH",null,null,"PHARMACY",70100,70,"Services of head offices; management consulting services         ",9.3681183759862049E-2,null,null,null,null,null,null,null,null,4901496.3800000008,"*",null,{"$f":"VLOOKUP(A202,'[1]Update Sheet'!$A$3:$Y$15578,25,FALSE)","v":0},"Reportable"]
["ST ANDREWS HEALTHCARE",37352,null,"N","N",true,"GB","N","VCSE","NN1 5DG",null,null,"NORTHAMPT NN1",87900,87,"Residential care services             ",0.16514437058930551,null,null,null,null,null,null,null,null,4897234.7600000007,"*",null,{"$f":"VLOOKUP(A203,'[1]Update Sheet'!$A$3:$Y$15578,25,FALSE)","v":0},"Reportable"]
["ADFERIAD RECOVERY",51890,1,"Y","Y",true,"GB","N","VCSE","LL29 8LA","North Wales","Betsi Cadwaladr UHB","COLWYN BAY LL29",86900,86,"Human health services             ",0.29193168620018201,null,null,null,null,null,null,null,null,4852710.3099999987,"*",null,{"$f":"VLOOKUP(A204,'[1]Update Sheet'!$A$3:$Y$15578,25,FALSE)","v":0},"Reportable"]
["PHARMACEUTICAL PACKAGING LEEDS",228,null,"N","N",true,"GB","Y","PRIVATE SECTOR","LS1 5PS",null,null,"PHARMACY",18121,18,"Printing and recording services            ",0.38173396113307168,null,null,null,null,null,null,null,null,0,null,null,{"$f":"VLOOKUP(A205,'[1]Update Sheet'!$A$3:$Y$15578,25,FALSE)","v":{"$error":"#N/A"}},"Reportable"]
["LINC-CYMRU HOUSING ASSOCIATION LTD",31720,1,"Y","Y",true,"GB","N","VCSE","CF24 1GG","South East Wales","Cardiff and Vale UHB","CARDIFF CF24",68201,"68.2IMP","Owner-Occupiers' Housing Services",3.9621368125994462E-2,null,null,null,null,null,null,null,null,4775568.5000000019,"*",null,{"$f":"VLOOKUP(A206,'[1]Update Sheet'!$A$3:$Y$15578,25,FALSE)","v":0},"Reportable"]
["CRAEGMOOR HEALTHCARE LTD",13691,null,"N","N",true,"GB","Y","PRIVATE SECTOR","DL2 1TS",null,null,"ABERDARE CF44",86900,86,"Human health services             ",0.29193168620018201,null,null,null,null,null,null,null,null,4756889.919999999,"*",null,{"$f":"VLOOKUP(A207,'[1]Update Sheet'!$A$3:$Y$15578,25,FALSE)","v":0},"Reportable"]
["INVACARE (UK) LTD",713,1,"Y","Y",true,"GB","Y","PRIVATE SECTOR","CF35 5AQ","South East Wales","Cwm Taf Morgannwg UHB","PENCOED CF35",86900,86,"Human health services             ",0.29193168620018201,null,null,null,null,null,null,null,null,4744928.57,"*",null,{"$f":"VLOOKUP(A208,'[1]Update Sheet'!$A$3:$Y$15578,25,FALSE)","v":0},"Reportable"]
["WIMBORNE NURSING AGENCY LTD",60520,null,"N","N",true,"GB","Y","PRIVATE SECTOR","BH17 0NF",null,null,"DORSET BH17",78200,78,"Employment services              ",0.1176282196328419,null,null,null,null,null,null,null,null,4721993.7399999592,"*",null,{"$f":"VLOOKUP(A209,'[1]Update Sheet'!$A$3:$Y$15578,25,FALSE)","v":0},"Reportable"]
["BURTON HOSPITAL NHS TRUST",66,0,null,null,null,"GB","N","PUBLIC SECTOR","DE13 0RB",null,null,"PHARMACY",0,0,0,null,null,null,null,null,null,null,null,null,0,null,null,{"$f":"VLOOKUP(A210,'[1]Update Sheet'!$A$3:$Y$15578,25,FALSE)","v":{"$error":"#N/A"}},"Exclude- Intra NHS "]
["SHROPSHIRE DOCTORS COOPERATIVE LTD",18766,null,"N","Y","Removal of a False Welsh Supplier","GB","N","PRIVATE SECTOR","SY1 3GZ",null,null,"SHREWSBUR SY1",86210,86,"Human health services             ",0.29193168620018201,null,null,null,null,null,null,null,null,4685898.9700000007,"*",null,{"$f":"VLOOKUP(A211,'[1]Update Sheet'!$A$3:$Y$15578,25,FALSE)","v":0},"Reportable"]
["HEALTHCARE BUSINESS SOLUTIONS (UK) LTD",71436,null,"N","N",true,"GB","Y","PRIVATE SECTOR","NG15 0DT",null,null,"ANNESLEY NG15",70229,70,"Services of head offices; management consulting services         ",9.3681183759862049E-2,2022,0,0,81700,81700,27651623,{"$f":"V212/W212","v":2.9546186131642256E-3},null,4616212.2699999996,"*",null,{"$f":"VLOOKUP(A212,'[1]Update Sheet'!$A$3:$Y$15578,25,FALSE)","v":"In Master List"},"Reportable"]
["CYNGOR SIR YNYS MON ISLE OF ANGLESEY COUNTY COUNCIL",5281,1,"Y","Y",true,"GB","N","PUBLIC SECTOR","LL77 7TW","North Wales","Betsi Cadwaladr UHB","ESTATES",84110,84,"Public administration and defence services; compulsory social security services       ",0.1703405261372164,null,null,null,null,null,null,null,null,4591869.54,"*",null,{"$f":"VLOOKUP(A213,'[1]Update Sheet'!$A$3:$Y$15578,25,FALSE)","v":0},"Reportable"]
["INSULET INTERNATIONAL LTD",63259,null,"N","N",true,"GB","N","PRIVATE SECTOR","W6 9HR",null,null,"LONDON W6",32500,32,"Other manufactured goods             ",0.67238249414981133,2022,5000,83000,1042000,1130000,56350295,2.0053133705866137E-2,"sustainability report",4587119.799999997,"*",null,{"$f":"VLOOKUP(A214,'[1]Update Sheet'!$A$3:$Y$15578,25,FALSE)","v":"In Master List"},"Reportable"]
["M&D CARE LTD",39313,1,"Y","Y",true,"GB","Y","PRIVATE SECTOR","SA14 8YP","South West Wales","Hywel Dda UHB","LLANGENN SA14",87200,87,"Residential care services             ",0.16514437058930551,null,null,null,null,null,null,null,null,4575141.79,"*",null,{"$f":"VLOOKUP(A215,'[1]Update Sheet'!$A$3:$Y$15578,25,FALSE)","v":0},"Reportable"]
["GRIFOLS UK LTD",4207,null,"N","N",true,"GB","N","PRIVATE SECTOR","CB4 0WZ",null,null,"PHARMACY",46900,46,"Wholesale trade services, except of motor vehicles and motorcycles       ",2.0310031510736858E-2,2023,89410,30900,276340,396650,38794000,1.0224519255554983E-2,"carbon reduction plan",4569992.43,"*",null,{"$f":"VLOOKUP(A216,'[1]Update Sheet'!$A$3:$Y$15578,25,FALSE)","v":"In Master List"},"Reportable"]
["NORCHEM HEALTHCARE LTD",68632,null,"N","Y","Removal of a False Welsh Supplier","GB","Y","PRIVATE SECTOR",null,null,null,"PCS PAY",86900,86,"Human health services             ",0.29193168620018201,null,null,null,null,null,null,null,null,4565945.97,"*",null,{"$f":"VLOOKUP(A217,'[1]Update Sheet'!$A$3:$Y$15578,25,FALSE)","v":0},"Reportable"]
["LLANFYLLIN GROUP PRACTICE",9481,1,"Y","Y",true,"GB","Y","PRIVATE SECTOR","SY22 5DG","Mid Wales","Powys Teaching HB","PCS PAY",86210,86,"Human health services             ",0.29193168620018201,null,null,null,null,null,null,null,null,4561220.2699999996,"*",null,{"$f":"VLOOKUP(A218,'[1]Update Sheet'!$A$3:$Y$15578,25,FALSE)","v":0},"Reportable"]
["HUGH JAMES SOLICITORS",22097,1,"Y","Y",true,"GB","Y","PRIVATE SECTOR","CF10 1FS","South East Wales","Cardiff and Vale UHB","LONDON EC2V",69102,69.099999999999994,"Legal services              ",5.7877621976311508E-2,null,null,null,null,null,null,null,null,4540022.5499999989,"*",null,{"$f":"VLOOKUP(A219,'[1]Update Sheet'!$A$3:$Y$15578,25,FALSE)","v":0},"Reportable"]
["THE HANDPOST LTD",68703,1,"Y","Y",true,"GB","Y","PRIVATE SECTOR","CF3 2UR","South East Wales","Aneurin Bevan UHB","PCS PAY",47730,47,"Retail trade services, except of motor vehicles and motorcycles       ",0.17404287306456559,null,null,null,null,null,null,null,null,4496760.6300000008,"*",null,{"$f":"VLOOKUP(A220,'[1]Update Sheet'!$A$3:$Y$15578,25,FALSE)","v":0},"Reportable"]
["LEONARD CHESHIRE DISABILITY",10743,null,"N","N",true,"GB","N","PRIVATE SECTOR","B73 5NR",null,null,"SUTTON B73",86900,86,"Human health services             ",0.29193168620018201,null,null,null,null,null,null,null,null,4430586.2699999977,"*",null,{"$f":"VLOOKUP(A221,'[1]Update Sheet'!$A$3:$Y$15578,25,FALSE)","v":0},"Reportable"]
["QUADIENT UK LTD",652,null,"N","N",true,"GB","N","PRIVATE SECTOR",null,null,null,"NEW PAYSITE",28230,28,"Machinery and equipment n.e.c.            ",0.33561667817643598,null,null,null,null,null,null,null,null,4370942.0200000014,"*",null,{"$f":"VLOOKUP(A222,'[1]Update Sheet'!$A$3:$Y$15578,25,FALSE)","v":0},"Reportable"]
["T J SMITH & NEPHEW LTD",277,null,"N","N",true,"GB","N","PRIVATE SECTOR","HU3 2BN",null,null,"PHARMACY",20590,20.5,"Other chemical products             ",1.3810539127369941,2022,{"$f":"5563*1000","v":5563000},{"$f":"5205*1000","v":5205000},{"$f":"5674*1000","v":5674000},{"$f":"SUM(S223:U223)","v":16442000},{"$f":"564215*1000","v":564215000},{"$f":"V223/W223","v":2.9141373412617532E-2},null,4332234.6599999992,"*",null,{"$f":"VLOOKUP(A223,'[1]Update Sheet'!$A$3:$Y$15578,25,FALSE)","v":"In Master List"},"Reportable"]
["ST PETERS HOSPITAL LTD",51522,1,"Y","Y",true,"GB","Y","PRIVATE SECTOR","CF3 0LT","South East Wales","Cardiff and Vale UHB","CARDIFF CF3",86101,86,"Human health services             ",0.29193168620018201,null,null,null,null,null,null,null,null,4312557.1700000009,"*",null,{"$f":"VLOOKUP(A224,'[1]Update Sheet'!$A$3:$Y$15578,25,FALSE)","v":0},"Reportable"]
["GE HEALTHCARE LTD",212,null,"N","N",true,"GB","N","PRIVATE SECTOR","HP7 9LL",null,null,"PHARMACY",64209,64,"Financial services, except insurance and pension funding         ",0.1103075939416239,null,null,null,null,null,null,null,"https://www.gehealthcare.co.uk/-/jssmedia/gehc/uk/files/about-us/healthcare-systems/signed-copy-crp-june-20231.pdf?rev=-1",4280768.3899999997,"*",null,{"$f":"VLOOKUP(A225,'[1]Update Sheet'!$A$3:$Y$15578,25,FALSE)","v":0},"Reportable"]
["SIEMENS HEALTHCARE DIAGNOSTICS LTD",20110,null,"N","N",true,"GB","N","PRIVATE SECTOR","GU16 8QD",null,null,"PHARMACY",20590,20.5,"Other chemical products             ",1.3810539127369941,null,null,null,null,null,null,1.0799261137906264E-2,"carbon reduction plan",4254686.5,"*",null,{"$f":"VLOOKUP(A226,'[1]Update Sheet'!$A$3:$Y$15578,25,FALSE)","v":"In Master List"},"Reportable"]
["INSIGHT DIRECT (UK) LTD",14784,null,"N","N",true,"GB","N","PRIVATE SECTOR","S9 2BU",null,null,"SHEFFIELD S92",62090,62,"Computer programming, consultancy and related services          ",0.13144659704407699,2021,23387,136511,574484,734382,558391000,1.3151752087694824E-3,null,4247624.4999999991,"*",null,{"$f":"VLOOKUP(A227,'[1]Update Sheet'!$A$3:$Y$15578,25,FALSE)","v":"In Master List"},"Reportable"]
["FAIRWAYS CARE LTD",56016,1,"Y","Y",true,"GB","N","PRIVATE SECTOR","LL57 2RQ","North Wales","Betsi Cadwaladr UHB","CERIS NEWYDD",86900,86,"Human health services             ",0.29193168620018201,null,null,null,null,null,null,null,null,4184950.709999999,"*",null,{"$f":"VLOOKUP(A228,'[1]Update Sheet'!$A$3:$Y$15578,25,FALSE)","v":0},"Reportable"]
["CLIFTON PHARMACY LTD",68425,1,"Y","Y",true,"GB","Y","PRIVATE SECTOR","CF24 1PW","South East Wales","Cardiff and Vale UHB","PCS PAY",86900,86,"Human health services             ",0.29193168620018201,null,null,null,null,null,null,null,null,4172258.02,"*",null,{"$f":"VLOOKUP(A229,'[1]Update Sheet'!$A$3:$Y$15578,25,FALSE)","v":0},"Reportable"]
["EGTON MEDICAL INFORMATION SYSTEMS LTD (EMIS HEALTH)",26860,null,"N","N",true,"GB","N","PRIVATE SECTOR","LS19 7BY",null,null,"LEEDS LS19",62012,62,"Computer programming, consultancy and related services          ",0.13144659704407699,2023,{"$f":"458*1000","v":458000},{"$f":"690*1000","v":690000},{"$f":"15199*1000","v":15199000},{"$f":"SUM(S230:U230)","v":16347000},170121449,{"$f":"V230/W230","v":9.6090176142339348E-2},null,4154667.21,"*",null,{"$f":"VLOOKUP(A230,'[1]Update Sheet'!$A$3:$Y$15578,25,FALSE)","v":"In Master List"},"Reportable"]
["FUJIFILM UK LTD",2406,null,"N","N",true,"GB","N","PRIVATE SECTOR","MK42 0ZE",null,null,"BEDFORD MK42",46439,46,"Wholesale trade services, except of motor vehicles and motorcycles       ",2.0310031510736858E-2,2020,327900,192500,156400,676800,119970000,5.28850221924784E-3,null,4149698.8699999996,"*",null,{"$f":"VLOOKUP(A231,'[1]Update Sheet'!$A$3:$Y$15578,25,FALSE)","v":"In Master List"},"Reportable"]
["FRESENIUS KABI LTD",119,null,"N","N",true,"GB","N","PRIVATE SECTOR","WA7 1NT",null,null,"PHARMACY",21200,21,"Basic pharmaceutical products and pharmaceutical preparations          ",0.62099518156965727,2021,1684000,312000,5780000,7776000,151700000,5.1259063941990771E-2,"carbon reduction plan",4145653.77,"*",null,{"$f":"VLOOKUP(A232,'[1]Update Sheet'!$A$3:$Y$15578,25,FALSE)","v":"In Master List"},"Reportable"]
["IRWIN MITCHELL SOLICITORS",27821,null,"N","N",true,"GB","N","PRIVATE SECTOR","B2 5DB",null,null,"SHEFFIELD S3",69102,69.099999999999994,"Legal services              ",5.7877621976311508E-2,null,null,null,null,null,null,null,null,4120636.1,"*",null,{"$f":"VLOOKUP(A233,'[1]Update Sheet'!$A$3:$Y$15578,25,FALSE)","v":0},"Reportable"]
["SUPERDRUG STORES PLC",50774,1,"Y","Y",true,"GB","N","PRIVATE SECTOR",null,"Various","Various","PCS PAY",47730,47,"Retail trade services, except of motor vehicles and motorcycles       ",0.17404287306456559,null,null,null,null,null,null,null,null,4115443.78,"*",null,{"$f":"VLOOKUP(A234,'[1]Update Sheet'!$A$3:$Y$15578,25,FALSE)","v":0},"Reportable"]
["MEDIQ HEALTHCARE UK LTD TA BUNZL HEALTHCARE",284,null,"N","N",true,"GB","N","PRIVATE SECTOR","EN3 7QJ",null,null,"LONDON EN3",46900,46,"Wholesale trade services, except of motor vehicles and motorcycles       ",2.0310031510736858E-2,2022,{"$f":"504*1000","v":504000},{"$f":"264*1000","v":264000},{"$f":"1647*1000","v":1647000},{"$f":"SUM(S235:U235)","v":2415000},{"$f":"392254*1000","v":392254000},{"$f":"V235/W235","v":6.1567249792226462E-3},"CRP",4113743.1800000016,"*",null,{"$f":"VLOOKUP(A235,'[1]Update Sheet'!$A$3:$Y$15578,25,FALSE)","v":"In Master List"},"Reportable"]
["OTC DIRECT LTD NORTH WEST OSTOMY SUPPLIES (NWOS)",46493,null,"N","N",true,"GB","N","PRIVATE SECTOR","WN7 3XJ",null,null,"LEIGH WN7",46460,46,"Wholesale trade services, except of motor vehicles and motorcycles       ",2.0310031510736858E-2,null,null,null,null,null,null,null,null,4077388.39,"*",null,{"$f":"VLOOKUP(A236,'[1]Update Sheet'!$A$3:$Y$15578,25,FALSE)","v":0},"Reportable"]
["KARL STORZ ENDOSCOPY (UK) LTD",935,null,"N","N",true,"GB","N","PRIVATE SECTOR","DD2 1UB",null,null,"DUNDEE DD2",32500,32,"Other manufactured goods             ",0.67238249414981133,2022,{"$f":"432.57*1000","v":432570},{"$f":"62.52*1000","v":62520},{"$f":"1182.56*1000","v":1182560},{"$f":"SUM(S237:U237)","v":1677650},{"$f":"77004*1000","v":77004000},{"$f":"V237/W237","v":2.1786530569840527E-2},"CRP",4064098.6999999988,"*",null,{"$f":"VLOOKUP(A237,'[1]Update Sheet'!$A$3:$Y$15578,25,FALSE)","v":"In Master List"},"Reportable"]
["MYLOCUM LTD",41382,null,"N","N",true,"GB","Y","PRIVATE SECTOR","IG1 2QZ",null,null,"ILFORD IG2",78109,78,"Employment services              ",0.1176282196328419,2021,4600,3900,14600,23100,16430244,{"$f":"V238/W238","v":1.4059438192153446E-3},null,4061377.4099999927,"*",null,{"$f":"VLOOKUP(A238,'[1]Update Sheet'!$A$3:$Y$15578,25,FALSE)","v":"In Master List"},"Reportable"]
["CALDERDALE & HUDDERSFIELD NHS F T",146,0,null,null,null,"GB","N","PUBLIC SECTOR",null,null,null,"PHARMACY",null,null,null,null,null,null,null,null,null,null,null,null,179465.12,"*",null,{"$f":"VLOOKUP(A239,'[1]Update Sheet'!$A$3:$Y$15578,25,FALSE)","v":"Public Sector- Exclude"},"Exclude- Intra NHS "]
["MORLAIS MEDICAL PRACTICE",31442,1,"Y","Y",true,"GB","Y","PRIVATE SECTOR","CF48 3AL","South East Wales","Cwm Taf Morgannwg UHB","PCS PAY",86900,86,"Human health services             ",0.29193168620018201,null,null,null,null,null,null,null,null,4031104.73,"*",null,{"$f":"VLOOKUP(A240,'[1]Update Sheet'!$A$3:$Y$15578,25,FALSE)","v":0},"Reportable"]
["CWMTAWE MEDICAL GROUP",36931,1,"Y","Y",true,"GB","Y","PRIVATE SECTOR","SA6 5LN","South West Wales","Swansea Bay UHB","PCS PAY",86210,86,"Human health services             ",0.29193168620018201,null,null,null,null,null,null,null,null,4009279.5399999996,"*",null,{"$f":"VLOOKUP(A241,'[1]Update Sheet'!$A$3:$Y$15578,25,FALSE)","v":0},"Reportable"]
["ASA MEDICAL SOLUTIONS LTD",55687,null,"N","N",true,"GB","Y","PRIVATE SECTOR","MK14 6GD",null,null,"MILTON MK14",86201,86,"Human health services             ",0.29193168620018201,null,null,null,null,null,null,null,null,4002612.9399999972,"*",null,{"$f":"VLOOKUP(A242,'[1]Update Sheet'!$A$3:$Y$15578,25,FALSE)","v":0},"Reportable"]
["CALDERSTONES PARTNERSHIP NHS FOUNDATION TRUST",38646,0,null,null,null,"GB","N","PUBLIC SECTOR","BB7 9PE",null,null,"CLITHEROE BB7",null,null,null,null,null,null,null,null,null,null,null,null,0,null,null,{"$f":"VLOOKUP(A243,'[1]Update Sheet'!$A$3:$Y$15578,25,FALSE)","v":"Public Sector- Exclude"},"Exclude- Intra NHS "]
["OTIS LTD",18166,null,"N","N",true,"GB","N","PRIVATE SECTOR","LE4 5PW",null,null,"LEICESTER LE4",28220,28,"Machinery and equipment n.e.c.            ",0.33561667817643598,null,null,null,null,null,null,null,null,3974945.5899999989,"*",null,{"$f":"VLOOKUP(A244,'[1]Update Sheet'!$A$3:$Y$15578,25,FALSE)","v":0},"Reportable"]
["ORTUS TECHNOLOGY LTD",53767,null,"N","N",true,"GB","Y","PRIVATE SECTOR","S81 8AP",null,null,"WORKSOP S81",46690,46,"Wholesale trade services, except of motor vehicles and motorcycles       ",2.0310031510736858E-2,2022,19300,15500,74600,109400,17345608,6.3070720841840767E-3,null,3971616.310000001,"*",null,{"$f":"VLOOKUP(A245,'[1]Update Sheet'!$A$3:$Y$15578,25,FALSE)","v":"In Master List"},"Reportable"]
["CROSFIELD HOUSE LTD",38814,1,"Y","Y",true,"GB","Y","PRIVATE SECTOR","LD6 5DB","Mid Wales","Powys Teaching HB","RUISLIP HA4",87100,87,"Residential care services             ",0.16514437058930551,null,null,null,null,null,null,null,null,3947873.3800000031,"*",null,{"$f":"VLOOKUP(A246,'[1]Update Sheet'!$A$3:$Y$15578,25,FALSE)","v":0},"Reportable"]
["CAMBRIDGE UNIVERSITY HOSPITALS NHS FOUNDATION TRUST",20388,0,null,null,null,"GB","N","PUBLIC SECTOR","CB2 0QQ",null,null,"CAMBRIDGE CB2",null,null,null,null,null,null,null,null,null,null,null,null,937692.82999999973,"*",null,{"$f":"VLOOKUP(A247,'[1]Update Sheet'!$A$3:$Y$15578,25,FALSE)","v":"Public Sector- Exclude"},"Exclude- Intra NHS "]
["VITAL ENERGI UTILITIES LTD",67395,null,"N","N",true,"GB","N","PRIVATE SECTOR","BB1 2LD",null,null,"BLACKBURN BB1",35300,"35.2-3","Gas; distribution of gaseous fuels through mains; steam and air conditioning supply    ",1.5426173808963051,2022,1484000,32000,879000,2395000,227014332,1.0875979201985299E-2,"carbon reduction plan",3947290.350000001,"*",null,{"$f":"VLOOKUP(A248,'[1]Update Sheet'!$A$3:$Y$15578,25,FALSE)","v":"In Master List"},"Reportable"]
["TOTAL ASSIST RECRUITMENT LTD",12875,null,"N","N",true,"GB","Y","PRIVATE SECTOR","RM1 3PJ",null,null,"ROMFORD RM1",78200,78,"Employment services              ",0.1176282196328419,2021,169870,48470,311020,529360,22008149,2.4052908765748542E-2,null,3945524.529999997,"*",null,{"$f":"VLOOKUP(A249,'[1]Update Sheet'!$A$3:$Y$15578,25,FALSE)","v":"In Master List"},"Reportable"]
["MEDI TEAM RECRUITMENT LTD",63150,null,"N","N",true,"GB","Y","PRIVATE SECTOR","MK14 6GD",null,null,"MILTON MK14",78200,78,"Employment services              ",0.1176282196328419,2022,153000,36500,61640,251140,18738575,1.340229980134562E-2,null,3923542.0299999989,"*",null,{"$f":"VLOOKUP(A250,'[1]Update Sheet'!$A$3:$Y$15578,25,FALSE)","v":"In Master List"},"Reportable"]
["GEOFF THOMAS LTD",68491,1,"Y","Y",true,"GB","Y","PRIVATE SECTOR","NP20 6WB","South East Wales","Aneurin Bevan UHB","PCS PAY",47730,47,"Retail trade services, except of motor vehicles and motorcycles       ",0.17404287306456559,null,null,null,null,null,null,null,null,3918689.84,"*",null,{"$f":"VLOOKUP(A251,'[1]Update Sheet'!$A$3:$Y$15578,25,FALSE)","v":0},"Reportable"]
["FRESENIUS LTD MEDICAL CARE",3307,null,"N","N",true,"GB","N","PRIVATE SECTOR","NG17 2HU",null,null,"PHARMACY",86900,86,"Human health services             ",0.29193168620018201,null,null,null,null,null,null,null,null,3918289.9999999991,"*",null,{"$f":"VLOOKUP(A252,'[1]Update Sheet'!$A$3:$Y$15578,25,FALSE)","v":0},"Reportable"]
["TH PRICHARD & SON LTD",68702,1,"Y","Y",true,"GB","Y","PRIVATE SECTOR",null,"South East Wales","Aneurin Bevan UHB","PCS PAY",47730,47,"Retail trade services, except of motor vehicles and motorcycles       ",0.17404287306456559,null,null,null,null,null,null,null,null,3910372.89,"*",null,{"$f":"VLOOKUP(A253,'[1]Update Sheet'!$A$3:$Y$15578,25,FALSE)","v":0},"Reportable"]
["BRECON MEDICAL GROUP PRACTICE",8420,1,"Y","Y",true,"GB","Y","PRIVATE SECTOR","LD3 8AH","Mid Wales","Powys Teaching HB","PCS PAY",86210,86,"Human health services             ",0.29193168620018201,null,null,null,null,null,null,null,null,3862238.0100000002,"*",null,{"$f":"VLOOKUP(A254,'[1]Update Sheet'!$A$3:$Y$15578,25,FALSE)","v":0},"Reportable"]
["GOFAL HEALTH CARE LTD",67237,1,"Y","Y",true,"GB","N","PRIVATE SECTOR",null,"South West Wales","Swansea Bay UHB","PCS PAY",86900,86,"Human health services             ",0.29193168620018201,null,null,null,null,null,null,null,null,3834978.4,"*",null,{"$f":"VLOOKUP(A255,'[1]Update Sheet'!$A$3:$Y$15578,25,FALSE)","v":0},"Reportable"]
["CRAIG HINKS LTD",64319,1,"Y","Y",true,"GB","Y","PRIVATE SECTOR","NP4 0PJ","South East Wales","Aneurin Bevan UHB","PCS PAY",47730,47,"Retail trade services, except of motor vehicles and motorcycles       ",0.17404287306456559,null,null,null,null,null,null,null,null,3821718.5,"*",null,{"$f":"VLOOKUP(A256,'[1]Update Sheet'!$A$3:$Y$15578,25,FALSE)","v":0},"Reportable"]
["ARGYLE MEDICAL GROUP",35298,1,"Y","Y",true,"GB","Y","PRIVATE SECTOR","SA72 6HL","South West Wales","Swansea Bay UHB","PCS PAY",86210,86,"Human health services             ",0.29193168620018201,null,null,null,null,null,null,null,null,3771091.39,"*",null,{"$f":"VLOOKUP(A257,'[1]Update Sheet'!$A$3:$Y$15578,25,FALSE)","v":0},"Reportable"]
["AUDIT WALES",26821,1,"Y","Y",true,"GB","Y","PUBLIC SECTOR","CF10 4BZ","South East Wales","Cardiff and Vale UHB","CARDIFF CF11",84110,84,"Public administration and defence services; compulsory social security services       ",0.1703405261372164,null,null,null,null,null,null,null,null,3762156.86,"*",null,{"$f":"VLOOKUP(A258,'[1]Update Sheet'!$A$3:$Y$15578,25,FALSE)","v":0},"Reportable"]
["TOWER PHARMACY LTD",68706,1,"Y","Y",true,"GB","Y","PRIVATE SECTOR","NP19 9HG","South East Wales","Aneurin Bevan UHB","PCS PAY",86900,86,"Human health services             ",0.29193168620018201,null,null,null,null,null,null,null,null,3708856.9499999997,"*",null,{"$f":"VLOOKUP(A259,'[1]Update Sheet'!$A$3:$Y$15578,25,FALSE)","v":0},"Reportable"]
["KINTO UK LTD",44202,null,"N","N",true,"GB","Y","PRIVATE SECTOR","PO6 4RP",null,null,"PORTSMOUT PO6",45111,45,"Wholesale and retail trade and repair services of motor vehicles and motorcycles    ",0.21034629699726889,2022,90020,11420,6850,108290,194468000,5.568525412921406E-4,"carbon reduction plan",3680067.4000000004,"*",null,{"$f":"VLOOKUP(A260,'[1]Update Sheet'!$A$3:$Y$15578,25,FALSE)","v":"In Master List"},"Reportable"]
["BODLONDEB",42474,1,"Y","Y",true,"GB","Y","PRIVATE SECTOR","LL11 4YE","North Wales","Betsi Cadwaladr UHB","WREXHAM LL11",84110,84,"Public administration and defence services; compulsory social security services       ",0.1703405261372164,null,null,null,null,null,null,null,null,3629010.1700000032,"*",null,{"$f":"VLOOKUP(A261,'[1]Update Sheet'!$A$3:$Y$15578,25,FALSE)","v":0},"Reportable"]
["TREGWILYM LODGE LTD",40662,1,"Y","Y",true,"GB","Y","PRIVATE SECTOR","NP10 9EL","South East Wales","Aneurin Bevan UHB","NEWPORT NP10",87100,87,"Residential care services             ",0.16514437058930551,null,null,null,null,null,null,null,null,3619813.8399999971,"*",null,{"$f":"VLOOKUP(A262,'[1]Update Sheet'!$A$3:$Y$15578,25,FALSE)","v":0},"Reportable"]
["BRAKE BROS FOODSERVICE LTD",1414,null,"N","N",true,"GB","N","PRIVATE SECTOR","TN25 4AG",null,null,"ASHFORD TN24",46390,46,"Wholesale trade services, except of motor vehicles and motorcycles       ",2.0310031510736858E-2,null,null,null,null,null,null,null,null,3612672.95,"*",null,{"$f":"VLOOKUP(A263,'[1]Update Sheet'!$A$3:$Y$15578,25,FALSE)","v":0},"Reportable"]
["HALLMARK CARE HOMES (MERTHYR) LTD",49223,null,"N","N",true,"GB","Y","PRIVATE SECTOR","CM12 0EQ",null,null,"GREENHILL MANOR",86102,86,"Human health services             ",0.29193168620018201,null,null,null,null,null,null,null,null,3566422.279999997,"*",null,{"$f":"VLOOKUP(A264,'[1]Update Sheet'!$A$3:$Y$15578,25,FALSE)","v":0},"Reportable"]
["HAYS SPECIALIST RECRUITMENT LTD",49999,1,"Y","Y",true,"GB","N","PRIVATE SECTOR","CF10 5BT","South East Wales","Cardiff and Vale UHB","CARDIFF CF10",78200,78,"Employment services              ",0.1176282196328419,2023,5408000,3925000,49524000,58857000,6588900000,8.9327505349906661E-3,null,3554546.3699999992,"*",null,{"$f":"VLOOKUP(A265,'[1]Update Sheet'!$A$3:$Y$15578,25,FALSE)","v":"In Master List"},"Reportable"]
["ASHFIELD SURGERY",11455,1,"Y","Y",true,"GB","Y","PRIVATE SECTOR","CF31 3NL","South East Wales","Cwm Taf Morgannwg UHB","PCS PAY",86210,86,"Human health services             ",0.29193168620018201,null,null,null,null,null,null,null,null,3514049.5500000003,"*",null,{"$f":"VLOOKUP(A266,'[1]Update Sheet'!$A$3:$Y$15578,25,FALSE)","v":0},"Reportable"]
["SEREN PLUS LTD",68685,1,"Y","Y",true,"GB","Y","PRIVATE SECTOR",null,"South East Wales","Cardiff and Vale UHB","PCS PAY",41201,41.2,"Buildings and building construction works           ",0.30500636264243469,null,null,null,null,null,null,null,null,3493914.98,"*",null,{"$f":"VLOOKUP(A267,'[1]Update Sheet'!$A$3:$Y$15578,25,FALSE)","v":0},"Reportable"]
["MERTHYR TYDFIL COUNTY BOROUGH COUNCIL",6287,1,"Y","Y",true,"GB","N","PUBLIC SECTOR","CF47 8AN","South East Wales","Cwm Taf Morgannwg UHB","MERTHYR T CF47",84110,84,"Public administration and defence services; compulsory social security services       ",0.1703405261372164,null,null,null,null,null,null,null,null,3493197.7199999993,"*",null,{"$f":"VLOOKUP(A268,'[1]Update Sheet'!$A$3:$Y$15578,25,FALSE)","v":0},"Reportable"]
["CAMBRIDGESHIRE & PETERBOROUGH NHS FOUNDATION TRUST",52339,0,null,null,null,"GB","N","PUBLIC SECTOR","CM8 2TL",null,null,"WITHAM CM8",0,0,0,null,null,null,null,null,null,null,null,null,69068.479999999996,"*",null,{"$f":"VLOOKUP(A269,'[1]Update Sheet'!$A$3:$Y$15578,25,FALSE)","v":"Public Sector- Exclude"},"Exclude- Intra NHS "]
["B BRAUN MEDICAL LTD",35,null,"N","N",true,"GB","N","PRIVATE SECTOR","S35 2PW",null,null,"PHARMACY",86900,86,"Human health services             ",0.29193168620018201,2022,1033000,494000,7135000,7135000,200475000,3.5590472627509667E-2,null,3457389.1300000004,"*",null,{"$f":"VLOOKUP(A270,'[1]Update Sheet'!$A$3:$Y$15578,25,FALSE)","v":"In Master List"},"Reportable"]
["MIAH R LTD",70662,1,"Y","Y",true,"GB","Y","PRIVATE SECTOR","CF11 6RT","South East Wales","Cardiff and Vale UHB","PCS PAY",86900,86,"Human health services             ",0.29193168620018201,null,null,null,null,null,null,null,null,3432696.43,"*",null,{"$f":"VLOOKUP(A271,'[1]Update Sheet'!$A$3:$Y$15578,25,FALSE)","v":0},"Reportable"]
["SYSMEX UK LTD",859,null,"N","N",true,"GB","N","PRIVATE SECTOR","MK8 8DF",null,null,"MILTON KE MK8",86101,86,"Human health services             ",0.29193168620018201,null,null,null,null,null,null,null,null,3431850.790000001,"*",null,{"$f":"VLOOKUP(A272,'[1]Update Sheet'!$A$3:$Y$15578,25,FALSE)","v":0},"Reportable"]
["READ CONSTRUCTION HOLDINGS LTD",28965,1,"Y","Y",true,"GB","Y","PRIVATE SECTOR","LL11 5BT","North Wales","Betsi Cadwaladr UHB","ESTATES",41201,41.2,"Buildings and building construction works           ",0.30500636264243469,2022,238658,78236,98229,415123,26853448,1.5458834187699099E-2,null,3430786,"*",null,{"$f":"VLOOKUP(A273,'[1]Update Sheet'!$A$3:$Y$15578,25,FALSE)","v":"In Master List"},"Reportable"]
["VANGUARD HEALTHCARE SOLUTIONS LTD",44241,null,"N","N",true,"GB","Y","PRIVATE SECTOR","GL3 4AE",null,null,"GLOUCESTER GL3",86900,86,"Human health services             ",0.29193168620018201,null,null,null,null,null,null,1.4373907545836588E-2,"carbon reduction plan",3424681.74,"*",null,{"$f":"VLOOKUP(A274,'[1]Update Sheet'!$A$3:$Y$15578,25,FALSE)","v":"In Master List"},"Reportable"]
["ASCOM (UK) LTD",1292,null,"N","N",true,"GB","Y","PRIVATE SECTOR","WS14 0QP",null,null,"LICHFIELD WS14",61200,61,"Telecommunications services              ",0.10520703191029331,null,null,null,null,null,null,null,null,3416062.5699999989,"*",null,{"$f":"VLOOKUP(A275,'[1]Update Sheet'!$A$3:$Y$15578,25,FALSE)","v":0},"Reportable"]
["RADIOLOGY MANAGEMENT SOLUTIONS LTD",63302,null,"N","N",true,"GB","N","PRIVATE SECTOR","M3 2EN",null,null,"MANCHESTER M3",86900,86,"Human health services             ",0.29193168620018201,null,null,null,null,null,null,null,null,3410228.14,"*",null,{"$f":"VLOOKUP(A276,'[1]Update Sheet'!$A$3:$Y$15578,25,FALSE)","v":0},"Reportable"]
["ROCIALLE HEALTHCARE LTD",254,1,"Y","Y",true,"GB","N","PRIVATE SECTOR","CF45 4ER","South East Wales","Cwm Taf Morgannwg UHB","PHARMACY",86101,86,"Human health services             ",0.29193168620018201,null,null,null,null,null,null,null,null,3406866.43,"*",null,{"$f":"VLOOKUP(A277,'[1]Update Sheet'!$A$3:$Y$15578,25,FALSE)","v":0},"Reportable"]
["CAMDEN & ISLINGTON NHS FOUNDATION TRUST",15904,0,null,null,null,"GB","N","PUBLIC SECTOR","NW1 0PE",null,null,"LONDON NW1",null,null,null,null,null,null,null,null,null,null,null,null,0,null,null,{"$f":"VLOOKUP(A278,'[1]Update Sheet'!$A$3:$Y$15578,25,FALSE)","v":"Public Sector- Exclude"},"Exclude- Intra NHS "]
["ST JOHN AMBULANCE",9978,1,"Y","Y",true,"GB","N","VCSE","NP11 7GH","South East Wales","Aneurin Bevan UHB","CARDIFF CF24",86900,86,"Human health services             ",0.29193168620018201,2022,3585000,814000,1462000,5861000,120400000,4.8679401993355478E-2,null,3401799.28,"*",null,{"$f":"VLOOKUP(A279,'[1]Update Sheet'!$A$3:$Y$15578,25,FALSE)","v":"In Master List"},"Reportable"]
["SWIIS UK LTD",70987,null,"N","N",true,"GB","N","PRIVATE SECTOR","BS1 4PS",null,null,"BRISTOL BS1",78109,78,"Employment services              ",0.1176282196328419,2021,3900,31900,117100,152900,9345460,1.6360885392479343E-2,"carbon reduction plan",3381644.819999997,"*",null,{"$f":"VLOOKUP(A280,'[1]Update Sheet'!$A$3:$Y$15578,25,FALSE)","v":"In Master List"},"Reportable"]
["COOK (UK) LTD",425,null,"N","N",true,"GB","Y","PRIVATE SECTOR","WA14 2DT",null,null,"PHARMACY",46900,46,"Wholesale trade services, except of motor vehicles and motorcycles       ",2.0310031510736858E-2,2022,172790,13970,72180,258940,69276986,3.7377492144360898E-3,null,3353971.33,"*",null,{"$f":"VLOOKUP(A281,'[1]Update Sheet'!$A$3:$Y$15578,25,FALSE)","v":"In Master List"},"Reportable"]
["LANCER SCOTT LTD",73781,1,"Y","Y",true,"GB","N","PRIVATE SECTOR","BS1 4HQ","Various","Various","BRISTOL BS1",43290,42.99,"Specialised construction works             ",0.31026786628535008,2022,497190,14750,956160,1468090,77771221,1.8877034218094633E-2,null,3348037.52,"*",null,{"$f":"VLOOKUP(A282,'[1]Update Sheet'!$A$3:$Y$15578,25,FALSE)","v":"In Master List"},"Reportable"]
["CRUSADER MEDICAL CARE LTD",54478,1,"Y","Y",true,"GB","Y","PRIVATE SECTOR","CF24 2BY","South East Wales","Cardiff and Vale UHB","CARDIFF CF24",87100,87,"Residential care services             ",0.16514437058930551,null,null,null,null,null,null,null,null,3277650.5100000012,"*",null,{"$f":"VLOOKUP(A283,'[1]Update Sheet'!$A$3:$Y$15578,25,FALSE)","v":0},"Reportable"]
["SOURCE BIOSCIENCE UK LTD",20269,null,"N","N",true,"GB","N","PRIVATE SECTOR","NG8 6PX",null,null,"NOTTINGHA NG8",70100,70,"Services of head offices; management consulting services         ",9.3681183759862049E-2,null,null,null,null,null,null,null,null,3274592.9,"*",null,{"$f":"VLOOKUP(A284,'[1]Update Sheet'!$A$3:$Y$15578,25,FALSE)","v":0},"Reportable"]
["SOLO SERVICE GROUP LTD",12725,1,"Y","Y",true,"GB","N","PRIVATE SECTOR","SA7 0AJ","South West Wales","Swansea Bay UHB","SWANSEA SA7",81299,81,"Services to buildings and landscape           ",0.1712664478524781,2021,410431,0,2185755,2596186,40739364,6.3726718954179057E-2,null,3265568.46,"*",null,{"$f":"VLOOKUP(A285,'[1]Update Sheet'!$A$3:$Y$15578,25,FALSE)","v":"In Master List"},"Reportable"]
["CASTLE GATE MEDICAL PRACTICE",25767,1,"Y","Y",true,"GB","N","PRIVATE SECTOR","NP25 3EQ","South East Wales","Aneurin Bevan UHB","PCS PAY",86900,86,"Human health services             ",0.29193168620018201,null,null,null,null,null,null,null,null,3232760.77,"*",null,{"$f":"VLOOKUP(A286,'[1]Update Sheet'!$A$3:$Y$15578,25,FALSE)","v":0},"Reportable"]
["GWRYCH MEDICAL CENTRE",33373,1,"Y","Y",true,"GB","Y","PRIVATE SECTOR","LL22 8LJ","North Wales","Betsi Cadwaladr UHB","PCS PAY",86900,86,"Human health services             ",0.29193168620018201,null,null,null,null,null,null,null,null,3222606.96,"*",null,{"$f":"VLOOKUP(A287,'[1]Update Sheet'!$A$3:$Y$15578,25,FALSE)","v":0},"Reportable"]
["CLARENCE MEDICAL CENTRE",53166,1,"Y","Y",true,"GB","Y","PRIVATE SECTOR","LL18 1DA","North Wales","Betsi Cadwaladr UHB","PCS PAY",86210,86,"Human health services             ",0.29193168620018201,null,null,null,null,null,null,null,null,3191404.1799999997,"*",null,{"$f":"VLOOKUP(A288,'[1]Update Sheet'!$A$3:$Y$15578,25,FALSE)","v":0},"Reportable"]
["ST DAVIDS CLINIC",63531,1,"Y","Y",true,"GB","Y","PRIVATE SECTOR","NP20 2LB","South East Wales","Aneurin Bevan UHB","NEWPORT NP20",86900,86,"Human health services             ",0.29193168620018201,null,null,null,null,null,null,null,null,3160776.64,"*",null,{"$f":"VLOOKUP(A289,'[1]Update Sheet'!$A$3:$Y$15578,25,FALSE)","v":0},"Reportable"]
["WELSHPOOL MEDICAL GROUP PRACTICE",9759,1,"Y","Y",true,"GB","Y","PRIVATE SECTOR","SY21 7ER","Mid Wales","Powys Teaching HB","PCS PAY",86210,86,"Human health services             ",0.29193168620018201,null,null,null,null,null,null,null,null,3155855.16,"*",null,{"$f":"VLOOKUP(A290,'[1]Update Sheet'!$A$3:$Y$15578,25,FALSE)","v":0},"Reportable"]
["HC ONE LTD",45173,null,"N","N",true,"GB","N","PRIVATE SECTOR","DL3 6AH",null,null,"MOUNTAIN A CF45",87100,87,"Residential care services             ",0.16514437058930551,null,null,null,null,null,null,null,null,3150275.0400000005,"*",null,{"$f":"VLOOKUP(A291,'[1]Update Sheet'!$A$3:$Y$15578,25,FALSE)","v":0},"Reportable"]
["CARDIFF & VALE UNIVERSITY LOCAL HEALTH BOARD",1503,1,null,null,null,"GB","N","PUBLIC SECTOR","CF14 4HY",null,null,"CARDIFF",null,null,null,null,null,null,null,null,null,null,null,null,120891494.56,"*",null,{"$f":"VLOOKUP(A292,'[1]Update Sheet'!$A$3:$Y$15578,25,FALSE)","v":"Public Sector- Exclude"},"Exclude- Intra NHS "]
["VISION EXPRESS UK LTD",2035,null,"N","N",true,"GB","N","PRIVATE SECTOR",null,null,null,"PCS PAY",82990,82,"Office administrative, office support and other business support services       ",0.1180504360352973,null,null,null,null,null,null,null,null,3142068.1799999997,"*",null,{"$f":"VLOOKUP(A293,'[1]Update Sheet'!$A$3:$Y$15578,25,FALSE)","v":0},"Reportable"]
["GREAT BEAR HEALTHCARE LTD",44120,1,"Y","Y",true,"GB","Y","PRIVATE SECTOR","CF14 5GF","South East Wales","Cardiff and Vale UHB","PCS PAY",86900,86,"Human health services             ",0.29193168620018201,2022,61800,70200,1225700,1357700,29029639,4.676944139746278E-2,null,3135615.0700000003,"*",null,{"$f":"VLOOKUP(A294,'[1]Update Sheet'!$A$3:$Y$15578,25,FALSE)","v":"In Master List"},"Reportable"]
["COCHLEAR EUROPE LTD",1630,null,"N","N",true,"GB","N","PRIVATE SECTOR","KT15 2HJ",null,null,"ADDLESTON KT15",86900,86,"Human health services             ",0.29193168620018201,2022,0,253000,733200,986200,252953000,3.8987479887568044E-3,null,3134084.5300000012,"*",null,{"$f":"VLOOKUP(A295,'[1]Update Sheet'!$A$3:$Y$15578,25,FALSE)","v":"In Master List"},"Reportable"]
["ARTHUR J GALLAGHER INSURANCE BROKERS LTD",65942,null,"N","N",true,"GB","N","PRIVATE SECTOR","SO16 9JX",null,null,"GLASGOW G2",66220,66,"Services auxiliary to financial services and insurance services        ",0.1004552623620299,null,null,null,null,null,null,null,null,3117037.71,"*",null,{"$f":"VLOOKUP(A296,'[1]Update Sheet'!$A$3:$Y$15578,25,FALSE)","v":0},"Reportable"]
["CIVICA UK LTD",21070,null,"N","N",true,"GB","N","PRIVATE SECTOR","SE1 9LQ",null,null,"LONDON SE1",62090,62,"Computer programming, consultancy and related services          ",0.13144659704407699,2021,223640,325860,678940,1228440,302247000,4.0643579588879293E-3,null,3110060.5000000009,"*",null,{"$f":"VLOOKUP(A297,'[1]Update Sheet'!$A$3:$Y$15578,25,FALSE)","v":"In Master List"},"Reportable"]
["YSTRADGYNLAIS GROUP PRACTICE",16991,1,"Y","Y",true,"GB","N","PRIVATE SECTOR","SA9 1DS","Mid Wales","Powys Teaching HB","PCS PAY",86210,86,"Human health services             ",0.29193168620018201,null,null,null,null,null,null,null,null,3092274.77,"*",null,{"$f":"VLOOKUP(A298,'[1]Update Sheet'!$A$3:$Y$15578,25,FALSE)","v":0},"Reportable"]
["KINTRA LTD",13064,null,"N","N",true,"GB","Y","PRIVATE SECTOR","EH2 1DF",null,null,"EDINGBURG EH2",96090,96,"Other personal services             ",7.6712791957121843E-2,null,null,null,null,null,null,null,null,3087686.42,"*",null,{"$f":"VLOOKUP(A299,'[1]Update Sheet'!$A$3:$Y$15578,25,FALSE)","v":0},"Reportable"]
["TAN YR ALLT LODGE LTD",45382,1,"Y","Y",true,"GB","Y","PRIVATE SECTOR","SA8 3AB","South West Wales","Swansea Bay UHB","SWANSEA SA8",86102,86,"Human health services             ",0.29193168620018201,null,null,null,null,null,null,null,null,3086215.63,"*",null,{"$f":"VLOOKUP(A300,'[1]Update Sheet'!$A$3:$Y$15578,25,FALSE)","v":0},"Reportable"]
["INHEALTH ENDOSCOPY LTD",73743,null,"N","N",true,"GB","Y","PRIVATE SECTOR","HP11 1JL",null,null,"HIGH WYCO HP11",86101,86,"Human health services             ",0.29193168620018201,null,null,null,null,null,null,null,null,3079962.5,"*",null,{"$f":"VLOOKUP(A301,'[1]Update Sheet'!$A$3:$Y$15578,25,FALSE)","v":0},"Reportable"]
["KIMBERLY CLARK LTD",4554,null,"N","N",true,"GB","N","PRIVATE SECTOR","BN1 4BG",null,null,"BRIGHTON BN1",17220,17,"Paper and paper products            ",0.70687696279521584,null,null,null,null,null,null,null,null,3062949.38,"*",null,{"$f":"VLOOKUP(A302,'[1]Update Sheet'!$A$3:$Y$15578,25,FALSE)","v":0},"Reportable"]
["MIRUS WALES",12264,1,"Y","Y",true,"GB","N","VCSE","CF14 5GP","South East Wales","Cardiff and Vale UHB","CARDIFF CF14",87200,87,"Residential care services             ",0.16514437058930551,null,null,null,null,null,null,null,null,3060893.13,"*",null,{"$f":"VLOOKUP(A303,'[1]Update Sheet'!$A$3:$Y$15578,25,FALSE)","v":0},"Reportable"]
["DEPARTMENT OF HEALTH",3461,null,"N","N",true,"GB","N","PUBLIC SECTOR","SW1H 0EU",null,null,"LEEDS LS2",86900,86,"Human health services             ",0.29193168620018201,null,null,null,null,null,null,null,null,3059001.189999999,"*",null,{"$f":"VLOOKUP(A304,'[1]Update Sheet'!$A$3:$Y$15578,25,FALSE)","v":0},"Reportable"]
["GETINGE LTD",4521,null,"N","N",true,"GB","N","PRIVATE SECTOR","DE21 6YH",null,null,"BOLDEN CO NE35",96090,96,"Other personal services             ",7.6712791957121843E-2,2022,256990,104720,1604490,1966200,67338000,2.9198966408268735E-2,null,3057456.4299999997,"*",null,{"$f":"VLOOKUP(A305,'[1]Update Sheet'!$A$3:$Y$15578,25,FALSE)","v":"In Master List"},"Reportable"]
["CARE PROVIDERS RECRUITMENT LTD",53281,null,"N","N",true,"GB","N","PRIVATE SECTOR","IG10 3TS",null,null,"LOUGHTON IG10",78200,78,"Employment services              ",0.1176282196328419,null,null,null,null,null,null,null,null,3038054.4300000039,"*",null,{"$f":"VLOOKUP(A306,'[1]Update Sheet'!$A$3:$Y$15578,25,FALSE)","v":0},"Reportable"]
["KONICA MINOLTA BUSINESS SOLUTIONS (UK) LTD",570,null,"N","N",true,"GB","N","PRIVATE SECTOR","SS14 3AR",null,null,"SWANSEA SA7",63990,63,"Information services              ",0.16934169875693919,2020,885900,145600,1701700,2733290,105619000,2.5878771811889908E-2,null,3036506.8499999996,"*",null,{"$f":"VLOOKUP(A307,'[1]Update Sheet'!$A$3:$Y$15578,25,FALSE)","v":"In Master List"},"Reportable"]
["SKETTY & KILLAY MEDICAL CENTRES",25083,1,"Y","Y",true,"GB","Y","PRIVATE SECTOR","SA2 9EA","South West Wales","Swansea Bay UHB","PCS PAY",86210,86,"Human health services             ",0.29193168620018201,null,null,null,null,null,null,null,null,3031754.9,"*",null,{"$f":"VLOOKUP(A308,'[1]Update Sheet'!$A$3:$Y$15578,25,FALSE)","v":0},"Reportable"]
["SALTS HEALTHCARE LTD",955,null,"N","N",true,"GB","N","PRIVATE SECTOR","B7 4AA",null,null,"PCS PAY",32990,32,"Other manufactured goods             ",0.67238249414981133,null,null,null,null,null,null,null,null,3025285.68,"*",null,{"$f":"VLOOKUP(A309,'[1]Update Sheet'!$A$3:$Y$15578,25,FALSE)","v":0},"Reportable"]
["HOLOGIC UK LTD",2727,null,"N","N",true,"GB","Y","PRIVATE SECTOR","M23 9HZ",null,null,"CRAWLEY RH10",82990,82,"Office administrative, office support and other business support services       ",0.1180504360352973,null,null,null,null,null,null,null,null,3010921.7999999989,"*",null,{"$f":"VLOOKUP(A310,'[1]Update Sheet'!$A$3:$Y$15578,25,FALSE)","v":0},"Reportable"]
["DAVITA UK TRADING LTD",66403,null,"N","N",true,"GB","Y","PRIVATE SECTOR","SW19 2PU",null,null,"LONDON SW19",86900,86,"Human health services             ",0.29193168620018201,null,null,null,null,null,null,null,null,3002815.71,"*",null,{"$f":"VLOOKUP(A311,'[1]Update Sheet'!$A$3:$Y$15578,25,FALSE)","v":0},"Reportable"]
["DRC LOCUMS",19719,null,"N","N",true,"GB","Y","PRIVATE SECTOR","RH16 3SN",null,null,"MILTON KE MK5",78200,78,"Employment services              ",0.1176282196328419,2022,7400,132200,7400,147000,50146000,2.9314401946316754E-3,null,3002190.0500000101,"*",null,{"$f":"VLOOKUP(A312,'[1]Update Sheet'!$A$3:$Y$15578,25,FALSE)","v":"In Master List"},"Reportable"]
["VALUES IN CARE LTD",39976,1,"Y","Y",true,"GB","N","PRIVATE SECTOR","CF82 7FQ","South East Wales","Aneurin Bevan UHB","YSTRAD MY CF82",87200,87,"Residential care services             ",0.16514437058930551,null,null,null,null,null,null,null,null,2987216.4800000004,"*",null,{"$f":"VLOOKUP(A313,'[1]Update Sheet'!$A$3:$Y$15578,25,FALSE)","v":0},"Reportable"]
["BCU LEGAL & LOSSES",40611,1,"Y","Y",true,"GB","N","PRIVATE SECTOR","LL33 0HH","North Wales","Betsi Cadwaladr UHB","FACTOR1593",86101,86,"Human health services             ",0.29193168620018201,null,null,null,null,null,null,null,null,2985907.0699999994,"*",null,{"$f":"VLOOKUP(A314,'[1]Update Sheet'!$A$3:$Y$15578,25,FALSE)","v":0},"Reportable"]
["FITTLEWORTH MEDICAL LTD",68300,null,"N","N",true,"GB","N","PRIVATE SECTOR"," BN17 7FB",null,null,"PCS PAY",47749,47,"Retail trade services, except of motor vehicles and motorcycles       ",0.17404287306456559,2022,249669,188274,8018920,8456863,143468142,5.8945929612721965E-2,null,2972459.61,"*",null,{"$f":"VLOOKUP(A315,'[1]Update Sheet'!$A$3:$Y$15578,25,FALSE)","v":"In Master List"},"Reportable"]
["MARTIN DAVIES CHEMISTS LTD",68538,1,"Y","Y",true,"GB","Y","PRIVATE SECTOR","NP19 7HA","South East Wales","Aneurin Bevan UHB","PCS PAY",47730,47,"Retail trade services, except of motor vehicles and motorcycles       ",0.17404287306456559,null,null,null,null,null,null,null,null,2965497.62,"*",null,{"$f":"VLOOKUP(A316,'[1]Update Sheet'!$A$3:$Y$15578,25,FALSE)","v":0},"Reportable"]
["FUJIFILM HEALTHCARE UK LIMITED",19104,null,"N","N",true,"GB","N","PRIVATE SECTOR","MK42 0ZE",null,null,"BEDFORD MK42",47749,47,"Retail trade services, except of motor vehicles and motorcycles       ",0.17404287306456559,null,null,null,null,null,null,null,null,2958765.67,"*",null,{"$f":"VLOOKUP(A317,'[1]Update Sheet'!$A$3:$Y$15578,25,FALSE)","v":0},"Reportable"]
["HAFAN IECHYD",5053,1,"Y","Y",true,"GB","Y","PRIVATE SECTOR","LL55 1TH","North Wales","Betsi Cadwaladr UHB","PCS PAY",87900,87,"Residential care services             ",0.16514437058930551,null,null,null,null,null,null,null,null,2952399.28,"*",null,{"$f":"VLOOKUP(A318,'[1]Update Sheet'!$A$3:$Y$15578,25,FALSE)","v":0},"Reportable"]
["GOWERTON MEDICAL CENTRE",37609,null,"N","N",true,"GB","Y","PRIVATE SECTOR","SA4 3ED",null,null,"PCS PAY",86210,86,"Human health services             ",0.29193168620018201,null,null,null,null,null,null,null,null,2952292.59,"*",null,{"$f":"VLOOKUP(A319,'[1]Update Sheet'!$A$3:$Y$15578,25,FALSE)","v":0},"Reportable"]
["CALDICOT MEDICAL GROUP",53811,1,"Y","Y",true,"GB","N","PRIVATE SECTOR","NP26 5AB","South East Wales","Aneurin Bevan UHB","PCS PAY",86900,86,"Human health services             ",0.29193168620018201,null,null,null,null,null,null,null,null,2935175.13,"*",null,{"$f":"VLOOKUP(A320,'[1]Update Sheet'!$A$3:$Y$15578,25,FALSE)","v":0},"Reportable"]
["INTEGRA COMMUNITY LIVING OPTIONS LTD",39204,1,"Y","Y",true,"GB","Y","PRIVATE SECTOR","CF24 5EA","South East Wales","Cardiff and Vale UHB","CARDIFF CF24",87200,87,"Residential care services             ",0.16514437058930551,null,null,null,null,null,null,null,null,2925436.540000001,"*",null,{"$f":"VLOOKUP(A321,'[1]Update Sheet'!$A$3:$Y$15578,25,FALSE)","v":0},"Reportable"]
["NELSON'S TREDEGAR LTD",68587,1,"Y","Y",true,"GB","Y","PRIVATE SECTOR",null,"South East Wales","Aneurin Bevan UHB","PCS PAY",86210,86,"Human health services             ",0.29193168620018201,null,null,null,null,null,null,null,null,2922980.1,"*",null,{"$f":"VLOOKUP(A322,'[1]Update Sheet'!$A$3:$Y$15578,25,FALSE)","v":0},"Reportable"]
["RUSHCLIFFE INDEPENDENT HOSPITAL",39711,1,"Y","Y",true,"GB","Y","PRIVATE SECTOR","SA12 7PH","South West Wales","Swansea Bay UHB","PORT TALB SA12",86101,86,"Human health services             ",0.29193168620018201,null,null,null,null,null,null,null,null,2915525.9,"*",null,{"$f":"VLOOKUP(A323,'[1]Update Sheet'!$A$3:$Y$15578,25,FALSE)","v":0},"Reportable"]
["THE ASHGROVE SURGERY",17214,1,"Y","Y",true,"GB","Y","PRIVATE SECTOR","CF37 2DR","South East Wales","Cwm Taf Morgannwg UHB","PCS PAY",86210,86,"Human health services             ",0.29193168620018201,null,null,null,null,null,null,null,null,2907223.81,"*",null,{"$f":"VLOOKUP(A324,'[1]Update Sheet'!$A$3:$Y$15578,25,FALSE)","v":0},"Reportable"]
["CENTRAL & NORTH WEST LONDON NHS FOUNDATION TRUST",43111,0,null,null,null,"GB","N","PUBLIC SECTOR","NW1 2PL",null,null,"LONDON NW12",null,null,null,null,null,null,null,null,null,null,null,null,69.099999999999994,"*",null,{"$f":"VLOOKUP(A325,'[1]Update Sheet'!$A$3:$Y$15578,25,FALSE)","v":"Public Sector- Exclude"},"Exclude- Intra NHS "]
["OCTAPHARMA LTD",9450,null,"N","N",true,"GB","N","PRIVATE SECTOR","M4 1EZ",null,null,"MANCHESTE M4",21100,21,"Basic pharmaceutical products and pharmaceutical preparations          ",0.62099518156965727,null,null,null,null,null,null,null,null,2894731.73,"*",null,{"$f":"VLOOKUP(A326,'[1]Update Sheet'!$A$3:$Y$15578,25,FALSE)","v":0},"Reportable"]
["REACT SUPPORT SERVICES LTD",41720,1,"Y","Y",true,"GB","Y","PRIVATE SECTOR","CF23 6RX","South East Wales","Cardiff and Vale UHB","CARDIFF CF5",87100,87,"Residential care services             ",0.16514437058930551,null,null,null,null,null,null,null,null,2885630.94,"*",null,{"$f":"VLOOKUP(A327,'[1]Update Sheet'!$A$3:$Y$15578,25,FALSE)","v":0},"Reportable"]
["PLAS MEDDYG SURGERY",20380,1,"Y","Y",true,"GB","Y","PRIVATE SECTOR","LL15 1BP","North Wales","Betsi Cadwaladr UHB","PCS PAY",86210,86,"Human health services             ",0.29193168620018201,null,null,null,null,null,null,null,null,2885107.36,"*",null,{"$f":"VLOOKUP(A328,'[1]Update Sheet'!$A$3:$Y$15578,25,FALSE)","v":0},"Reportable"]
["TFR PHARMA LTD",68700,1,"Y","Y",true,"GB","Y","PRIVATE SECTOR",null,"South East Wales","Cardiff and Vale UHB","PCS PAY",47730,47,"Retail trade services, except of motor vehicles and motorcycles       ",0.17404287306456559,null,null,null,null,null,null,null,null,2883513.41,"*",null,{"$f":"VLOOKUP(A329,'[1]Update Sheet'!$A$3:$Y$15578,25,FALSE)","v":0},"Reportable"]
["SPA MEDICA",51935,null,"N","N",true,"GB","N","PRIVATE SECTOR","BL1 1HU",null,null,"MANCHESTE M15",86210,86,"Human health services             ",0.29193168620018201,2022,994800,1168000,3323100,5485900,217077000,2.5271677791751313E-2,"on accounts and carbon reduction plan",2871317.7,"*",null,{"$f":"VLOOKUP(A330,'[1]Update Sheet'!$A$3:$Y$15578,25,FALSE)","v":"In Master List"},"Reportable"]
["ARNOLD CLARK FINANCE LTD",17686,null,"N","N",true,"GB","N","PRIVATE SECTOR","G52 4FH",null,null,"GLASGOW G3",77110,77,"Rental and leasing services            ",0.13477794599811871,2022,29432810,9830410,40205320,79468540,436400000,0.18210022914757104,"carbon reduction plan",2865058.1500000013,"*",null,{"$f":"VLOOKUP(A331,'[1]Update Sheet'!$A$3:$Y$15578,25,FALSE)","v":"Review as T2 higher than T1"},"Reportable"]
["BRADLEYS PRACTICE",30692,1,"Y","Y",true,"GB","Y","PRIVATE SECTOR","CH7 3PG","North Wales","Betsi Cadwaladr UHB","PCS PAY",86210,86,"Human health services             ",0.29193168620018201,null,null,null,null,null,null,null,null,2848635.45,"*",null,{"$f":"VLOOKUP(A332,'[1]Update Sheet'!$A$3:$Y$15578,25,FALSE)","v":0},"Reportable"]
["THORNES PHARMACY LTD",53168,1,"Y","Y",true,"GB","Y","PRIVATE SECTOR","CF34 0PD","South East Wales","Cwm Taf Morgannwg UHB","PCS PAY",86900,86,"Human health services             ",0.29193168620018201,null,null,null,null,null,null,null,null,2847164.23,"*",null,{"$f":"VLOOKUP(A333,'[1]Update Sheet'!$A$3:$Y$15578,25,FALSE)","v":0},"Reportable"]
["SAUNDERSFOOT MEDICAL CENTRE",39728,1,"Y","Y",true,"GB","Y","PRIVATE SECTOR","SA69 9JQ","South West Wales","Swansea Bay UHB","PCS PAY",86210,86,"Human health services             ",0.29193168620018201,null,null,null,null,null,null,null,null,2832535.46,"*",null,{"$f":"VLOOKUP(A334,'[1]Update Sheet'!$A$3:$Y$15578,25,FALSE)","v":0},"Reportable"]
["ARWYSTLI MEDICAL PRACTICE",8399,1,"Y","Y",true,"GB","Y","PRIVATE SECTOR","SY18 6EZ","Mid Wales","Powys Teaching HB","PCS PAY",86210,86,"Human health services             ",0.29193168620018201,null,null,null,null,null,null,null,null,2826966.3400000003,"*",null,{"$f":"VLOOKUP(A335,'[1]Update Sheet'!$A$3:$Y$15578,25,FALSE)","v":0},"Reportable"]
["CEREDIGION DOCTORS MESS",11177,1,null,null,null,"GB","N","PUBLIC SECTOR","SY23 1ER",null,null,"ABERYSTWY SY23",0,0,0,null,null,null,null,null,null,null,null,null,260,"*",null,{"$f":"VLOOKUP(A336,'[1]Update Sheet'!$A$3:$Y$15578,25,FALSE)","v":"Public Sector- Exclude"},"?"]
["MEDDYGFA CWM RHYMNI PRACTICE",68776,1,"Y","Y",true,"GB","Y","PRIVATE SECTOR","NP22 5PW","South East Wales","Aneurin Bevan UHB","PCS PAY",86210,86,"Human health services             ",0.29193168620018201,null,null,null,null,null,null,null,null,2801843.9299999997,"*",null,{"$f":"VLOOKUP(A337,'[1]Update Sheet'!$A$3:$Y$15578,25,FALSE)","v":0},"Reportable"]
["ALLIED & CLINICAL RECRUITMENTS LTD",60752,null,"N","N",true,"GB","Y","PRIVATE SECTOR","CH1 1DA",null,null,"CHESTER CH1",78109,78,"Employment services              ",0.1176282196328419,null,null,null,null,null,null,null,null,2795810.2600000012,"*",null,{"$f":"VLOOKUP(A338,'[1]Update Sheet'!$A$3:$Y$15578,25,FALSE)","v":0},"Reportable"]
["MODULECO HEALTHCARE LTD",75798,null,"N","N",true,"GB","N","PRIVATE SECTOR","CH65 4AY",null,null,"ELLESMERE CH65",77390,77,"Rental and leasing services            ",0.13477794599811871,2022,{"$f":"14.73*1000","v":14730},{"$f":"3.45*1000","v":3450},{"$f":"8.63*1000","v":8630},{"$f":"26.81*1000","v":26810},8663756,{"$f":"V339/W339","v":3.094500814658215E-3},"CRP",2774899.19,"*",null,{"$f":"VLOOKUP(A339,'[1]Update Sheet'!$A$3:$Y$15578,25,FALSE)","v":"In Master List"},"Reportable"]
["G S BHOGAL LTD",70508,1,"Y","Y",true,"GB","N","PRIVATE SECTOR","CF3 3LA","South East Wales","Cardiff and Vale UHB","PCS PAY",47730,47,"Retail trade services, except of motor vehicles and motorcycles       ",0.17404287306456559,null,null,null,null,null,null,null,null,2774711.149999999,"*",null,{"$f":"VLOOKUP(A340,'[1]Update Sheet'!$A$3:$Y$15578,25,FALSE)","v":0},"Reportable"]
["REMEDY HEALTHCARE SOLUTIONS LTD",66005,null,"N","N",true,"GB","N","PRIVATE SECTOR","EC1M 6AW",null,null,"UCKFIELD TN22",86210,86,"Human health services             ",0.29193168620018201,null,null,null,null,null,null,null,null,2774126.1,"*",null,{"$f":"VLOOKUP(A341,'[1]Update Sheet'!$A$3:$Y$15578,25,FALSE)","v":0},"Reportable"]
["CHELSEA & WESTMINSTER NHS TRUST",1580,0,null,null,null,"GB","N","PUBLIC SECTOR","SW10 9NH",null,null,"LONDON SW10",null,null,null,null,null,null,null,null,null,null,null,null,134764.51999999999,"*",null,{"$f":"VLOOKUP(A342,'[1]Update Sheet'!$A$3:$Y$15578,25,FALSE)","v":"Public Sector- Exclude"},"Exclude- Intra NHS "]
["NEWTOWN MEDICAL PRACTICE",9507,1,"Y","Y",true,"GB","Y","PRIVATE SECTOR","SY16 1EF","Mid Wales","Powys Teaching HB","PCS PAY",86210,86,"Human health services             ",0.29193168620018201,null,null,null,null,null,null,null,null,2753598.2899999996,"*",null,{"$f":"VLOOKUP(A343,'[1]Update Sheet'!$A$3:$Y$15578,25,FALSE)","v":0},"Reportable"]
["BUNZL HEALTHCARE",284,null,"N","N",true,"GB","N","PRIVATE SECTOR",null,null,null,{"$error":"#N/A"},46900,46,"Wholesale trade services, except of motor vehicles and motorcycles       ",2.0310031510736858E-2,null,null,null,null,null,null,null,null,0,null,null,{"$f":"VLOOKUP(A344,'[1]Update Sheet'!$A$3:$Y$15578,25,FALSE)","v":0},"Reportable"]
["BELLEVUE GROUP PRACTICE",46920,1,"Y","Y",true,"GB","Y","PRIVATE SECTOR","NP20 2WQ","South East Wales","Aneurin Bevan UHB","NEWPORT NP20",86210,86,"Human health services             ",0.29193168620018201,null,null,null,null,null,null,null,null,2747945.77,"*",null,{"$f":"VLOOKUP(A345,'[1]Update Sheet'!$A$3:$Y$15578,25,FALSE)","v":0},"Reportable"]
["HAYGARTH DOCTORS",9437,1,"Y","Y",true,"GB","Y","PRIVATE SECTOR","HR3 5DS","Mid Wales","Powys Teaching HB","PCS PAY",86210,86,"Human health services             ",0.29193168620018201,null,null,null,null,null,null,null,null,2746179.84,"*",null,{"$f":"VLOOKUP(A346,'[1]Update Sheet'!$A$3:$Y$15578,25,FALSE)","v":0},"Reportable"]
["MONTGOMERY MEDICAL PRACTICE",15169,1,"Y","Y",true,"GB","Y","PRIVATE SECTOR","SY15 6PF","Mid Wales","Powys Teaching HB","PCS PAY",86210,86,"Human health services             ",0.29193168620018201,null,null,null,null,null,null,null,null,2733385.2699999996,"*",null,{"$f":"VLOOKUP(A347,'[1]Update Sheet'!$A$3:$Y$15578,25,FALSE)","v":0},"Reportable"]
["NORTH MEOLS PHARMACY LTD",68633,null,"N","Y","Removal of a False Welsh Supplier","GB","Y","PRIVATE SECTOR",null,null,null,"PCS PAY",86900,86,"Human health services             ",0.29193168620018201,null,null,null,null,null,null,null,null,2726685.17,"*",null,{"$f":"VLOOKUP(A348,'[1]Update Sheet'!$A$3:$Y$15578,25,FALSE)","v":0},"Reportable"]
["LT CHEMISTS LTD",68535,1,"Y","Y",true,"GB","Y","PRIVATE SECTOR","CF14 0SF","South East Wales","Cardiff and Vale UHB","PCS PAY",47730,47,"Retail trade services, except of motor vehicles and motorcycles       ",0.17404287306456559,null,null,null,null,null,null,null,null,2720620.16,"*",null,{"$f":"VLOOKUP(A349,'[1]Update Sheet'!$A$3:$Y$15578,25,FALSE)","v":0},"Reportable"]
["REDCORTEX LTD",65505,1,"Y","Y",true,"GB","Y","PRIVATE SECTOR","CF24 0EB","South East Wales","Cardiff and Vale UHB","CARDIFF CF24",62020,62,"Computer programming, consultancy and related services          ",0.13144659704407699,null,null,null,null,null,null,null,null,2712221.07,"*",null,{"$f":"VLOOKUP(A350,'[1]Update Sheet'!$A$3:$Y$15578,25,FALSE)","v":0},"Reportable"]
["FFERYLLWYR LLYN CYF",61744,1,"Y","Y",true,"GB","Y","PRIVATE SECTOR","LL53 5TL","North Wales","Betsi Cadwaladr UHB","PCS PAY",47730,47,"Retail trade services, except of motor vehicles and motorcycles       ",0.17404287306456559,null,null,null,null,null,null,null,null,2696875.4,"*",null,{"$f":"VLOOKUP(A351,'[1]Update Sheet'!$A$3:$Y$15578,25,FALSE)","v":0},"Reportable"]
["HSL PATHOLOGY LLP",56797,null,"N","N",true,"GB","Y","PRIVATE SECTOR","WC1H 9AX",null,null,"LONDON W1T",86900,86,"Human health services             ",0.29193168620018201,2022,290870,1160000,502370,{"$f":"SUM(S352:U352)","v":1953240},{"$f":"38590*1000","v":38590000},{"$f":"V352/W352","v":5.0615185281160921E-2},null,2687478.46,"*",null,{"$f":"VLOOKUP(A352,'[1]Update Sheet'!$A$3:$Y$15578,25,FALSE)","v":"In Master List"},"Reportable"]
["CHRYSTAL CONSULTING LTD",55632,null,"N","N",true,"GB","N","PRIVATE SECTOR","M22 5HQ",null,null,"PHARMACY",64910,64,"Financial services, except insurance and pension funding         ",0.1103075939416239,null,null,null,null,null,null,null,null,2682715.9300000002,"*",null,{"$f":"VLOOKUP(A353,'[1]Update Sheet'!$A$3:$Y$15578,25,FALSE)","v":0},"Reportable"]
["PENDRE SURGERY HOLYWELL",68860,1,"Y","Y",true,"GB","Y","PRIVATE SECTOR","CH8 7UP","North Wales","Betsi Cadwaladr UHB","PCS PAY",86210,86,"Human health services             ",0.29193168620018201,null,null,null,null,null,null,null,null,2680326.48,"*",null,{"$f":"VLOOKUP(A354,'[1]Update Sheet'!$A$3:$Y$15578,25,FALSE)","v":0},"Reportable"]
["VOLKSWAGEN GROUP LEASING",44159,null,"N","N",true,"GB","N","PRIVATE SECTOR","MK14 5LR",null,null,"MILTON KE MK14",45111,45,"Wholesale and retail trade and repair services of motor vehicles and motorcycles    ",0.21034629699726889,null,null,null,null,null,null,null,null,2672710.1500000004,"*",null,{"$f":"VLOOKUP(A355,'[1]Update Sheet'!$A$3:$Y$15578,25,FALSE)","v":0},"Reportable"]
["APETITO LTD",13116,null,"N","N",true,"GB","N","PRIVATE SECTOR","BS20 7XT",null,null,"TROWBRIDG BA14",10850,10.8,"Other food products             ",0.6606259935217188,null,null,null,null,null,null,null,null,2664731.9500000002,"*",null,{"$f":"VLOOKUP(A356,'[1]Update Sheet'!$A$3:$Y$15578,25,FALSE)","v":0},"Reportable"]
["MEDDYG CARE PORTMADOG LTD",61892,1,"Y","Y",true,"GB","Y","PRIVATE SECTOR","LL49 9BN","North Wales","Betsi Cadwaladr UHB","PORTHMAD LL49",87300,87,"Residential care services             ",0.16514437058930551,null,null,null,null,null,null,null,null,2652997.9300000011,"*",null,{"$f":"VLOOKUP(A357,'[1]Update Sheet'!$A$3:$Y$15578,25,FALSE)","v":0},"Reportable"]
["PATHWAYS ALLIANCE LTD",63998,null,"N","N",true,"GB","Y","PRIVATE SECTOR","DH1 3YG",null,null,"DURHAM DH1",70229,70,"Services of head offices; management consulting services         ",9.3681183759862049E-2,null,null,null,null,null,null,null,null,2605579.0699999998,"*",null,{"$f":"VLOOKUP(A358,'[1]Update Sheet'!$A$3:$Y$15578,25,FALSE)","v":0},"Reportable"]
["CEPHEID UK LTD",20928,null,"N","N",true,"GB","Y","PRIVATE SECTOR","HP10 0HH",null,null,"HIGH WYCO HP11",46190,46,"Wholesale trade services, except of motor vehicles and motorcycles       ",2.0310031510736858E-2,null,null,null,null,null,null,null,null,2603444.02,"*",null,{"$f":"VLOOKUP(A359,'[1]Update Sheet'!$A$3:$Y$15578,25,FALSE)","v":0},"Reportable"]
["COMPLETE CARE SOUTH WALES LTD",68428,1,"Y","Y",true,"GB","Y","PRIVATE SECTOR","NP22 5LP","South East Wales","Aneurin Bevan UHB","PCS PAY",86900,86,"Human health services             ",0.29193168620018201,null,null,null,null,null,null,null,null,2593907.7799999998,"*",null,{"$f":"VLOOKUP(A360,'[1]Update Sheet'!$A$3:$Y$15578,25,FALSE)","v":0},"Reportable"]
["SPEEDS PHARMACY LTD",68692,1,"Y","Y",true,"GB","Y","PRIVATE SECTOR","CH7 6UY","North Wales","Betsi Cadwaladr UHB","PCS PAY",86900,86,"Human health services             ",0.29193168620018201,null,null,null,null,null,null,null,null,2576414.5699999998,"*",null,{"$f":"VLOOKUP(A361,'[1]Update Sheet'!$A$3:$Y$15578,25,FALSE)","v":0},"Reportable"]
["CHESHIRE & WIRRAL PARTNERSHIP",23272,0,null,null,null,"GB","N","PUBLIC SECTOR","CH2 1BQ",null,null,"CHESTER CH2",0,0,0,null,null,null,null,null,null,null,null,null,175922.66999999998,"*",null,{"$f":"VLOOKUP(A362,'[1]Update Sheet'!$A$3:$Y$15578,25,FALSE)","v":"Public Sector- Exclude"},"Exclude- Intra NHS "]
["PONTLLANFRAITH PHARMACY LTD",68670,1,"Y","Y",true,"GB","Y","PRIVATE SECTOR",null,"South East Wales","Aneurin Bevan UHB","PCS PAY",86900,86,"Human health services             ",0.29193168620018201,null,null,null,null,null,null,null,null,2558837.83,"*",null,{"$f":"VLOOKUP(A363,'[1]Update Sheet'!$A$3:$Y$15578,25,FALSE)","v":0},"Reportable"]
["NATIONAL LAW PARTNERS LTD T/A GREGORY ABRAMS DAVIDSON",59431,null,"N","N",true,"GB","Y","PRIVATE SECTOR","L2 3HD",null,null,"LIVERPOOL L2",69102,69.099999999999994,"Legal services              ",5.7877621976311508E-2,null,null,null,null,null,null,null,null,2555000,"*",null,{"$f":"VLOOKUP(A364,'[1]Update Sheet'!$A$3:$Y$15578,25,FALSE)","v":0},"Reportable"]
["RIVERSDALE SURGERY",12639,1,"Y","Y",true,"GB","Y","PRIVATE SECTOR","CF31 3NL","South East Wales","Cwm Taf Morgannwg UHB","PCS PAY",86210,86,"Human health services             ",0.29193168620018201,null,null,null,null,null,null,null,null,2554996.7599999988,"*",null,{"$f":"VLOOKUP(A365,'[1]Update Sheet'!$A$3:$Y$15578,25,FALSE)","v":0},"Reportable"]
["M AND D CARE OPERATIONS LTD",76660,1,"Y","Y",true,"GB","Y","PRIVATE SECTOR","SA14 8YP","South West Wales","Hywel Dda UHB","LLANELLI SA14",87200,87,"Residential care services             ",0.16514437058930551,null,null,null,null,null,null,null,null,2553027.02,"*",null,{"$f":"VLOOKUP(A366,'[1]Update Sheet'!$A$3:$Y$15578,25,FALSE)","v":0},"Reportable"]
["OAK TREE SURGERY",12261,1,"Y","Y",true,"GB","Y","PRIVATE SECTOR","CF31 2PQ","South East Wales","Cwm Taf Morgannwg UHB","PCS PAY",86210,86,"Human health services             ",0.29193168620018201,null,null,null,null,null,null,null,null,2542169.58,"*",null,{"$f":"VLOOKUP(A367,'[1]Update Sheet'!$A$3:$Y$15578,25,FALSE)","v":0},"Reportable"]
["JJ & VJ REED LTD",68522,1,"Y","Y",true,"GB","Y","PRIVATE SECTOR",null,"South East Wales","Cwm Taf Morgannwg UHB","PCS PAY",86900,86,"Human health services             ",0.29193168620018201,null,null,null,null,null,null,null,null,2540835.62,"*",null,{"$f":"VLOOKUP(A368,'[1]Update Sheet'!$A$3:$Y$15578,25,FALSE)","v":0},"Reportable"]
["DAYS RENTAL",17824,1,"Y","Y",true,"GB","N","PRIVATE SECTOR","SA4 4LL","South West Wales","Swansea Bay UHB","SWANSEA SA4",74990,74,"Other professional, scientific and technical services          ",0.19142587698446711,2022,77820,117950,337350,533120,257577000,3.8427344056340398E-3,null,2533690.0700000036,"*",null,{"$f":"VLOOKUP(A369,'[1]Update Sheet'!$A$3:$Y$15578,25,FALSE)","v":"In Master List"},"Reportable"]
["FOREIGN PAYMENTS",41622,null,"N","N",true,"PT","N","PRIVATE SECTOR",null,null,null,"FOREIGN",86101,86,"Human health services             ",0.29193168620018201,null,null,null,null,null,null,null,null,2528944.09,"*",null,{"$f":"VLOOKUP(A370,'[1]Update Sheet'!$A$3:$Y$15578,25,FALSE)","v":0},"Reportable"]
["PETER T GRIFFITHS LTD",54607,1,"Y","Y",true,"GB","Y","PRIVATE SECTOR","LL32 8FA","North Wales","Betsi Cadwaladr UHB","ESTATES",41201,41.2,"Buildings and building construction works           ",0.30500636264243469,null,null,null,null,null,null,null,null,2521503.9,"*",null,{"$f":"VLOOKUP(A371,'[1]Update Sheet'!$A$3:$Y$15578,25,FALSE)","v":0},"Reportable"]
["EJ PHARM LTD",68447,1,"Y","Y",true,"GB","Y","PRIVATE SECTOR","SA4 8TL","South West Wales","Swansea Bay UHB","PCS PAY",47730,47,"Retail trade services, except of motor vehicles and motorcycles       ",0.17404287306456559,null,null,null,null,null,null,null,null,2512013.08,"*",null,{"$f":"VLOOKUP(A372,'[1]Update Sheet'!$A$3:$Y$15578,25,FALSE)","v":0},"Reportable"]
["WHISTL (SOUTH WEST)",32113,null,"N","N",true,"GB","Y","PRIVATE SECTOR","BS34 5TA",null,null,"MARLOW SL7",53201,53,"Postal and courier services            ",0.24937981289031211,2022,17820000,1380000,356243000,{"$f":"SUM(S373:U373)","v":375443000},{"$f":"732851*1000","v":732851000},{"$f":"V373/W373","v":0.51230468403536322},null,2509339.54,"*",null,{"$f":"VLOOKUP(A373,'[1]Update Sheet'!$A$3:$Y$15578,25,FALSE)","v":"Review as T2 higher than T1"},"Reportable"]
["CWM GELLI CARE LTD TA FIELDBAY",69577,1,"Y","Y",true,"GB","Y","PRIVATE SECTOR","SA7 9LA","South West Wales","Swansea Bay UHB","SWANSEA SA7",87300,87,"Residential care services             ",0.16514437058930551,null,null,null,null,null,null,null,null,2505985.8199999998,"*",null,{"$f":"VLOOKUP(A374,'[1]Update Sheet'!$A$3:$Y$15578,25,FALSE)","v":0},"Reportable"]
["IN PRACTICE SYSTEMS LTD",22984,null,"N","N",true,"GB","Y","PRIVATE SECTOR","SW8 3HE",null,null,"LONDON SW8",58290,58,"Publishing services              ",8.0219457227851232E-2,null,null,null,null,null,null,null,null,2503968.23,"*",null,{"$f":"VLOOKUP(A375,'[1]Update Sheet'!$A$3:$Y$15578,25,FALSE)","v":0},"Reportable"]
["HARVI LTD TA THE PHARMACY COEDPOETH LTD",68705,1,"Y","Y",true,"GB","Y","PRIVATE SECTOR","LL113LS","North Wales","Betsi Cadwaladr UHB","PCS PAY",86900,86,"Human health services             ",0.29193168620018201,null,null,null,null,null,null,null,null,2503138.1,"*",null,{"$f":"VLOOKUP(A376,'[1]Update Sheet'!$A$3:$Y$15578,25,FALSE)","v":0},"Reportable"]
["BRYNDERWEN SURGERY",1446,1,"Y","Y",true,"GB","Y","PRIVATE SECTOR","CF3 0EF","South East Wales","Cardiff and Vale UHB","CARDIFF CF3",86210,86,"Human health services             ",0.29193168620018201,null,null,null,null,null,null,null,null,2501233.65,"*",null,{"$f":"VLOOKUP(A377,'[1]Update Sheet'!$A$3:$Y$15578,25,FALSE)","v":0},"Reportable"]
["THE WAVERLEY CARE CENTRE LTD",2090,1,"Y","Y",true,"GB","Y","PRIVATE SECTOR","CF64 5DN","South East Wales","Cardiff and Vale UHB","PENARTH CF64",86900,86,"Human health services             ",0.29193168620018201,null,null,null,null,null,null,null,null,2499982.8900000011,"*",null,{"$f":"VLOOKUP(A378,'[1]Update Sheet'!$A$3:$Y$15578,25,FALSE)","v":0},"Reportable"]
["AA RX LTD",68405,null,"N","Y","Removal of a False Welsh Supplier","GB","Y","PRIVATE SECTOR","CV9 2EW",null,null,"PCS PAY",47730,47,"Retail trade services, except of motor vehicles and motorcycles       ",0.17404287306456559,null,null,null,null,null,null,null,null,2483501.08,"*",null,{"$f":"VLOOKUP(A379,'[1]Update Sheet'!$A$3:$Y$15578,25,FALSE)","v":0},"Reportable"]
["CHESTERFIELD ROYAL HOSPITAL NHS TRUST",23578,0,null,null,null,"GB","N","PUBLIC SECTOR","S44 5BL",null,null,"CHESTERFI S44",null,null,null,null,null,null,null,null,null,null,null,null,0,null,null,{"$f":"VLOOKUP(A380,'[1]Update Sheet'!$A$3:$Y$15578,25,FALSE)","v":"Public Sector- Exclude"},"Exclude- Intra NHS "]
["ALEXANDER`S PHARMACIES LTD",68408,null,"N","Y","Removal of a False Welsh Supplier","GB","Y","PRIVATE SECTOR","CH62 3RP",null,null,"PCS PAY",47730,47,"Retail trade services, except of motor vehicles and motorcycles       ",0.17404287306456559,null,null,null,null,null,null,null,null,2476386.61,"*",null,{"$f":"VLOOKUP(A381,'[1]Update Sheet'!$A$3:$Y$15578,25,FALSE)","v":0},"Reportable"]
["UK LASER SUPPLIES LTD",1919,1,"Y","Y",true,"GB","Y","PRIVATE SECTOR","CF3 2PY","South East Wales","Cardiff and Vale UHB","CARDIFF CF3",47410,47,"Retail trade services, except of motor vehicles and motorcycles       ",0.17404287306456559,null,null,null,null,null,null,null,null,2467378.66,"*",null,{"$f":"VLOOKUP(A382,'[1]Update Sheet'!$A$3:$Y$15578,25,FALSE)","v":0},"Reportable"]
["CHRISTIE NHS FOUNDATION TRUST",5473,0,null,null,null,"GB","N","PUBLIC SECTOR","M20 4BX",null,null,"MANCHESTE M20",null,null,null,null,null,null,null,null,null,null,null,null,5607429.46,"*",null,{"$f":"VLOOKUP(A383,'[1]Update Sheet'!$A$3:$Y$15578,25,FALSE)","v":"Public Sector- Exclude"},"Exclude- Intra NHS "]
["FOREST VIEW MEDICAL CENTRE",39020,1,"Y","Y",true,"GB","Y","PRIVATE SECTOR","CF42 6DL","South East Wales","Cwm Taf Morgannwg UHB","PCS PAY",86210,86,"Human health services             ",0.29193168620018201,null,null,null,null,null,null,null,null,2465397.69,"*",null,{"$f":"VLOOKUP(A384,'[1]Update Sheet'!$A$3:$Y$15578,25,FALSE)","v":0},"Reportable"]
["BRITISH TELECOMMUNICATIONS PLC",2884,null,"N","N",true,"GB","N","PRIVATE SECTOR",null,null,null,"CRAWLEY RH10",61900,61,"Telecommunications services              ",0.10520703191029331,null,null,null,null,null,null,null,null,2464153.3800000004,"*",null,{"$f":"VLOOKUP(A385,'[1]Update Sheet'!$A$3:$Y$15578,25,FALSE)","v":0},"Reportable"]
["MEDLINE INDUSTRIES LTD",38053,null,"N","N",true,"GB","Y","PRIVATE SECTOR","WA4 6HL",null,null,"PHARMACY",82990,82,"Office administrative, office support and other business support services       ",0.1180504360352973,2022,45720,63140,683910,792770,67909204,1.16739698495067E-2,"carbon reduction plan",2460070.4699999988,"*",null,{"$f":"VLOOKUP(A386,'[1]Update Sheet'!$A$3:$Y$15578,25,FALSE)","v":"In Master List"},"Reportable"]
["RUMNEY PRIMARY CARE CENTRE",56742,1,"Y","Y",true,"GB","Y","PRIVATE SECTOR","CF3 3LG","South East Wales","Cardiff and Vale UHB","CARDIFF CF3",86210,86,"Human health services             ",0.29193168620018201,null,null,null,null,null,null,null,null,2446114.36,"*",null,{"$f":"VLOOKUP(A387,'[1]Update Sheet'!$A$3:$Y$15578,25,FALSE)","v":0},"Reportable"]
["CONCEPT CARE SOLUTIONS LTD",60733,null,"N","N",true,"GB","Y","PRIVATE SECTOR","HA8 7EL",null,null,"EDGWARE HA8",86101,86,"Human health services             ",0.29193168620018201,null,null,null,null,null,null,null,null,2443660.0899999798,"*",null,{"$f":"VLOOKUP(A388,'[1]Update Sheet'!$A$3:$Y$15578,25,FALSE)","v":0},"Reportable"]
["SWINSON PARRY LTD TA PRITCHARDS PHARMACY",21940,1,"Y","Y",true,"GB","N","PRIVATE SECTOR","LL19 7SR","North Wales","Betsi Cadwaladr UHB","PCS PAY",86900,86,"Human health services             ",0.29193168620018201,null,null,null,null,null,null,null,null,2438623.46,"*",null,{"$f":"VLOOKUP(A389,'[1]Update Sheet'!$A$3:$Y$15578,25,FALSE)","v":0},"Reportable"]
["PORTHCAWL MEDICAL CENTRE",68784,1,"Y","Y",true,"GB","N","PRIVATE SECTOR","CF36 5DJ","South East Wales","Cwm Taf Morgannwg UHB","PCS PAY",86900,86,"Human health services             ",0.29193168620018201,null,null,null,null,null,null,null,null,2418399.7799999998,"*",null,{"$f":"VLOOKUP(A390,'[1]Update Sheet'!$A$3:$Y$15578,25,FALSE)","v":0},"Reportable"]
["RECOVERY CARE LTD",51434,1,"Y","Y",true,"GB","Y","PRIVATE SECTOR","CF3 2PX","South East Wales","Cardiff and Vale UHB","CARDIFF CF3",86900,86,"Human health services             ",0.29193168620018201,null,null,null,null,null,null,null,null,2412422.36,"*",null,{"$f":"VLOOKUP(A391,'[1]Update Sheet'!$A$3:$Y$15578,25,FALSE)","v":0},"Reportable"]
["BT PLC",31811,null,"N","N",true,"GB","N","PRIVATE SECTOR","EC1A 7AJ",null,null,"OXFORD OX4",61900,61,"Telecommunications services              ",0.10520703191029331,2023,180227000,58000,3289171000,3469456000,20669000000,0.16785795152160241,null,2412411.85,"*",null,{"$f":"VLOOKUP(A392,'[1]Update Sheet'!$A$3:$Y$15578,25,FALSE)","v":"Review as T2 higher than T1"},"Reportable"]
["EGLWYS BACH MEDICAL PRACTICE",7682,1,"Y","Y",true,"GB","Y","PRIVATE SECTOR","CF37 2AA","South East Wales","Cwm Taf Morgannwg UHB","PCS PAY",86210,86,"Human health services             ",0.29193168620018201,null,null,null,null,null,null,null,null,2388936.5399999996,"*",null,{"$f":"VLOOKUP(A393,'[1]Update Sheet'!$A$3:$Y$15578,25,FALSE)","v":0},"Reportable"]
["PINETREE CARE SERVICES LTD",39560,1,"Y","Y",true,"GB","Y","PRIVATE SECTOR","CF3 0LT","South East Wales","Cardiff and Vale UHB","CARDIFF CF3",86101,86,"Human health services             ",0.29193168620018201,null,null,null,null,null,null,null,null,2385876.64,"*",null,{"$f":"VLOOKUP(A394,'[1]Update Sheet'!$A$3:$Y$15578,25,FALSE)","v":0},"Reportable"]
["HARLECH FOODSERVICE LTD",4526,1,"Y","Y",true,"GB","Y","PRIVATE SECTOR","LL52 0LJ","North Wales","Betsi Cadwaladr UHB","CRICCIETH LL52",46390,46,"Wholesale trade services, except of motor vehicles and motorcycles       ",2.0310031510736858E-2,null,null,null,null,null,null,null,null,2382623.08,"*",null,{"$f":"VLOOKUP(A395,'[1]Update Sheet'!$A$3:$Y$15578,25,FALSE)","v":0},"Reportable"]
["SUNRISE MEDICAL LTD",845,null,"N","N",true,"GB","N","PRIVATE SECTOR","DY5 2LD",null,null,"BRIERLEY DY5",32990,32,"Other manufactured goods             ",0.67238249414981133,null,null,null,null,null,null,null,null,2379430.58,"*",null,{"$f":"VLOOKUP(A396,'[1]Update Sheet'!$A$3:$Y$15578,25,FALSE)","v":0},"Reportable"]
["NIK PHARMA LTD",68630,1,"Y","Y",true,"GB","Y","PRIVATE SECTOR",null,"South East Wales","Cardiff and Vale UHB","PCS PAY",47730,47,"Retail trade services, except of motor vehicles and motorcycles       ",0.17404287306456559,null,null,null,null,null,null,null,null,2376407.4400000004,"*",null,{"$f":"VLOOKUP(A397,'[1]Update Sheet'!$A$3:$Y$15578,25,FALSE)","v":0},"Reportable"]
["UNISON",6347,1,"Y","Y",true,"GB","N","VCSE","SA1 1DP","South West Wales","Swansea Bay UHB","CARDIFF CF10",84110,84,"Public administration and defence services; compulsory social security services       ",0.1703405261372164,null,null,null,null,null,null,null,null,2374413.42,"*",null,{"$f":"VLOOKUP(A398,'[1]Update Sheet'!$A$3:$Y$15578,25,FALSE)","v":0},"Reportable"]
["PENTYRCH PHARMACY LTD",50973,1,"Y","Y",true,"GB","N","PRIVATE SECTOR","CF15 9TN","South East Wales","Cardiff and Vale UHB","PCS PAY",86900,86,"Human health services             ",0.29193168620018201,null,null,null,null,null,null,null,null,2372733.6,"*",null,{"$f":"VLOOKUP(A399,'[1]Update Sheet'!$A$3:$Y$15578,25,FALSE)","v":0},"Reportable"]
["PETER JAMES PHARMACY LTD",68669,1,"Y","Y",true,"GB","Y","PRIVATE SECTOR","SA11 3LL","South West Wales","Swansea Bay UHB","PCS PAY",86900,86,"Human health services             ",0.29193168620018201,null,null,null,null,null,null,null,null,2370843.88,"*",null,{"$f":"VLOOKUP(A400,'[1]Update Sheet'!$A$3:$Y$15578,25,FALSE)","v":0},"Reportable"]
["LEICA MICROSYSTEMS (UK) LTD",580,null,"N","N",true,"GB","N","PRIVATE SECTOR","MK14 6FG",null,null,"MILTON KE MK5",47990,47,"Retail trade services, except of motor vehicles and motorcycles       ",0.17404287306456559,null,null,null,null,null,null,null,null,2369107.6599999997,"*",null,{"$f":"VLOOKUP(A401,'[1]Update Sheet'!$A$3:$Y$15578,25,FALSE)","v":0},"Reportable"]
["COED DU HALL LTD",37442,null,"N","N",true,"GB","Y","PRIVATE SECTOR","SK8 4BE",null,null,"CHEADLE SK8",87200,87,"Residential care services             ",0.16514437058930551,null,null,null,null,null,null,null,null,2368770.9099999988,"*",null,{"$f":"VLOOKUP(A402,'[1]Update Sheet'!$A$3:$Y$15578,25,FALSE)","v":0},"Reportable"]
["GENMED ME LTD",41700,1,"Y","Y",true,"GB","N","PRIVATE SECTOR","NP44 3GA","South East Wales","Aneurin Bevan UHB","CWMBRAN NP44",64999,64,"Financial services, except insurance and pension funding         ",0.1103075939416239,null,null,null,null,null,null,null,null,2359668.899999999,"*",null,{"$f":"VLOOKUP(A403,'[1]Update Sheet'!$A$3:$Y$15578,25,FALSE)","v":0},"Reportable"]
["ABBVIE LTD",46534,null,"N","N",true,"GB","N","PRIVATE SECTOR","SL6 4UB",null,null,"PHARMACY",46460,46,"Wholesale trade services, except of motor vehicles and motorcycles       ",2.0310031510736858E-2,2022,634000,214000,5980000,6828000,254292000,2.6851021660138738E-2,null,2359118.27,"*",null,{"$f":"VLOOKUP(A404,'[1]Update Sheet'!$A$3:$Y$15578,25,FALSE)","v":"Review as T2 higher than T1"},"Reportable"]
["CABINET OFFICE",65750,1,"Y","Y",true,"GB","Y","PUBLIC SECTOR","NP10 8FZ","South East Wales","Aneurin Bevan UHB","NEWPORT NP10",82990,82,"Office administrative, office support and other business support services       ",0.1180504360352973,null,null,null,null,null,null,null,null,2355644.0499999998,"*",null,{"$f":"VLOOKUP(A405,'[1]Update Sheet'!$A$3:$Y$15578,25,FALSE)","v":0},"Reportable"]
["BEECH HOUSE SURGERY",54114,1,"Y","Y",true,"GB","Y","PRIVATE SECTOR","LL16 3AY","North Wales","Betsi Cadwaladr UHB","PCS PAY",86210,86,"Human health services             ",0.29193168620018201,null,null,null,null,null,null,null,null,2354642.56,"*",null,{"$f":"VLOOKUP(A406,'[1]Update Sheet'!$A$3:$Y$15578,25,FALSE)","v":0},"Reportable"]
["BRITISH PREGNANCY ADVISORY SERVICE (BPAS)",15142,null,"N","N",true,"GB","N","VCSE","CV37 9BF",null,null,"STRATFORD CV37",86220,86,"Human health services             ",0.29193168620018201,null,null,null,null,null,null,null,null,2350495.25,"*",null,{"$f":"VLOOKUP(A407,'[1]Update Sheet'!$A$3:$Y$15578,25,FALSE)","v":0},"Reportable"]
["OLD STATION SURGERY",68781,1,"Y","Y",true,"GB","N","PRIVATE SECTOR","NP7 5AQ","South East Wales","Aneurin Bevan UHB","PCS PAY",86900,86,"Human health services             ",0.29193168620018201,null,null,null,null,null,null,null,null,2328464.7400000002,"*",null,{"$f":"VLOOKUP(A408,'[1]Update Sheet'!$A$3:$Y$15578,25,FALSE)","v":0},"Reportable"]
["LYRECO UK LTD",13173,null,"N","N",true,"GB","N","PRIVATE SECTOR","TF2 7NB",null,null,"TELFORD TF2",46660,46,"Wholesale trade services, except of motor vehicles and motorcycles       ",2.0310031510736858E-2,2023,3781000,0,3579000,7360000,279145000,2.6366225438392232E-2,null,2325198.5500000012,"*",null,{"$f":"VLOOKUP(A409,'[1]Update Sheet'!$A$3:$Y$15578,25,FALSE)","v":"Review as T2 higher than T1"},"Reportable"]
["RESMED (UK) LTD",3511,null,"N","N",true,"GB","N","PRIVATE SECTOR","OX11 0GD",null,null,"ABINGDON OX14",46900,46,"Wholesale trade services, except of motor vehicles and motorcycles       ",2.0310031510736858E-2,null,null,null,null,null,null,null,null,2317481.7399999998,"*",null,{"$f":"VLOOKUP(A410,'[1]Update Sheet'!$A$3:$Y$15578,25,FALSE)","v":0},"Reportable"]
["ST DAVIDS FOUNDATION (ST DAVIDS HOSPICE CARE LTD)",15267,1,"Y","Y",true,"GB","Y","PRIVATE SECTOR","NP20 6NH","South East Wales","Aneurin Bevan UHB","NEWPORT NP20",82990,82,"Office administrative, office support and other business support services       ",0.1180504360352973,null,null,null,null,null,null,null,null,2311766.3900000011,"*",null,{"$f":"VLOOKUP(A411,'[1]Update Sheet'!$A$3:$Y$15578,25,FALSE)","v":0},"Reportable"]
["PONTYPOOL MEDICAL CENTRE",28519,1,"Y","Y",true,"GB","N","PRIVATE SECTOR","NP4 6DH","South East Wales","Aneurin Bevan UHB","PCS PAY",86900,86,"Human health services             ",0.29193168620018201,null,null,null,null,null,null,null,null,2311267.27,"*",null,{"$f":"VLOOKUP(A412,'[1]Update Sheet'!$A$3:$Y$15578,25,FALSE)","v":0},"Reportable"]
["CAEREINION MEDICAL PRACTICE",8431,1,"Y","Y",true,"GB","Y","PRIVATE SECTOR","SY21 0RT","Mid Wales","Powys Teaching HB","PCS PAY",86210,86,"Human health services             ",0.29193168620018201,null,null,null,null,null,null,null,null,2298395.8199999998,"*",null,{"$f":"VLOOKUP(A413,'[1]Update Sheet'!$A$3:$Y$15578,25,FALSE)","v":0},"Reportable"]
["SEROSEP UK LTD",62867,null,"N","N",true,"GB","Y","PRIVATE SECTOR","RH10 9SY",null,null,"CRAWLEY RH10",74909,74,"Other professional, scientific and technical services          ",0.19142587698446711,null,null,null,null,null,null,null,null,2292567.36,"*",null,{"$f":"VLOOKUP(A414,'[1]Update Sheet'!$A$3:$Y$15578,25,FALSE)","v":0},"Reportable"]
["FISHER & PAYKEL HEALTHCARE LTD",461,null,"N","N",true,"GB","Y","PRIVATE SECTOR","SL6 7BU",null,null,"MAIDENHEA SL6",86900,86,"Human health services             ",0.29193168620018201,2023,2287000,14529000,345129000,361945000,1248200000,0.289973561929178,null,2291928.58,"*",null,{"$f":"VLOOKUP(A415,'[1]Update Sheet'!$A$3:$Y$15578,25,FALSE)","v":"In Master List"},"Reportable"]
["UNIPHAR MEDTECH UK LTD TA CARDIAC SERVICES",396,null,"N","N",true,"GB","N","PRIVATE SECTOR","SK10 4NL",null,null,"MACCLESFI SK10",86900,86,"Human health services             ",0.29193168620018201,null,null,null,null,null,null,null,null,344898.6700000001,"*",null,{"$f":"VLOOKUP(A416,'[1]Update Sheet'!$A$3:$Y$15578,25,FALSE)","v":0},"Reportable"]
["FURNACE HOUSE SURGERY",8031,1,"Y","Y",true,"GB","Y","PRIVATE SECTOR","SA31 1EX","South West Wales","Hywel Dda UHB","PCS PAY",86210,86,"Human health services             ",0.29193168620018201,null,null,null,null,null,null,null,null,2288275.7000000002,"*",null,{"$f":"VLOOKUP(A417,'[1]Update Sheet'!$A$3:$Y$15578,25,FALSE)","v":0},"Reportable"]
["ST JOHNS MEDICAL PRACTICE",38122,1,"Y","Y",true,"GB","Y","PRIVATE SECTOR","CF44 7DD","South East Wales","Cwm Taf Morgannwg UHB","PCS PAY",86900,86,"Human health services             ",0.29193168620018201,null,null,null,null,null,null,null,null,2286978.94,"*",null,{"$f":"VLOOKUP(A418,'[1]Update Sheet'!$A$3:$Y$15578,25,FALSE)","v":0},"Reportable"]
["TAFFVALE PRACTICE",51637,1,"Y","Y",true,"GB","Y","PRIVATE SECTOR","CF37 5RW","South East Wales","Cwm Taf Morgannwg UHB","PCS PAY",86210,86,"Human health services             ",0.29193168620018201,null,null,null,null,null,null,null,null,2286800.14,"*",null,{"$f":"VLOOKUP(A419,'[1]Update Sheet'!$A$3:$Y$15578,25,FALSE)","v":0},"Reportable"]
["YOUR WORLD RECRUITMENT LTD",30245,null,"N","N",true,"GB","N","PRIVATE SECTOR","TN34 1BG",null,null,"LONDON EC2A",78200,78,"Employment services              ",0.1176282196328419,2022,30480,8520,182910,{"$f":"SUM(S420:U420)","v":221910},66839708,{"$f":"V420/W420","v":3.3200324573530453E-3},null,2283744.9700000002,"*",null,{"$f":"VLOOKUP(A420,'[1]Update Sheet'!$A$3:$Y$15578,25,FALSE)","v":"In Master List"},"Reportable"]
["TY-ELLI GROUP PRACTICE",19437,1,"Y","Y",true,"GB","Y","PRIVATE SECTOR","SA15 3BD","South West Wales","Hywel Dda UHB","PCS PAY",86210,86,"Human health services             ",0.29193168620018201,null,null,null,null,null,null,null,null,2282951.37,"*",null,{"$f":"VLOOKUP(A421,'[1]Update Sheet'!$A$3:$Y$15578,25,FALSE)","v":0},"Reportable"]
["ALCON EYE CARE UK LTD",75,null,"N","N",true,"GB","N","PRIVATE SECTOR","GU16 7SR",null,null,"PHARMACY",74909,74,"Other professional, scientific and technical services          ",0.19142587698446711,null,null,null,null,null,null,null,null,2280795.35,"*",null,{"$f":"VLOOKUP(A422,'[1]Update Sheet'!$A$3:$Y$15578,25,FALSE)","v":0},"Reportable"]
["AMBU (UK) LTD",1770,null,"N","N",true,"GB","N","PRIVATE SECTOR","PE27 3LE",null,null,"ST IVES PE27",86101,86,"Human health services             ",0.29193168620018201,null,null,null,null,null,null,null,null,2277802.1500000004,"*",null,{"$f":"VLOOKUP(A423,'[1]Update Sheet'!$A$3:$Y$15578,25,FALSE)","v":0},"Reportable"]
["WEST QUAY MEDICAL CENTRE",43524,1,"Y","Y",true,"GB","Y","PRIVATE SECTOR","CF62 5QN","South East Wales","Cardiff and Vale UHB","PCS PAY",86210,86,"Human health services             ",0.29193168620018201,null,null,null,null,null,null,null,null,2276166.66,"*",null,{"$f":"VLOOKUP(A424,'[1]Update Sheet'!$A$3:$Y$15578,25,FALSE)","v":0},"Reportable"]
["MEDDYG CARE (CRICCIETH) LTD",70837,1,"Y","Y",true,"GB","Y","PRIVATE SECTOR","LL52 0DE","North Wales","Betsi Cadwaladr UHB","CRICCIETH LL52",87100,87,"Residential care services             ",0.16514437058930551,null,null,null,null,null,null,null,null,2275073.71,"*",null,{"$f":"VLOOKUP(A425,'[1]Update Sheet'!$A$3:$Y$15578,25,FALSE)","v":0},"Reportable"]
["DYFI VALLEY HEALTH",14723,1,"Y","Y",true,"GB","Y","PRIVATE SECTOR","SY20 8LB","Mid Wales","Powys Teaching HB","PCS PAY",86210,86,"Human health services             ",0.29193168620018201,null,null,null,null,null,null,null,null,2273648.34,"*",null,{"$f":"VLOOKUP(A426,'[1]Update Sheet'!$A$3:$Y$15578,25,FALSE)","v":0},"Reportable"]
["CLINICAL NEGLIGENCE SERVICES LTD T/A ENABLE LAW",62183,null,"N","N",true,"GB","N","PRIVATE SECTOR","PL4 0BN",null,null,"CLIENT ACCOUNT",69102,69.099999999999994,"Legal services              ",5.7877621976311508E-2,null,null,null,null,null,null,null,null,2273465.7000000002,"*",null,{"$f":"VLOOKUP(A427,'[1]Update Sheet'!$A$3:$Y$15578,25,FALSE)","v":0},"Reportable"]
["PARC CANOL GROUP PRACTICE",26064,1,"Y","Y",true,"GB","Y","PRIVATE SECTOR","CF38 1RJ","South East Wales","Cwm Taf Morgannwg UHB","PCS PAY",86210,86,"Human health services             ",0.29193168620018201,null,null,null,null,null,null,null,null,2260433.2799999998,"*",null,{"$f":"VLOOKUP(A428,'[1]Update Sheet'!$A$3:$Y$15578,25,FALSE)","v":0},"Reportable"]
["NUFFIELD HEALTH",36991,null,"N","N",true,"GB","N","PRIVATE SECTOR","HR1 1DF",null,null,"HEREFORD HR1",86101,86,"Human health services             ",0.29193168620018201,null,null,null,null,null,null,null,null,2259764.52,"*",null,{"$f":"VLOOKUP(A429,'[1]Update Sheet'!$A$3:$Y$15578,25,FALSE)","v":0},"Reportable"]
["PENARTH HEALTHCARE PARTNERSHIP",17147,1,"Y","Y",true,"GB","Y","PRIVATE SECTOR","CF64 3XE","South East Wales","Cardiff and Vale UHB","PCS PAY",86210,86,"Human health services             ",0.29193168620018201,null,null,null,null,null,null,null,null,2256813.0099999998,"*",null,{"$f":"VLOOKUP(A430,'[1]Update Sheet'!$A$3:$Y$15578,25,FALSE)","v":0},"Reportable"]
["FIELDBAY TY NEWYDD LTD",69023,1,"Y","Y",true,"GB","Y","PRIVATE SECTOR","SA7 9LA","South West Wales","Swansea Bay UHB","SWANSEA SA7",87300,87,"Residential care services             ",0.16514437058930551,null,null,null,null,null,null,null,null,2251250.7599999998,"*",null,{"$f":"VLOOKUP(A431,'[1]Update Sheet'!$A$3:$Y$15578,25,FALSE)","v":0},"Reportable"]
["BODOWEN SURGERY",27214,1,"Y","Y",true,"GB","Y","PRIVATE SECTOR","CH8 7GA","North Wales","Betsi Cadwaladr UHB","PCS PAY",86210,86,"Human health services             ",0.29193168620018201,null,null,null,null,null,null,null,null,2244067.79,"*",null,{"$f":"VLOOKUP(A432,'[1]Update Sheet'!$A$3:$Y$15578,25,FALSE)","v":0},"Reportable"]
["DAN STACEY CONSTRUCTION LTD",73213,1,"Y","Y",true,"GB","N","PRIVATE SECTOR","NP44 3AS","South East Wales","Aneurin Bevan UHB","CWMBRAN NP44",41100,"42.1-2","Constructions and construction works for civil engineering         ",0.38802246325570439,null,null,null,null,null,null,null,null,2242939.25,"*",null,{"$f":"VLOOKUP(A433,'[1]Update Sheet'!$A$3:$Y$15578,25,FALSE)","v":0},"Reportable"]
["PONT NEWYDD MEDICAL CENTRE",42966,1,"Y","Y",true,"GB","Y","PRIVATE SECTOR","CF39 0LD","South East Wales","Cwm Taf Morgannwg UHB","PCS PAY",86210,86,"Human health services             ",0.29193168620018201,null,null,null,null,null,null,null,null,2234241.13,"*",null,{"$f":"VLOOKUP(A434,'[1]Update Sheet'!$A$3:$Y$15578,25,FALSE)","v":0},"Reportable"]
["PULSE HEALTHCARE LTD",34336,null,"N","N",true,"GB","N","PRIVATE SECTOR","EN10 6NH",null,null,"TURNFOLD EN10",78200,78,"Employment services              ",0.1176282196328419,2022,1527400,580300,5078600,7186300,2280531000,3.1511520781782841E-3,null,2230229.3800000018,"*",null,{"$f":"VLOOKUP(A435,'[1]Update Sheet'!$A$3:$Y$15578,25,FALSE)","v":"In Master List"},"Reportable"]
["CORNWALL PARTNERSHIP NHS TRUST",5448,0,null,null,null,"GB","N","PUBLIC SECTOR","PL31 2QN",null,null,"BODMIN PL31",0,0,0,null,null,null,null,null,null,null,null,null,0,null,null,{"$f":"VLOOKUP(A436,'[1]Update Sheet'!$A$3:$Y$15578,25,FALSE)","v":{"$error":"#N/A"}},"Exclude- Intra NHS "]
["SPIRE HEALTHCARE LTD",61648,null,"N","N",true,"GB","N","PRIVATE SECTOR","RG1 2PQ",null,null,"READING RG1",86101,86,"Human health services             ",0.29193168620018201,null,null,null,null,null,null,null,null,2226244.16,"*",null,{"$f":"VLOOKUP(A437,'[1]Update Sheet'!$A$3:$Y$15578,25,FALSE)","v":0},"Reportable"]
["SISK HEALTHCARE UK LTD TA CARDIAC SERVICES",396,null,"N","N",true,"GB","Y","PRIVATE SECTOR",null,null,null,{"$error":"#N/A"},86900,86,"Human health services             ",0.29193168620018201,null,null,null,null,null,null,null,null,0,null,null,{"$f":"VLOOKUP(A438,'[1]Update Sheet'!$A$3:$Y$15578,25,FALSE)","v":{"$error":"#N/A"}},"Reportable"]
["GRAVELLS PHARMACY LTD",68497,1,"Y","Y",true,"GB","Y","PRIVATE SECTOR","SA15 3HP","South West Wales","Hywel Dda UHB","PCS PAY",47730,47,"Retail trade services, except of motor vehicles and motorcycles       ",0.17404287306456559,null,null,null,null,null,null,null,null,2223524.2199999997,"*",null,{"$f":"VLOOKUP(A439,'[1]Update Sheet'!$A$3:$Y$15578,25,FALSE)","v":0},"Reportable"]
["SPIRE HEALTHCARE GROUP PLC",32906,null,"N","N",true,"GB","N","PRIVATE SECTOR","RG1 9PL",null,null,"READING RG1",70100,70,"Services of head offices; management consulting services         ",9.3681183759862049E-2,null,null,null,null,null,null,null,null,2222134.5299999998,"*",null,{"$f":"VLOOKUP(A440,'[1]Update Sheet'!$A$3:$Y$15578,25,FALSE)","v":0},"Reportable"]
["CWM GARW PRACTICE",27000,1,"Y","Y",true,"GB","Y","PRIVATE SECTOR","CF32 8NN","South East Wales","Cwm Taf Morgannwg UHB","PCS PAY",86210,86,"Human health services             ",0.29193168620018201,null,null,null,null,null,null,null,null,2218651.06,"*",null,{"$f":"VLOOKUP(A441,'[1]Update Sheet'!$A$3:$Y$15578,25,FALSE)","v":0},"Reportable"]
["MARCHES MEDICAL PRACTICE",9210,1,"Y","Y",true,"GB","Y","PRIVATE SECTOR","CH4 0NR","North Wales","Betsi Cadwaladr UHB","PCS PAY",86210,86,"Human health services             ",0.29193168620018201,null,null,null,null,null,null,null,null,2215578.63,"*",null,{"$f":"VLOOKUP(A442,'[1]Update Sheet'!$A$3:$Y$15578,25,FALSE)","v":0},"Reportable"]
["MEDDYGFA VICTORIA SURGERY",5002,1,"Y","Y",true,"GB","N","PRIVATE SECTOR","LL65 1UD","North Wales","Betsi Cadwaladr UHB","PCS PAY",86900,86,"Human health services             ",0.29193168620018201,null,null,null,null,null,null,null,null,2213266.0699999998,"*",null,{"$f":"VLOOKUP(A443,'[1]Update Sheet'!$A$3:$Y$15578,25,FALSE)","v":0},"Reportable"]
["AQUILANT ENDOSCOPY LTD",4530,null,"N","N",true,"GB","Y","PRIVATE SECTOR","RG24 8PZ",null,null,"BASINGSTO RG24",47749,47,"Retail trade services, except of motor vehicles and motorcycles       ",0.17404287306456559,2022,{"$f":"246.8356*1000","v":246835.6},{"$f":"199.1786*1000","v":199178.59999999998},{"$f":"181.0145*1000","v":181014.5},{"$f":"SUM(S444:U444)","v":627028.69999999995},{"$f":"11798*1000","v":11798000},{"$f":"V444/W444","v":5.3147033395490755E-2},null,2211655.7799999998,"*",null,{"$f":"VLOOKUP(A444,'[1]Update Sheet'!$A$3:$Y$15578,25,FALSE)","v":"In Master List"},"Reportable"]
["THE SHAW FOUNDATION LTD",13338,1,"Y","Y",true,"GB","Y","PRIVATE SECTOR","CF3 0LT","South East Wales","Cardiff and Vale UHB","CARDIFF CF3",93110,93,"Sports services and amusement and recreation services         ",0.22280360830166321,null,null,null,null,null,null,null,null,2209641.9200000004,"*",null,{"$f":"VLOOKUP(A445,'[1]Update Sheet'!$A$3:$Y$15578,25,FALSE)","v":0},"Reportable"]
["MEDDYGFA PENBRYN SURGERY",59072,1,"Y","Y",true,"GB","N","PRIVATE SECTOR","LL61 6YD","North Wales","Betsi Cadwaladr UHB","PCS PAY",86210,86,"Human health services             ",0.29193168620018201,null,null,null,null,null,null,null,null,2201128.0099999998,"*",null,{"$f":"VLOOKUP(A446,'[1]Update Sheet'!$A$3:$Y$15578,25,FALSE)","v":0},"Reportable"]
["RANDSTAD SOLUTIONS LTD",19524,null,"N","N",true,"GB","N","PRIVATE SECTOR","LU1 3LU",null,null,"LUTON LU4",78200,78,"Employment services              ",0.1176282196328419,2021,335000,513000,8000,{"$f":"SUM(S447:U447)","v":856000},{"$f":"332347*1000","v":332347000},{"$f":"V447/W447","v":2.5756212633181582E-3},null,2198526.609999998,"*",null,{"$f":"VLOOKUP(A447,'[1]Update Sheet'!$A$3:$Y$15578,25,FALSE)","v":"In Master List"},"Reportable"]
["HAFOD Y GREEN REHAB & NURSING CTR",5229,1,"Y","Y",true,"GB","Y","PRIVATE SECTOR","LL16 4UN","North Wales","Betsi Cadwaladr UHB","DENBIGH LL16",87100,87,"Residential care services             ",0.16514437058930551,null,null,null,null,null,null,null,null,2191821.4900000002,"*",null,{"$f":"VLOOKUP(A448,'[1]Update Sheet'!$A$3:$Y$15578,25,FALSE)","v":0},"Reportable"]
["COMMUNITY LIVES CONSORTIUM",54367,1,"Y","Y",true,"GB","N","VCSE","SA1 5NN","South West Wales","Swansea Bay UHB","SWANSEA SA1",87200,87,"Residential care services             ",0.16514437058930551,null,null,null,null,null,null,null,null,2189592.27,"*",null,{"$f":"VLOOKUP(A449,'[1]Update Sheet'!$A$3:$Y$15578,25,FALSE)","v":0},"Reportable"]
["DACEY LTD",433,1,"Y","Y",true,"GB","Y","PRIVATE SECTOR","CF11 8DG","South East Wales","Cardiff and Vale UHB","CARDIFF CF11",15200,15,"Leather and related products            ",0.73443478334510204,null,null,null,null,null,null,null,null,2187141.5800000019,"*",null,{"$f":"VLOOKUP(A450,'[1]Update Sheet'!$A$3:$Y$15578,25,FALSE)","v":0},"Reportable"]
["NEWPORT PHARMACY LTD",55784,1,"Y","Y",true,"GB","N","PRIVATE SECTOR","SA43 0PH","South West Wales","Hywel Dda UHB","PCS PAY",86900,86,"Human health services             ",0.29193168620018201,null,null,null,null,null,null,null,null,2186181.56,"*",null,{"$f":"VLOOKUP(A451,'[1]Update Sheet'!$A$3:$Y$15578,25,FALSE)","v":0},"Reportable"]
["MOLECULAR DIMENSIONS TA LORNE LABORATORIES",587,null,"N","N",true,"GB","N","PRIVATE SECTOR","S60 5XA",null,null,"LOWER EAR RG6",82990,82,"Office administrative, office support and other business support services       ",0.1180504360352973,null,null,null,null,null,null,null,null,24734.9,"*",null,{"$f":"VLOOKUP(A452,'[1]Update Sheet'!$A$3:$Y$15578,25,FALSE)","v":0},"Reportable"]
["CRG HEALTHCARE & MEDICAL STAFFING LTD",48992,null,"N","N",true,"GB","Y","PRIVATE SECTOR","L34 1BH",null,null,"ST HELENS WA9",82990,82,"Office administrative, office support and other business support services       ",0.1180504360352973,null,null,null,null,null,null,null,null,2171970.9700000002,"*",null,{"$f":"VLOOKUP(A453,'[1]Update Sheet'!$A$3:$Y$15578,25,FALSE)","v":0},"Reportable"]
["CWMBRAN VILLAGE SURGERY",55953,1,"Y","Y",true,"GB","N","PRIVATE SECTOR","NP44 3JS","South East Wales","Aneurin Bevan UHB","PCS PAY",86900,86,"Human health services             ",0.29193168620018201,null,null,null,null,null,null,null,null,2163340.4300000002,"*",null,{"$f":"VLOOKUP(A454,'[1]Update Sheet'!$A$3:$Y$15578,25,FALSE)","v":0},"Reportable"]
["ATHONA LTD",22604,null,"N","N",true,"GB","N","PRIVATE SECTOR","CM14 4AP",null,null,"BRENTWOOD CM14",78200,78,"Employment services              ",0.1176282196328419,2023,130520,124940,791710,{"$f":"SUM(S455:U455)","v":1047170},59873750,{"$f":"V455/W455","v":1.7489634439132342E-2},null,2162504.6599999992,"*",null,{"$f":"VLOOKUP(A455,'[1]Update Sheet'!$A$3:$Y$15578,25,FALSE)","v":"In Master List"},"Reportable"]
["CANON MEDICAL SYSTEMS LTD",872,null,"N","N",true,"GB","N","PRIVATE SECTOR","RH10 9AX",null,null,"CRAWLEY RH10",26600,26,"Computer, electronic and optical products           ",0.38174938765811312,2021,689520,0,13200,702640,81897000,8.5795572487392703E-3,null,2162499.04,"*",null,{"$f":"VLOOKUP(A456,'[1]Update Sheet'!$A$3:$Y$15578,25,FALSE)","v":"In Master List"},"Reportable"]
["TY DOCTOR",43982,1,"Y","Y",true,"GB","Y","PRIVATE SECTOR","LL53 6EG","North Wales","Betsi Cadwaladr UHB","PCS PAY",86900,86,"Human health services             ",0.29193168620018201,null,null,null,null,null,null,null,null,2156923.1,"*",null,{"$f":"VLOOKUP(A457,'[1]Update Sheet'!$A$3:$Y$15578,25,FALSE)","v":0},"Reportable"]
["VEOLIA ENERGY & UTILITY SERVICES UK PLC",54531,null,"N","N",true,"GB","N","PRIVATE SECTOR","11",null,null,"DUBLIN 11",35110,35.1,"Electricity, transmission and distribution",1.8815371821710341,null,null,null,null,null,null,null,null,2155843.9500000002,"*",null,{"$f":"VLOOKUP(A458,'[1]Update Sheet'!$A$3:$Y$15578,25,FALSE)","v":"Do not include in master list- EFPMS"},"?"]
["ELEVENTH HOUR MEDICAL LTD",60947,null,"N","N",true,"GB","Y","PRIVATE SECTOR","SG14 1DE",null,null,"HERTFORD SG14",78200,78,"Employment services              ",0.1176282196328419,null,null,null,null,null,null,null,null,2154183.3300000019,"*",null,{"$f":"VLOOKUP(A459,'[1]Update Sheet'!$A$3:$Y$15578,25,FALSE)","v":0},"Reportable"]
["GERAFON SURGERY",56669,1,"Y","Y",true,"GB","Y","PRIVATE SECTOR","LL74 8TF","North Wales","Betsi Cadwaladr UHB","PCS PAY",86900,86,"Human health services             ",0.29193168620018201,null,null,null,null,null,null,null,null,2148234.46,"*",null,{"$f":"VLOOKUP(A460,'[1]Update Sheet'!$A$3:$Y$15578,25,FALSE)","v":0},"Reportable"]
["ACHIEVE TOGETHER LTD",31177,null,"N","N",true,"GB","Y","PRIVATE SECTOR","BA2 1RN",null,null,"BATH BA2",87200,87,"Residential care services             ",0.16514437058930551,null,null,null,null,null,null,null,null,2147340.6,"*",null,{"$f":"VLOOKUP(A461,'[1]Update Sheet'!$A$3:$Y$15578,25,FALSE)","v":0},"Reportable"]
["PHILIPS ELECTRONICS UK LTD",37734,null,"N","N",true,"GB","N","PRIVATE SECTOR","GU14 6XW",null,null,"GUILDFORD GU2",22290,22,"Rubber and plastic products            ",0.57621788964022036,2022,3000,0,32371000,32374000,354000000,9.1451977401129939E-2,"carbon reduction plan",2146013.16,"*",null,{"$f":"VLOOKUP(A462,'[1]Update Sheet'!$A$3:$Y$15578,25,FALSE)","v":"In Master List"},"Reportable"]
["STERIS SOLUTIONS LTD",294,null,"N","N",true,"GB","Y","PRIVATE SECTOR","LE7 1PF",null,null,"LEICESTER LE5",46460,46,"Wholesale trade services, except of motor vehicles and motorcycles       ",2.0310031510736858E-2,2023,576524,264330,3693856,4534710,77515989,5.8500317915056207E-2,null,2143609.8299999996,"*",null,{"$f":"VLOOKUP(A463,'[1]Update Sheet'!$A$3:$Y$15578,25,FALSE)","v":"Review as T2 higher than T1"},"Reportable"]
["CHAPPLE & JENKINS LTD",71829,null,"N","N",true,"GB","Y","PRIVATE SECTOR","BS4 4AR",null,null,"BRISTOL BS4",46900,46,"Wholesale trade services, except of motor vehicles and motorcycles       ",2.0310031510736858E-2,null,null,null,null,null,null,null,null,2143350.8199999989,"*",null,{"$f":"VLOOKUP(A464,'[1]Update Sheet'!$A$3:$Y$15578,25,FALSE)","v":0},"Reportable"]
["JOHN WILLIAMS PHARMACY",57806,1,"Y","Y",true,"GB","N","PRIVATE SECTOR",null,"South East Wales","Aneurin Bevan UHB","PCS PAY",86900,86,"Human health services             ",0.29193168620018201,null,null,null,null,null,null,null,null,2140665.1,"*",null,{"$f":"VLOOKUP(A465,'[1]Update Sheet'!$A$3:$Y$15578,25,FALSE)","v":0},"Reportable"]
["SECRET POTIONS LTD",68683,null,"N","Y","Removal of a False Welsh Supplier","GB","Y","PRIVATE SECTOR",null,null,null,"PCS PAY",47730,47,"Retail trade services, except of motor vehicles and motorcycles       ",0.17404287306456559,null,null,null,null,null,null,null,null,2131076.64,"*",null,{"$f":"VLOOKUP(A466,'[1]Update Sheet'!$A$3:$Y$15578,25,FALSE)","v":0},"Reportable"]
["BOEHRINGER INGELHEIM LTD",56,null,"N","N",true,"GB","N","PRIVATE SECTOR","RG12 8YS",null,null,"PHARMACY",21100,21,"Basic pharmaceutical products and pharmaceutical preparations          ",0.62099518156965727,2022,655000,0,461000,1116000,314669000,3.5465838706704505E-3,null,2130984.6,"*",null,{"$f":"VLOOKUP(A467,'[1]Update Sheet'!$A$3:$Y$15578,25,FALSE)","v":"In Master List"},"Reportable"]
["OCI CONSULTING LTD",62776,1,"Y","Y",true,"GB","N","PRIVATE SECTOR","SA7 9FS","South West Wales","Swansea Bay UHB","NEWPORT NP20",96090,96,"Other personal services             ",7.6712791957121843E-2,null,null,null,null,null,null,null,null,2120900.89,"*",null,{"$f":"VLOOKUP(A468,'[1]Update Sheet'!$A$3:$Y$15578,25,FALSE)","v":0},"Reportable"]
["OPEN UNIVERSITY",3283,null,"N","N",true,"GB","N","PUBLIC SECTOR","MK7 6BJ",null,null,"PHARMACY",85421,85,"Education services              ",0.10257966678326461,null,null,null,null,null,null,null,null,2120329.42,"*",null,{"$f":"VLOOKUP(A469,'[1]Update Sheet'!$A$3:$Y$15578,25,FALSE)","v":0},"Reportable"]
["G ROWE SERVICES LTD",68486,1,"Y","Y",true,"GB","Y","PRIVATE SECTOR",null,"South East Wales","Cardiff and Vale UHB","PCS PAY",86900,86,"Human health services             ",0.29193168620018201,null,null,null,null,null,null,null,null,2116905.2799999998,"*",null,{"$f":"VLOOKUP(A470,'[1]Update Sheet'!$A$3:$Y$15578,25,FALSE)","v":0},"Reportable"]
["AKARI CARE CYMRU LTD",60740,null,"N","N",true,"GB","Y","PRIVATE SECTOR","LL18 4DT",null,null,"PRESWYLFA",87300,87,"Residential care services             ",0.16514437058930551,null,null,null,null,null,null,null,null,2113492.3599999994,"*",null,{"$f":"VLOOKUP(A471,'[1]Update Sheet'!$A$3:$Y$15578,25,FALSE)","v":0},"Reportable"]
["SALUTEM LD BIDCO IV LTD TA AMBITO",63533,null,"N","N",true,"GB","N","PRIVATE SECTOR","SL4 1EG",null,null,"WINDSOR SL4",87200,87,"Residential care services             ",0.16514437058930551,null,null,null,null,null,null,null,null,2109877.92,"*",null,{"$f":"VLOOKUP(A472,'[1]Update Sheet'!$A$3:$Y$15578,25,FALSE)","v":0},"Reportable"]
["EDMUNDS WEBSTER LTD",5800,1,"Y","Y",true,"GB","Y","PRIVATE SECTOR","SA5 9DJ","South West Wales","Swansea Bay UHB","SWANSEA SA5",41100,"42.1-2","Constructions and construction works for civil engineering         ",0.38802246325570439,null,null,null,null,null,null,null,null,2108487.560000001,"*",null,{"$f":"VLOOKUP(A473,'[1]Update Sheet'!$A$3:$Y$15578,25,FALSE)","v":0},"Reportable"]
["HANFORD`S CHEMIST LTD",68501,1,"Y","Y",true,"GB","Y","PRIVATE SECTOR",null,"South West Wales","Swansea Bay UHB","PCS PAY",47730,47,"Retail trade services, except of motor vehicles and motorcycles       ",0.17404287306456559,null,null,null,null,null,null,null,null,2107465.14,"*",null,{"$f":"VLOOKUP(A474,'[1]Update Sheet'!$A$3:$Y$15578,25,FALSE)","v":0},"Reportable"]
["ROYAL MAIL GROUP PLC",3240,null,"N","N",true,"GB","N","PUBLIC SECTOR","S49 1HQ",null,null,"NEW PAYSITE",53100,53,"Postal and courier services            ",0.24937981289031211,null,null,null,null,null,null,null,null,2105986.46,"*",null,{"$f":"VLOOKUP(A475,'[1]Update Sheet'!$A$3:$Y$15578,25,FALSE)","v":0},"Reportable"]
["HOPE FAMILY MEDICAL CENTRE",51891,1,"Y","Y",true,"GB","Y","PRIVATE SECTOR","LL12 9NL","North Wales","Betsi Cadwaladr UHB","PCS PAY",86210,86,"Human health services             ",0.29193168620018201,null,null,null,null,null,null,null,null,2096163.68,"*",null,{"$f":"VLOOKUP(A476,'[1]Update Sheet'!$A$3:$Y$15578,25,FALSE)","v":0},"Reportable"]
["VERSION 1 SOLUTIONS LTD",21155,null,"N","N",true,"GB","N","PRIVATE SECTOR","WS13 8RZ",null,null,"LITCHFIEL WS13",62020,62,"Computer programming, consultancy and related services          ",0.13144659704407699,2022,{"$f":"9.8*1000","v":9800},{"$f":"31.4*1000","v":31400},{"$f":"3391*1000","v":3391000},{"$f":"SUM(S477:U477)","v":3432200},79786864,{"$f":"V477/W477","v":4.3017106174269487E-2},"CRP",2092170.04,"*",null,{"$f":"VLOOKUP(A477,'[1]Update Sheet'!$A$3:$Y$15578,25,FALSE)","v":"In Master List"},"Reportable"]
["BLUE ARROW LTD",7472,null,"N","N",true,"GB","N","PRIVATE SECTOR","LU1 2BU",null,null,"LUTON LU1",78200,78,"Employment services              ",0.1176282196328419,null,null,null,null,null,null,null,null,2086594.1,"*",null,{"$f":"VLOOKUP(A478,'[1]Update Sheet'!$A$3:$Y$15578,25,FALSE)","v":0},"Reportable"]
["TH & L JONES LTD",68701,1,"Y","Y",true,"GB","Y","PRIVATE SECTOR",null,"South East Wales","Cardiff and Vale UHB","PCS PAY",47730,47,"Retail trade services, except of motor vehicles and motorcycles       ",0.17404287306456559,null,null,null,null,null,null,null,null,2084236.59,"*",null,{"$f":"VLOOKUP(A479,'[1]Update Sheet'!$A$3:$Y$15578,25,FALSE)","v":0},"Reportable"]
["ND CARE & SUPPORT LTD",61853,1,"Y","Y",true,"GB","Y","PRIVATE SECTOR","CF14 5GL","South East Wales","Cardiff and Vale UHB","CARDIFF CF14",78200,78,"Employment services              ",0.1176282196328419,null,null,null,null,null,null,null,null,2084211.0599999989,"*",null,{"$f":"VLOOKUP(A480,'[1]Update Sheet'!$A$3:$Y$15578,25,FALSE)","v":0},"Reportable"]
["THE REAL WRAP CO LTD",48774,null,"N","N",true,"GB","Y","PRIVATE SECTOR","BS11 9TP",null,null,"BRISTOL BS3",56290,56,"Food and beverage serving services           ",0.28886167518608219,null,null,null,null,null,null,null,null,2076771.7399999991,"*",null,{"$f":"VLOOKUP(A481,'[1]Update Sheet'!$A$3:$Y$15578,25,FALSE)","v":0},"Reportable"]
["D.R. CECIL JONES & SON LTD",68438,1,"Y","Y",true,"GB","Y","PRIVATE SECTOR",null,"South East Wales","Cardiff and Vale UHB","PCS PAY",96090,96,"Other personal services             ",7.6712791957121843E-2,null,null,null,null,null,null,null,null,2076646.85,"*",null,{"$f":"VLOOKUP(A482,'[1]Update Sheet'!$A$3:$Y$15578,25,FALSE)","v":0},"Reportable"]
["VERNACARE INTERNATIONAL LTD",76209,null,"N","N",true,"GB","N","PRIVATE SECTOR","PR7 7NB",null,null,"CHORLEY PR7",17110,17,"Paper and paper products            ",0.70687696279521584,2023,{"$f":"5494*1000","v":5494000},{"$f":"3040*1000","v":3040000},{"$f":"53963*1000","v":53963000},{"$f":"SUM(S483:U483)","v":62497000},126000000,{"$f":"V483/W483","v":0.49600793650793651},"Data from Evergreen",2073773,"*",null,{"$f":"VLOOKUP(A483,'[1]Update Sheet'!$A$3:$Y$15578,25,FALSE)","v":"In Master List"},"Reportable"]
["WINCH LANE SURGERY PRIVATE PRACTICE",35741,1,"Y","Y",true,"GB","Y","PRIVATE SECTOR","SA61 1RN","South West Wales","Swansea Bay UHB","PCS PAY",86210,86,"Human health services             ",0.29193168620018201,null,null,null,null,null,null,null,null,2072484.76,"*",null,{"$f":"VLOOKUP(A484,'[1]Update Sheet'!$A$3:$Y$15578,25,FALSE)","v":0},"Reportable"]
["HONEYWELL CONTROL SYSTEMS LTD",2614,null,"N","N",true,"GB","N","PRIVATE SECTOR","ML1 5SB",null,null,"BRACKNELL RG12",82990,82,"Office administrative, office support and other business support services       ",0.1180504360352973,null,null,null,null,null,null,null,null,2072007.4500000002,"*",null,{"$f":"VLOOKUP(A485,'[1]Update Sheet'!$A$3:$Y$15578,25,FALSE)","v":0},"Reportable"]
["INHEALTH LTD",37469,null,"N","N",true,"GB","N","PRIVATE SECTOR","HP11 1JL",null,null,"HIGH WYCO HP11",86210,86,"Human health services             ",0.29193168620018201,2021,5447500,1119930,12176310,18743740,142177000,0.13183384091660394,"carbon reduction plan",2065676,"*",null,{"$f":"VLOOKUP(A486,'[1]Update Sheet'!$A$3:$Y$15578,25,FALSE)","v":"In Master List"},"Reportable"]
["CANOLFAN IECHYD AMLWCH",45574,1,"Y","Y",true,"GB","Y","PRIVATE SECTOR","LL68 9AB","North Wales","Betsi Cadwaladr UHB","PCS PAY",86900,86,"Human health services             ",0.29193168620018201,null,null,null,null,null,null,null,null,2059423.39,"*",null,{"$f":"VLOOKUP(A487,'[1]Update Sheet'!$A$3:$Y$15578,25,FALSE)","v":0},"Reportable"]
["WESTERN VALE FAMILY PRACTICE",38805,1,"Y","Y",true,"GB","Y","PRIVATE SECTOR","CF71 7DA","South East Wales","Cardiff and Vale UHB","PCS PAY",86210,86,"Human health services             ",0.29193168620018201,null,null,null,null,null,null,null,null,2052001.6199999999,"*",null,{"$f":"VLOOKUP(A488,'[1]Update Sheet'!$A$3:$Y$15578,25,FALSE)","v":0},"Reportable"]
["PRO NURSING HEALTHCARE LTD",70793,null,"N","N",true,"GB","Y","PRIVATE SECTOR","KT8 9BE",null,null,"SURREY KT8",78200,78,"Employment services              ",0.1176282196328419,null,null,null,null,null,null,null,null,2050130.569999998,"*",null,{"$f":"VLOOKUP(A489,'[1]Update Sheet'!$A$3:$Y$15578,25,FALSE)","v":0},"Reportable"]
["NORTH CARDIFF MEDICAL CENTRE",28768,1,"Y","Y",true,"GB","Y","PRIVATE SECTOR","CF14 9BB","South East Wales","Cardiff and Vale UHB","PCS PAY",86210,86,"Human health services             ",0.29193168620018201,null,null,null,null,null,null,null,null,2050017.27,"*",null,{"$f":"VLOOKUP(A490,'[1]Update Sheet'!$A$3:$Y$15578,25,FALSE)","v":0},"Reportable"]
["BLACKWOOD MEDICAL GROUP",41543,1,"Y","Y",true,"GB","N","PRIVATE SECTOR","NP12 2YU","South East Wales","Aneurin Bevan UHB","BLACKWOOD NP12",86210,86,"Human health services             ",0.29193168620018201,null,null,null,null,null,null,null,null,2040550.4900000002,"*",null,{"$f":"VLOOKUP(A491,'[1]Update Sheet'!$A$3:$Y$15578,25,FALSE)","v":0},"Reportable"]
["LORNE LABORATORIES LTD",587,null,"N","N",true,"GB","Y","PRIVATE SECTOR","RG6 4UT",null,null,"LOWER EAR RG6",32990,32,"Other manufactured goods             ",0.67238249414981133,null,null,null,null,null,null,null,null,0,null,null,{"$f":"VLOOKUP(A492,'[1]Update Sheet'!$A$3:$Y$15578,25,FALSE)","v":{"$error":"#N/A"}},"Reportable"]
["CRAIG Y DON MEDICAL PRACTICE",33360,1,"Y","Y",true,"GB","N","PRIVATE SECTOR","LL30 1TA","North Wales","Betsi Cadwaladr UHB","PCS PAY",86210,86,"Human health services             ",0.29193168620018201,null,null,null,null,null,null,null,null,2037528.21,"*",null,{"$f":"VLOOKUP(A493,'[1]Update Sheet'!$A$3:$Y$15578,25,FALSE)","v":0},"Reportable"]
["LEWIS CHEMISTS LTD",68529,1,"Y","Y",true,"GB","Y","PRIVATE SECTOR","SA5 9EA","South West Wales","Swansea Bay UHB","PCS PAY",47730,47,"Retail trade services, except of motor vehicles and motorcycles       ",0.17404287306456559,null,null,null,null,null,null,null,null,2026839.13,"*",null,{"$f":"VLOOKUP(A494,'[1]Update Sheet'!$A$3:$Y$15578,25,FALSE)","v":0},"Reportable"]
["STRATHMORE MEDICAL PRACTICE",35047,1,"Y","Y",true,"GB","N","PRIVATE SECTOR","LL11 2SA","North Wales","Betsi Cadwaladr UHB","PCS PAY",86900,86,"Human health services             ",0.29193168620018201,null,null,null,null,null,null,null,null,2022771.76,"*",null,{"$f":"VLOOKUP(A495,'[1]Update Sheet'!$A$3:$Y$15578,25,FALSE)","v":0},"Reportable"]
["SHS PARTNERS SURGICAL LTD",60372,null,"N","N",true,"GB","Y","PRIVATE SECTOR","BB4 6HH",null,null,"ROSSENDALE BB4",86101,86,"Human health services             ",0.29193168620018201,2023,0,1420,206340,{"$f":"SUM(S496:U496)","v":207760},4328981,{"$f":"V496/W496","v":4.7992818633299614E-2},null,2021734.82,"*",null,{"$f":"VLOOKUP(A496,'[1]Update Sheet'!$A$3:$Y$15578,25,FALSE)","v":"In Master List"},"Reportable"]
["EE LTD",49562,null,"N","N",true,"GB","N","PRIVATE SECTOR","S98 1DX",null,null,"AIRTIME",61900,61,"Telecommunications services              ",0.10520703191029331,null,null,null,null,null,null,null,null,2019721.2600000002,"*",null,{"$f":"VLOOKUP(A497,'[1]Update Sheet'!$A$3:$Y$15578,25,FALSE)","v":0},"Reportable"]
["ACORN RECRUITMENT LTD",5738,1,"Y","Y",true,"GB","N","PRIVATE SECTOR","NP10 8FY","South East Wales","Aneurin Bevan UHB","NEWPORT NP10",78200,78,"Employment services              ",0.1176282196328419,null,null,null,null,null,null,null,null,2015819.84,"*",null,{"$f":"VLOOKUP(A498,'[1]Update Sheet'!$A$3:$Y$15578,25,FALSE)","v":0},"Reportable"]
["FOUR ELMS MEDICAL CENTRE",2892,1,"Y","Y",true,"GB","Y","PRIVATE SECTOR","CF24 2HP","South East Wales","Cardiff and Vale UHB","PCS PAY",86210,86,"Human health services             ",0.29193168620018201,null,null,null,null,null,null,null,null,2004811.09,"*",null,{"$f":"VLOOKUP(A499,'[1]Update Sheet'!$A$3:$Y$15578,25,FALSE)","v":0},"Reportable"]
["BEECHWOOD SURGERY",43441,1,"Y","Y",true,"GB","N","PRIVATE SECTOR","NP19 8HL","South East Wales","Aneurin Bevan UHB","PCS PAY",86900,86,"Human health services             ",0.29193168620018201,null,null,null,null,null,null,null,null,2002476.35,"*",null,{"$f":"VLOOKUP(A500,'[1]Update Sheet'!$A$3:$Y$15578,25,FALSE)","v":0},"Reportable"]
["MEDDYGFA WAUNFAWR",43329,1,"Y","Y",true,"GB","N","PRIVATE SECTOR","LL55 4YY","North Wales","Betsi Cadwaladr UHB","PCS PAY",86210,86,"Human health services             ",0.29193168620018201,null,null,null,null,null,null,null,null,1998356.68,"*",null,{"$f":"VLOOKUP(A501,'[1]Update Sheet'!$A$3:$Y$15578,25,FALSE)","v":0},"Reportable"]
["CRICKHOWELL GROUP PRACTICE",9306,1,"Y","Y",true,"GB","Y","PRIVATE SECTOR","NP8 1AG","Mid Wales","Powys Teaching HB","PCS PAY",86210,86,"Human health services             ",0.29193168620018201,null,null,null,null,null,null,null,null,1996962.16,"*",null,{"$f":"VLOOKUP(A502,'[1]Update Sheet'!$A$3:$Y$15578,25,FALSE)","v":0},"Reportable"]
["CENTERPRISE INTERNATIONAL LTD",52880,null,"N","N",true,"GB","N","PRIVATE SECTOR","RG24 8GQ",null,null,"BASINGSTO RG24",26200,26,"Computer, electronic and optical products           ",0.38174938765811312,2023,{"$f":"145*1000","v":145000},{"$f":"0","v":0},{"$f":"57414*1000","v":57414000},{"$f":"SUM(S503:U503)","v":57559000},121719131,{"$f":"V503/W503","v":0.47288375727887838},"CRP",1994478.709999999,"*",null,{"$f":"VLOOKUP(A503,'[1]Update Sheet'!$A$3:$Y$15578,25,FALSE)","v":"Review as T2 higher than T1"},"Reportable"]
["YR YSGOL",58580,1,"Y","Y",true,"GB","Y","PRIVATE SECTOR","SA9 1LQ","Mid Wales","Powys Teaching HB","SWANSEA SA9",86102,86,"Human health services             ",0.29193168620018201,null,null,null,null,null,null,null,null,1987139.34,"*",null,{"$f":"VLOOKUP(A504,'[1]Update Sheet'!$A$3:$Y$15578,25,FALSE)","v":0},"Reportable"]
["OAKFIELD SURGERY",66785,1,"Y","Y",true,"GB","Y","PRIVATE SECTOR","CF82 7WX","South East Wales","Aneurin Bevan UHB","PCS PAY",86900,86,"Human health services             ",0.29193168620018201,null,null,null,null,null,null,null,null,1970561.48,"*",null,{"$f":"VLOOKUP(A505,'[1]Update Sheet'!$A$3:$Y$15578,25,FALSE)","v":0},"Reportable"]
["TUDOR GATE SURGERY",58169,1,"Y","Y",true,"GB","Y","PRIVATE SECTOR","NP7 5DL","South East Wales","Aneurin Bevan UHB","PCS PAY",86210,86,"Human health services             ",0.29193168620018201,null,null,null,null,null,null,null,null,1969860.51,"*",null,{"$f":"VLOOKUP(A506,'[1]Update Sheet'!$A$3:$Y$15578,25,FALSE)","v":0},"Reportable"]
["CAPITAL STAFFING SERVICES LTD",60490,null,"N","N",true,"GB","Y","PRIVATE SECTOR","SE1 1TY",null,null,"LONDON SE1",96090,96,"Other personal services             ",7.6712791957121843E-2,null,null,null,null,null,null,null,null,1969759.349999995,"*",null,{"$f":"VLOOKUP(A507,'[1]Update Sheet'!$A$3:$Y$15578,25,FALSE)","v":0},"Reportable"]
["POBL CARE AND SUPPORT LTD",66978,1,"Y","Y",true,"GB","N","VCSE","SA7 9EQ","South West Wales","Swansea Bay UHB","SWANSEA SA7",87900,87,"Residential care services             ",0.16514437058930551,null,null,null,null,null,null,null,null,1968195.74,"*",null,{"$f":"VLOOKUP(A508,'[1]Update Sheet'!$A$3:$Y$15578,25,FALSE)","v":0},"Reportable"]
["KNOX & WELLS LTD",1011,1,"Y","Y",true,"GB","Y","PRIVATE SECTOR","CF14 4UH","South East Wales","Cardiff and Vale UHB","CARDIFF CF14",41100,"42.1-2","Constructions and construction works for civil engineering         ",0.38802246325570439,null,null,null,null,null,null,null,null,1967339.3,"*",null,{"$f":"VLOOKUP(A509,'[1]Update Sheet'!$A$3:$Y$15578,25,FALSE)","v":0},"Reportable"]
["ST JULIANS MEDICAL CENTRE",15475,1,"Y","Y",true,"GB","N","PRIVATE SECTOR","NP19 7DQ","South East Wales","Aneurin Bevan UHB","PCS PAY",86900,86,"Human health services             ",0.29193168620018201,null,null,null,null,null,null,null,null,1959845.38,"*",null,{"$f":"VLOOKUP(A510,'[1]Update Sheet'!$A$3:$Y$15578,25,FALSE)","v":0},"Reportable"]
["RK AGGARWAL LTD",68676,1,"Y","Y",true,"GB","Y","PRIVATE SECTOR","CF4 2DX","South East Wales","Cardiff and Vale UHB","PCS PAY",47730,47,"Retail trade services, except of motor vehicles and motorcycles       ",0.17404287306456559,null,null,null,null,null,null,null,null,1957519.45,"*",null,{"$f":"VLOOKUP(A511,'[1]Update Sheet'!$A$3:$Y$15578,25,FALSE)","v":0},"Reportable"]
["PONTARDAWE PRIMARY CARE CENTRE",12569,1,"Y","Y",true,"GB","Y","PRIVATE SECTOR","SA8 4JU","South West Wales","Swansea Bay UHB","PCS PAY",74909,74,"Other professional, scientific and technical services          ",0.19142587698446711,null,null,null,null,null,null,null,null,1953874.61,"*",null,{"$f":"VLOOKUP(A512,'[1]Update Sheet'!$A$3:$Y$15578,25,FALSE)","v":0},"Reportable"]
["SUMMERHILL NURSING HOME",42918,1,"Y","Y",true,"GB","N","PRIVATE SECTOR","NP20 7DQ","South East Wales","Aneurin Bevan UHB","NEWPORT NP20",87100,87,"Residential care services             ",0.16514437058930551,null,null,null,null,null,null,null,null,1949961.26,"*",null,{"$f":"VLOOKUP(A513,'[1]Update Sheet'!$A$3:$Y$15578,25,FALSE)","v":0},"Reportable"]
["G&C PHARMA LTD",68487,1,"Y","Y",true,"GB","Y","PRIVATE SECTOR","CF62 7DX","South East Wales","Cardiff and Vale UHB","PCS PAY",46460,46,"Wholesale trade services, except of motor vehicles and motorcycles       ",2.0310031510736858E-2,null,null,null,null,null,null,null,null,1942819.21,"*",null,{"$f":"VLOOKUP(A514,'[1]Update Sheet'!$A$3:$Y$15578,25,FALSE)","v":0},"Reportable"]
["MPH CONSTRUCTION LTD",19789,1,"Y","Y",true,"GB","Y","PRIVATE SECTOR","CH7 1XB","North Wales","Betsi Cadwaladr UHB","ESTATES",82990,82,"Office administrative, office support and other business support services       ",0.1180504360352973,null,null,null,null,null,null,null,null,1942293.07,"*",null,{"$f":"VLOOKUP(A515,'[1]Update Sheet'!$A$3:$Y$15578,25,FALSE)","v":0},"Reportable"]
["ARTHREX LTD",1288,null,"N","N",true,"GB","Y","PRIVATE SECTOR","S9 1DZ",null,null,"SHEFFIELD S35",47749,47,"Retail trade services, except of motor vehicles and motorcycles       ",0.17404287306456559,null,null,null,null,null,null,null,null,1938377.77,"*",null,{"$f":"VLOOKUP(A516,'[1]Update Sheet'!$A$3:$Y$15578,25,FALSE)","v":0},"Reportable"]
["B&D HEALTHCARE LTD TA HUGHES PHARMACY",68413,1,"Y","Y",true,"GB","Y","PRIVATE SECTOR",null,"North Wales","Betsi Cadwaladr UHB","PCS PAY",86900,86,"Human health services             ",0.29193168620018201,null,null,null,null,null,null,null,null,1937925.35,"*",null,{"$f":"VLOOKUP(A517,'[1]Update Sheet'!$A$3:$Y$15578,25,FALSE)","v":0},"Reportable"]
["WALTER LLOYD & SON",39997,1,"Y","Y",true,"GB","N","PRIVATE SECTOR","SA31 3AD","South West Wales","Hywel Dda UHB","PCS PAY",46460,46,"Wholesale trade services, except of motor vehicles and motorcycles       ",2.0310031510736858E-2,null,null,null,null,null,null,null,null,1929715.07,"*",null,{"$f":"VLOOKUP(A518,'[1]Update Sheet'!$A$3:$Y$15578,25,FALSE)","v":0},"Reportable"]
["COUNTESS OF CHESTER HOSPITAL NHS TRUST",3251,0,null,null,null,"GB","N","PUBLIC SECTOR","CH2 1UL",null,null,"CHESTER CH2",null,null,null,null,null,null,null,null,null,null,null,null,29466575.920000002,"*",null,{"$f":"VLOOKUP(A519,'[1]Update Sheet'!$A$3:$Y$15578,25,FALSE)","v":"Public Sector- Exclude"},"Exclude- Intra NHS "]
["RISCA SURGERY",68907,1,"Y","Y",true,"GB","N","PRIVATE SECTOR","NP11 6YS","South East Wales","Aneurin Bevan UHB","PCS PAY",86900,86,"Human health services             ",0.29193168620018201,null,null,null,null,null,null,null,null,1925722.15,"*",null,{"$f":"VLOOKUP(A520,'[1]Update Sheet'!$A$3:$Y$15578,25,FALSE)","v":0},"Reportable"]
["LLANDRINDOD WELLS MEDICAL PRACTICE",29022,1,"Y","Y",true,"GB","Y","PRIVATE SECTOR","LD1 5ES","Mid Wales","Powys Teaching HB","PCS PAY",86210,86,"Human health services             ",0.29193168620018201,null,null,null,null,null,null,null,null,1921566.9300000002,"*",null,{"$f":"VLOOKUP(A521,'[1]Update Sheet'!$A$3:$Y$15578,25,FALSE)","v":0},"Reportable"]
["INSYNC HEALTHCARE PHARMACY LTD",68774,1,"Y","Y",true,"GB","Y","PRIVATE SECTOR","CF14 6PE","South East Wales","Cardiff and Vale UHB","PCS PAY",86900,86,"Human health services             ",0.29193168620018201,null,null,null,null,null,null,null,null,1913624.59,"*",null,{"$f":"VLOOKUP(A522,'[1]Update Sheet'!$A$3:$Y$15578,25,FALSE)","v":0},"Reportable"]
["VIDA ROGERS FLEUR DE LYS LTD",68667,1,"Y","Y",true,"GB","Y","PRIVATE SECTOR",null,"South East Wales","Cwm Taf Morgannwg UHB","PCS PAY",47730,47,"Retail trade services, except of motor vehicles and motorcycles       ",0.17404287306456559,null,null,null,null,null,null,null,null,1913084.29,"*",null,{"$f":"VLOOKUP(A523,'[1]Update Sheet'!$A$3:$Y$15578,25,FALSE)","v":0},"Reportable"]
["VEOLIA ENVIRONMENTAL SERVICES",5479,null,"N","N",true,"GB","N","PRIVATE SECTOR","WS11 8JP",null,null,"CANNOCK WS11",70100,70,"Services of head offices; management consulting services         ",9.3681183759862049E-2,null,null,null,null,null,null,null,null,1906160.7800000003,"*",null,{"$f":"VLOOKUP(A524,'[1]Update Sheet'!$A$3:$Y$15578,25,FALSE)","v":0},"Exclude- Captured under Waste, Energy, Water or Invesments"]
["CAMHS PROFESSIONALS LTD",59639,null,"N","N",true,"GB","N","PRIVATE SECTOR","E18 2QH",null,null,"LONDON E18",85600,85,"Education services              ",0.10257966678326461,null,null,null,null,null,null,null,null,1901405.4700000009,"*",null,{"$f":"VLOOKUP(A525,'[1]Update Sheet'!$A$3:$Y$15578,25,FALSE)","v":0},"Reportable"]
["ET&S CONSTRUCTION LTD",11772,1,"Y","Y",true,"GB","Y","PRIVATE SECTOR","CF34 0NN","South East Wales","Cwm Taf Morgannwg UHB","MAESTEG CF34",41201,41.2,"Buildings and building construction works           ",0.30500636264243469,null,null,null,null,null,null,null,null,1899466.28,"*",null,{"$f":"VLOOKUP(A526,'[1]Update Sheet'!$A$3:$Y$15578,25,FALSE)","v":0},"Reportable"]
["BRISTOL PRIORY",40827,null,"N","N",true,"GB","N","PRIVATE SECTOR","DL2 1TS",null,null,"DARLINGTO DL2",87100,87,"Residential care services             ",0.16514437058930551,null,null,null,null,null,null,null,null,1892738.0499999998,"*",null,{"$f":"VLOOKUP(A527,'[1]Update Sheet'!$A$3:$Y$15578,25,FALSE)","v":0},"Reportable"]
["EITHINOG LEONARD CHESHIRE",38955,null,"N","N",true,"GB","N","PRIVATE SECTOR","LL28 5YA",null,null,"WOLVERHAM WV1",87100,87,"Residential care services             ",0.16514437058930551,null,null,null,null,null,null,null,null,1890162.43,"*",null,{"$f":"VLOOKUP(A528,'[1]Update Sheet'!$A$3:$Y$15578,25,FALSE)","v":0},"Reportable"]
["LAMPETER MEDICAL PRACTICE",11234,1,"Y","Y",true,"GB","N","PRIVATE SECTOR","SA48 7AA","Mid Wales","Hywel Dda UHB","PCS PAY",86900,86,"Human health services             ",0.29193168620018201,null,null,null,null,null,null,null,null,1889895.36,"*",null,{"$f":"VLOOKUP(A529,'[1]Update Sheet'!$A$3:$Y$15578,25,FALSE)","v":0},"Reportable"]
["TACP",5118,1,"Y","Y",true,"GB","Y","PRIVATE SECTOR","CF10 3BN","South East Wales","Cardiff and Vale UHB","ESTATES",82990,82,"Office administrative, office support and other business support services       ",0.1180504360352973,null,null,null,null,null,null,null,null,1887861.57,"*",null,{"$f":"VLOOKUP(A530,'[1]Update Sheet'!$A$3:$Y$15578,25,FALSE)","v":0},"Reportable"]
["COUNTY DURHAM & DARLINGTON NHS FOUNDATION TRUST",38264,0,null,null,null,"GB","N","PUBLIC SECTOR","DL14 6WA",null,null,"BISHOP AU DL14",null,null,null,null,null,null,null,null,null,null,null,null,35638.06,"*",null,{"$f":"VLOOKUP(A531,'[1]Update Sheet'!$A$3:$Y$15578,25,FALSE)","v":"Public Sector- Exclude"},"Exclude- Intra NHS "]
["PONTCAE SURGERY",26768,1,"Y","Y",true,"GB","Y","PRIVATE SECTOR","CF48 1YE","South East Wales","Cwm Taf Morgannwg UHB","PCS PAY",86210,86,"Human health services             ",0.29193168620018201,null,null,null,null,null,null,null,null,1881959.53,"*",null,{"$f":"VLOOKUP(A532,'[1]Update Sheet'!$A$3:$Y$15578,25,FALSE)","v":0},"Reportable"]
["BRITISH RED CROSS SOCIETY",6591,null,"N","N",true,"GB","N","VCSE","EC2Y 9AL",null,null,"CARDIFF CF15",87900,87,"Residential care services             ",0.16514437058930551,null,null,null,null,null,null,null,null,1875899.95,"*",null,{"$f":"VLOOKUP(A533,'[1]Update Sheet'!$A$3:$Y$15578,25,FALSE)","v":0},"Reportable"]
["TILBURY DOUGLAS CONSTRUCTION LTD",18016,1,"Y","Y",true,"GB","N","PRIVATE SECTOR","SA5 8LT","South West Wales","Swansea Bay UHB","SWANSEA SA5",41201,41.2,"Buildings and building construction works           ",0.30500636264243469,2022,1430000,475000,13635000,15540000,391993000,3.9643565063661852E-2,null,1875720.75,"*",null,{"$f":"VLOOKUP(A534,'[1]Update Sheet'!$A$3:$Y$15578,25,FALSE)","v":"In Master List"},"Reportable"]
["CAERAU CHEMISTS",66967,1,"Y","Y",true,"GB","Y","PRIVATE SECTOR","CF34 0SU","South East Wales","Cwm Taf Morgannwg UHB","PCS PAY",47730,47,"Retail trade services, except of motor vehicles and motorcycles       ",0.17404287306456559,null,null,null,null,null,null,null,null,1875145.62,"*",null,{"$f":"VLOOKUP(A535,'[1]Update Sheet'!$A$3:$Y$15578,25,FALSE)","v":0},"Reportable"]
["MOVIANTO UK",20125,null,"N","N",true,"GB","N","PRIVATE SECTOR","MK43 9SS",null,null,"PHARMACY",46460,46,"Wholesale trade services, except of motor vehicles and motorcycles       ",2.0310031510736858E-2,null,null,null,null,null,null,null,null,1874677.92,"*",null,{"$f":"VLOOKUP(A536,'[1]Update Sheet'!$A$3:$Y$15578,25,FALSE)","v":0},"Reportable"]
["HOPWOODS LTD",68502,1,"Y","Y",true,"GB","Y","PRIVATE SECTOR","CF23 9PL","South East Wales","Cardiff and Vale UHB","PCS PAY",47730,47,"Retail trade services, except of motor vehicles and motorcycles       ",0.17404287306456559,null,null,null,null,null,null,null,null,1868140.68,"*",null,{"$f":"VLOOKUP(A537,'[1]Update Sheet'!$A$3:$Y$15578,25,FALSE)","v":0},"Reportable"]
["HP INC UK LTD",60585,null,"N","N",true,"GB","N","PRIVATE SECTOR","RG12 1HN",null,null,"BRACKNEL RG12",26200,26,"Computer, electronic and optical products           ",0.38174938765811312,2023,{"$f":"220*1000","v":220000},{"$f":"180*1000","v":180000},{"$f":"20810*1000","v":20810000},{"$f":"SUM(S538:U538)","v":21210000},{"$f":"1742815*1000","v":1742815000},{"$f":"V538/W538","v":1.2169966404925365E-2},"CRP",1865488.35,"*",null,{"$f":"VLOOKUP(A538,'[1]Update Sheet'!$A$3:$Y$15578,25,FALSE)","v":"In Master List"},"Reportable"]
["T&R HEALTHCARE LTD",68697,null,"N","Y","Removal of a False Welsh Supplier","GB","Y","PRIVATE SECTOR",null,null,null,"PCS PAY",47730,47,"Retail trade services, except of motor vehicles and motorcycles       ",0.17404287306456559,null,null,null,null,null,null,null,null,1857042.5,"*",null,{"$f":"VLOOKUP(A539,'[1]Update Sheet'!$A$3:$Y$15578,25,FALSE)","v":0},"Reportable"]
["BUSINESS SERVICES CENTRE",50672,1,"Y","Y",true,"GB","N","PUBLIC SECTOR","SA1 5AQ","South West Wales","Swansea Bay UHB","SWANSEA SA1",68209,"68.2IMP","Owner-Occupiers' Housing Services",3.9621368125994462E-2,null,null,null,null,null,null,null,null,1853270.44,"*",null,{"$f":"VLOOKUP(A540,'[1]Update Sheet'!$A$3:$Y$15578,25,FALSE)","v":0},"Reportable"]
["CORPORATE DOCUMENT SERVICES LTD",52935,null,"N","N",true,"GB","Y","PRIVATE SECTOR","LS11 5AS",null,null,"LEEDS LS2",62090,62,"Computer programming, consultancy and related services          ",0.13144659704407699,2022,81790,78940,132900,293630,54170000,5.4205279675096918E-3,"Katie Pascoe ",1845219.820000001,"*",null,{"$f":"VLOOKUP(A541,'[1]Update Sheet'!$A$3:$Y$15578,25,FALSE)","v":"In Master List"},"Reportable"]
["BRYNTEG SURGERY",15440,1,"Y","Y",true,"GB","Y","PRIVATE SECTOR","SA18 2DA","South West Wales","Hywel Dda UHB","PCS PAY",86210,86,"Human health services             ",0.29193168620018201,null,null,null,null,null,null,null,null,1838668.48,"*",null,{"$f":"VLOOKUP(A542,'[1]Update Sheet'!$A$3:$Y$15578,25,FALSE)","v":0},"Reportable"]
["LLANTWIT MAJOR & COASTAL VALE MEDICAL PRACTICE",51477,1,"Y","Y",true,"GB","Y","PRIVATE SECTOR","CF61 1ST","South East Wales","Cardiff and Vale UHB","PCS PAY",86210,86,"Human health services             ",0.29193168620018201,null,null,null,null,null,null,null,null,1835976.0799999998,"*",null,{"$f":"VLOOKUP(A543,'[1]Update Sheet'!$A$3:$Y$15578,25,FALSE)","v":0},"Reportable"]
["GE MEDICAL SYSTEMS LTD",7277,null,"N","N",true,"GB","N","PRIVATE SECTOR","HP8 4SP",null,null,"PHARMACY",46900,46,"Wholesale trade services, except of motor vehicles and motorcycles       ",2.0310031510736858E-2,null,null,null,null,null,null,null,null,1835110.3299999998,"*",null,{"$f":"VLOOKUP(A544,'[1]Update Sheet'!$A$3:$Y$15578,25,FALSE)","v":0},"Reportable"]
["CORWEN HOUSE SURGERY",49136,1,"Y","Y",true,"GB","N","PRIVATE SECTOR","LL54 6NN","North Wales","Betsi Cadwaladr UHB","PCS PAY",86900,86,"Human health services             ",0.29193168620018201,null,null,null,null,null,null,null,null,1834798.54,"*",null,{"$f":"VLOOKUP(A545,'[1]Update Sheet'!$A$3:$Y$15578,25,FALSE)","v":0},"Reportable"]
["MERRIPHARM LTD",68539,1,"Y","Y",true,"GB","Y","PRIVATE SECTOR","NP16 5PJ","South East Wales","Aneurin Bevan UHB","PCS PAY",47730,47,"Retail trade services, except of motor vehicles and motorcycles       ",0.17404287306456559,null,null,null,null,null,null,null,null,1834716.87,"*",null,{"$f":"VLOOKUP(A546,'[1]Update Sheet'!$A$3:$Y$15578,25,FALSE)","v":0},"Reportable"]
["ST THOMAS SURGERY (PEMBROKE)",31944,1,"Y","Y",true,"GB","Y","PRIVATE SECTOR","SA61 1QX","South West Wales","Swansea Bay UHB","PCS PAY",86210,86,"Human health services             ",0.29193168620018201,null,null,null,null,null,null,null,null,1828144.1800000002,"*",null,{"$f":"VLOOKUP(A547,'[1]Update Sheet'!$A$3:$Y$15578,25,FALSE)","v":0},"Reportable"]
["NAS SERVICES LTD",15310,null,"N","N",true,"GB","N","PRIVATE SECTOR","BS34 7BD",null,null,"BRISTOL BS34",88100,88,"Social work services without accommodation           ",0.12926092802643949,null,null,null,null,null,null,null,null,1825686.22,"*",null,{"$f":"VLOOKUP(A548,'[1]Update Sheet'!$A$3:$Y$15578,25,FALSE)","v":0},"Reportable"]
["CADWGAN SURGERY",7898,1,"Y","Y",true,"GB","N","PRIVATE SECTOR","LL29 9NP","North Wales","Betsi Cadwaladr UHB","PCS PAY",86210,86,"Human health services             ",0.29193168620018201,null,null,null,null,null,null,null,null,1823967.04,"*",null,{"$f":"VLOOKUP(A549,'[1]Update Sheet'!$A$3:$Y$15578,25,FALSE)","v":0},"Reportable"]
["LLANFAIR SURGERY",54159,1,"Y","Y",true,"GB","Y","PRIVATE SECTOR","SA20 0HY","South West Wales","Hywel Dda UHB","PCS PAY",86210,86,"Human health services             ",0.29193168620018201,null,null,null,null,null,null,null,null,1818555.8900000001,"*",null,{"$f":"VLOOKUP(A550,'[1]Update Sheet'!$A$3:$Y$15578,25,FALSE)","v":0},"Reportable"]
["THE WATERFRONT MEDICAL CENTRE",39907,1,"Y","Y",true,"GB","Y","PRIVATE SECTOR","CF63 4AR","South East Wales","Cardiff and Vale UHB","PCS PAY",86210,86,"Human health services             ",0.29193168620018201,null,null,null,null,null,null,null,null,1816722.34,"*",null,{"$f":"VLOOKUP(A551,'[1]Update Sheet'!$A$3:$Y$15578,25,FALSE)","v":0},"Reportable"]
["CWRT ENFYS CARE HOME",38832,1,"Y","Y",true,"GB","Y","PRIVATE SECTOR","SA9 1DS","Mid Wales","Powys Teaching HB","SWANSEA SA9",87100,87,"Residential care services             ",0.16514437058930551,null,null,null,null,null,null,null,null,1815251.8,"*",null,{"$f":"VLOOKUP(A552,'[1]Update Sheet'!$A$3:$Y$15578,25,FALSE)","v":0},"Reportable"]
["ADVOCACY SUPPORT IN CYMRU LTD",27792,1,"Y","Y",true,"GB","Y","PRIVATE SECTOR","CF3 0LT","South East Wales","Cardiff and Vale UHB","CARDIFF CF23",86900,86,"Human health services             ",0.29193168620018201,null,null,null,null,null,null,null,null,1813540.75,"*",null,{"$f":"VLOOKUP(A553,'[1]Update Sheet'!$A$3:$Y$15578,25,FALSE)","v":0},"Reportable"]
["PLAS Y BRYN MEDICAL CENTRE",26074,1,"Y","Y",true,"GB","Y","PRIVATE SECTOR","LL13 7DE","North Wales","Betsi Cadwaladr UHB","PCS PAY",86210,86,"Human health services             ",0.29193168620018201,null,null,null,null,null,null,null,null,1807588.63,"*",null,{"$f":"VLOOKUP(A554,'[1]Update Sheet'!$A$3:$Y$15578,25,FALSE)","v":0},"Reportable"]
["HATSGROUP LTD",69019,null,"N","N",true,"GB","N","PRIVATE SECTOR","SW19 8UG",null,null,"LONDON SW19",49390,"49.3-5","Land transport services and transport services via pipelines, excluding rail transport     ",0.60315703544097854,null,null,null,null,null,null,null,null,1805842.01,"*",null,{"$f":"VLOOKUP(A555,'[1]Update Sheet'!$A$3:$Y$15578,25,FALSE)","v":0},"Reportable"]
["TONYFELIN MEDICAL CENTRE",58757,1,"Y","Y",true,"GB","N","PRIVATE SECTOR","CF83 1XP","South East Wales","Aneurin Bevan UHB","PCS PAY",86900,86,"Human health services             ",0.29193168620018201,null,null,null,null,null,null,null,null,1804988.14,"*",null,{"$f":"VLOOKUP(A556,'[1]Update Sheet'!$A$3:$Y$15578,25,FALSE)","v":0},"Reportable"]
["COVENTRY & WARWICKSHIRE PARTNERSHIP NHS TRUST",38804,0,null,null,null,"GB","N","PUBLIC SECTOR","CV6 6NY",null,null,"COVENTRY CV6",null,null,null,null,null,null,null,null,null,null,null,null,0,null,null,{"$f":"VLOOKUP(A557,'[1]Update Sheet'!$A$3:$Y$15578,25,FALSE)","v":"Public Sector- Exclude"},"Exclude- Intra NHS "]
["TY'R FELIN SURGERY",36601,1,"Y","Y",true,"GB","Y","PRIVATE SECTOR","SA4 4BY","South West Wales","Swansea Bay UHB","PCS PAY",86210,86,"Human health services             ",0.29193168620018201,null,null,null,null,null,null,null,null,1796087.35,"*",null,{"$f":"VLOOKUP(A558,'[1]Update Sheet'!$A$3:$Y$15578,25,FALSE)","v":0},"Reportable"]
["VYGON (UK) LTD",315,null,"N","N",true,"GB","N","PRIVATE SECTOR","SN25 4DL",null,null,"PHARMACY",46460,46,"Wholesale trade services, except of motor vehicles and motorcycles       ",2.0310031510736858E-2,null,null,null,null,null,null,null,null,1793395.3800000001,"*",null,{"$f":"VLOOKUP(A559,'[1]Update Sheet'!$A$3:$Y$15578,25,FALSE)","v":0},"Reportable"]
["TY BRYN SURGERY",13548,1,"Y","Y",true,"GB","Y","PRIVATE SECTOR","CF83 8GL","South East Wales","Aneurin Bevan UHB","PCS PAY",86210,86,"Human health services             ",0.29193168620018201,null,null,null,null,null,null,null,null,1789259.1600000001,"*",null,{"$f":"VLOOKUP(A560,'[1]Update Sheet'!$A$3:$Y$15578,25,FALSE)","v":0},"Reportable"]
["ROATH HOUSE SURGERY",27681,1,"Y","Y",true,"GB","Y","PRIVATE SECTOR","CF23 5RH","South East Wales","Cardiff and Vale UHB","PCS PAY",86210,86,"Human health services             ",0.29193168620018201,null,null,null,null,null,null,null,null,1789052.1199999999,"*",null,{"$f":"VLOOKUP(A561,'[1]Update Sheet'!$A$3:$Y$15578,25,FALSE)","v":0},"Reportable"]
["LLWYNHENDY HEALTH CENTRE",49708,1,"Y","Y",true,"GB","Y","PRIVATE SECTOR","SA14 OBN","South West Wales","Hywel Dda UHB","PCS PAY",86210,86,"Human health services             ",0.29193168620018201,null,null,null,null,null,null,null,null,1782753.98,"*",null,{"$f":"VLOOKUP(A562,'[1]Update Sheet'!$A$3:$Y$15578,25,FALSE)","v":0},"Reportable"]
["ALYN FAMILY DOCTORS",28077,1,"Y","Y",true,"GB","N","PRIVATE SECTOR","LL12 0TR","North Wales","Betsi Cadwaladr UHB","PCS PAY",86900,86,"Human health services             ",0.29193168620018201,null,null,null,null,null,null,null,null,1778497.56,"*",null,{"$f":"VLOOKUP(A563,'[1]Update Sheet'!$A$3:$Y$15578,25,FALSE)","v":0},"Reportable"]
["WILKER UK LTD",5815,null,"N","N",true,"GB","Y","PRIVATE SECTOR","CW11 3HT",null,null,"SANDBACH CW11",30990,"30OTHER","Other transport equipment - 30.2/4/9           ",0.1896917059859729,2023,{"$f":"144.4*1000","v":144400},0,{"$f":"201.85*1000","v":201850},{"$f":"SUM(S564:U564)","v":346250},15194714,{"$f":"V564/W564","v":2.2787529926525763E-2},null,1770670.870000001,"*",null,{"$f":"VLOOKUP(A564,'[1]Update Sheet'!$A$3:$Y$15578,25,FALSE)","v":"In Master List"},"Reportable"]
["ATKINSREALIS PPS LTD",613,null,"N","Y","Removal of a False Welsh Supplier","GB","N","PRIVATE SECTOR","KT18 5BW",null,null,"CARDIFF CF24",70229,70,"Services of head offices; management consulting services         ",9.3681183759862049E-2,null,null,null,null,null,null,null,null,751005.1399999999,"*",null,{"$f":"VLOOKUP(A565,'[1]Update Sheet'!$A$3:$Y$15578,25,FALSE)","v":0},"Reportable"]
["MEDDYGFA EMLYN",11244,null,"N","N",true,"GB","N","PRIVATE SECTOR","SA38 9NS",null,null,"PCS PAY",86210,86,"Human health services             ",0.29193168620018201,null,null,null,null,null,null,null,null,1760595.71,"*",null,{"$f":"VLOOKUP(A566,'[1]Update Sheet'!$A$3:$Y$15578,25,FALSE)","v":0},"Reportable"]
["COMPLETE CARE HOLDINGS LTD",36029,null,"N","N",true,"GB","N","PRIVATE SECTOR","TF2 9TU",null,null,"TELFORD TF2",86900,86,"Human health services             ",0.29193168620018201,null,null,null,null,null,null,null,null,1759241.29,"*",null,{"$f":"VLOOKUP(A567,'[1]Update Sheet'!$A$3:$Y$15578,25,FALSE)","v":0},"Reportable"]
["PENCOED MEDICAL CENTRE",28884,1,"Y","Y",true,"GB","Y","PRIVATE SECTOR","CF35 5PF","South East Wales","Cwm Taf Morgannwg UHB","PCS PAY",86210,86,"Human health services             ",0.29193168620018201,null,null,null,null,null,null,null,null,1744848.13,"*",null,{"$f":"VLOOKUP(A568,'[1]Update Sheet'!$A$3:$Y$15578,25,FALSE)","v":0},"Reportable"]
["ALLIANCE MEDICAL LTD",7435,null,"N","N",true,"GB","N","PRIVATE SECTOR","CV34 5AH",null,null,"PHARMACY",86101,86,"Human health services             ",0.29193168620018201,2021,3284900,5560800,2079300,10925000,169634000,6.4403362533454384E-2,"carbon reduction plan",1744722.82,"*",null,{"$f":"VLOOKUP(A569,'[1]Update Sheet'!$A$3:$Y$15578,25,FALSE)","v":"In Master List"},"Reportable"]
["VIDA ROGERS CEFN FFOREST LTD",68666,1,"Y","Y",true,"GB","Y","PRIVATE SECTOR",null,"South East Wales","Cwm Taf Morgannwg UHB","PCS PAY",47730,47,"Retail trade services, except of motor vehicles and motorcycles       ",0.17404287306456559,null,null,null,null,null,null,null,null,1736960.69,"*",null,{"$f":"VLOOKUP(A570,'[1]Update Sheet'!$A$3:$Y$15578,25,FALSE)","v":0},"Reportable"]
["CROYDON HEALTH SERVICES NHS TRUST",43110,0,null,null,null,"GB","N","PUBLIC SECTOR","CR7 7YE",null,null,"THORNTON CR7",0,0,0,null,null,null,null,null,null,null,null,null,0,null,null,{"$f":"VLOOKUP(A571,'[1]Update Sheet'!$A$3:$Y$15578,25,FALSE)","v":{"$error":"#N/A"}},"Exclude- Intra NHS "]
["LLYNYFRAN SURGERY",20002,1,"Y","Y",true,"GB","Y","PRIVATE SECTOR","SA44 4JX","Mid Wales","Hywel Dda UHB","PCS PAY",86900,86,"Human health services             ",0.29193168620018201,null,null,null,null,null,null,null,null,1732242.8199999998,"*",null,{"$f":"VLOOKUP(A572,'[1]Update Sheet'!$A$3:$Y$15578,25,FALSE)","v":0},"Reportable"]
["VALLEYS LINK PHARMACY LTD",72555,1,"Y","Y",true,"GB","Y","PRIVATE SECTOR","CF41 7NA","South East Wales","Cwm Taf Morgannwg UHB","PCS PAY",86900,86,"Human health services             ",0.29193168620018201,null,null,null,null,null,null,null,null,1731920.59,"*",null,{"$f":"VLOOKUP(A573,'[1]Update Sheet'!$A$3:$Y$15578,25,FALSE)","v":0},"Reportable"]
["GRANGE MEDICAL PRACTICE",39081,1,"Y","Y",true,"GB","Y","PRIVATE SECTOR","CF11 7XA","South East Wales","Cardiff and Vale UHB","PCS PAY",86210,86,"Human health services             ",0.29193168620018201,null,null,null,null,null,null,null,null,1729048.61,"*",null,{"$f":"VLOOKUP(A574,'[1]Update Sheet'!$A$3:$Y$15578,25,FALSE)","v":0},"Reportable"]
["COED Y GLYN SURGERY",4962,1,"Y","Y",true,"GB","N","PRIVATE SECTOR","LL77 7DU","North Wales","Betsi Cadwaladr UHB","PCS PAY",86210,86,"Human health services             ",0.29193168620018201,null,null,null,null,null,null,null,null,1726425.19,"*",null,{"$f":"VLOOKUP(A575,'[1]Update Sheet'!$A$3:$Y$15578,25,FALSE)","v":0},"Reportable"]
["ELY BRIDGE SURGERY",2581,1,"Y","Y",true,"GB","Y","PRIVATE SECTOR","CF5 4AD","South East Wales","Cardiff and Vale UHB","PCS PAY",86210,86,"Human health services             ",0.29193168620018201,null,null,null,null,null,null,null,null,1722700.72,"*",null,{"$f":"VLOOKUP(A576,'[1]Update Sheet'!$A$3:$Y$15578,25,FALSE)","v":0},"Reportable"]
["NELSONS PHARMACY",68613,1,"Y","Y",true,"GB","Y","PRIVATE SECTOR",null,"South East Wales","Aneurin Bevan UHB","PCS PAY",86900,86,"Human health services             ",0.29193168620018201,null,null,null,null,null,null,null,null,1718502.38,"*",null,{"$f":"VLOOKUP(A577,'[1]Update Sheet'!$A$3:$Y$15578,25,FALSE)","v":0},"Reportable"]
["TYNYCOED SURGERY",25126,1,"Y","Y",true,"GB","Y","PRIVATE SECTOR","CF32 9SW","South East Wales","Cwm Taf Morgannwg UHB","PCS PAY",86210,86,"Human health services             ",0.29193168620018201,null,null,null,null,null,null,null,null,1714802.04,"*",null,{"$f":"VLOOKUP(A578,'[1]Update Sheet'!$A$3:$Y$15578,25,FALSE)","v":0},"Reportable"]
["MOUNT SURGERY",33119,1,"Y","Y",true,"GB","Y","PRIVATE SECTOR","NP4 6DH","South East Wales","Aneurin Bevan UHB","PCS PAY",86210,86,"Human health services             ",0.29193168620018201,null,null,null,null,null,null,null,null,1711236.9100000001,"*",null,{"$f":"VLOOKUP(A579,'[1]Update Sheet'!$A$3:$Y$15578,25,FALSE)","v":0},"Reportable"]
["MEDDYGFA GLAN CYNON SURGERY",58617,1,"Y","Y",true,"GB","Y","PRIVATE SECTOR","CF45 3HD","South East Wales","Cwm Taf Morgannwg UHB","PCS PAY",86210,86,"Human health services             ",0.29193168620018201,null,null,null,null,null,null,null,null,1710451.59,"*",null,{"$f":"VLOOKUP(A580,'[1]Update Sheet'!$A$3:$Y$15578,25,FALSE)","v":0},"Reportable"]
["TELEFLEX MEDICAL",927,null,"N","N",true,"GB","N","PRIVATE SECTOR","HP9 1LJ",null,null,"PHARMACY",32500,32,"Other manufactured goods             ",0.67238249414981133,null,null,null,null,null,null,null,null,1709630.88,"*",null,{"$f":"VLOOKUP(A581,'[1]Update Sheet'!$A$3:$Y$15578,25,FALSE)","v":0},"Reportable"]
["JOHNSEY ESTATES UK LTD",6525,1,"Y","Y",true,"GB","Y","PRIVATE SECTOR","CF5 1GZ","South East Wales","Cardiff and Vale UHB","PONTYPOOL NP4",41100,"42.1-2","Constructions and construction works for civil engineering         ",0.38802246325570439,null,null,null,null,null,null,null,null,1708615.41,"*",null,{"$f":"VLOOKUP(A582,'[1]Update Sheet'!$A$3:$Y$15578,25,FALSE)","v":0},"Reportable"]
["ADVANTAGE HEALTHCARE LTD",26676,null,"N","N",true,"GB","Y","PRIVATE SECTOR","NG7 2SA",null,null,"TELFORD TF2",78200,78,"Employment services              ",0.1176282196328419,null,null,null,null,null,null,null,null,1706917.85,"*",null,{"$f":"VLOOKUP(A583,'[1]Update Sheet'!$A$3:$Y$15578,25,FALSE)","v":0},"Reportable"]
["FAITHFUL & GOULD",613,1,"Y","Y",true,"GB","N","PRIVATE SECTOR","CF10 4BZ","South East Wales","Cardiff and Vale UHB","CARDIFF CF24",70229,70,"Services of head offices; management consulting services         ",9.3681183759862049E-2,null,null,null,null,null,null,null,null,0,null,null,{"$f":"VLOOKUP(A584,'[1]Update Sheet'!$A$3:$Y$15578,25,FALSE)","v":{"$error":"#N/A"}},"Reportable"]
["OLD SCHOOL SURGERY",14106,1,"Y","Y",true,"GB","Y","PRIVATE SECTOR","CF72 9AA","South East Wales","Cwm Taf Morgannwg UHB","PCS PAY",86210,86,"Human health services             ",0.29193168620018201,null,null,null,null,null,null,null,null,1704413.37,"*",null,{"$f":"VLOOKUP(A585,'[1]Update Sheet'!$A$3:$Y$15578,25,FALSE)","v":0},"Reportable"]
["BOOTS OPTICIANS LTD",35271,null,"N","N",true,"GB","N","PRIVATE SECTOR",null,null,null,"PCS PAY",47782,47,"Retail trade services, except of motor vehicles and motorcycles       ",0.17404287306456559,2022,79136000,42708000,1026131000,1147975000,6512000000,0.17628608722358721,"Boots UK Limited Used",1699055.63,"*",null,{"$f":"VLOOKUP(A586,'[1]Update Sheet'!$A$3:$Y$15578,25,FALSE)","v":"Review as T2 higher than T1"},"Reportable"]
["KINGSWAY SURGERY",20923,1,"Y","Y",true,"GB","Y","PRIVATE SECTOR","SA1 5LF","South West Wales","Swansea Bay UHB","PCS PAY",86210,86,"Human health services             ",0.29193168620018201,null,null,null,null,null,null,null,null,1699031.44,"*",null,{"$f":"VLOOKUP(A587,'[1]Update Sheet'!$A$3:$Y$15578,25,FALSE)","v":0},"Reportable"]
["NATIONAL LOCUMS",37321,null,"N","N",true,"GB","N","PRIVATE SECTOR","CM20 9GY",null,null,"MILTON KE MK1",78200,78,"Employment services              ",0.1176282196328419,null,null,null,null,null,null,null,null,1695722.7200000002,"*",null,{"$f":"VLOOKUP(A588,'[1]Update Sheet'!$A$3:$Y$15578,25,FALSE)","v":0},"Reportable"]
["ST DAVIDS SURGERY CHOUD",21961,1,"Y","Y",true,"GB","Y","PRIVATE SECTOR","CF41 7BD","South East Wales","Cwm Taf Morgannwg UHB","PCS PAY",86210,86,"Human health services             ",0.29193168620018201,null,null,null,null,null,null,null,null,1692838.3,"*",null,{"$f":"VLOOKUP(A589,'[1]Update Sheet'!$A$3:$Y$15578,25,FALSE)","v":0},"Reportable"]
["THE WYE VALLEY PRACTICE",56080,null,"N","N",true,"GB","N","PRIVATE SECTOR","GL15 6TN",null,null,"PCS PAY",86900,86,"Human health services             ",0.29193168620018201,null,null,null,null,null,null,null,null,1688801.52,"*",null,{"$f":"VLOOKUP(A590,'[1]Update Sheet'!$A$3:$Y$15578,25,FALSE)","v":0},"Reportable"]
["GLAN RHYD SURGERY",56659,1,"Y","Y",true,"GB","N","PRIVATE SECTOR","NP23 5NT","South East Wales","Aneurin Bevan UHB","PCS PAY",86900,86,"Human health services             ",0.29193168620018201,null,null,null,null,null,null,null,null,1687449.32,"*",null,{"$f":"VLOOKUP(A591,'[1]Update Sheet'!$A$3:$Y$15578,25,FALSE)","v":0},"Reportable"]
["JAMFORM LTD",61945,1,"Y","Y",true,"GB","N","PRIVATE SECTOR",null,"South East Wales","Cardiff and Vale UHB","PCS PAY",86900,86,"Human health services             ",0.29193168620018201,null,null,null,null,null,null,null,null,1682601.51,"*",null,{"$f":"VLOOKUP(A592,'[1]Update Sheet'!$A$3:$Y$15578,25,FALSE)","v":0},"Reportable"]
["LOOKERS LEASING LTD",44144,null,"N","N",true,"GB","Y","PRIVATE SECTOR","HG3 1RY",null,null,"HARROGATE HG3",45111,45,"Wholesale and retail trade and repair services of motor vehicles and motorcycles    ",0.21034629699726889,2021,10190,9830,105290,125310,22574000,5.551076459643838E-3,"carbon reduction plan",1678959.3599999999,"*",null,{"$f":"VLOOKUP(A593,'[1]Update Sheet'!$A$3:$Y$15578,25,FALSE)","v":"In Master List"},"Reportable"]
["BOXXE LTD",29151,null,"N","N",true,"GB","N","PRIVATE SECTOR","YO31 7RE",null,null,"YORK YO61",62090,62,"Computer programming, consultancy and related services          ",0.13144659704407699,2023,{"$f":"2*1000","v":2000},{"$f":"59*1000","v":59000},{"$f":"442*1000","v":442000},{"$f":"SUM(S594:U594)","v":503000},{"$f":"362963*1000","v":362963000},{"$f":"V594/W594","v":1.3858161851207974E-3},null,1677812.69,"*",null,{"$f":"VLOOKUP(A594,'[1]Update Sheet'!$A$3:$Y$15578,25,FALSE)","v":"In Master List"},"Reportable"]
["GV HEALTH LTD",51270,null,"N","N",true,"GB","N","PRIVATE SECTOR","SG1 2FS",null,null,"STEVENAGE SG1",86900,86,"Human health services             ",0.29193168620018201,2022,0,13600,634200,647800,7787917,8.3180136614193503E-2,null,1666859.57,"*",null,{"$f":"VLOOKUP(A595,'[1]Update Sheet'!$A$3:$Y$15578,25,FALSE)","v":"In Master List"},"Reportable"]
["TALBOT GREEN GROUP",53531,1,"Y","Y",true,"GB","Y","PRIVATE SECTOR","CF72 8AJ","South East Wales","Cwm Taf Morgannwg UHB","PCS PAY",96090,96,"Other personal services             ",7.6712791957121843E-2,null,null,null,null,null,null,null,null,1661161.24,"*",null,{"$f":"VLOOKUP(A596,'[1]Update Sheet'!$A$3:$Y$15578,25,FALSE)","v":0},"Reportable"]
["LP SD FORTY THREE LTD",76382,null,"N","N",true,"GB","N","PRIVATE SECTOR","CV2 2TX",null,null,"PCS PAY",47730,47,"Retail trade services, except of motor vehicles and motorcycles       ",0.17404287306456559,null,null,null,null,null,null,null,null,1658399.71,"*",null,{"$f":"VLOOKUP(A597,'[1]Update Sheet'!$A$3:$Y$15578,25,FALSE)","v":0},"Reportable"]
["PENDRE SURGERY MOLD",27053,1,"Y","Y",true,"GB","N","PRIVATE SECTOR","CH7 1SS","North Wales","Betsi Cadwaladr UHB","PCS PAY",86900,86,"Human health services             ",0.29193168620018201,null,null,null,null,null,null,null,null,1654270.42,"*",null,{"$f":"VLOOKUP(A598,'[1]Update Sheet'!$A$3:$Y$15578,25,FALSE)","v":0},"Reportable"]
["PRIRAH LTD",68673,1,"Y","Y",true,"GB","Y","PRIVATE SECTOR",null,"South West Wales","Swansea Bay UHB","PCS PAY",47730,47,"Retail trade services, except of motor vehicles and motorcycles       ",0.17404287306456559,null,null,null,null,null,null,null,null,1646200.15,"*",null,{"$f":"VLOOKUP(A599,'[1]Update Sheet'!$A$3:$Y$15578,25,FALSE)","v":0},"Reportable"]
["MILKWOOD CARE LTD",39378,1,"Y","Y",true,"GB","N","PRIVATE SECTOR","LD3 8EN","Mid Wales","Powys Teaching HB","BRECON LD3",87100,87,"Residential care services             ",0.16514437058930551,null,null,null,null,null,null,null,null,1635552.8299999998,"*",null,{"$f":"VLOOKUP(A600,'[1]Update Sheet'!$A$3:$Y$15578,25,FALSE)","v":0},"Reportable"]
["D LUCAS & SONS LTD",15306,1,"Y","Y",true,"GB","Y","PRIVATE SECTOR","NP4 0LS","South East Wales","Aneurin Bevan UHB","PONTYPOOL NP4",41201,41.2,"Buildings and building construction works           ",0.30500636264243469,null,null,null,null,null,null,null,null,1635175.43,"*",null,{"$f":"VLOOKUP(A601,'[1]Update Sheet'!$A$3:$Y$15578,25,FALSE)","v":0},"Reportable"]
["JUST WALES LTD",30359,1,"Y","Y",true,"GB","Y","PRIVATE SECTOR","SA14 6RA","South West Wales","Hywel Dda UHB","LLANELLI SA14",53201,53,"Postal and courier services            ",0.24937981289031211,null,null,null,null,null,null,null,null,1635073.95,"*",null,{"$f":"VLOOKUP(A602,'[1]Update Sheet'!$A$3:$Y$15578,25,FALSE)","v":0},"Reportable"]
["FELINHELI & PORTHAETHWY SURGERY",50233,1,"Y","Y",true,"GB","Y","PRIVATE SECTOR","LL59 5BD","North Wales","Betsi Cadwaladr UHB","PCS PAY",86210,86,"Human health services             ",0.29193168620018201,null,null,null,null,null,null,null,null,1630925.69,"*",null,{"$f":"VLOOKUP(A603,'[1]Update Sheet'!$A$3:$Y$15578,25,FALSE)","v":0},"Reportable"]
["CHIRK SURGERY",28078,1,"Y","Y",true,"GB","Y","PRIVATE SECTOR","LL14 5DH","North Wales","Betsi Cadwaladr UHB","PCS PAY",86210,86,"Human health services             ",0.29193168620018201,null,null,null,null,null,null,null,null,1626878.13,"*",null,{"$f":"VLOOKUP(A604,'[1]Update Sheet'!$A$3:$Y$15578,25,FALSE)","v":0},"Reportable"]
["OTTO BOCK HEALTHCARE PLC",696,null,"N","N",true,"GB","Y","PRIVATE SECTOR","TW20 0LD",null,null,"EGHAM TW20",32500,32,"Other manufactured goods             ",0.67238249414981133,2022,12352000,13032000,245409000,270793000,1105000000,0.24506153846153847,"Global turnover and CRP used. ",1621905.81,"*",null,{"$f":"VLOOKUP(A605,'[1]Update Sheet'!$A$3:$Y$15578,25,FALSE)","v":"In Master List"},"Reportable"]
["TREHARRIS PRIMARY CARE CENTRE",64954,1,"Y","Y",true,"GB","Y","PRIVATE SECTOR","CF46 5HE","South East Wales","Cwm Taf Morgannwg UHB","PCS PAY",86210,86,"Human health services             ",0.29193168620018201,null,null,null,null,null,null,null,null,1621568.41,"*",null,{"$f":"VLOOKUP(A606,'[1]Update Sheet'!$A$3:$Y$15578,25,FALSE)","v":0},"Reportable"]
["C L C A COMPANY LTD",51521,null,"N","N",true,"GB","Y","PRIVATE SECTOR","SY5 7BG",null,null,"CONDOVER SY5",86220,86,"Human health services             ",0.29193168620018201,null,null,null,null,null,null,null,null,1620472.03,"*",null,{"$f":"VLOOKUP(A607,'[1]Update Sheet'!$A$3:$Y$15578,25,FALSE)","v":0},"Reportable"]
["PJ SAUNDERS LTD",30538,1,"Y","Y",true,"GB","Y","PRIVATE SECTOR","CF72 9DY","South East Wales","Cwm Taf Morgannwg UHB","TALBOT GR CF72",41201,41.2,"Buildings and building construction works           ",0.30500636264243469,null,null,null,null,null,null,null,null,1620093.15,"*",null,{"$f":"VLOOKUP(A608,'[1]Update Sheet'!$A$3:$Y$15578,25,FALSE)","v":0},"Reportable"]
["BAUSCH & LOMB (UK) LTD",37,null,"N","N",true,"GB","N","PRIVATE SECTOR","KT2 6TN",null,null,"PHARMACY",46460,46,"Wholesale trade services, except of motor vehicles and motorcycles       ",2.0310031510736858E-2,null,null,null,null,null,null,null,null,1619949.3199999998,"*",null,{"$f":"VLOOKUP(A609,'[1]Update Sheet'!$A$3:$Y$15578,25,FALSE)","v":0},"Reportable"]
["THE PLACEMENT GROUP NURSING LTD",61120,null,"N","N",true,"GB","N","PRIVATE SECTOR","EN9 1JH",null,null,"WALTHAM A EN9",86900,86,"Human health services             ",0.29193168620018201,null,null,null,null,null,null,null,null,1618884.4500000009,"*",null,{"$f":"VLOOKUP(A610,'[1]Update Sheet'!$A$3:$Y$15578,25,FALSE)","v":0},"Reportable"]
["A J EVANS LTD",68402,1,"Y","Y",true,"GB","Y","PRIVATE SECTOR","CF24 1SD","South East Wales","Cwm Taf Morgannwg UHB","NEWPORT NP20",96090,96,"Other personal services             ",7.6712791957121843E-2,null,null,null,null,null,null,null,null,1616923.19,"*",null,{"$f":"VLOOKUP(A611,'[1]Update Sheet'!$A$3:$Y$15578,25,FALSE)","v":0},"Reportable"]
["MR HS REES TA THE PHARMACY",68577,1,"Y","Y",true,"GB","Y","PRIVATE SECTOR","SA4 3YF","South West Wales","Swansea Bay UHB","PCS PAY",86900,86,"Human health services             ",0.29193168620018201,null,null,null,null,null,null,null,null,1614198.43,"*",null,{"$f":"VLOOKUP(A612,'[1]Update Sheet'!$A$3:$Y$15578,25,FALSE)","v":0},"Reportable"]
["LEIGH DAY",61004,null,"N","N",true,"GB","N","PRIVATE SECTOR","EC1M 7AJ",null,null,"LONDON EC1",7487,74,"Other professional, scientific and technical services          ",0.19142587698446711,null,null,null,null,null,null,null,null,1609743.79,"*",null,{"$f":"VLOOKUP(A613,'[1]Update Sheet'!$A$3:$Y$15578,25,FALSE)","v":0},"Reportable"]
["PARC GLAS SURGERY",62992,1,"Y","Y",true,"GB","Y","PRIVATE SECTOR","LL62 5NL","North Wales","Betsi Cadwaladr UHB","PCS PAY",86900,86,"Human health services             ",0.29193168620018201,null,null,null,null,null,null,null,null,1604293.51,"*",null,{"$f":"VLOOKUP(A614,'[1]Update Sheet'!$A$3:$Y$15578,25,FALSE)","v":0},"Reportable"]
["THE COURTHOUSE MEDICAL CENTRE",55591,1,"Y","Y",true,"GB","N","PRIVATE SECTOR","CF83 3GH","South East Wales","Aneurin Bevan UHB","PCS PAY",86900,86,"Human health services             ",0.29193168620018201,null,null,null,null,null,null,null,null,1603105.48,"*",null,{"$f":"VLOOKUP(A615,'[1]Update Sheet'!$A$3:$Y$15578,25,FALSE)","v":0},"Reportable"]
["ALEXANDRA PLC",336,null,"N","N",true,"GB","N","PRIVATE SECTOR","BS35 2NT",null,null,"BRISTOL BS35",46420,46,"Wholesale trade services, except of motor vehicles and motorcycles       ",2.0310031510736858E-2,null,null,null,null,null,null,null,null,1602686.1799999988,"*",null,{"$f":"VLOOKUP(A616,'[1]Update Sheet'!$A$3:$Y$15578,25,FALSE)","v":0},"Reportable"]
["LANREATH LTD",68527,null,"N","Y","Removal of a False Welsh Supplier","GB","Y","PRIVATE SECTOR",null,null,null,"PCS PAY",86210,86,"Human health services             ",0.29193168620018201,null,null,null,null,null,null,null,null,1602470.51,"*",null,{"$f":"VLOOKUP(A617,'[1]Update Sheet'!$A$3:$Y$15578,25,FALSE)","v":0},"Reportable"]
["CARDIGAN HEALTH CENTRE",21284,1,"Y","Y",true,"GB","Y","PRIVATE SECTOR","SA43 1EB","Mid Wales","Hywel Dda UHB","PCS PAY",86210,86,"Human health services             ",0.29193168620018201,null,null,null,null,null,null,null,null,1593499.32,"*",null,{"$f":"VLOOKUP(A618,'[1]Update Sheet'!$A$3:$Y$15578,25,FALSE)","v":0},"Reportable"]
["FAIRWAYS NEWYDD LTD",63389,1,"Y","Y",true,"GB","Y","PRIVATE SECTOR","LL61 5YR","North Wales","Betsi Cadwaladr UHB","LLANFAIR LL61",86900,86,"Human health services             ",0.29193168620018201,null,null,null,null,null,null,null,null,1592185.24,"*",null,{"$f":"VLOOKUP(A619,'[1]Update Sheet'!$A$3:$Y$15578,25,FALSE)","v":0},"Reportable"]
["MOSTYN HOUSE MEDICAL CENTRE",27360,1,"Y","Y",true,"GB","N","PRIVATE SECTOR","LL30 1YL","North Wales","Betsi Cadwaladr UHB","PCS PAY",86900,86,"Human health services             ",0.29193168620018201,null,null,null,null,null,null,null,null,1589365.9700000002,"*",null,{"$f":"VLOOKUP(A620,'[1]Update Sheet'!$A$3:$Y$15578,25,FALSE)","v":0},"Reportable"]
["HENGOED COURT CARE HOME",39132,1,"Y","Y",true,"GB","Y","PRIVATE SECTOR","SA1 7LQ","South West Wales","Swansea Bay UHB","SWANSEA SA1",87100,87,"Residential care services             ",0.16514437058930551,null,null,null,null,null,null,null,null,1589334.56,"*",null,{"$f":"VLOOKUP(A621,'[1]Update Sheet'!$A$3:$Y$15578,25,FALSE)","v":0},"Reportable"]
["CANOLFAN IECHYD LLANGOLLEN HEALTH CENTRE",25508,1,"Y","Y",true,"GB","Y","PRIVATE SECTOR","LL20 8HL","North Wales","Betsi Cadwaladr UHB","PCS PAY",86210,86,"Human health services             ",0.29193168620018201,null,null,null,null,null,null,null,null,1589284.85,"*",null,{"$f":"VLOOKUP(A622,'[1]Update Sheet'!$A$3:$Y$15578,25,FALSE)","v":0},"Reportable"]
["KENT PHARMA UK LTD",69403,null,"N","N",true,"GB","Y","PRIVATE SECTOR","TN23 1FB",null,null,"PHARMACY",46460,46,"Wholesale trade services, except of motor vehicles and motorcycles       ",2.0310031510736858E-2,null,null,null,null,null,null,null,null,1588555.1199999999,"*",null,{"$f":"VLOOKUP(A623,'[1]Update Sheet'!$A$3:$Y$15578,25,FALSE)","v":0},"Reportable"]
["BT GLOBAL SERVICES",23092,null,"N","N",true,"GB","N","PRIVATE SECTOR","NW9 6LB",null,null,"LONDON NW9",61900,61,"Telecommunications services              ",0.10520703191029331,2023,180227000,58000,3289171000,3469456000,20669000000,0.16785795152160241,null,1587780.88,"*",null,{"$f":"VLOOKUP(A624,'[1]Update Sheet'!$A$3:$Y$15578,25,FALSE)","v":"Review as T2 higher than T1"},"Reportable"]
["MEDDYGFA TEILO",16489,1,"Y","Y",true,"GB","Y","PRIVATE SECTOR","SA19 6HN","South West Wales","Hywel Dda UHB","PCS PAY",86210,86,"Human health services             ",0.29193168620018201,null,null,null,null,null,null,null,null,1583659.6500000001,"*",null,{"$f":"VLOOKUP(A625,'[1]Update Sheet'!$A$3:$Y$15578,25,FALSE)","v":0},"Reportable"]
["SACH CHEMISTS LTD",68680,1,"Y","Y",true,"GB","Y","PRIVATE SECTOR",null,"South East Wales","Cardiff and Vale UHB","PCS PAY",47730,47,"Retail trade services, except of motor vehicles and motorcycles       ",0.17404287306456559,null,null,null,null,null,null,null,null,1578751.95,"*",null,{"$f":"VLOOKUP(A626,'[1]Update Sheet'!$A$3:$Y$15578,25,FALSE)","v":0},"Reportable"]
["MOUNT PLEASANT PRACTICE",53744,1,"Y","Y",true,"GB","Y","PRIVATE SECTOR","NP16 5XR","South East Wales","Aneurin Bevan UHB","PCS PAY",86210,86,"Human health services             ",0.29193168620018201,null,null,null,null,null,null,null,null,1576585.43,"*",null,{"$f":"VLOOKUP(A627,'[1]Update Sheet'!$A$3:$Y$15578,25,FALSE)","v":0},"Reportable"]
["GLOBE LOCUMS LTD",48854,null,"N","N",true,"GB","N","PRIVATE SECTOR","W2 4SA",null,null,"LONDON EC4A",82990,82,"Office administrative, office support and other business support services       ",0.1180504360352973,2022,299000,244000,600000,1143000,58120746,1.9665955423214972E-2,"carbon reduction plan",1576345.1999999997,"*",null,{"$f":"VLOOKUP(A628,'[1]Update Sheet'!$A$3:$Y$15578,25,FALSE)","v":"In Master List"},"Reportable"]
["EBJ HEALTHCARE LTD",68446,1,"Y","Y",true,"GB","Y","PRIVATE SECTOR","SA34 0EB","South West Wales","Hywel Dda UHB","PCS PAY",47730,47,"Retail trade services, except of motor vehicles and motorcycles       ",0.17404287306456559,null,null,null,null,null,null,null,null,1576299.75,"*",null,{"$f":"VLOOKUP(A629,'[1]Update Sheet'!$A$3:$Y$15578,25,FALSE)","v":0},"Reportable"]
["MOLNLYCKE HEALTHCARE LTD",195,null,"N","N",true,"GB","N","PRIVATE SECTOR","OL1 3HS",null,null,"PHARMACY",21100,21,"Basic pharmaceutical products and pharmaceutical preparations          ",0.62099518156965727,null,null,null,null,null,null,null,null,1574157.7700000003,"*",null,{"$f":"VLOOKUP(A630,'[1]Update Sheet'!$A$3:$Y$15578,25,FALSE)","v":0},"Reportable"]
["SHIL PHARMACY",52679,1,"Y","Y",true,"GB","N","PRIVATE SECTOR",null,"South East Wales","Aneurin Bevan UHB","PCS PAY",86900,86,"Human health services             ",0.29193168620018201,null,null,null,null,null,null,null,null,1573298.82,"*",null,{"$f":"VLOOKUP(A631,'[1]Update Sheet'!$A$3:$Y$15578,25,FALSE)","v":0},"Reportable"]
["CASTLE SURGERY",11604,1,"Y","Y",true,"GB","Y","PRIVATE SECTOR","SA11 3EW","South West Wales","Swansea Bay UHB","PCS PAY",86210,86,"Human health services             ",0.29193168620018201,null,null,null,null,null,null,null,null,1572623.69,"*",null,{"$f":"VLOOKUP(A632,'[1]Update Sheet'!$A$3:$Y$15578,25,FALSE)","v":0},"Reportable"]
["ROGERSTONE PRACTICE",13313,1,"Y","Y",true,"GB","Y","PRIVATE SECTOR","NP10 9DU","South East Wales","Aneurin Bevan UHB","PCS PAY",86900,86,"Human health services             ",0.29193168620018201,null,null,null,null,null,null,null,null,1565359.24,"*",null,{"$f":"VLOOKUP(A633,'[1]Update Sheet'!$A$3:$Y$15578,25,FALSE)","v":0},"Reportable"]
["HEATHFIELD LODGE LTD",43095,1,"Y","Y",true,"GB","Y","PRIVATE SECTOR","SA1 6HD","South West Wales","Swansea Bay UHB","SWANSEA SA1",87200,87,"Residential care services             ",0.16514437058930551,null,null,null,null,null,null,null,null,1561858.51,"*",null,{"$f":"VLOOKUP(A634,'[1]Update Sheet'!$A$3:$Y$15578,25,FALSE)","v":0},"Reportable"]
["MAESTEG PHARMACY LTD",63959,1,"Y","Y",true,"GB","Y","PRIVATE SECTOR","CF34 9BW","South East Wales","Cwm Taf Morgannwg UHB","PCS PAY",86900,86,"Human health services             ",0.29193168620018201,null,null,null,null,null,null,null,null,1559590.17,"*",null,{"$f":"VLOOKUP(A635,'[1]Update Sheet'!$A$3:$Y$15578,25,FALSE)","v":0},"Reportable"]
["BRONMEIRION PRACTICE",5001,1,"Y","Y",true,"GB","Y","PRIVATE SECTOR","LL48 6AL","North Wales","Betsi Cadwaladr UHB","PCS PAY",96090,96,"Other personal services             ",7.6712791957121843E-2,null,null,null,null,null,null,null,null,1555727.83,"*",null,{"$f":"VLOOKUP(A636,'[1]Update Sheet'!$A$3:$Y$15578,25,FALSE)","v":0},"Reportable"]
["CYNCOED MEDICAL CENTRE",52211,1,"Y","Y",true,"GB","Y","PRIVATE SECTOR","CF23 8SQ","South East Wales","Cardiff and Vale UHB","PCS PAY",86210,86,"Human health services             ",0.29193168620018201,null,null,null,null,null,null,null,null,1555187.15,"*",null,{"$f":"VLOOKUP(A637,'[1]Update Sheet'!$A$3:$Y$15578,25,FALSE)","v":0},"Reportable"]
["MARGARET STREET PRACTICE",15438,1,"Y","Y",true,"GB","Y","PRIVATE SECTOR","SA18 2PJ","South West Wales","Hywel Dda UHB","PCS PAY",86210,86,"Human health services             ",0.29193168620018201,null,null,null,null,null,null,null,null,1550665.6199999999,"*",null,{"$f":"VLOOKUP(A638,'[1]Update Sheet'!$A$3:$Y$15578,25,FALSE)","v":0},"Reportable"]
["TARIAN GROUP",67215,1,"Y","Y",true,"GB","Y","PRIVATE SECTOR","CF44 7DD","South East Wales","Cwm Taf Morgannwg UHB","PCS PAY",62012,62,"Computer programming, consultancy and related services          ",0.13144659704407699,null,null,null,null,null,null,null,null,1549377.25,"*",null,{"$f":"VLOOKUP(A639,'[1]Update Sheet'!$A$3:$Y$15578,25,FALSE)","v":0},"Reportable"]
["PHILIPS HEALTHCARE",3722,null,"N","N",true,"GB","N","PRIVATE SECTOR","GU2 8XG",null,null,"REIGATE RH2",62090,62,"Computer programming, consultancy and related services          ",0.13144659704407699,null,null,null,null,null,null,null,null,1542667.06,"*",null,{"$f":"VLOOKUP(A640,'[1]Update Sheet'!$A$3:$Y$15578,25,FALSE)","v":0},"Reportable"]
["THE VALE OF NEATH PRACTICE",24099,1,"Y","Y",true,"GB","Y","PRIVATE SECTOR","SA11 5AL","South West Wales","Swansea Bay UHB","PCS PAY",86210,86,"Human health services             ",0.29193168620018201,null,null,null,null,null,null,null,null,1534906.39,"*",null,{"$f":"VLOOKUP(A641,'[1]Update Sheet'!$A$3:$Y$15578,25,FALSE)","v":0},"Reportable"]
["H BAINBRIDGE LTD",68500,1,"Y","Y",true,"GB","Y","PRIVATE SECTOR","CF5 3JX","South East Wales","Cardiff and Vale UHB","PCS PAY",47730,47,"Retail trade services, except of motor vehicles and motorcycles       ",0.17404287306456559,null,null,null,null,null,null,null,null,1533109.32,"*",null,{"$f":"VLOOKUP(A642,'[1]Update Sheet'!$A$3:$Y$15578,25,FALSE)","v":0},"Reportable"]
["MALPAS BROOK HEALTH CENTRE",54576,1,"Y","Y",true,"GB","Y","PRIVATE SECTOR","NP20 5PJ","South East Wales","Aneurin Bevan UHB","NEWPORT NP20",86210,86,"Human health services             ",0.29193168620018201,null,null,null,null,null,null,null,null,1532184.73,"*",null,{"$f":"VLOOKUP(A643,'[1]Update Sheet'!$A$3:$Y$15578,25,FALSE)","v":0},"Reportable"]
["ROBERTS HOMES LTD",47211,1,"Y","Y",true,"GB","Y","PRIVATE SECTOR","LL15 1NJ","North Wales","Betsi Cadwaladr UHB","RUTHIN LL15",41202,41.2,"Buildings and building construction works           ",0.30500636264243469,null,null,null,null,null,null,null,null,1531454.75,"*",null,{"$f":"VLOOKUP(A644,'[1]Update Sheet'!$A$3:$Y$15578,25,FALSE)","v":0},"Reportable"]
["THE GP TEAM LTD",72081,null,"N","N",true,"GB","Y","PRIVATE SECTOR","MK8 8ED",null,null,"MILTON MK8",86210,86,"Human health services             ",0.29193168620018201,null,null,null,null,null,null,null,null,1530188.87,"*",null,{"$f":"VLOOKUP(A645,'[1]Update Sheet'!$A$3:$Y$15578,25,FALSE)","v":0},"Reportable"]
["HALLMARK HEALTHCARE",34162,null,"N","N",true,"GB","Y","PRIVATE SECTOR","CM12 0EQ",null,null,"BILLERICA CM12",86900,86,"Human health services             ",0.29193168620018201,null,null,null,null,null,null,null,null,1525688.1600000001,"*",null,{"$f":"VLOOKUP(A646,'[1]Update Sheet'!$A$3:$Y$15578,25,FALSE)","v":0},"Reportable"]
["ABERSYCHAN GROUP PRACTICE",52282,1,"Y","Y",true,"GB","Y","PRIVATE SECTOR","NP4 7BH","South East Wales","Aneurin Bevan UHB","PCS PAY",86210,86,"Human health services             ",0.29193168620018201,null,null,null,null,null,null,null,null,1523321.54,"*",null,{"$f":"VLOOKUP(A647,'[1]Update Sheet'!$A$3:$Y$15578,25,FALSE)","v":0},"Reportable"]
["WSP UK LTD",40789,null,"N","N",true,"GB","N","PRIVATE SECTOR","RG21 4HJ",null,null,"BASINGSTO RG21",71122,71,"Architectural and engineering services; technical testing and analysis services       ",0.1560575201743172,2022,656000,603000,9277000,{"$f":"SUM(S648:U648)","v":10536000},{"$f":"736656*1000","v":736656000},{"$f":"V648/W648","v":1.430246953802046E-2},"on accounts and carbon reduction plan",1523161.45,"*",null,{"$f":"VLOOKUP(A648,'[1]Update Sheet'!$A$3:$Y$15578,25,FALSE)","v":"In Master List"},"Reportable"]
["MENTAL HEALTH MATTERS WALES LTD",39363,1,"Y","Y",true,"GB","Y","PRIVATE SECTOR","CF31 1JW","South East Wales","Cwm Taf Morgannwg UHB","BRIDGEND CF31",86900,86,"Human health services             ",0.29193168620018201,2023,117000,57000,328000,{"$f":"SUM(S649:U649)","v":502000},1968229,{"$f":"V649/W649","v":0.25505162255001834},null,1521652.94,"*",null,{"$f":"VLOOKUP(A649,'[1]Update Sheet'!$A$3:$Y$15578,25,FALSE)","v":"In Master List"},"Reportable"]
["CLARK AVENUE SURGERY",52558,1,"Y","Y",true,"GB","N","PRIVATE SECTOR","NP44 1RY","South East Wales","Aneurin Bevan UHB","PCS PAY",86900,86,"Human health services             ",0.29193168620018201,null,null,null,null,null,null,null,null,1517733.58,"*",null,{"$f":"VLOOKUP(A650,'[1]Update Sheet'!$A$3:$Y$15578,25,FALSE)","v":0},"Reportable"]
["ADVANCED BUSINESS SOFTWARE AND SOLUTIONS LTD",75907,null,"N","N",true,"GB","N","PRIVATE SECTOR","B1 1RF",null,null,"BIRMINGHAM B1",62020,62,"Computer programming, consultancy and related services          ",0.13144659704407699,null,null,null,null,null,null,null,null,1512205.7,"*",null,{"$f":"VLOOKUP(A651,'[1]Update Sheet'!$A$3:$Y$15578,25,FALSE)","v":0},"Reportable"]
["PARK HOUSE SURGERY",44664,1,"Y","Y",true,"GB","N","PRIVATE SECTOR","LL19 9LN","North Wales","Betsi Cadwaladr UHB","PCS PAY",86900,86,"Human health services             ",0.29193168620018201,null,null,null,null,null,null,null,null,1508611.08,"*",null,{"$f":"VLOOKUP(A652,'[1]Update Sheet'!$A$3:$Y$15578,25,FALSE)","v":0},"Reportable"]
["NH CASE LTD",2071,null,"N","N",true,"GB","Y","PRIVATE SECTOR","BA9 9DT",null,null,"WINCANTON BA9",70229,70,"Services of head offices; management consulting services         ",9.3681183759862049E-2,null,null,null,null,null,null,null,null,1506923,"*",null,{"$f":"VLOOKUP(A653,'[1]Update Sheet'!$A$3:$Y$15578,25,FALSE)","v":0},"Reportable"]
["ROSENEATH MEDICAL PRACTICE",27759,1,"Y","Y",true,"GB","Y","PRIVATE SECTOR","CH7 3PG","North Wales","Betsi Cadwaladr UHB","PCS PAY",86210,86,"Human health services             ",0.29193168620018201,null,null,null,null,null,null,null,null,1505148.65,"*",null,{"$f":"VLOOKUP(A654,'[1]Update Sheet'!$A$3:$Y$15578,25,FALSE)","v":0},"Reportable"]
["CONSULTANT CONNECT LTD",64928,null,"N","N",true,"GB","Y","PRIVATE SECTOR","OX1 1DE",null,null,"OXFORD OX1",62020,62,"Computer programming, consultancy and related services          ",0.13144659704407699,2023,null,null,null,116368,12959368,{"$f":"V655/W655","v":8.9794502324496064E-3},null,1503562,"*",null,{"$f":"VLOOKUP(A655,'[1]Update Sheet'!$A$3:$Y$15578,25,FALSE)","v":"In Master List"},"Reportable"]
["WHITCHURCH MEDICAL CENTRE",28487,1,"Y","Y",true,"GB","Y","PRIVATE SECTOR","CF14 7EZ","South East Wales","Cardiff and Vale UHB","PCS PAY",86210,86,"Human health services             ",0.29193168620018201,null,null,null,null,null,null,null,null,1500941.6500000001,"*",null,{"$f":"VLOOKUP(A656,'[1]Update Sheet'!$A$3:$Y$15578,25,FALSE)","v":0},"Reportable"]
["GOFAL CYMRU CARE LTD",64946,1,"Y","Y",true,"GB","Y","PRIVATE SECTOR","CF5 2RH","South East Wales","Cardiff and Vale UHB","CARDIFF CF5",87200,87,"Residential care services             ",0.16514437058930551,null,null,null,null,null,null,null,null,1500454.37,"*",null,{"$f":"VLOOKUP(A657,'[1]Update Sheet'!$A$3:$Y$15578,25,FALSE)","v":0},"Reportable"]
["PARKWAY CLINIC",36370,1,"Y","Y",true,"GB","Y","PRIVATE SECTOR","SA1 8EL","South West Wales","Swansea Bay UHB","SWANSEA SA1",86230,86,"Human health services             ",0.29193168620018201,null,null,null,null,null,null,null,null,1498783.24,"*",null,{"$f":"VLOOKUP(A658,'[1]Update Sheet'!$A$3:$Y$15578,25,FALSE)","v":0},"Reportable"]
["THE USK SURGERY",34572,null,"N","N",true,"GB","N","PRIVATE SECTOR","NP15 1AB",null,null,"PCS PAY",86900,86,"Human health services             ",0.29193168620018201,null,null,null,null,null,null,null,null,1498162.08,"*",null,{"$f":"VLOOKUP(A659,'[1]Update Sheet'!$A$3:$Y$15578,25,FALSE)","v":0},"Reportable"]
["PRIDE HEALTH & SOCIAL CARE LTD",64912,null,"N","N",true,"GB","Y","PRIVATE SECTOR","BS34 8QB",null,null,"BRISTOL BS34",86101,86,"Human health services             ",0.29193168620018201,null,null,null,null,null,null,null,null,1496354.19,"*",null,{"$f":"VLOOKUP(A660,'[1]Update Sheet'!$A$3:$Y$15578,25,FALSE)","v":0},"Reportable"]
["CAPITA BUSINESS SERVICES LTD",395,null,"N","N",true,"GB","N","PRIVATE SECTOR","DL1 9HN",null,null,"DERBY DE21",62020,62,"Computer programming, consultancy and related services          ",0.13144659704407699,2022,5388000,1826000,18793000,{"$f":"SUM(S661:U661)","v":26007000},{"$f":"1347.7*1000000","v":1347700000},{"$f":"V661/W661","v":1.9297321362320992E-2},null,1495618.08,"*",null,{"$f":"VLOOKUP(A661,'[1]Update Sheet'!$A$3:$Y$15578,25,FALSE)","v":"In Master List"},"Reportable"]
["BRADSHAW MANOR CARE LTD",75067,null,"N","N",true,"GB","N","VCSE","ST5 9QF",null,null,"NEWCASTLE ST5",87300,87,"Residential care services             ",0.16514437058930551,null,null,null,null,null,null,null,null,1494762.2799999991,"*",null,{"$f":"VLOOKUP(A662,'[1]Update Sheet'!$A$3:$Y$15578,25,FALSE)","v":0},"Reportable"]
["PEN Y CAE SURGERY",67337,1,"Y","Y",true,"GB","N","PRIVATE SECTOR","NP23 6EY","South East Wales","Aneurin Bevan UHB","PCS PAY",86900,86,"Human health services             ",0.29193168620018201,null,null,null,null,null,null,null,null,1492058.02,"*",null,{"$f":"VLOOKUP(A663,'[1]Update Sheet'!$A$3:$Y$15578,25,FALSE)","v":0},"Reportable"]
["CHG MERIDIAN UK LTD",62131,null,"N","N",true,"GB","N","PRIVATE SECTOR","TW20 9EY",null,null,"EGHAM TW20",64910,64,"Financial services, except insurance and pension funding         ",0.1103075939416239,2021,{"$f":"1407*1000","v":1407000},{"$f":"117*1000","v":117000},{"$f":"2126*1000","v":2126000},{"$f":"SUM(S664:U664)","v":3650000},{"$f":"66196*1000","v":66196000},{"$f":"V664/W664","v":5.5139283340383108E-2},"CRP",1491898.16,"*",null,{"$f":"VLOOKUP(A664,'[1]Update Sheet'!$A$3:$Y$15578,25,FALSE)","v":"In Master List"},"Reportable"]
["THE ENDOSCOPY GROUP LTD",61761,null,"N","N",true,"GB","Y","PRIVATE SECTOR","CM12 9DF",null,null,"BILLERICAY CM12",86210,86,"Human health services             ",0.29193168620018201,null,null,null,null,null,null,null,null,1481132.77,"*",null,{"$f":"VLOOKUP(A665,'[1]Update Sheet'!$A$3:$Y$15578,25,FALSE)","v":0},"Reportable"]
["NORTH CELYNEN PRACTICE",51458,1,"Y","Y",true,"GB","N","PRIVATE SECTOR","NP11 4PQ","South East Wales","Aneurin Bevan UHB","PCS PAY",86900,86,"Human health services             ",0.29193168620018201,null,null,null,null,null,null,null,null,1478350.62,"*",null,{"$f":"VLOOKUP(A666,'[1]Update Sheet'!$A$3:$Y$15578,25,FALSE)","v":0},"Reportable"]
["DINAS POWYS HEALTH CENTRE",53707,1,"Y","Y",true,"GB","Y","PRIVATE SECTOR","CF64 4RE","South East Wales","Cardiff and Vale UHB","PCS PAY",86210,86,"Human health services             ",0.29193168620018201,null,null,null,null,null,null,null,null,1478291.73,"*",null,{"$f":"VLOOKUP(A667,'[1]Update Sheet'!$A$3:$Y$15578,25,FALSE)","v":0},"Reportable"]
["MOTT MACDONALD",13642,1,"Y","Y",true,"GB","N","PRIVATE SECTOR","CF10 5BT","South East Wales","Cardiff and Vale UHB","CROYDON CR0",71129,71,"Architectural and engineering services; technical testing and analysis services       ",0.1560575201743172,2022,{"$f":"(892+1050+1881+3996)*1000","v":7819000},{"$f":"3465*1000","v":3465000},{"$f":"(136281+6354+3693+1474+15131+10232)*1000","v":173165000},{"$f":"SUM(S668:U668)","v":184449000},{"$f":"2049094*1000","v":2049094000},{"$f":"V668/W668","v":9.0014904147881936E-2},null,1471294.3399999999,"*",null,{"$f":"VLOOKUP(A668,'[1]Update Sheet'!$A$3:$Y$15578,25,FALSE)","v":"In Master List"},"Reportable"]
["DYFED ROAD HEALTH CENTRE",36988,1,"Y","Y",true,"GB","Y","PRIVATE SECTOR","SA11 3AW","South West Wales","Swansea Bay UHB","PCS PAY",86210,86,"Human health services             ",0.29193168620018201,null,null,null,null,null,null,null,null,1470740.48,"*",null,{"$f":"VLOOKUP(A669,'[1]Update Sheet'!$A$3:$Y$15578,25,FALSE)","v":0},"Reportable"]
["THE FOUNDARY TOWN CLINIC",66194,null,"N","Y","Removal of a False Welsh Supplier","GB","Y","PRIVATE SECTOR","CF44 7PA",null,null,"PCS PAY",86220,86,"Human health services             ",0.29193168620018201,null,null,null,null,null,null,null,null,1466639.8,"*",null,{"$f":"VLOOKUP(A670,'[1]Update Sheet'!$A$3:$Y$15578,25,FALSE)","v":0},"Reportable"]
["ABERYSTWYTH UNIVERSITY",6575,1,"Y","Y",true,"GB","Y","PUBLIC SECTOR","SY23 2AX","Mid Wales","Hywel Dda UHB","STUDENT FEES",85421,85,"Education services              ",0.10257966678326461,null,null,null,null,null,null,null,null,1465643.73,"*",null,{"$f":"VLOOKUP(A671,'[1]Update Sheet'!$A$3:$Y$15578,25,FALSE)","v":0},"Reportable"]
["DOCCLA UK LTD",77253,null,"N","N",true,"GB","N","PRIVATE SECTOR","W6 7NL",null,null,"LONDON W6",70229,70,"Services of head offices; management consulting services         ",9.3681183759862049E-2,null,null,null,null,null,null,null,null,1465267.76,"*",null,{"$f":"VLOOKUP(A672,'[1]Update Sheet'!$A$3:$Y$15578,25,FALSE)","v":0},"Reportable"]
["PLATFFORM FOR CHANGE",23595,1,"Y","Y",true,"GB","N","VCSE","SA6 8JG","South West Wales","Swansea Bay UHB","SWANSEA SA6",88990,88,"Social work services without accommodation           ",0.12926092802643949,null,null,null,null,null,null,null,null,1462027.31,"*",null,{"$f":"VLOOKUP(A673,'[1]Update Sheet'!$A$3:$Y$15578,25,FALSE)","v":0},"Reportable"]
["NATURES HAND CARE AND SUPPORT  LTD",65126,1,"Y","Y",true,"GB","Y","PRIVATE SECTOR","NP23 8XA","South East Wales","Aneurin Bevan UHB","EBBW VALE NP23",87200,87,"Residential care services             ",0.16514437058930551,null,null,null,null,null,null,null,null,1459680.86,"*",null,{"$f":"VLOOKUP(A674,'[1]Update Sheet'!$A$3:$Y$15578,25,FALSE)","v":0},"Reportable"]
["DURBIN PLC",104,null,"N","N",true,"GB","N","PRIVATE SECTOR","UB3 1DQ",null,null,"PHARMACY",46460,46,"Wholesale trade services, except of motor vehicles and motorcycles       ",2.0310031510736858E-2,null,null,null,null,null,null,null,null,1453818.67,"*",null,{"$f":"VLOOKUP(A675,'[1]Update Sheet'!$A$3:$Y$15578,25,FALSE)","v":0},"Reportable"]
["ST THOMAS SURGERY (SWANSEA)",17099,1,"Y","Y",true,"GB","Y","PRIVATE SECTOR","SA1 8LH","South West Wales","Swansea Bay UHB","PCS PAY",86210,86,"Human health services             ",0.29193168620018201,null,null,null,null,null,null,null,null,1453668.94,"*",null,{"$f":"VLOOKUP(A676,'[1]Update Sheet'!$A$3:$Y$15578,25,FALSE)","v":0},"Reportable"]
["YOUR NURSE LTD",61208,null,"N","N",true,"GB","N","PRIVATE SECTOR","E14 5RE",null,null,"LONDON E14",70229,70,"Services of head offices; management consulting services         ",9.3681183759862049E-2,2023,2300,9200,89000,100500,13832046,7.2657363921432884E-3,null,1450005.139999998,"*",null,{"$f":"VLOOKUP(A677,'[1]Update Sheet'!$A$3:$Y$15578,25,FALSE)","v":"In Master List"},"Reportable"]
["YSTWYTH PRIMARY CARE GROUP",11299,1,"Y","Y",true,"GB","Y","PRIVATE SECTOR","SY23 3TL","Mid Wales","Hywel Dda UHB","PCS PAY",86210,86,"Human health services             ",0.29193168620018201,null,null,null,null,null,null,null,null,1449252,"*",null,{"$f":"VLOOKUP(A678,'[1]Update Sheet'!$A$3:$Y$15578,25,FALSE)","v":0},"Reportable"]
["PARK HOUSE COURT LTD",39503,1,"Y","Y",true,"GB","Y","PRIVATE SECTOR","SA70 8TJ","South West Wales","Swansea Bay UHB","TENBY SA70",87100,87,"Residential care services             ",0.16514437058930551,null,null,null,null,null,null,null,null,1448584.5199999991,"*",null,{"$f":"VLOOKUP(A679,'[1]Update Sheet'!$A$3:$Y$15578,25,FALSE)","v":0},"Reportable"]
["AVENUE VILLA SURGERY",17037,1,"Y","Y",true,"GB","Y","PRIVATE SECTOR","SA15 2TJ","South West Wales","Hywel Dda UHB","PCS PAY",86210,86,"Human health services             ",0.29193168620018201,null,null,null,null,null,null,null,null,1446491.74,"*",null,{"$f":"VLOOKUP(A680,'[1]Update Sheet'!$A$3:$Y$15578,25,FALSE)","v":0},"Reportable"]
["BRONYFFYNNON SURGERY",28471,1,"Y","Y",true,"GB","Y","PRIVATE SECTOR","LL16 3TF","North Wales","Betsi Cadwaladr UHB","PCS PAY",86210,86,"Human health services             ",0.29193168620018201,null,null,null,null,null,null,null,null,1445055.6099999999,"*",null,{"$f":"VLOOKUP(A681,'[1]Update Sheet'!$A$3:$Y$15578,25,FALSE)","v":0},"Reportable"]
["FISHGUARD SURGERY",35408,1,"Y","Y",true,"GB","Y","PRIVATE SECTOR","SA65 9BT","South West Wales","Swansea Bay UHB","PCS PAY",86210,86,"Human health services             ",0.29193168620018201,null,null,null,null,null,null,null,null,1444986.6500000001,"*",null,{"$f":"VLOOKUP(A682,'[1]Update Sheet'!$A$3:$Y$15578,25,FALSE)","v":0},"Reportable"]
["BRECON & DISTRICT MIND",38589,1,"Y","Y",true,"GB","Y","VCSE","LD3 7BN","Mid Wales","Powys Teaching HB","BRECON LD3",86900,86,"Human health services             ",0.29193168620018201,2023,10900,4000,132300,{"$f":"SUM(S683:U683)","v":147200},{"$f":"59.16*1000000","v":59160000},{"$f":"V683/W683","v":2.4881676808654494E-3},"Parent Charity CRP and turnover",133275.37,"*",null,{"$f":"VLOOKUP(A683,'[1]Update Sheet'!$A$3:$Y$15578,25,FALSE)","v":"In Master List"},"Reportable"]
["LP SD TEN LTD",76277,null,"N","N",true,"GB","N","PRIVATE SECTOR","NP11 6YS",null,null,"PCS PAY",47730,47,"Retail trade services, except of motor vehicles and motorcycles       ",0.17404287306456559,null,null,null,null,null,null,null,null,1442917.81,"*",null,{"$f":"VLOOKUP(A684,'[1]Update Sheet'!$A$3:$Y$15578,25,FALSE)","v":0},"Reportable"]
["MR A D RICHARDS",68572,null,"N","Y","Removal of a False Welsh Supplier","GB","Y","PRIVATE SECTOR",null,null,null,"PCS PAY",96090,96,"Other personal services             ",7.6712791957121843E-2,null,null,null,null,null,null,null,null,1442440.22,"*",null,{"$f":"VLOOKUP(A685,'[1]Update Sheet'!$A$3:$Y$15578,25,FALSE)","v":0},"Reportable"]
["AMBERWELL ENGINEERING SERVICES LTD",25687,1,"Y","Y",true,"GB","Y","PRIVATE SECTOR","CF33 6BL","South East Wales","Cwm Taf Morgannwg UHB","PYLE CF33",33200,"33OTHER","Rest of repair; Installation - 33.11-14/17/19/20          ",0.18696882687485539,null,null,null,null,null,null,null,null,1440801.45,"*",null,{"$f":"VLOOKUP(A686,'[1]Update Sheet'!$A$3:$Y$15578,25,FALSE)","v":0},"Reportable"]
["OUR HEALTH PHARMA LTD T/A T BOWEN REES",69320,1,"Y","Y",true,"GB","N","PRIVATE SECTOR","SA4 8SS","South West Wales","Swansea Bay UHB","PCS PAY",47730,47,"Retail trade services, except of motor vehicles and motorcycles       ",0.17404287306456559,null,null,null,null,null,null,null,null,1438871.38,"*",null,{"$f":"VLOOKUP(A687,'[1]Update Sheet'!$A$3:$Y$15578,25,FALSE)","v":0},"Reportable"]
["ALPHA LABORATORIES LTD",20,null,"N","N",true,"GB","N","PRIVATE SECTOR","SO50 4NU",null,null,"PHARMACY",46180,46,"Wholesale trade services, except of motor vehicles and motorcycles       ",2.0310031510736858E-2,null,null,null,null,null,null,null,null,1438502.62,"*",null,{"$f":"VLOOKUP(A688,'[1]Update Sheet'!$A$3:$Y$15578,25,FALSE)","v":0},"Reportable"]
["TAL Y BONT SURGERY",36517,1,"Y","Y",true,"GB","Y","PRIVATE SECTOR","SA4 8TJ","South West Wales","Swansea Bay UHB","PCS PAY",86210,86,"Human health services             ",0.29193168620018201,null,null,null,null,null,null,null,null,1438359.6,"*",null,{"$f":"VLOOKUP(A689,'[1]Update Sheet'!$A$3:$Y$15578,25,FALSE)","v":0},"Reportable"]
["BRON DERW SURGERY",5021,1,"Y","Y",true,"GB","N","PRIVATE SECTOR","LL57 1AH","North Wales","Betsi Cadwaladr UHB","PCS PAY",86210,86,"Human health services             ",0.29193168620018201,null,null,null,null,null,null,null,null,1438175,"*",null,{"$f":"VLOOKUP(A690,'[1]Update Sheet'!$A$3:$Y$15578,25,FALSE)","v":0},"Reportable"]
["BIRCHGROVE SURGERY",20323,1,"Y","Y",true,"GB","Y","PRIVATE SECTOR","CF14 4AG","South East Wales","Cardiff and Vale UHB","PCS PAY",86210,86,"Human health services             ",0.29193168620018201,null,null,null,null,null,null,null,null,1436771.7799999998,"*",null,{"$f":"VLOOKUP(A691,'[1]Update Sheet'!$A$3:$Y$15578,25,FALSE)","v":0},"Reportable"]
["CHANNEL 3 CONSULTING LTD",62831,1,"Y","Y",true,"GB","Y","PRIVATE SECTOR","CF10 4AZ","South East Wales","Cardiff and Vale UHB","CARDIFF CF10",62020,62,"Computer programming, consultancy and related services          ",0.13144659704407699,2022,0,{"$f":"2.6*1000","v":2600},{"$f":"153*1000","v":153000},{"$f":"SUM(S692:U692)","v":155600},12750269,{"$f":"V692/W692","v":1.2203664095243795E-2},"CRP",1433916,"*",null,{"$f":"VLOOKUP(A692,'[1]Update Sheet'!$A$3:$Y$15578,25,FALSE)","v":"In Master List"},"Reportable"]
["CARTER SYNERGY LTD",54065,null,"N","N",true,"GB","N","PRIVATE SECTOR","B33 9TX",null,null,"BIRMINGHA B33",33140,"33OTHER","Rest of repair; Installation - 33.11-14/17/19/20          ",0.18696882687485539,null,null,null,null,null,null,null,null,1432762.6,"*",null,{"$f":"VLOOKUP(A693,'[1]Update Sheet'!$A$3:$Y$15578,25,FALSE)","v":0},"Reportable"]
["HOW PHARM LTD",70943,1,"Y","Y",true,"GB","N","PRIVATE SECTOR","LD5 4RG","Mid Wales","Powys Teaching HB","PCS PAY",96090,96,"Other personal services             ",7.6712791957121843E-2,null,null,null,null,null,null,null,null,1431918.52,"*",null,{"$f":"VLOOKUP(A694,'[1]Update Sheet'!$A$3:$Y$15578,25,FALSE)","v":0},"Reportable"]
["MEDDYGFA TAF",16280,1,"Y","Y",true,"GB","Y","PRIVATE SECTOR","SA34 0AU","South West Wales","Hywel Dda UHB","PCS PAY",86210,86,"Human health services             ",0.29193168620018201,null,null,null,null,null,null,null,null,1430466.95,"*",null,{"$f":"VLOOKUP(A695,'[1]Update Sheet'!$A$3:$Y$15578,25,FALSE)","v":0},"Reportable"]
["BRYNHYFRYD SURGERY",37049,1,"Y","Y",true,"GB","Y","PRIVATE SECTOR","SA5 9EB","South West Wales","Swansea Bay UHB","PCS PAY",86210,86,"Human health services             ",0.29193168620018201,null,null,null,null,null,null,null,null,1429473.03,"*",null,{"$f":"VLOOKUP(A696,'[1]Update Sheet'!$A$3:$Y$15578,25,FALSE)","v":0},"Reportable"]
["VEEZU LTD",6328,1,"Y","Y",true,"GB","Y","PRIVATE SECTOR","CF31 1LJ","South East Wales","Cwm Taf Morgannwg UHB","BRIDGEND CF31",49320,"49.3-5","Land transport services and transport services via pipelines, excluding rail transport     ",0.60315703544097854,null,null,null,null,null,null,null,null,1428197.6600000001,"*",null,{"$f":"VLOOKUP(A697,'[1]Update Sheet'!$A$3:$Y$15578,25,FALSE)","v":0},"Reportable"]
["CORNELLY SURGERY",68765,1,"Y","Y",true,"GB","Y","PRIVATE SECTOR","CF33 4LN","South East Wales","Cwm Taf Morgannwg UHB","PCS PAY",86210,86,"Human health services             ",0.29193168620018201,null,null,null,null,null,null,null,null,1427771.1700000002,"*",null,{"$f":"VLOOKUP(A698,'[1]Update Sheet'!$A$3:$Y$15578,25,FALSE)","v":0},"Reportable"]
["MESSRS DAVIES & EVANS LTD TA MARGARET STREET PHARMACY",68540,1,"Y","Y",true,"GB","Y","PRIVATE SECTOR","SA7 9LA","South West Wales","Swansea Bay UHB","PCS PAY",74430,47,"Retail trade services, except of motor vehicles and motorcycles       ",0.17404287306456559,null,null,null,null,null,null,null,null,1424770.23,"*",null,{"$f":"VLOOKUP(A699,'[1]Update Sheet'!$A$3:$Y$15578,25,FALSE)","v":"Public Sector- Exclude"},"Reportable"]
["TSF CONTRACTS LTD",873,1,"Y","Y",true,"GB","Y","PRIVATE SECTOR","CF72 9FQ","South East Wales","Cwm Taf Morgannwg UHB","CARDIFF CF5",43330,42.99,"Specialised construction works             ",0.31026786628535008,null,null,null,null,null,null,null,null,1424401.12,"*",null,{"$f":"VLOOKUP(A700,'[1]Update Sheet'!$A$3:$Y$15578,25,FALSE)","v":0},"Reportable"]
["MAPP PROPERTY MANAGEMENT LTD",71798,null,"N","N",true,"GB","N","PRIVATE SECTOR","W1W 5QZ",null,null,"CLIENT ACC",68320,68.3,"Real estate services on a fee or contract basis       ",8.4914337844308282E-2,null,null,null,null,null,null,null,null,1423156.08,"*",null,{"$f":"VLOOKUP(A701,'[1]Update Sheet'!$A$3:$Y$15578,25,FALSE)","v":0},"Reportable"]
["ST JOSEPHS INDEPENDENT HOSPITAL LTD",14798,1,"Y","Y",true,"GB","Y","PRIVATE SECTOR","NP20 6ZE","South East Wales","Aneurin Bevan UHB","NEWPORT NP20",86101,86,"Human health services             ",0.29193168620018201,null,null,null,null,null,null,null,null,1421297.4,"*",null,{"$f":"VLOOKUP(A702,'[1]Update Sheet'!$A$3:$Y$15578,25,FALSE)","v":0},"Reportable"]
["BASSALEG PHARMACY",68602,1,"Y","Y",true,"GB","Y","PRIVATE SECTOR","NP10 8NN","South East Wales","Aneurin Bevan UHB","PCS PAY",86900,86,"Human health services             ",0.29193168620018201,null,null,null,null,null,null,null,null,1420387.16,"*",null,{"$f":"VLOOKUP(A703,'[1]Update Sheet'!$A$3:$Y$15578,25,FALSE)","v":0},"Reportable"]
["ERNST & YOUNG LLP",2674,null,"N","N",true,"GB","N","PRIVATE SECTOR","M2 3EY",null,null,"LONDON SE1",69102,69.099999999999994,"Legal services              ",5.7877621976311508E-2,2021,{"$f":"973*1000","v":973000},{"$f":"2837*1000","v":2837000},{"$f":"V704-T704-S704","v":246000},{"$f":"4056*1000","v":4056000},{"$f":"2373*1000000","v":2373000000},{"$f":"V704/W704","v":1.709228824273072E-3},null,1419293.24,"*",null,{"$f":"VLOOKUP(A704,'[1]Update Sheet'!$A$3:$Y$15578,25,FALSE)","v":"In Master List"},"Reportable"]
["RADYR MEDICAL CENTRE",54351,1,"Y","Y",true,"GB","Y","PRIVATE SECTOR","CF15 8BZ","South East Wales","Cardiff and Vale UHB","PCS PAY",86210,86,"Human health services             ",0.29193168620018201,null,null,null,null,null,null,null,null,1418969.22,"*",null,{"$f":"VLOOKUP(A705,'[1]Update Sheet'!$A$3:$Y$15578,25,FALSE)","v":0},"Reportable"]
["THE VAUXHALL PRACTICE",32091,1,"Y","Y",true,"GB","Y","PRIVATE SECTOR","NP16 5PZ","South East Wales","Aneurin Bevan UHB","PCS PAY",86210,86,"Human health services             ",0.29193168620018201,null,null,null,null,null,null,null,null,1417270.39,"*",null,{"$f":"VLOOKUP(A706,'[1]Update Sheet'!$A$3:$Y$15578,25,FALSE)","v":0},"Reportable"]
["WILLMOTT DIXON CONSTRUCTION LTD - PBA",71156,1,"Y","Y",true,"GB","N","PRIVATE SECTOR","CF11 0SN","South East Wales","Cardiff and Vale UHB","MAELFA WBH",41201,41.2,"Buildings and building construction works           ",0.30500636264243469,2021,2376000,143000,1009722000,1012241000,1101468000,0.91899265344068093,"carbon reduction plan",1414201.84,"*",null,{"$f":"VLOOKUP(A707,'[1]Update Sheet'!$A$3:$Y$15578,25,FALSE)","v":"Review as T2 higher than T1"},"Reportable"]
["NANT DOWLAIS HEALTH CENTRE",66601,1,"Y","Y",true,"GB","N","PRIVATE SECTOR","NP44 4TA","South East Wales","Aneurin Bevan UHB","PCS PAY",86900,86,"Human health services             ",0.29193168620018201,null,null,null,null,null,null,null,null,1412350.59,"*",null,{"$f":"VLOOKUP(A708,'[1]Update Sheet'!$A$3:$Y$15578,25,FALSE)","v":0},"Reportable"]
["LLYNFI SURGERY",31973,1,"Y","Y",true,"GB","Y","PRIVATE SECTOR","CF34 9DT","South East Wales","Cwm Taf Morgannwg UHB","PCS PAY",86900,86,"Human health services             ",0.29193168620018201,null,null,null,null,null,null,null,null,1404493.26,"*",null,{"$f":"VLOOKUP(A709,'[1]Update Sheet'!$A$3:$Y$15578,25,FALSE)","v":0},"Reportable"]
["S B CARR LTD T/A VALLEY PHARMACY",62788,null,"N","Y","Removal of a False Welsh Supplier","GB","N","PRIVATE SECTOR",null,null,null,"PCS PAY",86900,86,"Human health services             ",0.29193168620018201,null,null,null,null,null,null,null,null,1401749.39,"*",null,{"$f":"VLOOKUP(A710,'[1]Update Sheet'!$A$3:$Y$15578,25,FALSE)","v":0},"Reportable"]
["FAIRWATER HEALTH CENTRE",52982,1,"Y","Y",true,"GB","Y","PRIVATE SECTOR","CF5 3JT","South East Wales","Cardiff and Vale UHB","PCS PAY",86210,86,"Human health services             ",0.29193168620018201,null,null,null,null,null,null,null,null,1399729.8599999999,"*",null,{"$f":"VLOOKUP(A711,'[1]Update Sheet'!$A$3:$Y$15578,25,FALSE)","v":0},"Reportable"]
["SEVEN RESOURCING LTD",54579,null,"N","N",true,"GB","Y","PRIVATE SECTOR","IP5 3RE",null,null,"IPSWICH IP5",78200,78,"Employment services              ",0.1176282196328419,2021,10000,6000,81000,97000,44430051,2.1832070370569685E-3,null,1398628.56,"*",null,{"$f":"VLOOKUP(A712,'[1]Update Sheet'!$A$3:$Y$15578,25,FALSE)","v":"In Master List"},"Reportable"]
["THE PONTPRENNAU MEDICAL CENTRE",50292,1,"Y","Y",true,"GB","Y","PRIVATE SECTOR","CF23 8RJ","South East Wales","Cardiff and Vale UHB","PCS PAY",86210,86,"Human health services             ",0.29193168620018201,null,null,null,null,null,null,null,null,1395919.65,"*",null,{"$f":"VLOOKUP(A713,'[1]Update Sheet'!$A$3:$Y$15578,25,FALSE)","v":0},"Reportable"]
["SKEWEN MEDICAL CENTRE",37430,1,"Y","Y",true,"GB","Y","PRIVATE SECTOR","SA10 6UH","South West Wales","Swansea Bay UHB","PCS PAY",86210,86,"Human health services             ",0.29193168620018201,null,null,null,null,null,null,null,null,1394256.6099999999,"*",null,{"$f":"VLOOKUP(A714,'[1]Update Sheet'!$A$3:$Y$15578,25,FALSE)","v":0},"Reportable"]
["MARTHA TRUST HEREFORD LTD",39340,null,"N","N",true,"GB","Y","PRIVATE SECTOR","HR1 1UB",null,null,"HEREFORD HR1",87100,87,"Residential care services             ",0.16514437058930551,null,null,null,null,null,null,null,null,1393573.93,"*",null,{"$f":"VLOOKUP(A715,'[1]Update Sheet'!$A$3:$Y$15578,25,FALSE)","v":0},"Reportable"]
["AIR LIQUIDE HEALTHCARE LTD",48472,null,"N","N",true,"GB","N","PRIVATE SECTOR","WR9 0NX",null,null,"DROITWICH WR9",86900,86,"Human health services             ",0.29193168620018201,null,null,null,null,null,null,null,null,1392590.439999999,"*",null,{"$f":"VLOOKUP(A716,'[1]Update Sheet'!$A$3:$Y$15578,25,FALSE)","v":0},"Reportable"]
["BYROM (SOUTH WALES) LTD",68417,1,"Y","Y",true,"GB","Y","PRIVATE SECTOR","CF62 3DT","South East Wales","Cardiff and Vale UHB","PCS PAY",21100,21,"Basic pharmaceutical products and pharmaceutical preparations          ",0.62099518156965727,null,null,null,null,null,null,null,null,1392073.51,"*",null,{"$f":"VLOOKUP(A717,'[1]Update Sheet'!$A$3:$Y$15578,25,FALSE)","v":0},"Reportable"]
["THE QUAY SURGERY",56433,1,"Y","Y",true,"GB","N","PRIVATE SECTOR","CH5 4PJ","North Wales","Betsi Cadwaladr UHB","PCS PAY",86210,86,"Human health services             ",0.29193168620018201,null,null,null,null,null,null,null,null,1389569.21,"*",null,{"$f":"VLOOKUP(A718,'[1]Update Sheet'!$A$3:$Y$15578,25,FALSE)","v":0},"Reportable"]
["LLAN HEALTHCARE",1150,1,"Y","Y",true,"GB","Y","PRIVATE SECTOR","CF23 9PN","South East Wales","Cardiff and Vale UHB","PCS PAY",86230,86,"Human health services             ",0.29193168620018201,null,null,null,null,null,null,null,null,2748038.31,"*",null,{"$f":"VLOOKUP(A719,'[1]Update Sheet'!$A$3:$Y$15578,25,FALSE)","v":0},"Reportable"]
["DRAEGER MEDICAL UK LTD",14348,null,"N","N",true,"GB","N","PRIVATE SECTOR","HP2 7BW",null,null,"PHARMACY",33190,"33OTHER","Rest of repair; Installation - 33.11-14/17/19/20          ",0.18696882687485539,2022,{"$f":"405*1000","v":405000},{"$f":"0","v":0},{"$f":"18*1000","v":18000},{"$f":"SUM(S720:U720)","v":423000},{"$f":"53664*1000","v":53664000},{"$f":"V720/W720","v":7.882379248658318E-3},"carbon reduction plan",1383573.8900000001,"*",null,{"$f":"VLOOKUP(A720,'[1]Update Sheet'!$A$3:$Y$15578,25,FALSE)","v":"In Master List"},"Reportable"]
["SEQIRUS VACCINES LTD",26532,null,"N","N",true,"GB","N","PRIVATE SECTOR","L24 9GR",null,null,"PHARMACY",21100,21,"Basic pharmaceutical products and pharmaceutical preparations          ",0.62099518156965727,null,null,null,null,null,null,null,null,1381514.58,"*",null,{"$f":"VLOOKUP(A721,'[1]Update Sheet'!$A$3:$Y$15578,25,FALSE)","v":0},"Reportable"]
["BRITISH GAS TRADING LTD",1430,null,"N","N",true,"GB","N","PRIVATE SECTOR","GU95 1AB",null,null,"CAMBERLEY GU95",35130,35.1,"Electricity, transmission and distribution",1.8815371821710341,null,null,null,null,null,null,null,null,510682.95999999996,"*",null,{"$f":"VLOOKUP(A722,'[1]Update Sheet'!$A$3:$Y$15578,25,FALSE)","v":0},"Exclude- Captured under Waste, Energy, Water or Invesments"]
["SANDOZ LTD",160,null,"N","N",true,"GB","N","PRIVATE SECTOR","GU35 3YL",null,null,"PHARMACY",21100,21,"Basic pharmaceutical products and pharmaceutical preparations          ",0.62099518156965727,null,null,null,null,null,null,null,null,1374741.9,"*",null,{"$f":"VLOOKUP(A723,'[1]Update Sheet'!$A$3:$Y$15578,25,FALSE)","v":0},"Reportable"]
["LLANBERIS HEALTH SURGERY",31799,1,"Y","Y",true,"GB","Y","PRIVATE SECTOR","LL55 4SU","North Wales","Betsi Cadwaladr UHB","PCS PAY",86900,86,"Human health services             ",0.29193168620018201,null,null,null,null,null,null,null,null,1372861.33,"*",null,{"$f":"VLOOKUP(A724,'[1]Update Sheet'!$A$3:$Y$15578,25,FALSE)","v":0},"Reportable"]
["NANTGARW ROAD SURGERY",51718,1,"Y","Y",true,"GB","Y","PRIVATE SECTOR","CF83 2AX","South East Wales","Aneurin Bevan UHB","PCS PAY",86900,86,"Human health services             ",0.29193168620018201,null,null,null,null,null,null,null,null,1371280.7100000002,"*",null,{"$f":"VLOOKUP(A725,'[1]Update Sheet'!$A$3:$Y$15578,25,FALSE)","v":0},"Reportable"]
["TAN-YR-ALLT HOUSE LTD",39839,1,"Y","Y",true,"GB","Y","PRIVATE SECTOR","SA8 3AB","South West Wales","Swansea Bay UHB","SWANSEA SA8",87900,87,"Residential care services             ",0.16514437058930551,null,null,null,null,null,null,null,null,1371106.07,"*",null,{"$f":"VLOOKUP(A726,'[1]Update Sheet'!$A$3:$Y$15578,25,FALSE)","v":0},"Reportable"]
["HEALTHCARE MATTERS",29621,1,"Y","Y",true,"GB","N","PRIVATE SECTOR","LL11 6AG","North Wales","Betsi Cadwaladr UHB","WREXHAM LL11",78109,78,"Employment services              ",0.1176282196328419,null,null,null,null,null,null,null,null,1370431.58,"*",null,{"$f":"VLOOKUP(A727,'[1]Update Sheet'!$A$3:$Y$15578,25,FALSE)","v":0},"Reportable"]
["PARKLANE SURGERY",52746,1,"Y","Y",true,"GB","Y","PRIVATE SECTOR","CF39 8AG","South East Wales","Cwm Taf Morgannwg UHB","PCS PAY",86900,86,"Human health services             ",0.29193168620018201,null,null,null,null,null,null,null,null,1368289.61,"*",null,{"$f":"VLOOKUP(A728,'[1]Update Sheet'!$A$3:$Y$15578,25,FALSE)","v":0},"Reportable"]
["IMMEDIATE MEDICAL SOLUTIONS LTD",71252,null,"N","N",true,"GB","Y","PRIVATE SECTOR","E18 1HB",null,null,"LONDON E18",86101,86,"Human health services             ",0.29193168620018201,null,null,null,null,null,null,null,null,1365715.8500000041,"*",null,{"$f":"VLOOKUP(A729,'[1]Update Sheet'!$A$3:$Y$15578,25,FALSE)","v":0},"Reportable"]
["TOWN GATE PRACTICE",32106,1,"Y","Y",true,"GB","Y","PRIVATE SECTOR","NP16 5XP","South East Wales","Aneurin Bevan UHB","PCS PAY",86900,86,"Human health services             ",0.29193168620018201,null,null,null,null,null,null,null,null,1365039.79,"*",null,{"$f":"VLOOKUP(A730,'[1]Update Sheet'!$A$3:$Y$15578,25,FALSE)","v":0},"Reportable"]
["OMNICELL LTD",36,null,"N","N",true,"GB","Y","PRIVATE SECTOR","M44 5GR",null,null,"PHARMACY",46460,46,"Wholesale trade services, except of motor vehicles and motorcycles       ",2.0310031510736858E-2,null,null,null,null,null,null,null,null,1363840.1199999996,"*",null,{"$f":"VLOOKUP(A731,'[1]Update Sheet'!$A$3:$Y$15578,25,FALSE)","v":0},"Reportable"]
["SMK THOMAS",68688,null,"N","Y","Removal of a False Welsh Supplier","GB","Y","PRIVATE SECTOR",null,null,null,"PCS PAY",69102,69.099999999999994,"Legal services              ",5.7877621976311508E-2,null,null,null,null,null,null,null,null,1361097.49,"*",null,{"$f":"VLOOKUP(A732,'[1]Update Sheet'!$A$3:$Y$15578,25,FALSE)","v":0},"Reportable"]
["ORBIS PROTECT LTD",18997,null,"N","N",true,"GB","N","PRIVATE SECTOR","CH62 4SQ",null,null,"UXBRIDGE UB8",80100,80,"Security and investigation services            ",9.5408278947996958E-2,null,null,null,null,null,null,null,null,1355324.39,"*",null,{"$f":"VLOOKUP(A733,'[1]Update Sheet'!$A$3:$Y$15578,25,FALSE)","v":0},"Reportable"]
["LEASEPLAN UK LTD",15967,null,"N","N",true,"GB","N","PRIVATE SECTOR","SL1 4AA",null,null,"SLOUGH SL1",77110,77,"Rental and leasing services            ",0.13477794599811871,2022,{"$f":"23*1000","v":23000},{"$f":"359*1000","v":359000},{"$f":"2658*1000","v":2658000},{"$f":"SUM(S734:U734)","v":3040000},{"$f":"956251*1000","v":956251000},{"$f":"V734/W734","v":3.1790816427904388E-3},"Parent Company CRP- ALD Automotive",1354749.2200000004,"*",null,{"$f":"VLOOKUP(A734,'[1]Update Sheet'!$A$3:$Y$15578,25,FALSE)","v":"In Master List"},"Reportable"]
["KIMAL PLC",11326,null,"N","N",true,"GB","N","PRIVATE SECTOR","WR9 0LW",null,null,"PHARMACY",32500,32,"Other manufactured goods             ",0.67238249414981133,2022,{"$f":"178*1000","v":178000},0,{"$f":"1360*1000","v":1360000},{"$f":"SUM(S735:U735)","v":1538000},57493000,{"$f":"V735/W735","v":2.675108274050754E-2},"CRP",1353747.68,"*",null,{"$f":"VLOOKUP(A735,'[1]Update Sheet'!$A$3:$Y$15578,25,FALSE)","v":"In Master List"},"Reportable"]
["LLWYN BRWYDRAU (LLANSAMLET) SURGERY",36954,1,"Y","Y",true,"GB","Y","PRIVATE SECTOR","SA7 9RY","South West Wales","Swansea Bay UHB","PCS PAY",86210,86,"Human health services             ",0.29193168620018201,null,null,null,null,null,null,null,null,1352074.5399999998,"*",null,{"$f":"VLOOKUP(A736,'[1]Update Sheet'!$A$3:$Y$15578,25,FALSE)","v":0},"Reportable"]
["PLAS MENAI HEALTH CENTRE",4945,1,"Y","Y",true,"GB","Y","PRIVATE SECTOR","LL33 0PE","North Wales","Betsi Cadwaladr UHB","PCS PAY",82990,82,"Office administrative, office support and other business support services       ",0.1180504360352973,null,null,null,null,null,null,null,null,1352027.65,"*",null,{"$f":"VLOOKUP(A737,'[1]Update Sheet'!$A$3:$Y$15578,25,FALSE)","v":0},"Reportable"]
["HADDENHAM HEALTHCARE LTD",10618,null,"N","N",true,"GB","Y","PRIVATE SECTOR","HP18 9BB",null,null,"PHARMACY",86210,86,"Human health services             ",0.29193168620018201,null,null,null,null,null,null,null,null,1351870.62,"*",null,{"$f":"VLOOKUP(A738,'[1]Update Sheet'!$A$3:$Y$15578,25,FALSE)","v":0},"Reportable"]
["NARBERTH SURGERY",51776,1,"Y","Y",true,"GB","Y","PRIVATE SECTOR","SA67 7AA","South West Wales","Swansea Bay UHB","PCS PAY",86210,86,"Human health services             ",0.29193168620018201,null,null,null,null,null,null,null,null,1349178.29,"*",null,{"$f":"VLOOKUP(A739,'[1]Update Sheet'!$A$3:$Y$15578,25,FALSE)","v":0},"Reportable"]
["SWANSEA COUNCIL VOLUNTARY SERVICES",36504,1,"Y","Y",true,"GB","Y","PRIVATE SECTOR","SA1 5NF","South West Wales","Swansea Bay UHB","SWANSEA SA1",84110,84,"Public administration and defence services; compulsory social security services       ",0.1703405261372164,null,null,null,null,null,null,null,null,1343512.62,"*",null,{"$f":"VLOOKUP(A740,'[1]Update Sheet'!$A$3:$Y$15578,25,FALSE)","v":0},"Reportable"]
["QUADIENT FINANCE UK LTD",17406,null,"N","N",true,"GB","Y","PRIVATE SECTOR","E15 2GW",null,null,"ROMFORD RM1 2",64999,64,"Financial services, except insurance and pension funding         ",0.1103075939416239,null,null,null,null,null,null,null,null,1342967.2500000009,"*",null,{"$f":"VLOOKUP(A741,'[1]Update Sheet'!$A$3:$Y$15578,25,FALSE)","v":0},"Reportable"]
["CLWYD ALYN HOUSING",9575,1,"Y","Y",true,"GB","Y","VCSE","LL17 0JD","North Wales","Betsi Cadwaladr UHB","ST ASAPH LL17",87900,87,"Residential care services             ",0.16514437058930551,null,null,null,null,null,null,null,null,1340294.8399999999,"*",null,{"$f":"VLOOKUP(A742,'[1]Update Sheet'!$A$3:$Y$15578,25,FALSE)","v":0},"Reportable"]
["LLANILAR HEALTH CENTRE",51273,1,"Y","Y",true,"GB","Y","PRIVATE SECTOR","SY23 4PA","Mid Wales","Hywel Dda UHB","PCS PAY",86210,86,"Human health services             ",0.29193168620018201,null,null,null,null,null,null,null,null,1339022.3500000001,"*",null,{"$f":"VLOOKUP(A743,'[1]Update Sheet'!$A$3:$Y$15578,25,FALSE)","v":0},"Reportable"]
["BODNANT MEDICAL CENTRE",33870,1,"Y","Y",true,"GB","Y","PRIVATE SECTOR","LL57 2HH","North Wales","Betsi Cadwaladr UHB","PCS PAY",86900,86,"Human health services             ",0.29193168620018201,null,null,null,null,null,null,null,null,1338045.24,"*",null,{"$f":"VLOOKUP(A744,'[1]Update Sheet'!$A$3:$Y$15578,25,FALSE)","v":0},"Reportable"]
["MEDDYGFA TYWYN BACH",17797,1,"Y","Y",true,"GB","Y","PRIVATE SECTOR","SA16 0BN","South West Wales","Hywel Dda UHB","PCS PAY",86210,86,"Human health services             ",0.29193168620018201,null,null,null,null,null,null,null,null,1336649.3,"*",null,{"$f":"VLOOKUP(A745,'[1]Update Sheet'!$A$3:$Y$15578,25,FALSE)","v":0},"Reportable"]
["SA1 MEDICAL CENTRE",36392,1,"Y","Y",true,"GB","Y","PRIVATE SECTOR",null,"South West Wales","Swansea Bay UHB","PCS PAY",86210,86,"Human health services             ",0.29193168620018201,null,null,null,null,null,null,null,null,1335594.76,"*",null,{"$f":"VLOOKUP(A746,'[1]Update Sheet'!$A$3:$Y$15578,25,FALSE)","v":0},"Reportable"]
["COWBRIDGE & VALE MEDICAL PRACTICE",57907,1,"Y","Y",true,"GB","Y","PRIVATE SECTOR","CF71 7DA","South East Wales","Cardiff and Vale UHB","PCS PAY",86210,86,"Human health services             ",0.29193168620018201,null,null,null,null,null,null,null,null,1334684.6600000001,"*",null,{"$f":"VLOOKUP(A747,'[1]Update Sheet'!$A$3:$Y$15578,25,FALSE)","v":0},"Reportable"]
["BANK HOUSE NURSING HOME",17741,1,"Y","Y",true,"GB","Y","PRIVATE SECTOR","NP23 5EY","South East Wales","Aneurin Bevan UHB","EBBW VALE NP23",87100,87,"Residential care services             ",0.16514437058930551,null,null,null,null,null,null,null,null,1333866.419999999,"*",null,{"$f":"VLOOKUP(A748,'[1]Update Sheet'!$A$3:$Y$15578,25,FALSE)","v":0},"Reportable"]
["NATIONAL GRID ELECTRICITY DISTRIBUTION SOUTH WALES PLC",3382,null,"N","N",true,"GB","N","PRIVATE SECTOR","BS2 0TB",null,null,"BRISTOL BS2",35130,35.1,"Electricity, transmission and distribution",1.8815371821710341,null,null,null,null,null,null,null,null,494252.16,"*",null,{"$f":"VLOOKUP(A749,'[1]Update Sheet'!$A$3:$Y$15578,25,FALSE)","v":0},"Reportable"]
["INTERSURGICAL LTD",537,null,"N","N",true,"GB","N","PRIVATE SECTOR","RG41 2RZ",null,null,"PHARMACY",32500,32,"Other manufactured goods             ",0.67238249414981133,null,null,null,null,null,null,null,null,1332339.76,"*",null,{"$f":"VLOOKUP(A750,'[1]Update Sheet'!$A$3:$Y$15578,25,FALSE)","v":0},"Reportable"]
["BARLOW HOUSE SURGERY",35314,1,"Y","Y",true,"GB","Y","PRIVATE SECTOR","SA73 2JW","South West Wales","Swansea Bay UHB","PCS PAY",86210,86,"Human health services             ",0.29193168620018201,null,null,null,null,null,null,null,null,1332048.52,"*",null,{"$f":"VLOOKUP(A751,'[1]Update Sheet'!$A$3:$Y$15578,25,FALSE)","v":0},"Reportable"]
["MAST GROUP LTD",602,null,"N","N",true,"GB","Y","PRIVATE SECTOR","L20 1EA",null,null,"BOOTLE L20",68100,68.12,"Real estate services, excluding on a fee or contract basis and imputed rent   ",0.1113515958311013,null,null,null,null,null,null,null,null,1324403.040000001,"*",null,{"$f":"VLOOKUP(A752,'[1]Update Sheet'!$A$3:$Y$15578,25,FALSE)","v":0},"Reportable"]
["MEDDYGFA TYWI",45710,1,"Y","Y",true,"GB","Y","PRIVATE SECTOR","SA32 7LG","South West Wales","Hywel Dda UHB","PCS PAY",86210,86,"Human health services             ",0.29193168620018201,null,null,null,null,null,null,null,null,1321860.71,"*",null,{"$f":"VLOOKUP(A753,'[1]Update Sheet'!$A$3:$Y$15578,25,FALSE)","v":0},"Reportable"]
["PADARN SURGERY",24211,1,"Y","Y",true,"GB","Y","PRIVATE SECTOR","SY23 3DU","Mid Wales","Hywel Dda UHB","PCS PAY",86210,86,"Human health services             ",0.29193168620018201,null,null,null,null,null,null,null,null,1316616.1399999999,"*",null,{"$f":"VLOOKUP(A754,'[1]Update Sheet'!$A$3:$Y$15578,25,FALSE)","v":0},"Reportable"]
["WR BISHOP",12976,1,"Y","Y",true,"GB","Y","PRIVATE SECTOR","CF39 8EY","South East Wales","Cwm Taf Morgannwg UHB","TONYEFAIL CF39",46310,46,"Wholesale trade services, except of motor vehicles and motorcycles       ",2.0310031510736858E-2,null,null,null,null,null,null,null,null,1316198.21,"*",null,{"$f":"VLOOKUP(A755,'[1]Update Sheet'!$A$3:$Y$15578,25,FALSE)","v":0},"Reportable"]
["UPLANDS & MUMBLES SURGERY",27400,1,"Y","Y",true,"GB","Y","PRIVATE SECTOR","SA2 0LJ","South West Wales","Swansea Bay UHB","PCS PAY",86210,86,"Human health services             ",0.29193168620018201,null,null,null,null,null,null,null,null,1313572.8900000001,"*",null,{"$f":"VLOOKUP(A756,'[1]Update Sheet'!$A$3:$Y$15578,25,FALSE)","v":0},"Reportable"]
["2D BUILDING CONTRACTORS LTD",67783,1,"Y","Y",true,"GB","Y","PRIVATE SECTOR","CF72 9DZ","South East Wales","Cwm Taf Morgannwg UHB","PONTYCLUN CF72",43390,42.99,"Specialised construction works             ",0.31026786628535008,null,null,null,null,null,null,null,null,1312904.33,"*",null,{"$f":"VLOOKUP(A757,'[1]Update Sheet'!$A$3:$Y$15578,25,FALSE)","v":0},"Reportable"]
["NEWPORT SURGERY",35392,1,"Y","Y",true,"GB","Y","PRIVATE SECTOR","SA42 OTJ","South West Wales","Hywel Dda UHB","PCS PAY",86210,86,"Human health services             ",0.29193168620018201,null,null,null,null,null,null,null,null,1303864.46,"*",null,{"$f":"VLOOKUP(A758,'[1]Update Sheet'!$A$3:$Y$15578,25,FALSE)","v":0},"Reportable"]
["RIVERSIDE SURGERY",51442,1,"Y","Y",true,"GB","Y","PRIVATE SECTOR","SA12 6BJ","South West Wales","Swansea Bay UHB","PCS PAY",86210,86,"Human health services             ",0.29193168620018201,null,null,null,null,null,null,null,null,1301411.3499999999,"*",null,{"$f":"VLOOKUP(A759,'[1]Update Sheet'!$A$3:$Y$15578,25,FALSE)","v":0},"Reportable"]
["WOODLANDS MEDICAL CENTRE",26032,1,"Y","Y",true,"GB","Y","PRIVATE SECTOR","CF5 4RG","South East Wales","Cardiff and Vale UHB","PCS PAY",86210,86,"Human health services             ",0.29193168620018201,null,null,null,null,null,null,null,null,1300737.67,"*",null,{"$f":"VLOOKUP(A760,'[1]Update Sheet'!$A$3:$Y$15578,25,FALSE)","v":0},"Reportable"]
["MEDDYGFA PENYGROES SURGERY",20335,1,"Y","Y",true,"GB","Y","PRIVATE SECTOR","LL54 6HD","North Wales","Betsi Cadwaladr UHB","PCS PAY",86210,86,"Human health services             ",0.29193168620018201,null,null,null,null,null,null,null,null,1299655.83,"*",null,{"$f":"VLOOKUP(A761,'[1]Update Sheet'!$A$3:$Y$15578,25,FALSE)","v":0},"Reportable"]
["THE STABLES MEDICAL PRACTICE",58790,1,"Y","Y",true,"GB","N","PRIVATE SECTOR","CH5 3PA","North Wales","Betsi Cadwaladr UHB","PCS PAY",86900,86,"Human health services             ",0.29193168620018201,null,null,null,null,null,null,null,null,1296920.4099999999,"*",null,{"$f":"VLOOKUP(A762,'[1]Update Sheet'!$A$3:$Y$15578,25,FALSE)","v":0},"Reportable"]
["PERTHYN",15094,1,"Y","Y",true,"GB","N","PRIVATE SECTOR","SA7 9FG","South West Wales","Swansea Bay UHB","SWANSEA SA7",81100,81,"Services to buildings and landscape           ",0.1712664478524781,null,null,null,null,null,null,null,null,1296441.8799999999,"*",null,{"$f":"VLOOKUP(A763,'[1]Update Sheet'!$A$3:$Y$15578,25,FALSE)","v":0},"Reportable"]
["DAYTIME HEALTHCARE RECRUITMENT LTD",71095,null,"N","N",true,"GB","Y","PRIVATE SECTOR","SE10 0ER",null,null,"LONDON SE10",78109,78,"Employment services              ",0.1176282196328419,null,null,null,null,null,null,null,null,1294988.0000000009,"*",null,{"$f":"VLOOKUP(A764,'[1]Update Sheet'!$A$3:$Y$15578,25,FALSE)","v":0},"Reportable"]
["WILLMOTT DIXON CONSTRUCTION LTD",2529,1,"Y","Y",true,"GB","N","PRIVATE SECTOR","CF11 0SN","South East Wales","Cardiff and Vale UHB","CARDIFF CF11",41201,41.2,"Buildings and building construction works           ",0.30500636264243469,2021,2376000,143000,1009722000,1012241000,1101468000,0.91899265344068093,"carbon reduction plan",1290915.0900000001,"*",null,{"$f":"VLOOKUP(A765,'[1]Update Sheet'!$A$3:$Y$15578,25,FALSE)","v":"Review as T2 higher than T1"},"Reportable"]
["DRAGON FLEETCARE LTD",21301,1,"Y","Y",true,"GB","Y","PRIVATE SECTOR","CF83 2RZ","South East Wales","Aneurin Bevan UHB","CAERPHILL CF83",33170,"33OTHER","Rest of repair; Installation - 33.11-14/17/19/20          ",0.18696882687485539,null,null,null,null,null,null,null,null,1290578.500000014,"*",null,{"$f":"VLOOKUP(A766,'[1]Update Sheet'!$A$3:$Y$15578,25,FALSE)","v":0},"Reportable"]
["SPEED 9395 LTD T/A SWN-Y-MOR",41982,1,"Y","Y",true,"GB","Y","PRIVATE SECTOR","SA12 7PB","South West Wales","Swansea Bay UHB","PORT TALB SA12",68100,68.12,"Real estate services, excluding on a fee or contract basis and imputed rent   ",0.1113515958311013,null,null,null,null,null,null,null,null,1283573.889999999,"*",null,{"$f":"VLOOKUP(A767,'[1]Update Sheet'!$A$3:$Y$15578,25,FALSE)","v":0},"Reportable"]
["ABERTAWE MEDICAL PARTNERSHIP",61508,1,"Y","Y",true,"GB","Y","PRIVATE SECTOR","SA1 4DF","South West Wales","Swansea Bay UHB","PCS PAY",86210,86,"Human health services             ",0.29193168620018201,null,null,null,null,null,null,null,null,1283461.1400000001,"*",null,{"$f":"VLOOKUP(A768,'[1]Update Sheet'!$A$3:$Y$15578,25,FALSE)","v":0},"Reportable"]
["COED ISAF NURSING HOME",38763,1,"Y","Y",true,"GB","Y","PRIVATE SECTOR","LL30 1SR","North Wales","Betsi Cadwaladr UHB","LLANDUDNO LL30",87100,87,"Residential care services             ",0.16514437058930551,null,null,null,null,null,null,null,null,1283202.01,"*",null,{"$f":"VLOOKUP(A769,'[1]Update Sheet'!$A$3:$Y$15578,25,FALSE)","v":0},"Reportable"]
["CLOUGHMORE MEDICAL CENTRE",53138,1,"Y","Y",true,"GB","Y","PRIVATE SECTOR","CF24 2LU","South East Wales","Cardiff and Vale UHB","PCS PAY",86210,86,"Human health services             ",0.29193168620018201,null,null,null,null,null,null,null,null,1283107.27,"*",null,{"$f":"VLOOKUP(A770,'[1]Update Sheet'!$A$3:$Y$15578,25,FALSE)","v":0},"Reportable"]
["ZDUPLLAN HEALTHCARE",1150,1,"Y","Y",true,"GB","Y","PRIVATE SECTOR","CF23 9PN","South East Wales","Cardiff and Vale UHB","PCS PAY",86230,86,"Human health services             ",0.29193168620018201,null,null,null,null,null,null,null,null,0,null,null,{"$f":"VLOOKUP(A771,'[1]Update Sheet'!$A$3:$Y$15578,25,FALSE)","v":{"$error":"#N/A"}},"Reportable"]
["CLAREMONT COURT CARE HOME",50454,1,"Y","Y",true,"GB","Y","PRIVATE SECTOR","NP20 6WG","South East Wales","Aneurin Bevan UHB","NEWPORT NP20",96090,96,"Other personal services             ",7.6712791957121843E-2,null,null,null,null,null,null,null,null,1280569.5999999989,"*",null,{"$f":"VLOOKUP(A772,'[1]Update Sheet'!$A$3:$Y$15578,25,FALSE)","v":0},"Reportable"]
["PEN Y BRYN JOINERY",6392,1,"Y","Y",true,"GB","Y","PRIVATE SECTOR","LL16 5TA","North Wales","Betsi Cadwaladr UHB","ESTATES",43320,42.99,"Specialised construction works             ",0.31026786628535008,null,null,null,null,null,null,null,null,1274614.2000000002,"*",null,{"$f":"VLOOKUP(A773,'[1]Update Sheet'!$A$3:$Y$15578,25,FALSE)","v":0},"Reportable"]
["CTM DOCTORS",65844,1,null,null,null,"GB","N","PUBLIC SECTOR",null,null,null,"FACTOR 00075",null,null,null,null,null,null,null,null,null,null,null,null,0,null,null,{"$f":"VLOOKUP(A774,'[1]Update Sheet'!$A$3:$Y$15578,25,FALSE)","v":"Public Sector- Exclude"},"N/A - Not Used for 23-24"]
["L & E HEALTHCARE LTD",71350,1,"Y","Y",true,"GB","N","PRIVATE SECTOR","LL15 1AW","North Wales","Betsi Cadwaladr UHB","PCS PAY",86900,86,"Human health services             ",0.29193168620018201,null,null,null,null,null,null,null,null,1273017.53,"*",null,{"$f":"VLOOKUP(A775,'[1]Update Sheet'!$A$3:$Y$15578,25,FALSE)","v":0},"Reportable"]
["COACH & HORSES SURGERY",36024,1,"Y","Y",true,"GB","Y","PRIVATE SECTOR","SA33 4AA","South West Wales","Hywel Dda UHB","PCS PAY",86210,86,"Human health services             ",0.29193168620018201,null,null,null,null,null,null,null,null,1272684.1400000001,"*",null,{"$f":"VLOOKUP(A776,'[1]Update Sheet'!$A$3:$Y$15578,25,FALSE)","v":0},"Reportable"]
["REDLANDS SURGERY",53708,1,"Y","Y",true,"GB","Y","PRIVATE SECTOR","CF64 3WX","South East Wales","Cardiff and Vale UHB","PCS PAY",86210,86,"Human health services             ",0.29193168620018201,null,null,null,null,null,null,null,null,1272152.18,"*",null,{"$f":"VLOOKUP(A777,'[1]Update Sheet'!$A$3:$Y$15578,25,FALSE)","v":0},"Reportable"]
["3M UNITED KINGDOM PLC",4478,null,"N","N",true,"GB","N","PRIVATE SECTOR","RG12 8HT",null,null,"PHARMACY",20301,20.3,"Paints, varnishes and similar coatings, printing ink and mastics       ",1.330508762948823,2021,2980000000,992000000,11900000000,15872000000,27926500000,0.56834905913737843,"on accounts and carbon reduction plan",1270020.7499999995,"*",null,{"$f":"VLOOKUP(A778,'[1]Update Sheet'!$A$3:$Y$15578,25,FALSE)","v":"In Master List"},"Reportable"]
["GOWER MEDICAL PRACTICE",36169,1,"Y","Y",true,"GB","Y","PRIVATE SECTOR","SA3 1AY","South West Wales","Swansea Bay UHB","PCS PAY",86210,86,"Human health services             ",0.29193168620018201,null,null,null,null,null,null,null,null,1266364.3199999998,"*",null,{"$f":"VLOOKUP(A779,'[1]Update Sheet'!$A$3:$Y$15578,25,FALSE)","v":0},"Reportable"]
["UK HEALTH SECURITY AGENCY (UKHSA) – was PUBLIC HEALTH ENGLAND",71606,null,"N","N",true,"GB","N","PUBLIC SECTOR",null,null,null,"UK HEALTH",86101,86,"Human health services             ",0.29193168620018201,null,null,null,null,null,null,null,null,1264992.8899999999,"*",null,{"$f":"VLOOKUP(A780,'[1]Update Sheet'!$A$3:$Y$15578,25,FALSE)","v":0},"Reportable"]
["INTERWEAVE TEXTILES LTD",14028,null,"N","N",true,"GB","Y","PRIVATE SECTOR","HX5 9DE",null,null,"ELLAND HX5",46410,46,"Wholesale trade services, except of motor vehicles and motorcycles       ",2.0310031510736858E-2,null,null,null,null,null,null,null,null,1264990.8899999999,"*",null,{"$f":"VLOOKUP(A781,'[1]Update Sheet'!$A$3:$Y$15578,25,FALSE)","v":0},"Reportable"]
["ISCA MEDICAL CENTRE",68761,1,"Y","Y",true,"GB","N","PRIVATE SECTOR","NP18 1AZ","South East Wales","Aneurin Bevan UHB","PCS PAY",86210,86,"Human health services             ",0.29193168620018201,null,null,null,null,null,null,null,null,1264537.58,"*",null,{"$f":"VLOOKUP(A782,'[1]Update Sheet'!$A$3:$Y$15578,25,FALSE)","v":0},"Reportable"]
["LLANISHEN COURT SURGERY",57486,1,"Y","Y",true,"GB","Y","PRIVATE SECTOR","CF14 5YU","South East Wales","Cardiff and Vale UHB","PCS PAY",86900,86,"Human health services             ",0.29193168620018201,null,null,null,null,null,null,null,null,1254228.53,"*",null,{"$f":"VLOOKUP(A783,'[1]Update Sheet'!$A$3:$Y$15578,25,FALSE)","v":0},"Reportable"]
["OSSUR UK LTD",8229,null,"N","N",true,"GB","Y","PRIVATE SECTOR","SK1 2AE",null,null,"STOCKPORT SK1",46760,46,"Wholesale trade services, except of motor vehicles and motorcycles       ",2.0310031510736858E-2,null,null,null,null,null,null,null,null,1254026.8399999999,"*",null,{"$f":"VLOOKUP(A784,'[1]Update Sheet'!$A$3:$Y$15578,25,FALSE)","v":0},"Reportable"]
["CROSS HANDS & TUMBLE MEDICAL PARTNERSHIP",57742,1,"Y","Y",true,"GB","Y","PRIVATE SECTOR","SA14 6DP","South West Wales","Hywel Dda UHB","PCS PAY",86210,86,"Human health services             ",0.29193168620018201,null,null,null,null,null,null,null,null,1251693.55,"*",null,{"$f":"VLOOKUP(A785,'[1]Update Sheet'!$A$3:$Y$15578,25,FALSE)","v":0},"Reportable"]
["THREE CLIFFS CARE HOME",44752,null,"N","Y","Removal of a False Welsh Supplier","GB","N","PRIVATE SECTOR","HA0 2LP",null,null,"WEMBLEY HA0",87100,87,"Residential care services             ",0.16514437058930551,null,null,null,null,null,null,null,null,1250410.1200000001,"*",null,{"$f":"VLOOKUP(A786,'[1]Update Sheet'!$A$3:$Y$15578,25,FALSE)","v":0},"Reportable"]
["TY ENFYS CARE HOME",39946,1,"Y","Y",true,"GB","N","PRIVATE SECTOR","CF23 7EP","South East Wales","Cardiff and Vale UHB","CARDIFF CF23",87100,87,"Residential care services             ",0.16514437058930551,null,null,null,null,null,null,null,null,1250209.6499999999,"*",null,{"$f":"VLOOKUP(A787,'[1]Update Sheet'!$A$3:$Y$15578,25,FALSE)","v":0},"Reportable"]
["CHALLENGE TRG RECRUITMENT LTD",68149,null,"N","N",true,"GB","Y","PRIVATE SECTOR","NN1 2NE",null,null,"NORTHAMPTON NN1",78109,78,"Employment services              ",0.1176282196328419,2023,53000,48800,3983071.3000000003,4084871.3000000003,230728191,1.7704257474111605E-2,null,1246016.49,"*",null,{"$f":"VLOOKUP(A788,'[1]Update Sheet'!$A$3:$Y$15578,25,FALSE)","v":"In Master List"},"Reportable"]
["DRS PITROLA & WILLIAMS TONYPANDY HEALTH CENTRE",54428,1,"Y","Y",true,"GB","Y","PRIVATE SECTOR","CF40 2LE","South East Wales","Cwm Taf Morgannwg UHB","PCS PAY",86210,86,"Human health services             ",0.29193168620018201,null,null,null,null,null,null,null,null,1245452.23,"*",null,{"$f":"VLOOKUP(A789,'[1]Update Sheet'!$A$3:$Y$15578,25,FALSE)","v":0},"Reportable"]
["FAIRFIELD SURGERY LLANELLI",68832,1,"Y","Y",true,"GB","Y","PRIVATE SECTOR","SA15 3AE","South West Wales","Hywel Dda UHB","PCS PAY",86210,86,"Human health services             ",0.29193168620018201,null,null,null,null,null,null,null,null,1245396.1500000001,"*",null,{"$f":"VLOOKUP(A790,'[1]Update Sheet'!$A$3:$Y$15578,25,FALSE)","v":0},"Reportable"]
["LP SD FORTY NINE LTD",76276,null,"N","N",true,"GB","N","PRIVATE SECTOR","NP44 1EE",null,null,"PCS PAY",47730,47,"Retail trade services, except of motor vehicles and motorcycles       ",0.17404287306456559,null,null,null,null,null,null,null,null,1243799.31,"*",null,{"$f":"VLOOKUP(A791,'[1]Update Sheet'!$A$3:$Y$15578,25,FALSE)","v":0},"Reportable"]
["TANDY INC LTD",68698,1,"Y","Y",true,"GB","Y","PRIVATE SECTOR","CF24 4BZ","South East Wales","Cardiff and Vale UHB","PCS PAY",47730,47,"Retail trade services, except of motor vehicles and motorcycles       ",0.17404287306456559,null,null,null,null,null,null,null,null,1243751.02,"*",null,{"$f":"VLOOKUP(A792,'[1]Update Sheet'!$A$3:$Y$15578,25,FALSE)","v":0},"Reportable"]
["MBI MEDICAL RECRUITMENT LTD",72527,null,"N","N",true,"GB","Y","PRIVATE SECTOR","SG15 1AS",null,null,"HERTFORD SG14",86900,86,"Human health services             ",0.29193168620018201,null,null,null,null,null,null,null,null,1243509.26,"*",null,{"$f":"VLOOKUP(A793,'[1]Update Sheet'!$A$3:$Y$15578,25,FALSE)","v":0},"Reportable"]
["HEALIOS LTD",67304,null,"N","N",true,"GB","Y","PRIVATE SECTOR","N7 9AH",null,null,"LONDON N7",86220,86,"Human health services             ",0.29193168620018201,null,null,null,null,null,null,null,null,1242692.5,"*",null,{"$f":"VLOOKUP(A794,'[1]Update Sheet'!$A$3:$Y$15578,25,FALSE)","v":0},"Reportable"]
["KEIR HARDIE HEALTH PARK",61935,1,"Y","Y",true,"GB","Y","PRIVATE SECTOR","CF48 1BZ","South East Wales","Cwm Taf Morgannwg UHB","PCS PAY",86210,86,"Human health services             ",0.29193168620018201,null,null,null,null,null,null,null,null,1241856.48,"*",null,{"$f":"VLOOKUP(A795,'[1]Update Sheet'!$A$3:$Y$15578,25,FALSE)","v":0},"Reportable"]
["MANPOWER UK LTD",6783,null,"N","N",true,"GB","N","PRIVATE SECTOR","UB8 1AB",null,null,"UXBRIDGE UB8",78200,78,"Employment services              ",0.1176282196328419,2021,2001000,281000,508000,2790000,1388315000,2.0096303792727153E-3,null,1240061.05,"*",null,{"$f":"VLOOKUP(A796,'[1]Update Sheet'!$A$3:$Y$15578,25,FALSE)","v":"In Master List"},"Reportable"]
["OAK STREET SURGERY",65986,1,"Y","Y",true,"GB","Y","PRIVATE SECTOR","NP44 3LT","South East Wales","Aneurin Bevan UHB","PCS PAY",86900,86,"Human health services             ",0.29193168620018201,null,null,null,null,null,null,null,null,1239574.03,"*",null,{"$f":"VLOOKUP(A797,'[1]Update Sheet'!$A$3:$Y$15578,25,FALSE)","v":0},"Reportable"]
["COLLEGE FIELDS NURSING HOME",38764,1,"Y","Y",true,"GB","Y","PRIVATE SECTOR","CF62 8LE","South East Wales","Cardiff and Vale UHB","BARRY CF62",87100,87,"Residential care services             ",0.16514437058930551,null,null,null,null,null,null,null,null,1239217.29,"*",null,{"$f":"VLOOKUP(A798,'[1]Update Sheet'!$A$3:$Y$15578,25,FALSE)","v":0},"Reportable"]
["MORRIS BL & NM PHARMACY",68570,1,"Y","Y",true,"GB","Y","PRIVATE SECTOR","CF83 4AU","South East Wales","Aneurin Bevan UHB","PCS PAY",86900,86,"Human health services             ",0.29193168620018201,null,null,null,null,null,null,null,null,1232345.95,"*",null,{"$f":"VLOOKUP(A799,'[1]Update Sheet'!$A$3:$Y$15578,25,FALSE)","v":0},"Reportable"]
["BUILTH & LLANWRTYD WELLS GROUP MEDICAL PRACTICE",7622,1,"Y","Y",true,"GB","Y","PRIVATE SECTOR","LD2 3DZ","Mid Wales","Powys Teaching HB","PCS PAY",86210,86,"Human health services             ",0.29193168620018201,null,null,null,null,null,null,null,null,1228879.04,"*",null,{"$f":"VLOOKUP(A800,'[1]Update Sheet'!$A$3:$Y$15578,25,FALSE)","v":0},"Reportable"]
["RUABON MEDICAL CENTRE",57798,1,"Y","Y",true,"GB","N","PRIVATE SECTOR","LL14 6NH","North Wales","Betsi Cadwaladr UHB","PCS PAY",86900,86,"Human health services             ",0.29193168620018201,null,null,null,null,null,null,null,null,1227695.24,"*",null,{"$f":"VLOOKUP(A801,'[1]Update Sheet'!$A$3:$Y$15578,25,FALSE)","v":0},"Reportable"]
["DLA PIPER UK LLP",69529,null,"N","N",true,"GB","N","PRIVATE SECTOR","B2 4DL",null,null,"LONDON EC1A",47910,47,"Retail trade services, except of motor vehicles and motorcycles       ",0.17404287306456559,2022,{"$f":"1510*1000","v":1510000},{"$f":"3877*1000","v":3877000},{"$f":"65688*1000","v":65688000},{"$f":"SUM(S802:U802)","v":71075000},489500000,{"$f":"V802/W802","v":0.14519918283963229},"carbon reduction plan",1226860.1199999999,"*",null,{"$f":"VLOOKUP(A802,'[1]Update Sheet'!$A$3:$Y$15578,25,FALSE)","v":"In Master List"},"Reportable"]
["VODAFONE LTD",2052,null,"N","N",true,"GB","N","PRIVATE SECTOR","RG14 2FN",null,null,"AIRTIME&EQUIP",70100,70,"Services of head offices; management consulting services         ",9.3681183759862049E-2,2023,7154000,0,28502000,{"$f":"SUM(S803:U803)","v":35656000},{"$f":"(4558.2+1252.4)*1000000","v":5810600000},{"$f":"V803/W803","v":6.1363714590575843E-3},"carbon reduction plan",1226772.4500000002,"*",null,{"$f":"VLOOKUP(A803,'[1]Update Sheet'!$A$3:$Y$15578,25,FALSE)","v":"In Master List"},"Reportable"]
["HOSPITAL METALCRAFT LTD",512,null,"N","N",true,"GB","Y","PRIVATE SECTOR","DT11 7TG",null,null,"BLANDFORD DT11",25990,"25OTHER","Fabricated metal products, excl. machinery and equipment and weapons & ammunition - 25.1-3/25.5-9   ",0.45904169551503349,null,null,null,null,null,null,null,null,1225779.33,"*",null,{"$f":"VLOOKUP(A804,'[1]Update Sheet'!$A$3:$Y$15578,25,FALSE)","v":0},"Reportable"]
["TREFLAN SURGERY",26595,1,"Y","Y",true,"GB","Y","PRIVATE SECTOR","LL53 5NF","North Wales","Betsi Cadwaladr UHB","PCS PAY",86210,86,"Human health services             ",0.29193168620018201,null,null,null,null,null,null,null,null,1225445.6599999999,"*",null,{"$f":"VLOOKUP(A805,'[1]Update Sheet'!$A$3:$Y$15578,25,FALSE)","v":0},"Reportable"]
["PARC CANOL LTD",50342,1,"Y","Y",true,"GB","Y","PRIVATE SECTOR","CF3 4AB","South East Wales","Aneurin Bevan UHB","PCS PAY",47730,47,"Retail trade services, except of motor vehicles and motorcycles       ",0.17404287306456559,null,null,null,null,null,null,null,null,1223887.03,"*",null,{"$f":"VLOOKUP(A806,'[1]Update Sheet'!$A$3:$Y$15578,25,FALSE)","v":0},"Reportable"]
["HEADLANDS NURSING HOME",39114,1,"Y","Y",true,"GB","Y","PRIVATE SECTOR","LL20 8TE","North Wales","Betsi Cadwaladr UHB","LLANGOLLEN LL20",87100,87,"Residential care services             ",0.16514437058930551,null,null,null,null,null,null,null,null,1223625.1199999989,"*",null,{"$f":"VLOOKUP(A807,'[1]Update Sheet'!$A$3:$Y$15578,25,FALSE)","v":0},"Reportable"]
["GLASLYN RETIREMENT HOMES LTD",15368,1,"Y","Y",true,"GB","Y","PRIVATE SECTOR","NP7 0EH","South East Wales","Aneurin Bevan UHB","GILWERN NP7",87100,87,"Residential care services             ",0.16514437058930551,null,null,null,null,null,null,null,null,1221710.5400000005,"*",null,{"$f":"VLOOKUP(A808,'[1]Update Sheet'!$A$3:$Y$15578,25,FALSE)","v":0},"Reportable"]
["HSG FACILITIES MANAGEMENT LTD",64181,1,"Y","Y",true,"GB","Y","PRIVATE SECTOR","CF24 5BS","South East Wales","Cardiff and Vale UHB","CARDIFF CF24",81222,81,"Services to buildings and landscape           ",0.1712664478524781,null,null,null,null,null,null,null,null,1220734.3500000001,"*",null,{"$f":"VLOOKUP(A809,'[1]Update Sheet'!$A$3:$Y$15578,25,FALSE)","v":0},"Reportable"]
["WATKIN-DAVIES LTD",68719,1,"Y","Y",true,"GB","Y","PRIVATE SECTOR","NP20 7TN","South East Wales","Aneurin Bevan UHB","PCS PAY",47730,47,"Retail trade services, except of motor vehicles and motorcycles       ",0.17404287306456559,null,null,null,null,null,null,null,null,1220287.8400000001,"*",null,{"$f":"VLOOKUP(A810,'[1]Update Sheet'!$A$3:$Y$15578,25,FALSE)","v":0},"Reportable"]
["CROSSHANDS RETAIL LTD",68435,1,"Y","Y",true,"GB","Y","PRIVATE SECTOR","SA14 6NA","South West Wales","Hywel Dda UHB","PCS PAY",47730,47,"Retail trade services, except of motor vehicles and motorcycles       ",0.17404287306456559,null,null,null,null,null,null,null,null,1219738,"*",null,{"$f":"VLOOKUP(A811,'[1]Update Sheet'!$A$3:$Y$15578,25,FALSE)","v":0},"Reportable"]
["SHOTTON LANE SURGERY",68786,1,"Y","Y",true,"GB","N","PRIVATE SECTOR","CH5 1QT","North Wales","Betsi Cadwaladr UHB","PCS PAY",86900,86,"Human health services             ",0.29193168620018201,null,null,null,null,null,null,null,null,1219197.02,"*",null,{"$f":"VLOOKUP(A812,'[1]Update Sheet'!$A$3:$Y$15578,25,FALSE)","v":0},"Reportable"]
["A1 CARE SERVICES LTD",16838,1,"Y","Y",true,"GB","Y","PRIVATE SECTOR","NP44 3LR","South East Wales","Aneurin Bevan UHB","PONTYPOOL NP4",82990,82,"Office administrative, office support and other business support services       ",0.1180504360352973,null,null,null,null,null,null,null,null,1217200.8699999996,"*",null,{"$f":"VLOOKUP(A813,'[1]Update Sheet'!$A$3:$Y$15578,25,FALSE)","v":0},"Reportable"]
["THE GROVE MEDICAL CENTRE",12822,1,"Y","Y",true,"GB","Y","PRIVATE SECTOR","SA2 0GU","South West Wales","Swansea Bay UHB","PCS PAY",86210,86,"Human health services             ",0.29193168620018201,null,null,null,null,null,null,null,null,1214422.97,"*",null,{"$f":"VLOOKUP(A814,'[1]Update Sheet'!$A$3:$Y$15578,25,FALSE)","v":0},"Reportable"]
["PENTWYN CARE LTD",30323,1,"Y","Y",true,"GB","Y","PRIVATE SECTOR","CF3 2TU","South East Wales","Aneurin Bevan UHB","CARDIFF CF3",87100,87,"Residential care services             ",0.16514437058930551,null,null,null,null,null,null,null,null,1213526.0699999989,"*",null,{"$f":"VLOOKUP(A815,'[1]Update Sheet'!$A$3:$Y$15578,25,FALSE)","v":0},"Reportable"]
["AMETHYST HEALTHCARE LTD",38480,1,"Y","Y",true,"GB","Y","PRIVATE SECTOR","CF5 6TR","South East Wales","Cardiff and Vale UHB","CARDIFF CF5",87200,87,"Residential care services             ",0.16514437058930551,null,null,null,null,null,null,null,null,1212338.53,"*",null,{"$f":"VLOOKUP(A816,'[1]Update Sheet'!$A$3:$Y$15578,25,FALSE)","v":0},"Reportable"]
["DE SOUTTER MEDICAL LTD",727,null,"N","N",true,"GB","Y","PRIVATE SECTOR","HP22 5WF",null,null,"AYLESBURY HP22",32500,32,"Other manufactured goods             ",0.67238249414981133,null,null,null,null,null,null,null,null,1211889.8400000005,"*",null,{"$f":"VLOOKUP(A817,'[1]Update Sheet'!$A$3:$Y$15578,25,FALSE)","v":0},"Reportable"]
["YZH PHARMA LTD",74456,null,"N","Y","Removal of a False Welsh Supplier","GB","N","PRIVATE SECTOR","CF3 0EF",null,null,"PCS PAY",47730,47,"Retail trade services, except of motor vehicles and motorcycles       ",0.17404287306456559,null,null,null,null,null,null,null,null,1211454.97,"*",null,{"$f":"VLOOKUP(A818,'[1]Update Sheet'!$A$3:$Y$15578,25,FALSE)","v":0},"Reportable"]
["TPXIMPACT LTD",72474,null,"N","N",true,"GB","Y","PRIVATE SECTOR","SE1 9RG",null,null,"LONDON SE1",70229,70,"Services of head offices; management consulting services         ",9.3681183759862049E-2,2023,{"$f":"2.39*1000","v":2390},{"$f":"36.41*1000","v":36410},{"$f":"V819-S819-T819","v":23540},{"$f":"62.34*1000","v":62340},{"$f":"18192*1000","v":18192000},{"$f":"V819/W819","v":3.4267810026385225E-3},null,1209664.42,"*",null,{"$f":"VLOOKUP(A819,'[1]Update Sheet'!$A$3:$Y$15578,25,FALSE)","v":"In Master List"},"Reportable"]
["OT GROUP LIMITED T/A OFFICE DEPOT (2 WAY MATCH ONLY)",71617,null,"N","N",true,"GB","N","PRIVATE SECTOR","B66 1BL",null,null,"SMETHWICK B66",62090,62,"Computer programming, consultancy and related services          ",0.13144659704407699,null,null,null,null,null,null,null,null,1209590.49,"*",null,{"$f":"VLOOKUP(A820,'[1]Update Sheet'!$A$3:$Y$15578,25,FALSE)","v":0},"Reportable"]
["WYNNE CONSTRUCTION",9358,1,"Y","Y",true,"GB","N","PRIVATE SECTOR","LL18 5TY","North Wales","Betsi Cadwaladr UHB","ESTATES",43999,42.99,"Specialised construction works             ",0.31026786628535008,null,null,null,null,null,null,null,null,1209362.31,"*",null,{"$f":"VLOOKUP(A821,'[1]Update Sheet'!$A$3:$Y$15578,25,FALSE)","v":0},"Reportable"]
["LOCUM VISION LTD",56226,null,"N","N",true,"GB","N","PRIVATE SECTOR","MK9 2HP",null,null,"MILTON MK9",82990,82,"Office administrative, office support and other business support services       ",0.1180504360352973,null,null,null,null,null,null,null,null,1207634.68,"*",null,{"$f":"VLOOKUP(A822,'[1]Update Sheet'!$A$3:$Y$15578,25,FALSE)","v":0},"Reportable"]
["BRYN MARL NURSING HOME",38614,1,"Y","Y",true,"GB","Y","PRIVATE SECTOR","LL31 9YX","North Wales","Betsi Cadwaladr UHB","LLANDUDNO LL31",87100,87,"Residential care services             ",0.16514437058930551,null,null,null,null,null,null,null,null,1206552.6700000011,"*",null,{"$f":"VLOOKUP(A823,'[1]Update Sheet'!$A$3:$Y$15578,25,FALSE)","v":0},"Reportable"]
["BISHOPS ROAD MEDICAL CENTRE",54272,1,"Y","Y",true,"GB","Y","PRIVATE SECTOR","CF14 1LT","South East Wales","Cardiff and Vale UHB","PCS PAY",86210,86,"Human health services             ",0.29193168620018201,null,null,null,null,null,null,null,null,1205643.1000000001,"*",null,{"$f":"VLOOKUP(A824,'[1]Update Sheet'!$A$3:$Y$15578,25,FALSE)","v":0},"Reportable"]
["WELLSPRING MEDICAL CENTRE",68777,1,"Y","Y",true,"GB","N","PRIVATE SECTOR","NP11  6BJ","South East Wales","Aneurin Bevan UHB","PCS PAY",86210,86,"Human health services             ",0.29193168620018201,null,null,null,null,null,null,null,null,1203849.3600000001,"*",null,{"$f":"VLOOKUP(A825,'[1]Update Sheet'!$A$3:$Y$15578,25,FALSE)","v":0},"Reportable"]
["CAERLEON HOUSE CARE LTD",69732,1,"Y","Y",true,"GB","Y","PRIVATE SECTOR","NP18 1BE","South East Wales","Aneurin Bevan UHB","NEWPORT NP18",87100,87,"Residential care services             ",0.16514437058930551,null,null,null,null,null,null,null,null,1202838.179999999,"*",null,{"$f":"VLOOKUP(A826,'[1]Update Sheet'!$A$3:$Y$15578,25,FALSE)","v":0},"Reportable"]
["CAMBRIAN ROOFING LTD",71960,1,"Y","Y",true,"GB","Y","PRIVATE SECTOR","CF40 2LB","South West Wales","Swansea Bay UHB","TONYPANDY CF40",43910,42.99,"Specialised construction works             ",0.31026786628535008,null,null,null,null,null,null,null,null,1200817.46,"*",null,{"$f":"VLOOKUP(A827,'[1]Update Sheet'!$A$3:$Y$15578,25,FALSE)","v":0},"Reportable"]
["FFORESTFACH MEDICAL GROUP PRACTICE 1",36129,1,"Y","Y",true,"GB","Y","PRIVATE SECTOR","SA5 5AA","South West Wales","Swansea Bay UHB","PCS PAY",86210,86,"Human health services             ",0.29193168620018201,null,null,null,null,null,null,null,null,1200384.6199999999,"*",null,{"$f":"VLOOKUP(A828,'[1]Update Sheet'!$A$3:$Y$15578,25,FALSE)","v":0},"Reportable"]
["THE HEALTH DISPENSARY LTD",68704,1,"Y","Y",true,"GB","Y","PRIVATE SECTOR",null,"South West Wales","Swansea Bay UHB","PCS PAY",47730,47,"Retail trade services, except of motor vehicles and motorcycles       ",0.17404287306456559,null,null,null,null,null,null,null,null,1200185.1299999999,"*",null,{"$f":"VLOOKUP(A829,'[1]Update Sheet'!$A$3:$Y$15578,25,FALSE)","v":0},"Reportable"]
["PROTEC FIRE DETECTION PLC",2883,null,"N","N",true,"GB","N","PRIVATE SECTOR","BB9 6RT",null,null,"NELSON BB9",27900,27,"Electrical equipment              ",0.49523640333923419,2021,null,null,null,{"$f":"3364*1000","v":3364000},{"$f":"129.2*100000","v":12919999.999999998},{"$f":"V830/W830","v":0.26037151702786382},"Company use offsetting to be carbon neutral, emissions taken from certification excluding offsets.",1199091.1700000002,"*",null,{"$f":"VLOOKUP(A830,'[1]Update Sheet'!$A$3:$Y$15578,25,FALSE)","v":"In Master List"},"Reportable"]
["VASCULAR PERSPECTIVES LTD",26306,null,"N","N",true,"GB","Y","PRIVATE SECTOR","HD9 2QG",null,null,"HUDDERSF HD2",74909,74,"Other professional, scientific and technical services          ",0.19142587698446711,null,null,null,null,null,null,null,null,1198284,"*",null,{"$f":"VLOOKUP(A831,'[1]Update Sheet'!$A$3:$Y$15578,25,FALSE)","v":0},"Reportable"]
["QUEENSFERRY MEDICAL PRACTICE",62511,1,"Y","Y",true,"GB","N","PRIVATE SECTOR","CH5 1SY","North Wales","Betsi Cadwaladr UHB","PCS PAY",86900,86,"Human health services             ",0.29193168620018201,null,null,null,null,null,null,null,null,1198146.01,"*",null,{"$f":"VLOOKUP(A832,'[1]Update Sheet'!$A$3:$Y$15578,25,FALSE)","v":0},"Reportable"]
["WELCH ALLYN UK LTD",3520,null,"N","N",true,"GB","Y","PRIVATE SECTOR","LE8 6LH",null,null,"AYLESBURY HP22",32500,32,"Other manufactured goods             ",0.67238249414981133,null,null,null,null,null,null,null,null,1197095.5,"*",null,{"$f":"VLOOKUP(A833,'[1]Update Sheet'!$A$3:$Y$15578,25,FALSE)","v":0},"Reportable"]
["PROMEDICS ORTHOPAEDIC LTD",240,null,"N","N",true,"GB","Y","PRIVATE SECTOR","PA14 5XH",null,null,"PHARMACY",32500,32,"Other manufactured goods             ",0.67238249414981133,null,null,null,null,null,null,null,null,1196434.4499999997,"*",null,{"$f":"VLOOKUP(A834,'[1]Update Sheet'!$A$3:$Y$15578,25,FALSE)","v":0},"Reportable"]
["FANNIN (UK) LTD",3167,null,"N","N",true,"GB","N","PRIVATE SECTOR","TN24 0GR",null,null,"FOREIGN",47749,47,"Retail trade services, except of motor vehicles and motorcycles       ",0.17404287306456559,2023,{"$f":"47.15*1000","v":47150},0,{"$f":"6436.39*1000","v":6436390},{"$f":"SUM(S835:U835)","v":6483540},{"$f":"55305*1000","v":55305000},{"$f":"V835/W835","v":0.1172324382967182},"carbon reduction plan",1192003.92,"*",null,{"$f":"VLOOKUP(A835,'[1]Update Sheet'!$A$3:$Y$15578,25,FALSE)","v":"In Master List"},"Reportable"]
["TREFOREST PHARMACY LTD",68707,1,"Y","Y",true,"GB","Y","PRIVATE SECTOR",null,"South East Wales","Cardiff and Vale UHB","PCS PAY",86900,86,"Human health services             ",0.29193168620018201,null,null,null,null,null,null,null,null,1191519.23,"*",null,{"$f":"VLOOKUP(A836,'[1]Update Sheet'!$A$3:$Y$15578,25,FALSE)","v":0},"Reportable"]
["MUMBLES MEDICAL PRACTICE",39407,1,"Y","Y",true,"GB","Y","PRIVATE SECTOR","SA3 5UA","South West Wales","Swansea Bay UHB","PCS PAY",86210,86,"Human health services             ",0.29193168620018201,null,null,null,null,null,null,null,null,1189135.4099999999,"*",null,{"$f":"VLOOKUP(A837,'[1]Update Sheet'!$A$3:$Y$15578,25,FALSE)","v":0},"Reportable"]
["CUMBRIA NORTHUMBERLAND TYNE AND WEAR NHS FOUNDATION TRUST",22375,0,null,null,null,"GB","N","PUBLIC SECTOR","NE3 3XT",null,null,"NEWCASTLE NE3",null,null,null,null,null,null,null,null,null,null,null,null,5090.75,"*",null,{"$f":"VLOOKUP(A838,'[1]Update Sheet'!$A$3:$Y$15578,25,FALSE)","v":"Public Sector- Exclude"},"Exclude- Intra NHS "]
["CWMFELIN MEDICAL CENTRE",18669,1,"Y","Y",true,"GB","Y","PRIVATE SECTOR","SA1 1HW","South West Wales","Swansea Bay UHB","PCS PAY",86210,86,"Human health services             ",0.29193168620018201,null,null,null,null,null,null,null,null,1185612.4300000002,"*",null,{"$f":"VLOOKUP(A839,'[1]Update Sheet'!$A$3:$Y$15578,25,FALSE)","v":0},"Reportable"]
["ACCOMPLISH GROUP SPECIALIST CARE LTD",39428,1,"Y","Y",true,"GB","Y","PRIVATE SECTOR","NP18 2HJ","South East Wales","Aneurin Bevan UHB","CARDIFF CF64",87200,87,"Residential care services             ",0.16514437058930551,null,null,null,null,null,null,null,null,1185273.99,"*",null,{"$f":"VLOOKUP(A840,'[1]Update Sheet'!$A$3:$Y$15578,25,FALSE)","v":0},"Reportable"]
["CHURCH SURGERY",11189,1,"Y","Y",true,"GB","Y","PRIVATE SECTOR","SY23 2DX","Mid Wales","Hywel Dda UHB","PCS PAY",86210,86,"Human health services             ",0.29193168620018201,null,null,null,null,null,null,null,null,1184582.1099999999,"*",null,{"$f":"VLOOKUP(A841,'[1]Update Sheet'!$A$3:$Y$15578,25,FALSE)","v":0},"Reportable"]
["GRWP LLANDRILLO MENAI",47014,1,"Y","Y",true,"GB","Y","PRIVATE SECTOR","LL57 2TP","North Wales","Betsi Cadwaladr UHB","BANGOR LL57",86210,86,"Human health services             ",0.29193168620018201,null,null,null,null,null,null,null,null,1182602.05,"*",null,{"$f":"VLOOKUP(A842,'[1]Update Sheet'!$A$3:$Y$15578,25,FALSE)","v":0},"Reportable"]
["ABER MEDICAL CENTRE",54016,1,"Y","Y",true,"GB","N","PRIVATE SECTOR","CF83 4AZ","South East Wales","Aneurin Bevan UHB","PCS PAY",86900,86,"Human health services             ",0.29193168620018201,null,null,null,null,null,null,null,null,1182057.08,"*",null,{"$f":"VLOOKUP(A843,'[1]Update Sheet'!$A$3:$Y$15578,25,FALSE)","v":0},"Reportable"]
["AMMAN TAWE PARTNERSHIP CAMARTHEN",52517,1,"Y","Y",true,"GB","Y","PRIVATE SECTOR","SA9 2GH","South West Wales","Swansea Bay UHB","PCS PAY",74901,74,"Other professional, scientific and technical services          ",0.19142587698446711,null,null,null,null,null,null,null,null,1179958.75,"*",null,{"$f":"VLOOKUP(A844,'[1]Update Sheet'!$A$3:$Y$15578,25,FALSE)","v":0},"Reportable"]
["YSGOL PHARMACY LTD",68725,1,"Y","Y",true,"GB","Y","PRIVATE SECTOR",null,"South West Wales","Swansea Bay UHB","PCS PAY",86900,86,"Human health services             ",0.29193168620018201,null,null,null,null,null,null,null,null,1179525.75,"*",null,{"$f":"VLOOKUP(A845,'[1]Update Sheet'!$A$3:$Y$15578,25,FALSE)","v":0},"Reportable"]
["ORTHO CLINICAL DIAGNOSTICS",217,null,"N","N",true,"GB","N","PRIVATE SECTOR","HP10 0HH",null,null,"HIGH WYCO HP12",21100,21,"Basic pharmaceutical products and pharmaceutical preparations          ",0.62099518156965727,null,null,null,null,null,null,null,null,1178768.54,"*",null,{"$f":"VLOOKUP(A846,'[1]Update Sheet'!$A$3:$Y$15578,25,FALSE)","v":0},"Reportable"]
["ST DAVIDS HOSPICE",20701,1,"Y","Y",true,"GB","Y","PRIVATE SECTOR","LL30 2EN","North Wales","Betsi Cadwaladr UHB","LLANDUDNO LL30",86101,86,"Human health services             ",0.29193168620018201,null,null,null,null,null,null,null,null,1177200,"*",null,{"$f":"VLOOKUP(A847,'[1]Update Sheet'!$A$3:$Y$15578,25,FALSE)","v":0},"Reportable"]
["ALL WALES AMBULANCE SERVICES LTD",15080,1,"Y","Y",true,"GB","Y","PRIVATE SECTOR","SA9 2WD","South West Wales","Hywel Dda UHB","CWMLLYNFE SA9",86900,86,"Human health services             ",0.29193168620018201,null,null,null,null,null,null,null,null,1173491.3600000001,"*",null,{"$f":"VLOOKUP(A848,'[1]Update Sheet'!$A$3:$Y$15578,25,FALSE)","v":0},"Reportable"]
["THE PRACTICE OF HEALTH",7786,1,"Y","Y",true,"GB","N","PRIVATE SECTOR","CF63 1BA","South East Wales","Cardiff and Vale UHB","PCS PAY",86210,86,"Human health services             ",0.29193168620018201,null,null,null,null,null,null,null,null,1172618.47,"*",null,{"$f":"VLOOKUP(A849,'[1]Update Sheet'!$A$3:$Y$15578,25,FALSE)","v":0},"Reportable"]
["MASIMO UK",29347,null,"N","N",true,"GB","N","PRIVATE SECTOR","RG21 4DZ",null,null,"BASINGSTO RG24",82990,82,"Office administrative, office support and other business support services       ",0.1180504360352973,null,null,null,null,null,null,null,null,1172100.4099999999,"*",null,{"$f":"VLOOKUP(A850,'[1]Update Sheet'!$A$3:$Y$15578,25,FALSE)","v":0},"Reportable"]
["HENRY SCHEIN DENTAL",193,null,"N","N",true,"GB","N","PRIVATE SECTOR","ME8 0SB",null,null,"PHARMACY",64209,64,"Financial services, except insurance and pension funding         ",0.1103075939416239,null,null,null,null,null,null,null,null,1171662.3099999998,"*",null,{"$f":"VLOOKUP(A851,'[1]Update Sheet'!$A$3:$Y$15578,25,FALSE)","v":0},"Reportable"]
["DEPARTMENT FOR WORK & PENSIONS",23497,null,"N","N",true,"GB","N","PUBLIC SECTOR","SW1H 9NA",null,null,"NEWPORT NP10",84110,84,"Public administration and defence services; compulsory social security services       ",0.1703405261372164,null,null,null,null,null,null,null,null,1167918.83,"*",null,{"$f":"VLOOKUP(A852,'[1]Update Sheet'!$A$3:$Y$15578,25,FALSE)","v":0},"Reportable"]
["HEATHBRIDGE HOUSE SURGERY",54055,1,"Y","Y",true,"GB","Y","PRIVATE SECTOR","CF33 6BY","South East Wales","Cwm Taf Morgannwg UHB","PCS PAY",86210,86,"Human health services             ",0.29193168620018201,null,null,null,null,null,null,null,null,1165481.3400000001,"*",null,{"$f":"VLOOKUP(A853,'[1]Update Sheet'!$A$3:$Y$15578,25,FALSE)","v":0},"Reportable"]
["THE RUGBY SURGERY",53604,1,"Y","Y",true,"GB","N","PRIVATE SECTOR","NP19 0DW","South East Wales","Aneurin Bevan UHB","PCS PAY",86900,86,"Human health services             ",0.29193168620018201,null,null,null,null,null,null,null,null,1164147.1499999999,"*",null,{"$f":"VLOOKUP(A854,'[1]Update Sheet'!$A$3:$Y$15578,25,FALSE)","v":0},"Reportable"]
["WIETMARSCHER AMBULANZ UND SONDERFAHRZEUG GMBH",42970,null,"N","N",true,"DE","N","PRIVATE SECTOR","GERMANY",null,null,"FOREIGN",45112,45,"Wholesale and retail trade and repair services of motor vehicles and motorcycles    ",0.21034629699726889,null,null,null,null,null,null,null,null,1163764.7,"*",null,{"$f":"VLOOKUP(A855,'[1]Update Sheet'!$A$3:$Y$15578,25,FALSE)","v":0},"Reportable"]
["THE CITY HOSPICE TRUST",6751,1,"Y","Y",true,"GB","Y","VCSE","CF14 7BF","South East Wales","Cardiff and Vale UHB","CARDIFF CF14",86900,86,"Human health services             ",0.29193168620018201,null,null,null,null,null,null,null,null,1159290.83,"*",null,{"$f":"VLOOKUP(A856,'[1]Update Sheet'!$A$3:$Y$15578,25,FALSE)","v":0},"Reportable"]
["SLATER & GORDON UK LLP",51765,null,"N","N",true,"GB","N","PRIVATE SECTOR","M2 3HZ",null,null,"MANCHESTE M2",69102,69.099999999999994,"Legal services              ",5.7877621976311508E-2,null,null,null,null,null,null,null,null,1158636.8,"*",null,{"$f":"VLOOKUP(A857,'[1]Update Sheet'!$A$3:$Y$15578,25,FALSE)","v":0},"Reportable"]
["WILLOWBROOK HOUSE NURSING HOME",40033,1,"Y","Y",true,"GB","Y","PRIVATE SECTOR","CF3 0EF","South East Wales","Cardiff and Vale UHB","CARDIFF CF3",87100,87,"Residential care services             ",0.16514437058930551,null,null,null,null,null,null,null,null,1157202.22,"*",null,{"$f":"VLOOKUP(A858,'[1]Update Sheet'!$A$3:$Y$15578,25,FALSE)","v":0},"Reportable"]
["BELLAVISTA CARE (CARDIFF) LTD",59070,1,"Y","Y",true,"GB","Y","PRIVATE SECTOR","CF10 5GB","South East Wales","Cardiff and Vale UHB","CARDIFF CF10",87100,87,"Residential care services             ",0.16514437058930551,null,null,null,null,null,null,null,null,1157056.02,"*",null,{"$f":"VLOOKUP(A859,'[1]Update Sheet'!$A$3:$Y$15578,25,FALSE)","v":0},"Reportable"]
["PRINCESS STREET SURGERY",37204,1,"Y","Y",true,"GB","Y","PRIVATE SECTOR","SA4 2US","South West Wales","Swansea Bay UHB","PCS PAY",86210,86,"Human health services             ",0.29193168620018201,null,null,null,null,null,null,null,null,1156228.1099999999,"*",null,{"$f":"VLOOKUP(A860,'[1]Update Sheet'!$A$3:$Y$15578,25,FALSE)","v":0},"Reportable"]
["CARITAS SURGERY",52169,1,"Y","Y",true,"GB","Y","PRIVATE SECTOR","LL11 3NS","North Wales","Betsi Cadwaladr UHB","PCS PAY",86210,86,"Human health services             ",0.29193168620018201,null,null,null,null,null,null,null,null,1154435.32,"*",null,{"$f":"VLOOKUP(A861,'[1]Update Sheet'!$A$3:$Y$15578,25,FALSE)","v":0},"Reportable"]
["YR HEN ORSAF MEDICAL CENTRE",40638,1,"Y","Y",true,"GB","Y","PRIVATE SECTOR","LL57 3NE","North Wales","Betsi Cadwaladr UHB","PCS PAY",86210,86,"Human health services             ",0.29193168620018201,null,null,null,null,null,null,null,null,1154140.1800000002,"*",null,{"$f":"VLOOKUP(A862,'[1]Update Sheet'!$A$3:$Y$15578,25,FALSE)","v":0},"Reportable"]
["THE PENYLAN SURGERY",52182,1,"Y","Y",true,"GB","Y","PRIVATE SECTOR","CF23 5SY","South East Wales","Cardiff and Vale UHB","PCS PAY",86210,86,"Human health services             ",0.29193168620018201,null,null,null,null,null,null,null,null,1153887.1700000002,"*",null,{"$f":"VLOOKUP(A863,'[1]Update Sheet'!$A$3:$Y$15578,25,FALSE)","v":0},"Reportable"]
["AGE CYMRU",43079,1,"Y","Y",true,"GB","Y","VCSE","CF24 5PJ","South East Wales","Cardiff and Vale UHB","NEWPORT NP20",74990,74,"Other professional, scientific and technical services          ",0.19142587698446711,null,null,null,null,null,null,null,null,1152515.58,"*",null,{"$f":"VLOOKUP(A864,'[1]Update Sheet'!$A$3:$Y$15578,25,FALSE)","v":0},"Reportable"]
["WORKMAN LLP",45623,null,"N","N",true,"GB","N","PRIVATE SECTOR","BS1 6AL",null,null,"BRISTOL BS1",68310,68.3,"Real estate services on a fee or contract basis       ",8.4914337844308282E-2,null,null,null,null,null,null,null,null,1148295,"*",null,{"$f":"VLOOKUP(A865,'[1]Update Sheet'!$A$3:$Y$15578,25,FALSE)","v":0},"Reportable"]
["THE NEW SURGERY",33917,1,"Y","Y",true,"GB","Y","PRIVATE SECTOR","CF35 5PE","South East Wales","Cwm Taf Morgannwg UHB","PCS PAY",86210,86,"Human health services             ",0.29193168620018201,null,null,null,null,null,null,null,null,1148253.54,"*",null,{"$f":"VLOOKUP(A866,'[1]Update Sheet'!$A$3:$Y$15578,25,FALSE)","v":0},"Reportable"]
["GLEEDS COST MANAGEMENT LTD",45559,null,"N","N",true,"GB","N","PRIVATE SECTOR","BS34 8YU",null,null,"CARDIFF CF10",74909,74,"Other professional, scientific and technical services          ",0.19142587698446711,2022,150780,145490,4180100.0000000005,4476370,77829779,5.7514874865570415E-2,null,1143226.32,"*",null,{"$f":"VLOOKUP(A867,'[1]Update Sheet'!$A$3:$Y$15578,25,FALSE)","v":"In Master List"},"Reportable"]
["MARK HUNTER LTD TA TOTALLY WELSH",24024,1,"Y","Y",true,"GB","Y","PRIVATE SECTOR","SA62 4BW","South West Wales","Swansea Bay UHB","HAVERFORD SA62",10511,10.5,"Dairy products              ",0.9622119924642184,null,null,null,null,null,null,null,null,1141700.3,"*",null,{"$f":"VLOOKUP(A868,'[1]Update Sheet'!$A$3:$Y$15578,25,FALSE)","v":0},"Reportable"]
["KINGS HOUSE SURGERY",60716,1,"Y","Y",true,"GB","N","PRIVATE SECTOR","LL18 1TL","North Wales","Betsi Cadwaladr UHB","PCS PAY",86900,86,"Human health services             ",0.29193168620018201,null,null,null,null,null,null,null,null,1141429.8899999999,"*",null,{"$f":"VLOOKUP(A869,'[1]Update Sheet'!$A$3:$Y$15578,25,FALSE)","v":0},"Reportable"]
["ROSS CARE CENTRES",4631,1,"Y","Y",true,"GB","N","PRIVATE SECTOR","CH7 1JR","North Wales","Betsi Cadwaladr UHB","WALLASEY CH44",64209,64,"Financial services, except insurance and pension funding         ",0.1103075939416239,null,null,null,null,null,null,null,null,1140065.19,"*",null,{"$f":"VLOOKUP(A870,'[1]Update Sheet'!$A$3:$Y$15578,25,FALSE)","v":0},"Reportable"]
["PAVO - POWYS ASSOCIATION OF VOLUNTARY ORGANISATIONS",17717,1,"Y","Y",true,"GB","Y","VCSE","SY16 2EH","Mid Wales","Powys Teaching HB","NEWTOWN SY16",94990,94,"Services furnished by membership organisations           ",0.1210358880635142,null,null,null,null,null,null,null,null,1138220.1100000001,"*",null,{"$f":"VLOOKUP(A871,'[1]Update Sheet'!$A$3:$Y$15578,25,FALSE)","v":0},"Reportable"]
["VICTORIA GARDENS SURGERY",12920,1,"Y","Y",true,"GB","Y","PRIVATE SECTOR","SA11 1HW","South West Wales","Swansea Bay UHB","PCS PAY",86210,86,"Human health services             ",0.29193168620018201,null,null,null,null,null,null,null,null,1137713.23,"*",null,{"$f":"VLOOKUP(A872,'[1]Update Sheet'!$A$3:$Y$15578,25,FALSE)","v":0},"Reportable"]
["ADRIAN THOMAS LTD",68406,1,"Y","Y",true,"GB","Y","PRIVATE SECTOR","SA48 7BA","Mid Wales","Hywel Dda UHB","PCS PAY",47730,47,"Retail trade services, except of motor vehicles and motorcycles       ",0.17404287306456559,null,null,null,null,null,null,null,null,1132919.3899999999,"*",null,{"$f":"VLOOKUP(A873,'[1]Update Sheet'!$A$3:$Y$15578,25,FALSE)","v":0},"Reportable"]
["ITH PHARMA LTD",57937,null,"N","N",true,"GB","N","PRIVATE SECTOR","NW10 7NZ",null,null,"PHARMACY",32990,32,"Other manufactured goods             ",0.67238249414981133,2022,10880,283660,469970,764510,70359080,1.0865832810775808E-2,null,1132069.1099999999,"*",null,{"$f":"VLOOKUP(A874,'[1]Update Sheet'!$A$3:$Y$15578,25,FALSE)","v":"In Master List"},"Reportable"]
["COMMUNITY PHARMACY WALES",68908,1,"Y","Y",true,"GB","N","PRIVATE SECTOR","CF10 4DQ","South East Wales","Cardiff and Vale UHB","PCS PAY",86900,86,"Human health services             ",0.29193168620018201,null,null,null,null,null,null,null,null,1131409.2,"*",null,{"$f":"VLOOKUP(A875,'[1]Update Sheet'!$A$3:$Y$15578,25,FALSE)","v":0},"Reportable"]
["THE ROBERT STREET PRACTICE",35703,1,"Y","Y",true,"GB","Y","PRIVATE SECTOR","SA72 2JW","South West Wales","Hywel Dda UHB","PCS PAY",86210,86,"Human health services             ",0.29193168620018201,null,null,null,null,null,null,null,null,1129744.7100000002,"*",null,{"$f":"VLOOKUP(A876,'[1]Update Sheet'!$A$3:$Y$15578,25,FALSE)","v":0},"Reportable"]
["GARDDEN ROAD SURGERY",53812,1,"Y","Y",true,"GB","N","PRIVATE SECTOR","LL14 2EN","North Wales","Betsi Cadwaladr UHB","PCS PAY",86210,86,"Human health services             ",0.29193168620018201,null,null,null,null,null,null,null,null,1127664.9200000002,"*",null,{"$f":"VLOOKUP(A877,'[1]Update Sheet'!$A$3:$Y$15578,25,FALSE)","v":0},"Reportable"]
["PSP HEALTHCARE LTD",39633,null,"N","N",true,"GB","N","PRIVATE SECTOR","BS11 9XJ",null,null,"BRISTOL BS11",82990,82,"Office administrative, office support and other business support services       ",0.1180504360352973,null,null,null,null,null,null,null,null,1127653.44,"*",null,{"$f":"VLOOKUP(A878,'[1]Update Sheet'!$A$3:$Y$15578,25,FALSE)","v":0},"Reportable"]
["OGWR CARE LTD",71124,1,"Y","Y",true,"GB","Y","PRIVATE SECTOR","NP20 4FN","South East Wales","Aneurin Bevan UHB","NEWPORT NP20",87300,87,"Residential care services             ",0.16514437058930551,null,null,null,null,null,null,null,null,1127579.04,"*",null,{"$f":"VLOOKUP(A879,'[1]Update Sheet'!$A$3:$Y$15578,25,FALSE)","v":0},"Reportable"]
["SGC HOLDINGS LTD TA SGC SECURITY SERVICES",70222,1,"Y","Y",true,"GB","Y","PRIVATE SECTOR","CF48 4LT","South East Wales","Cwm Taf Morgannwg UHB","SIBLE C09",80100,80,"Security and investigation services            ",9.5408278947996958E-2,null,null,null,null,null,null,null,null,1126248.83,"*",null,{"$f":"VLOOKUP(A880,'[1]Update Sheet'!$A$3:$Y$15578,25,FALSE)","v":0},"Reportable"]
["LP SD FORTY TWO LTD",76315,null,"N","N",true,"GB","N","PRIVATE SECTOR","CH7 3PG",null,null,"PCS PAY",47730,47,"Retail trade services, except of motor vehicles and motorcycles       ",0.17404287306456559,null,null,null,null,null,null,null,null,1125444.1000000001,"*",null,{"$f":"VLOOKUP(A881,'[1]Update Sheet'!$A$3:$Y$15578,25,FALSE)","v":0},"Reportable"]
["MONMOUTH FACILITIES LTD",28449,null,"N","N",true,"GB","Y","PRIVATE SECTOR","BA2 3RH",null,null,"BRISTOL BS1",68320,68.3,"Real estate services on a fee or contract basis       ",8.4914337844308282E-2,null,null,null,null,null,null,null,null,1122183.3700000001,"*",null,{"$f":"VLOOKUP(A882,'[1]Update Sheet'!$A$3:$Y$15578,25,FALSE)","v":0},"Reportable"]
["NORTH ROAD MEDICAL PRACTICE",56904,1,"Y","Y",true,"GB","Y","PRIVATE SECTOR","CF14 3XQ","South East Wales","Cardiff and Vale UHB","PCS PAY",86210,86,"Human health services             ",0.29193168620018201,null,null,null,null,null,null,null,null,1121880.08,"*",null,{"$f":"VLOOKUP(A883,'[1]Update Sheet'!$A$3:$Y$15578,25,FALSE)","v":0},"Reportable"]
["MEDDYGFA RHYDBACH",5007,1,"Y","Y",true,"GB","Y","PRIVATE SECTOR","LL53 8RE","North Wales","Betsi Cadwaladr UHB","PCS PAY",86210,86,"Human health services             ",0.29193168620018201,null,null,null,null,null,null,null,null,1120055.3500000001,"*",null,{"$f":"VLOOKUP(A884,'[1]Update Sheet'!$A$3:$Y$15578,25,FALSE)","v":0},"Reportable"]
["RIVERSIDE MEDICAL PACKAGING CO LTD t/a ASEPTIC MEDICAL DEVICES",53488,null,"N","N",true,"GB","Y","PRIVATE SECTOR","DE24 8SW",null,null,"PHARMACY",32500,32,"Other manufactured goods             ",0.67238249414981133,null,null,null,null,null,null,null,null,1120047.02,"*",null,{"$f":"VLOOKUP(A885,'[1]Update Sheet'!$A$3:$Y$15578,25,FALSE)","v":0},"Reportable"]
["FAIRFIELD SURGERY SWANSEA",20550,1,"Y","Y",true,"GB","Y","PRIVATE SECTOR","SA15 3AE","South West Wales","Hywel Dda UHB","PCS PAY",86210,86,"Human health services             ",0.29193168620018201,null,null,null,null,null,null,null,null,1118994.8299999998,"*",null,{"$f":"VLOOKUP(A886,'[1]Update Sheet'!$A$3:$Y$15578,25,FALSE)","v":0},"Reportable"]
["KINMEL BAY MEDICAL CENTRE",10513,1,"Y","Y",true,"GB","Y","PRIVATE SECTOR","LL18 5AU","North Wales","Betsi Cadwaladr UHB","PCS PAY",86210,86,"Human health services             ",0.29193168620018201,null,null,null,null,null,null,null,null,1118374.27,"*",null,{"$f":"VLOOKUP(A887,'[1]Update Sheet'!$A$3:$Y$15578,25,FALSE)","v":0},"Reportable"]
["MEDDYGFA CANNA SURGERY",19199,1,"Y","Y",true,"GB","Y","PRIVATE SECTOR","CF11 9EE","South East Wales","Cardiff and Vale UHB","PCS PAY",86210,86,"Human health services             ",0.29193168620018201,null,null,null,null,null,null,null,null,1117695.1200000001,"*",null,{"$f":"VLOOKUP(A888,'[1]Update Sheet'!$A$3:$Y$15578,25,FALSE)","v":0},"Reportable"]
["APPLIED MEDICAL UK LTD",31795,null,"N","N",true,"GB","Y","PRIVATE SECTOR","EC2R 6PJ",null,null,"LONDON EC2V",82990,82,"Office administrative, office support and other business support services       ",0.1180504360352973,null,null,null,null,null,null,null,null,1117112.94,"*",null,{"$f":"VLOOKUP(A889,'[1]Update Sheet'!$A$3:$Y$15578,25,FALSE)","v":0},"Reportable"]
["DIXTON SURGERY",56861,1,"Y","Y",true,"GB","Y","PRIVATE SECTOR","NP25 3PL","South East Wales","Aneurin Bevan UHB","PCS PAY",86210,86,"Human health services             ",0.29193168620018201,null,null,null,null,null,null,null,null,1117090.8,"*",null,{"$f":"VLOOKUP(A890,'[1]Update Sheet'!$A$3:$Y$15578,25,FALSE)","v":0},"Reportable"]
["JOHN WEAVER (CONTRACTORS) LTD",12005,1,"Y","Y",true,"GB","Y","PRIVATE SECTOR","SA1 2JW","South West Wales","Swansea Bay UHB","SWANSEA SA1",41201,41.2,"Buildings and building construction works           ",0.30500636264243469,null,null,null,null,null,null,null,null,1114315.28,"*",null,{"$f":"VLOOKUP(A891,'[1]Update Sheet'!$A$3:$Y$15578,25,FALSE)","v":0},"Reportable"]
["R & M WILLIAMS LTD",3918,1,"Y","Y",true,"GB","N","PRIVATE SECTOR","CF11 8JQ","South East Wales","Cardiff and Vale UHB","CARDIFF CF11",86900,86,"Human health services             ",0.29193168620018201,null,null,null,null,null,null,null,null,1112317.1399999999,"*",null,{"$f":"VLOOKUP(A892,'[1]Update Sheet'!$A$3:$Y$15578,25,FALSE)","v":0},"Reportable"]
["ALJ PHARMA LTD T/A GOWERTON PHARMACY",69422,1,"Y","Y",true,"GB","N","PRIVATE SECTOR","SA4 3ED","South West Wales","Swansea Bay UHB","PCS PAY",86900,86,"Human health services             ",0.29193168620018201,null,null,null,null,null,null,null,null,1110104.49,"*",null,{"$f":"VLOOKUP(A893,'[1]Update Sheet'!$A$3:$Y$15578,25,FALSE)","v":0},"Reportable"]
["GLAN YR AFON SURGERY LTD",54571,1,"Y","Y",true,"GB","N","PRIVATE SECTOR","NP22 4LB","South East Wales","Aneurin Bevan UHB","PCS PAY",86900,86,"Human health services             ",0.29193168620018201,null,null,null,null,null,null,null,null,1109305.69,"*",null,{"$f":"VLOOKUP(A894,'[1]Update Sheet'!$A$3:$Y$15578,25,FALSE)","v":0},"Reportable"]
["ST. LUKE'S SURGERY",68789,1,"Y","Y",true,"GB","N","PRIVATE SECTOR","NP11 5GX","South East Wales","Aneurin Bevan UHB","PCS PAY",86900,86,"Human health services             ",0.29193168620018201,null,null,null,null,null,null,null,null,1108747.8,"*",null,{"$f":"VLOOKUP(A895,'[1]Update Sheet'!$A$3:$Y$15578,25,FALSE)","v":0},"Reportable"]
["BUTETOWN MEDICAL PRACTICE",54344,1,"Y","Y",true,"GB","Y","PRIVATE SECTOR","CF10 5HW","South East Wales","Cardiff and Vale UHB","PCS PAY",86210,86,"Human health services             ",0.29193168620018201,null,null,null,null,null,null,null,null,1108196.02,"*",null,{"$f":"VLOOKUP(A896,'[1]Update Sheet'!$A$3:$Y$15578,25,FALSE)","v":0},"Reportable"]
["CADMHAS LTD",38640,1,"Y","Y",true,"GB","Y","PRIVATE SECTOR","LL57 1LH","North Wales","Betsi Cadwaladr UHB","ST ASAPH LL17",88990,88,"Social work services without accommodation           ",0.12926092802643949,null,null,null,null,null,null,null,null,1106145.05,"*",null,{"$f":"VLOOKUP(A897,'[1]Update Sheet'!$A$3:$Y$15578,25,FALSE)","v":0},"Reportable"]
["GOLLEY SLATER RECRUITMENT LTD",2482,1,"Y","Y",true,"GB","Y","PRIVATE SECTOR","CF10 1GS","South East Wales","Cardiff and Vale UHB","CARDIFF CF10",78200,78,"Employment services              ",0.1176282196328419,2022,5130,75280,110570,190980,25934842,7.3638389622732231E-3,null,1105283.58,"*",null,{"$f":"VLOOKUP(A898,'[1]Update Sheet'!$A$3:$Y$15578,25,FALSE)","v":"In Master List"},"Reportable"]
["SENSE",18048,null,"N","N",true,"GB","N","VCSE","B29 6NA",null,null,"BIRMINGHA B29",87900,87,"Residential care services             ",0.16514437058930551,null,null,null,null,null,null,null,null,1105267.27,"*",null,{"$f":"VLOOKUP(A899,'[1]Update Sheet'!$A$3:$Y$15578,25,FALSE)","v":0},"Reportable"]
["XEROX (UK) LTD",2169,null,"N","N",true,"GB","N","PRIVATE SECTOR","WB8 1DH",null,null,"PHARMACY",46660,46,"Wholesale trade services, except of motor vehicles and motorcycles       ",2.0310031510736858E-2,2022,1811000,627000,5868000,{"$f":"SUM(S900:U900)","v":8306000},465576618,{"$f":"V900/W900","v":1.7840242999488432E-2},"carbon reduction plan",1104206.5599999989,"*",null,{"$f":"VLOOKUP(A900,'[1]Update Sheet'!$A$3:$Y$15578,25,FALSE)","v":"In Master List"},"Reportable"]
["WOODLANDS SURGERY",31722,1,"Y","Y",true,"GB","Y","PRIVATE SECTOR","CF34 0SR","South East Wales","Cwm Taf Morgannwg UHB","PCS PAY",86210,86,"Human health services             ",0.29193168620018201,null,null,null,null,null,null,null,null,1103877.83,"*",null,{"$f":"VLOOKUP(A901,'[1]Update Sheet'!$A$3:$Y$15578,25,FALSE)","v":0},"Reportable"]
["VERNACARE LTD",4906,null,"N","N",true,"GB","Y","PRIVATE SECTOR",null,null,null,"PHARMACY",32990,32,"Other manufactured goods             ",0.67238249414981133,2021,6071180,3413240,2918480,12404480,60144054,0.20624615693514775,"carbon reduction plan",1100470.2999999996,"*",null,{"$f":"VLOOKUP(A902,'[1]Update Sheet'!$A$3:$Y$15578,25,FALSE)","v":"In Master List"},"Reportable"]
["C D BUNTING AS DEPUTY FOR H PARSONS",71956,1,"Y","Y",true,"GB","N","PRIVATE SECTOR","CF10 1ET","South East Wales","Cardiff and Vale UHB","CARDFF CF10",85590,85,"Education services              ",0.10257966678326461,null,null,null,null,null,null,null,null,1100000,"*",null,{"$f":"VLOOKUP(A903,'[1]Update Sheet'!$A$3:$Y$15578,25,FALSE)","v":0},"Reportable"]
["BLAINA MEDICAL PRACTICE",58174,1,"Y","Y",true,"GB","N","PRIVATE SECTOR","NP13 3AT","South East Wales","Aneurin Bevan UHB","PCS PAY",86900,86,"Human health services             ",0.29193168620018201,null,null,null,null,null,null,null,null,1099216,"*",null,{"$f":"VLOOKUP(A904,'[1]Update Sheet'!$A$3:$Y$15578,25,FALSE)","v":0},"Reportable"]
["CWM GWYRDD MEDICAL CENTRE",40525,1,"Y","Y",true,"GB","Y","PRIVATE SECTOR","CF39 8SX","South East Wales","Cwm Taf Morgannwg UHB","PCS PAY",86210,86,"Human health services             ",0.29193168620018201,null,null,null,null,null,null,null,null,1098554.49,"*",null,{"$f":"VLOOKUP(A905,'[1]Update Sheet'!$A$3:$Y$15578,25,FALSE)","v":0},"Reportable"]
["PONTLLANFRAITH HEALTH CENTRE",68783,1,"Y","Y",true,"GB","N","PRIVATE SECTOR","NP12 3YU","South East Wales","Aneurin Bevan UHB","PCS PAY",86900,86,"Human health services             ",0.29193168620018201,null,null,null,null,null,null,null,null,1097818.27,"*",null,{"$f":"VLOOKUP(A906,'[1]Update Sheet'!$A$3:$Y$15578,25,FALSE)","v":0},"Reportable"]
["CERTAS ENERGY UK LTD",7940,null,"N","N",true,"GB","N","PRIVATE SECTOR","FK5 4RB",null,null,"LABERT FK5",46719,46,"Wholesale trade services, except of motor vehicles and motorcycles       ",2.0310031510736858E-2,null,null,null,null,null,null,null,null,1096573.08,"*",null,{"$f":"VLOOKUP(A907,'[1]Update Sheet'!$A$3:$Y$15578,25,FALSE)","v":"Do not include in master list- EFPMS"},"Exclude- Captured under Waste, Energy, Water or Invesments"]
["COURT ROAD SURGERY",50751,1,"Y","Y",true,"GB","Y","PRIVATE SECTOR","CF63 4YD","South East Wales","Cardiff and Vale UHB","PCS PAY",86210,86,"Human health services             ",0.29193168620018201,null,null,null,null,null,null,null,null,1096449.0799999998,"*",null,{"$f":"VLOOKUP(A908,'[1]Update Sheet'!$A$3:$Y$15578,25,FALSE)","v":0},"Reportable"]
["PROCARE NURSING AGENCY LTD",55657,1,"Y","Y",true,"GB","N","PRIVATE SECTOR","CF5 1GZ","South East Wales","Cardiff and Vale UHB","CARDIFF CF5",86900,86,"Human health services             ",0.29193168620018201,null,null,null,null,null,null,null,null,1092395.290000004,"*",null,{"$f":"VLOOKUP(A909,'[1]Update Sheet'!$A$3:$Y$15578,25,FALSE)","v":0},"Reportable"]
["CCF LTD",13134,1,"Y","Y",true,"GB","N","PRIVATE SECTOR","CF14 5DR","South East Wales","Cardiff and Vale UHB","CARDIFF CF14",25990,"25OTHER","Fabricated metal products, excl. machinery and equipment and weapons & ammunition - 25.1-3/25.5-9   ",0.45904169551503349,null,null,null,null,null,null,null,null,1092360.8900000011,"*",null,{"$f":"VLOOKUP(A910,'[1]Update Sheet'!$A$3:$Y$15578,25,FALSE)","v":0},"Reportable"]
["GELLIGAER SURGERY",49228,1,"Y","Y",true,"GB","N","PRIVATE SECTOR","LS28 5QH","South East Wales","Aneurin Bevan UHB","PCS PAY",86900,86,"Human health services             ",0.29193168620018201,null,null,null,null,null,null,null,null,1087299.76,"*",null,{"$f":"VLOOKUP(A911,'[1]Update Sheet'!$A$3:$Y$15578,25,FALSE)","v":0},"Reportable"]
["BEAVER VISITEC INTERNATIONAL (SALES) LTD",43849,null,"N","N",true,"GB","N","PRIVATE SECTOR","OX14 4RY",null,null,"PHARMACY",32500,32,"Other manufactured goods             ",0.67238249414981133,null,null,null,null,null,null,null,null,1084981.19,"*",null,{"$f":"VLOOKUP(A912,'[1]Update Sheet'!$A$3:$Y$15578,25,FALSE)","v":0},"Reportable"]
["GLENTWORTH HEALTHCARE LTD",68492,null,"N","Y","Removal of a False Welsh Supplier","GB","Y","PRIVATE SECTOR",null,null,null,"PCS PAY",47730,47,"Retail trade services, except of motor vehicles and motorcycles       ",0.17404287306456559,null,null,null,null,null,null,null,null,1083529.1299999999,"*",null,{"$f":"VLOOKUP(A913,'[1]Update Sheet'!$A$3:$Y$15578,25,FALSE)","v":0},"Reportable"]
["EVOLVE CARE GROUP LTD TA THISTLE COURT NURSING HOME",67417,1,"Y","Y",true,"GB","N","PRIVATE SECTOR","NP44 6JD","South East Wales","Aneurin Bevan UHB","THISTLE COURT",86102,86,"Human health services             ",0.29193168620018201,null,null,null,null,null,null,null,null,1082965.95,"*",null,{"$f":"VLOOKUP(A914,'[1]Update Sheet'!$A$3:$Y$15578,25,FALSE)","v":0},"Reportable"]
["BECT BUILDING CONTRACTORS LTD",357,1,"Y","Y",true,"GB","Y","PRIVATE SECTOR","CF14 5GP","South East Wales","Cardiff and Vale UHB","CARDIFF CF14",41100,"42.1-2","Constructions and construction works for civil engineering         ",0.38802246325570439,null,null,null,null,null,null,null,null,1082763.8799999999,"*",null,{"$f":"VLOOKUP(A915,'[1]Update Sheet'!$A$3:$Y$15578,25,FALSE)","v":0},"Reportable"]
["MED TEAM PRIMARY CARE SERVICES LTD",34024,1,"Y","Y",true,"GB","N","PRIVATE SECTOR","SA2 9BT","South West Wales","Swansea Bay UHB","SWANSEA SA2",78200,78,"Employment services              ",0.1176282196328419,null,null,null,null,null,null,null,null,1080624.449999999,"*",null,{"$f":"VLOOKUP(A916,'[1]Update Sheet'!$A$3:$Y$15578,25,FALSE)","v":0},"Reportable"]
["BMJ PUBLISHING GROUP",6197,null,"N","N",true,"GB","N","PRIVATE SECTOR","WC1H 9BP",null,null,"CARDIFF CF10",58141,58,"Publishing services              ",8.0219457227851232E-2,null,null,null,null,null,null,null,null,1080532.4700000002,"*",null,{"$f":"VLOOKUP(A917,'[1]Update Sheet'!$A$3:$Y$15578,25,FALSE)","v":0},"Reportable"]
["TANYFRON SURGERY",12790,1,"Y","Y",true,"GB","Y","PRIVATE SECTOR","SA46 0AS","Mid Wales","Hywel Dda UHB","PCS PAY",86210,86,"Human health services             ",0.29193168620018201,null,null,null,null,null,null,null,null,1079531.6200000001,"*",null,{"$f":"VLOOKUP(A918,'[1]Update Sheet'!$A$3:$Y$15578,25,FALSE)","v":0},"Reportable"]
["TAFFS WELL MEDICAL CENTRE",57120,1,"Y","Y",true,"GB","Y","PRIVATE SECTOR","CF15 7YG","South East Wales","Cwm Taf Morgannwg UHB","PCS PAY",86210,86,"Human health services             ",0.29193168620018201,null,null,null,null,null,null,null,null,1074796.54,"*",null,{"$f":"VLOOKUP(A919,'[1]Update Sheet'!$A$3:$Y$15578,25,FALSE)","v":0},"Reportable"]
["GLOBUS MEDICAL UK LTD",42683,null,"N","N",true,"GB","Y","PRIVATE SECTOR","GU34 2RQ",null,null,"SHEFFIELD S35",74909,74,"Other professional, scientific and technical services          ",0.19142587698446711,null,null,null,null,null,null,null,null,1069805.42,"*",null,{"$f":"VLOOKUP(A920,'[1]Update Sheet'!$A$3:$Y$15578,25,FALSE)","v":0},"Reportable"]
["TREHERNE CARE & CONSULTANCY LTD",18716,1,"Y","Y",true,"GB","Y","PRIVATE SECTOR","LL40 2UA","North Wales","Betsi Cadwaladr UHB","DOLGELLAU LL40",86900,86,"Human health services             ",0.29193168620018201,null,null,null,null,null,null,null,null,1069374.3999999999,"*",null,{"$f":"VLOOKUP(A921,'[1]Update Sheet'!$A$3:$Y$15578,25,FALSE)","v":0},"Reportable"]
["HARBOURSIDE HEALTH CENTRE",37313,1,"Y","Y",true,"GB","Y","PRIVATE SECTOR","SA1 8QY","South West Wales","Swansea Bay UHB","PCS PAY",86210,86,"Human health services             ",0.29193168620018201,null,null,null,null,null,null,null,null,1068642.4299999997,"*",null,{"$f":"VLOOKUP(A922,'[1]Update Sheet'!$A$3:$Y$15578,25,FALSE)","v":0},"Reportable"]
["ST PETERS SURGERY",55660,1,"Y","Y",true,"GB","Y","PRIVATE SECTOR","SA31 1AH","South West Wales","Hywel Dda UHB","PCS PAY",86210,86,"Human health services             ",0.29193168620018201,null,null,null,null,null,null,null,null,1067878.93,"*",null,{"$f":"VLOOKUP(A923,'[1]Update Sheet'!$A$3:$Y$15578,25,FALSE)","v":0},"Reportable"]
["ACTION FOR CHILDREN",19106,null,"N","N",true,"GB","N","VCSE","CF83 1HG",null,null,"WATFORD WD18",88910,88,"Social work services without accommodation           ",0.12926092802643949,null,null,null,null,null,null,null,null,1067238.96,"*",null,{"$f":"VLOOKUP(A924,'[1]Update Sheet'!$A$3:$Y$15578,25,FALSE)","v":0},"Reportable"]
["CORIN LTD",46711,null,"N","N",true,"GB","N","PRIVATE SECTOR","GL7 1YJ",null,null,"CIRENCEST GL7",32500,32,"Other manufactured goods             ",0.67238249414981133,2019,446,1874,50202,52522,64433000,8.1514130957739044E-4,null,1067080.1100000001,"*",null,{"$f":"VLOOKUP(A925,'[1]Update Sheet'!$A$3:$Y$15578,25,FALSE)","v":"In Master List"},"Reportable"]
["PLAS GWYN",39572,1,"Y","Y",true,"GB","N","PRIVATE SECTOR","LL15 1TY","North Wales","Betsi Cadwaladr UHB","RUTHIN LL15",87100,87,"Residential care services             ",0.16514437058930551,null,null,null,null,null,null,null,null,1060967.04,"*",null,{"$f":"VLOOKUP(A926,'[1]Update Sheet'!$A$3:$Y$15578,25,FALSE)","v":0},"Reportable"]
["DULAIS VALLEY PRIMARY CARE",38932,1,"Y","Y",true,"GB","Y","PRIVATE SECTOR","SA10 9EU","South West Wales","Swansea Bay UHB","PCS PAY",86210,86,"Human health services             ",0.29193168620018201,null,null,null,null,null,null,null,null,1060602.69,"*",null,{"$f":"VLOOKUP(A927,'[1]Update Sheet'!$A$3:$Y$15578,25,FALSE)","v":0},"Reportable"]
["SHAIK UK LTD",68686,1,"Y","Y",true,"GB","Y","PRIVATE SECTOR",null,"South West Wales","Hywel Dda UHB","PCS PAY",47730,47,"Retail trade services, except of motor vehicles and motorcycles       ",0.17404287306456559,null,null,null,null,null,null,null,null,1059506.8799999999,"*",null,{"$f":"VLOOKUP(A928,'[1]Update Sheet'!$A$3:$Y$15578,25,FALSE)","v":0},"Reportable"]
["ST ANDREWS SURGERY",8941,1,"Y","Y",true,"GB","Y","PRIVATE SECTOR","CF40 2QZ","South East Wales","Cwm Taf Morgannwg UHB","PCS PAY",86210,86,"Human health services             ",0.29193168620018201,null,null,null,null,null,null,null,null,1057784.79,"*",null,{"$f":"VLOOKUP(A929,'[1]Update Sheet'!$A$3:$Y$15578,25,FALSE)","v":0},"Reportable"]
["NHS SUPPLY CHAIN RUNCORN",33708,null,"N","N",true,"GB","N","PUBLIC SECTOR","WA7 1SW",null,null,"RUNCORN WA7",86101,86,"Human health services             ",0.29193168620018201,null,null,null,null,null,null,null,null,1056792,"*",null,{"$f":"VLOOKUP(A930,'[1]Update Sheet'!$A$3:$Y$15578,25,FALSE)","v":0},"Reportable"]
["PRIMARY HEALTH INVESTMENT PROPERTIES LTD",40539,null,"N","N",true,"GB","N","PRIVATE SECTOR","GU21 6BS",null,null,"WOKING GU21",68209,"68.2IMP","Owner-Occupiers' Housing Services",3.9621368125994462E-2,null,null,null,null,null,null,null,null,1051507.9700000002,"*",null,{"$f":"VLOOKUP(A931,'[1]Update Sheet'!$A$3:$Y$15578,25,FALSE)","v":0},"Reportable"]
["EXPANDING HORIZONS LTD",56641,1,"Y","Y",true,"GB","Y","PRIVATE SECTOR","NP4 9AE","South East Wales","Aneurin Bevan UHB","TORFAEN NP4",87200,87,"Residential care services             ",0.16514437058930551,null,null,null,null,null,null,null,null,1050997.9099999999,"*",null,{"$f":"VLOOKUP(A932,'[1]Update Sheet'!$A$3:$Y$15578,25,FALSE)","v":0},"Reportable"]
["CPW RESCOURCING LTD T/A HEALTHCARE PROFESSIONALS",72995,null,"N","N",true,"GB","Y","PRIVATE SECTOR","CR4 2AU",null,null,"MITCHAM CR4",86900,86,"Human health services             ",0.29193168620018201,2022,0,{"$f":"3.2006*1000","v":3200.6},{"$f":"75.8851*1000","v":75885.099999999991},{"$f":"SUM(S933:U933)","v":79085.7},4187416,{"$f":"V933/W933","v":1.8886516171309466E-2},"Turnover via Pomanda",1050621.4300000011,"*",null,{"$f":"VLOOKUP(A933,'[1]Update Sheet'!$A$3:$Y$15578,25,FALSE)","v":"In Master List"},"Reportable"]
["PLASGWYN RESIDENTIAL HOME",39582,1,"Y","Y",true,"GB","N","PRIVATE SECTOR","LL52 0PT","North Wales","Betsi Cadwaladr UHB","CRICCIETH LL52",87100,87,"Residential care services             ",0.16514437058930551,null,null,null,null,null,null,null,null,1048982.8099999989,"*",null,{"$f":"VLOOKUP(A934,'[1]Update Sheet'!$A$3:$Y$15578,25,FALSE)","v":0},"Reportable"]
["3663 (BFS GROUP LTD)",376,null,"N","N",true,"GB","N","PRIVATE SECTOR","L40 9RW",null,null,"ORMSKIRK L40",46390,46,"Wholesale trade services, except of motor vehicles and motorcycles       ",2.0310031510736858E-2,null,null,null,null,null,null,null,null,1046917.6400000001,"*",null,{"$f":"VLOOKUP(A935,'[1]Update Sheet'!$A$3:$Y$15578,25,FALSE)","v":0},"Reportable"]
["THOMAS GABRIELLE NURSING HOME",31143,1,"Y","Y",true,"GB","Y","PRIVATE SECTOR","NP44 3JP","South East Wales","Aneurin Bevan UHB","CWMBRAN NP44",87100,87,"Residential care services             ",0.16514437058930551,null,null,null,null,null,null,null,null,1046509.51,"*",null,{"$f":"VLOOKUP(A936,'[1]Update Sheet'!$A$3:$Y$15578,25,FALSE)","v":0},"Reportable"]
["GROVE CARE PARTNERSHIP LTD",68924,null,"N","N",true,"GB","Y","PRIVATE SECTOR","CO4 9PE",null,null,"COLCHESTER CO4",88990,88,"Social work services without accommodation           ",0.12926092802643949,null,null,null,null,null,null,null,null,1046417.93,"*",null,{"$f":"VLOOKUP(A937,'[1]Update Sheet'!$A$3:$Y$15578,25,FALSE)","v":0},"Reportable"]
["CHKS LTD",1589,null,"N","N",true,"GB","Y","PRIVATE SECTOR","SW1P 2AF",null,null,"ALCESTER B49",70229,70,"Services of head offices; management consulting services         ",9.3681183759862049E-2,null,null,null,null,null,null,null,null,1046179.12,"*",null,{"$f":"VLOOKUP(A938,'[1]Update Sheet'!$A$3:$Y$15578,25,FALSE)","v":0},"Reportable"]
["HIGHLIGHT PARK MEDICAL CENTRE",34306,1,"Y","Y",true,"GB","Y","PRIVATE SECTOR","CF62 8GP","South East Wales","Cardiff and Vale UHB","PCS PAY",86210,86,"Human health services             ",0.29193168620018201,null,null,null,null,null,null,null,null,1045535.8700000001,"*",null,{"$f":"VLOOKUP(A939,'[1]Update Sheet'!$A$3:$Y$15578,25,FALSE)","v":0},"Reportable"]
["JRS PHARMACIES LTD",68526,null,"N","Y","Removal of a False Welsh Supplier","GB","Y","PRIVATE SECTOR",null,null,null,"PCS PAY",47730,47,"Retail trade services, except of motor vehicles and motorcycles       ",0.17404287306456559,null,null,null,null,null,null,null,null,1040838.06,"*",null,{"$f":"VLOOKUP(A940,'[1]Update Sheet'!$A$3:$Y$15578,25,FALSE)","v":0},"Reportable"]
["MADRYN HOUSE SURGERY",10763,1,"Y","Y",true,"GB","N","PRIVATE SECTOR","LL18 4RS","North Wales","Betsi Cadwaladr UHB","PCS PAY",86900,86,"Human health services             ",0.29193168620018201,null,null,null,null,null,null,null,null,1040821.96,"*",null,{"$f":"VLOOKUP(A941,'[1]Update Sheet'!$A$3:$Y$15578,25,FALSE)","v":0},"Reportable"]
["PEMBROKE DOCK HEALTHCARE LTD",76114,null,"N","N",true,"GB","N","PRIVATE SECTOR","SE14 5HQ",null,null,"PCS PAY",47730,47,"Retail trade services, except of motor vehicles and motorcycles       ",0.17404287306456559,null,null,null,null,null,null,null,null,1040582.11,"*",null,{"$f":"VLOOKUP(A942,'[1]Update Sheet'!$A$3:$Y$15578,25,FALSE)","v":0},"Reportable"]
["NEATH PHARMACY LTD",68612,1,"Y","Y",true,"GB","Y","PRIVATE SECTOR",null,"South West Wales","Swansea Bay UHB","PCS PAY",86900,86,"Human health services             ",0.29193168620018201,null,null,null,null,null,null,null,null,1040099.34,"*",null,{"$f":"VLOOKUP(A943,'[1]Update Sheet'!$A$3:$Y$15578,25,FALSE)","v":0},"Reportable"]
["EMRAL HOUSE NURSING HOME",38968,1,"Y","Y",true,"GB","Y","PRIVATE SECTOR","LL11 2SA","North Wales","Betsi Cadwaladr UHB","WREXHAM LL11",87100,87,"Residential care services             ",0.16514437058930551,null,null,null,null,null,null,null,null,1037192.39,"*",null,{"$f":"VLOOKUP(A944,'[1]Update Sheet'!$A$3:$Y$15578,25,FALSE)","v":0},"Reportable"]
["CRWYS MEDICAL CENTRE",55234,1,"Y","Y",true,"GB","Y","PRIVATE SECTOR","CF14 3QX","South East Wales","Cardiff and Vale UHB","PCS PAY",86210,86,"Human health services             ",0.29193168620018201,null,null,null,null,null,null,null,null,1034201.39,"*",null,{"$f":"VLOOKUP(A945,'[1]Update Sheet'!$A$3:$Y$15578,25,FALSE)","v":0},"Reportable"]
["BRON-Y-GARN SURGERY",11542,1,"Y","Y",true,"GB","Y","PRIVATE SECTOR","CF34 9PW","South East Wales","Cwm Taf Morgannwg UHB","PCS PAY",86210,86,"Human health services             ",0.29193168620018201,null,null,null,null,null,null,null,null,1034158.51,"*",null,{"$f":"VLOOKUP(A946,'[1]Update Sheet'!$A$3:$Y$15578,25,FALSE)","v":0},"Reportable"]
["CLIFTON SURGERY",41794,1,"Y","Y",true,"GB","Y","PRIVATE SECTOR","CF24 1AG","South East Wales","Cardiff and Vale UHB","PCS PAY",86900,86,"Human health services             ",0.29193168620018201,null,null,null,null,null,null,null,null,1032970.23,"*",null,{"$f":"VLOOKUP(A947,'[1]Update Sheet'!$A$3:$Y$15578,25,FALSE)","v":0},"Reportable"]
["BOD HYFRYD CARE LTD",75065,null,"N","N",true,"GB","Y","PRIVATE SECTOR","ST5 9QF",null,null,"NEWCASTLE ST5",87300,87,"Residential care services             ",0.16514437058930551,null,null,null,null,null,null,null,null,1032828.889999999,"*",null,{"$f":"VLOOKUP(A948,'[1]Update Sheet'!$A$3:$Y$15578,25,FALSE)","v":0},"Reportable"]
["OAK VIEW PONTLOTTYN LTD",73368,1,"Y","Y",true,"GB","Y","PRIVATE SECTOR","CF81 9RN","South East Wales","Aneurin Bevan UHB","NEATH CF81",87900,87,"Residential care services             ",0.16514437058930551,null,null,null,null,null,null,null,null,1031308.16,"*",null,{"$f":"VLOOKUP(A949,'[1]Update Sheet'!$A$3:$Y$15578,25,FALSE)","v":0},"Reportable"]
["TELEDOCTOR LTD TA PROBLEMSHARED",72596,null,"N","N",true,"GB","Y","PRIVATE SECTOR","WC1X0ND",null,null,"LONDON WC1",63990,63,"Information services              ",0.16934169875693919,null,null,null,null,null,null,null,null,1027513.13,"*",null,{"$f":"VLOOKUP(A950,'[1]Update Sheet'!$A$3:$Y$15578,25,FALSE)","v":0},"Reportable"]
["BROOKLANDS RESIDENTIAL & NURSING",38609,1,"Y","Y",true,"GB","N","PRIVATE SECTOR","SA69 9DS","South West Wales","Swansea Bay UHB","SAUNDERSF SA69",87100,87,"Residential care services             ",0.16514437058930551,null,null,null,null,null,null,null,null,1020442.08,"*",null,{"$f":"VLOOKUP(A951,'[1]Update Sheet'!$A$3:$Y$15578,25,FALSE)","v":0},"Reportable"]
["RINGLAND HEALTH CENTRE",65987,1,"Y","Y",true,"GB","Y","PRIVATE SECTOR","NP19 9PS","South East Wales","Aneurin Bevan UHB","PCS PAY",86900,86,"Human health services             ",0.29193168620018201,null,null,null,null,null,null,null,null,1019586.57,"*",null,{"$f":"VLOOKUP(A952,'[1]Update Sheet'!$A$3:$Y$15578,25,FALSE)","v":0},"Reportable"]
["BARCHESTER HEALTHCARE HOMES LTD",46422,null,"N","N",true,"GB","N","PRIVATE SECTOR","CF3 2UQ",null,null,"OAK GRANGE",86900,86,"Human health services             ",0.29193168620018201,null,null,null,null,null,null,null,null,1018508.4299999997,"*",null,{"$f":"VLOOKUP(A953,'[1]Update Sheet'!$A$3:$Y$15578,25,FALSE)","v":0},"Reportable"]
["LLANDAFF NORTH MEDICAL CENTRE",41796,1,"Y","Y",true,"GB","Y","PRIVATE SECTOR","CF14 2FD","South East Wales","Cardiff and Vale UHB","PCS PAY",86210,86,"Human health services             ",0.29193168620018201,null,null,null,null,null,null,null,null,1017744.0900000001,"*",null,{"$f":"VLOOKUP(A954,'[1]Update Sheet'!$A$3:$Y$15578,25,FALSE)","v":0},"Reportable"]
["SANDFIELDS PHARMA LTD",75509,1,"Y","Y",true,"GB","N","PRIVATE SECTOR","SA13 3AA","South West Wales","Swansea Bay UHB","PCS PAY",47730,47,"Retail trade services, except of motor vehicles and motorcycles       ",0.17404287306456559,null,null,null,null,null,null,null,null,1017592.83,"*",null,{"$f":"VLOOKUP(A955,'[1]Update Sheet'!$A$3:$Y$15578,25,FALSE)","v":0},"Reportable"]
["TLC NURSING & HOMECARE PLUS LTD",10065,1,"Y","Y",true,"GB","Y","PRIVATE SECTOR","LL13 7HY","North Wales","Betsi Cadwaladr UHB","WREXHAM LL13",86102,86,"Human health services             ",0.29193168620018201,null,null,null,null,null,null,null,null,1016879.94,"*",null,{"$f":"VLOOKUP(A956,'[1]Update Sheet'!$A$3:$Y$15578,25,FALSE)","v":0},"Reportable"]
["DRIVE",11750,1,"Y","Y",true,"GB","N","PRIVATE SECTOR","CF15 7QQ","South East Wales","Cwm Taf Morgannwg UHB","CARDIFF CF15",74100,74,"Other professional, scientific and technical services          ",0.19142587698446711,null,null,null,null,null,null,null,null,1014046.72,"*",null,{"$f":"VLOOKUP(A957,'[1]Update Sheet'!$A$3:$Y$15578,25,FALSE)","v":0},"Reportable"]
["PENRHYN BAY MEDICAL CENTRE",10515,1,"Y","Y",true,"GB","N","PRIVATE SECTOR","LL30 3EU","North Wales","Betsi Cadwaladr UHB","PCS PAY",86900,86,"Human health services             ",0.29193168620018201,null,null,null,null,null,null,null,null,1010745.37,"*",null,{"$f":"VLOOKUP(A958,'[1]Update Sheet'!$A$3:$Y$15578,25,FALSE)","v":0},"Reportable"]
["E & O LABORATORIES LTD",13156,null,"N","N",true,"GB","N","PRIVATE SECTOR","FK4 2HH",null,null,"BONNYBRID FK4",32990,32,"Other manufactured goods             ",0.67238249414981133,2023,352200,605100,211300,1168600,16664734,7.0124131594299671E-2,null,1009816.1,"*",null,{"$f":"VLOOKUP(A959,'[1]Update Sheet'!$A$3:$Y$15578,25,FALSE)","v":"In Master List"},"Reportable"]
["MEDDYGFA BALA",5008,1,"Y","Y",true,"GB","N","PRIVATE SECTOR","LL23 7BA","North Wales","Betsi Cadwaladr UHB","PCS PAY",47730,47,"Retail trade services, except of motor vehicles and motorcycles       ",0.17404287306456559,null,null,null,null,null,null,null,null,1005604.34,"*",null,{"$f":"VLOOKUP(A960,'[1]Update Sheet'!$A$3:$Y$15578,25,FALSE)","v":0},"Reportable"]
["MEDICAL IMAGING SYSTEMS LTD",1758,null,"N","N",true,"GB","Y","PRIVATE SECTOR","NW9 0EQ",null,null,"LONDON NW9",74909,74,"Other professional, scientific and technical services          ",0.19142587698446711,null,null,null,null,null,null,null,null,1002146.68,"*",null,{"$f":"VLOOKUP(A961,'[1]Update Sheet'!$A$3:$Y$15578,25,FALSE)","v":0},"Reportable"]
["COMPANIES HOUSE",38194,1,"Y","Y",true,"GB","Y","PUBLIC SECTOR","CF14 3UZ","South East Wales","Cardiff and Vale UHB","CARDIFF CF14",81100,81,"Services to buildings and landscape           ",0.1712664478524781,null,null,null,null,null,null,null,null,1002145.12,"*",null,{"$f":"VLOOKUP(A962,'[1]Update Sheet'!$A$3:$Y$15578,25,FALSE)","v":0},"Reportable"]
["PRESTO NURSING LTD",68296,null,"N","N",true,"GB","Y","PRIVATE SECTOR","CR0 2FT",null,null,"CROYDON CR0",78200,78,"Employment services              ",0.1176282196328419,null,null,null,null,null,null,null,null,1001531.000000001,"*",null,{"$f":"VLOOKUP(A963,'[1]Update Sheet'!$A$3:$Y$15578,25,FALSE)","v":0},"Reportable"]
["BRITON FERRY HEALTH CENTRE",26877,1,"Y","Y",true,"GB","Y","PRIVATE SECTOR","SA11 2FP","South West Wales","Swansea Bay UHB","PCS PAY",86210,86,"Human health services             ",0.29193168620018201,null,null,null,null,null,null,null,null,1000243.63,"*",null,{"$f":"VLOOKUP(A964,'[1]Update Sheet'!$A$3:$Y$15578,25,FALSE)","v":0},"Reportable"]
["SPECIALIST CRAFTS LTD TA DRYAD EDUCATION",1183,null,"N","N",true,"GB","Y","PRIVATE SECTOR","LE4 9HQ",null,null,"LEICESTER LE4",47910,47,"Retail trade services, except of motor vehicles and motorcycles       ",0.17404287306456559,null,null,null,null,null,null,null,null,4922.87,"*",null,{"$f":"VLOOKUP(A965,'[1]Update Sheet'!$A$3:$Y$15578,25,FALSE)","v":0},"Reportable"]
["BODREINALLT SURGERY",54250,1,"Y","Y",true,"GB","N","PRIVATE SECTOR","LL32 8AT","North Wales","Betsi Cadwaladr UHB","PCS PAY",86900,86,"Human health services             ",0.29193168620018201,null,null,null,null,null,null,null,null,998481.26,"*",null,{"$f":"VLOOKUP(A966,'[1]Update Sheet'!$A$3:$Y$15578,25,FALSE)","v":0},"Reportable"]
["GWENT ASSOCIATION OF VOLUNTARY ORGANISATIONS",37608,1,"Y","Y",true,"GB","Y","VCSE","NP19 8AJ","South East Wales","Aneurin Bevan UHB","NEWPORT NP19",94990,94,"Services furnished by membership organisations           ",0.1210358880635142,null,null,null,null,null,null,null,null,998180.94,"*",null,{"$f":"VLOOKUP(A967,'[1]Update Sheet'!$A$3:$Y$15578,25,FALSE)","v":0},"Reportable"]
["STRAWBERRY PLACE SURGERY",12766,1,"Y","Y",true,"GB","Y","PRIVATE SECTOR","SA6 7AQ","South West Wales","Swansea Bay UHB","PCS PAY",86210,86,"Human health services             ",0.29193168620018201,null,null,null,null,null,null,null,null,997973.67,"*",null,{"$f":"VLOOKUP(A968,'[1]Update Sheet'!$A$3:$Y$15578,25,FALSE)","v":0},"Reportable"]
["CROSSROADS CARE SIR GAR LTD",61214,1,"Y","Y",true,"GB","N","PRIVATE SECTOR","SA31 1LP","South West Wales","Hywel Dda UHB","CARMARTHEN SA31",88100,88,"Social work services without accommodation           ",0.12926092802643949,null,null,null,null,null,null,null,null,997144.25000000023,"*",null,{"$f":"VLOOKUP(A969,'[1]Update Sheet'!$A$3:$Y$15578,25,FALSE)","v":0},"Reportable"]
["HEREFORD ROAD SURGERY",47230,1,"Y","Y",true,"GB","Y","PRIVATE SECTOR","NP7 5PR","South East Wales","Aneurin Bevan UHB","PCS PAY",86210,86,"Human health services             ",0.29193168620018201,null,null,null,null,null,null,null,null,997032.5,"*",null,{"$f":"VLOOKUP(A970,'[1]Update Sheet'!$A$3:$Y$15578,25,FALSE)","v":0},"Reportable"]
["LLOYD JONES PHARMA LTD",73164,1,"Y","Y",true,"GB","Y","PRIVATE SECTOR","CF34 0SU","South East Wales","Cwm Taf Morgannwg UHB","PCS PAY",86900,86,"Human health services             ",0.29193168620018201,null,null,null,null,null,null,null,null,995303.14,"*",null,{"$f":"VLOOKUP(A971,'[1]Update Sheet'!$A$3:$Y$15578,25,FALSE)","v":0},"Reportable"]
["NEYLAND PHARMACY LTD",68614,1,"Y","Y",true,"GB","Y","PRIVATE SECTOR",null,"South West Wales","Hywel Dda UHB","PCS PAY",86900,86,"Human health services             ",0.29193168620018201,null,null,null,null,null,null,null,null,994151.6399999999,"*",null,{"$f":"VLOOKUP(A972,'[1]Update Sheet'!$A$3:$Y$15578,25,FALSE)","v":0},"Reportable"]
["JULIAN DAVIES OPTICIANS",13055,1,"Y","Y",true,"GB","Y","PRIVATE SECTOR",null,"South East Wales","Cardiff and Vale UHB","CARDIFF CF3",82990,82,"Office administrative, office support and other business support services       ",0.1180504360352973,null,null,null,null,null,null,null,null,993801.47000000009,"*",null,{"$f":"VLOOKUP(A973,'[1]Update Sheet'!$A$3:$Y$15578,25,FALSE)","v":0},"Reportable"]
["UNITED MEDICS LTD",70339,null,"N","N",true,"GB","N","PRIVATE SECTOR","MK18 4DF",null,null,"MILTON KEY NK18",96090,96,"Other personal services             ",7.6712791957121843E-2,null,null,null,null,null,null,null,null,990843.67,"*",null,{"$f":"VLOOKUP(A974,'[1]Update Sheet'!$A$3:$Y$15578,25,FALSE)","v":0},"Reportable"]
["FFORESTFACH MEDICAL GROUP PRACTICE 2",68861,1,"Y","Y",true,"GB","Y","PRIVATE SECTOR","SA5 5AA","South West Wales","Swansea Bay UHB","PCS PAY",86210,86,"Human health services             ",0.29193168620018201,null,null,null,null,null,null,null,null,990514.11,"*",null,{"$f":"VLOOKUP(A975,'[1]Update Sheet'!$A$3:$Y$15578,25,FALSE)","v":0},"Reportable"]
["LLANDAFF SURGERY",39285,1,"Y","Y",true,"GB","Y","PRIVATE SECTOR","CF5 2DY","South East Wales","Cardiff and Vale UHB","PCS PAY",86210,86,"Human health services             ",0.29193168620018201,null,null,null,null,null,null,null,null,989151.79,"*",null,{"$f":"VLOOKUP(A976,'[1]Update Sheet'!$A$3:$Y$15578,25,FALSE)","v":0},"Reportable"]
["STRIDE TREGLOWN LTD",7549,null,"N","N",true,"GB","N","PRIVATE SECTOR","BS8 3NE",null,null,"CARDIFF CF10",71111,71,"Architectural and engineering services; technical testing and analysis services       ",0.1560575201743172,2022,53230,35300,604020,692550,24715183,2.8021236986187803E-2,"carbon reduction plan",988454.92,"*",null,{"$f":"VLOOKUP(A977,'[1]Update Sheet'!$A$3:$Y$15578,25,FALSE)","v":"In Master List"},"Reportable"]
["COALBROOK SURGERY",17163,1,"Y","Y",true,"GB","Y","PRIVATE SECTOR","SA15 5HU","South West Wales","Hywel Dda UHB","PCS PAY",86210,86,"Human health services             ",0.29193168620018201,null,null,null,null,null,null,null,null,987697.72000000009,"*",null,{"$f":"VLOOKUP(A978,'[1]Update Sheet'!$A$3:$Y$15578,25,FALSE)","v":0},"Reportable"]
["SINCLAIR FINANCE & LEASING LTD",1070,1,"Y","Y",true,"GB","Y","PRIVATE SECTOR","CF31 3NB","South East Wales","Cwm Taf Morgannwg UHB","BRIDGEND CF31",45111,45,"Wholesale and retail trade and repair services of motor vehicles and motorcycles    ",0.21034629699726889,2021,{"$f":"11.201*1000","v":11201},{"$f":"18.061*1000","v":18061},{"$f":"40.313*1000","v":40313},{"$f":"SUM(S979:U979)","v":69575},544378686,{"$f":"V979/W979","v":1.278062528700839E-4},"CRP",985967.6399999999,"*",null,{"$f":"VLOOKUP(A979,'[1]Update Sheet'!$A$3:$Y$15578,25,FALSE)","v":"In Master List"},"Reportable"]
["WITHY KING LLP",57891,null,"N","N",true,"GB","Y","PRIVATE SECTOR","BA1 2JE",null,null,"BATH BA1",69102,69.099999999999994,"Legal services              ",5.7877621976311508E-2,null,null,null,null,null,null,null,null,985000,"*",null,{"$f":"VLOOKUP(A980,'[1]Update Sheet'!$A$3:$Y$15578,25,FALSE)","v":0},"Reportable"]
["ABERCYNON HEALTH CENTRE",51307,1,"Y","Y",true,"GB","Y","PRIVATE SECTOR","CF45 4YB","South East Wales","Cwm Taf Morgannwg UHB","PCS PAY",86210,86,"Human health services             ",0.29193168620018201,null,null,null,null,null,null,null,null,984995.31000000017,"*",null,{"$f":"VLOOKUP(A981,'[1]Update Sheet'!$A$3:$Y$15578,25,FALSE)","v":0},"Reportable"]
["MACE LTD",30076,null,"N","N",true,"GB","N","PRIVATE SECTOR","EC2M 6XB",null,null,"CARDIFF CF10",68209,"68.2IMP","Owner-Occupiers' Housing Services",3.9621368125994462E-2,2020,4372898,6611573,2900123,13884594,1730512000,8.0234023225496266E-3,null,984717.44000000006,"*",null,{"$f":"VLOOKUP(A982,'[1]Update Sheet'!$A$3:$Y$15578,25,FALSE)","v":"In Master List"},"Reportable"]
["PROMETHEUS COMPLEX CARE LTD",71018,null,"N","N",true,"GB","Y","PRIVATE SECTOR","B24 9FD",null,null,"BIRMINGHA B24",86900,86,"Human health services             ",0.29193168620018201,null,null,null,null,null,null,null,null,984039.5,"*",null,{"$f":"VLOOKUP(A983,'[1]Update Sheet'!$A$3:$Y$15578,25,FALSE)","v":0},"Reportable"]
["EBSCO INFORMATION  SERVICES",11761,null,"N","N",true,"GB","N","PRIVATE SECTOR","EN1 3XA",null,null,"ENFIELD EN1",63000,63,"Information services              ",0.16934169875693919,2022,16210,85760,1205590,{"$f":"SUM(S984:U984)","v":1307560},{"$f":"947732031*0.79","v":748708304.49000001},{"$f":"V984/W984","v":1.7464211257689666E-3},null,983954.54,"*",null,{"$f":"VLOOKUP(A984,'[1]Update Sheet'!$A$3:$Y$15578,25,FALSE)","v":"In Master List"},"Reportable"]
["CWM TAF MORGANNWG UNIVERSITY LOCAL HEALTH BOARD",33332,1,null,null,null,"GB","N","PUBLIC SECTOR","CF42 6EQ",null,null,"TREORCHY CF42",null,null,null,null,null,null,null,null,null,null,null,null,72808157.210000008,"*",null,{"$f":"VLOOKUP(A985,'[1]Update Sheet'!$A$3:$Y$15578,25,FALSE)","v":"Public Sector- Exclude"},"Exclude- Intra NHS "]
["DARTFORD & GRAVESHAM NHS TRUST",36057,0,null,null,null,"GB","N","PUBLIC SECTOR","DA2 8DA",null,null,"DARTFORD DA2",null,null,null,null,null,null,null,null,null,null,null,null,2046.47,"*",null,{"$f":"VLOOKUP(A986,'[1]Update Sheet'!$A$3:$Y$15578,25,FALSE)","v":"Public Sector- Exclude"},"Exclude- Intra NHS "]
["BRUNSWICK HEALTH CENTRE",37388,1,"Y","Y",true,"GB","Y","PRIVATE SECTOR","SA1 4DE","South West Wales","Swansea Bay UHB","PCS PAY",86210,86,"Human health services             ",0.29193168620018201,null,null,null,null,null,null,null,null,979717.39,"*",null,{"$f":"VLOOKUP(A987,'[1]Update Sheet'!$A$3:$Y$15578,25,FALSE)","v":0},"Reportable"]
["KINGS SURGERY",51550,1,"Y","Y",true,"GB","Y","PRIVATE SECTOR","SA12 6LF","South West Wales","Swansea Bay UHB","PCS PAY",86210,86,"Human health services             ",0.29193168620018201,null,null,null,null,null,null,null,null,979630.42,"*",null,{"$f":"VLOOKUP(A988,'[1]Update Sheet'!$A$3:$Y$15578,25,FALSE)","v":0},"Reportable"]
["ALEXANDER MANN SOLUTIONS LTD",63684,null,"N","N",true,"GB","Y","PRIVATE SECTOR","EC2N 3AQ",null,null,"LONDON EC2N",78300,78,"Employment services              ",0.1176282196328419,2020,1281340,50020,725650,2057010,255597000,8.0478644115541259E-3,null,979214.37999999966,"*",null,{"$f":"VLOOKUP(A989,'[1]Update Sheet'!$A$3:$Y$15578,25,FALSE)","v":"In Master List"},"Reportable"]
["AG TAXIS",8661,1,"Y","Y",true,"GB","Y","PRIVATE SECTOR","CF39 8PT","South East Wales","Cwm Taf Morgannwg UHB","TONYREFAI CF39",49320,"49.3-5","Land transport services and transport services via pipelines, excluding rail transport     ",0.60315703544097854,null,null,null,null,null,null,null,null,975429.29,"*",null,{"$f":"VLOOKUP(A990,'[1]Update Sheet'!$A$3:$Y$15578,25,FALSE)","v":0},"Reportable"]
["ADVANCED HEALTH & CARE LTD",43684,null,"N","N",true,"GB","N","PRIVATE SECTOR","SL3 9LL",null,null,"FOREIGN",62020,62,"Computer programming, consultancy and related services          ",0.13144659704407699,null,null,null,null,null,null,null,null,973372.45000000007,"*",null,{"$f":"VLOOKUP(A991,'[1]Update Sheet'!$A$3:$Y$15578,25,FALSE)","v":0},"Reportable"]
["LEX AUTOLEASE LTD",15745,null,"N","N",true,"GB","N","PRIVATE SECTOR","SK3 0RB",null,null,"STOCKPORT SK3",77110,77,"Rental and leasing services            ",0.13477794599811871,null,null,null,null,null,null,null,null,972687.35000000009,"*",null,{"$f":"VLOOKUP(A992,'[1]Update Sheet'!$A$3:$Y$15578,25,FALSE)","v":0},"Reportable"]
["ICNH LTD",56753,null,"N","N",true,"GB","Y","PRIVATE SECTOR","SL4 5EY",null,null,"WINDSOR SL4",61900,61,"Telecommunications services              ",0.10520703191029331,null,null,null,null,null,null,null,null,971125.91,"*",null,{"$f":"VLOOKUP(A993,'[1]Update Sheet'!$A$3:$Y$15578,25,FALSE)","v":0},"Reportable"]
["SWANTON CARE & COMMUNITY (MAESTEILO CARE HOMES) LTD",52222,1,"Y","Y",true,"GB","Y","PRIVATE SECTOR","SA18 1UF","South West Wales","Swansea Bay UHB","SWANSEA SA6",86900,86,"Human health services             ",0.29193168620018201,null,null,null,null,null,null,null,null,970688.64000000013,"*",null,{"$f":"VLOOKUP(A994,'[1]Update Sheet'!$A$3:$Y$15578,25,FALSE)","v":0},"Reportable"]
["EVIDENT EUROPE GMBH",72911,null,"N","N",true,"GB","N","PRIVATE SECTOR","CM24 1AL",null,null,"STANSTEAD CM24",96090,96,"Other personal services             ",7.6712791957121843E-2,null,null,null,null,null,null,null,null,970197.46000000008,"*",null,{"$f":"VLOOKUP(A995,'[1]Update Sheet'!$A$3:$Y$15578,25,FALSE)","v":0},"Reportable"]
["ZOLL MEDICAL UK LTD",5776,null,"N","N",true,"GB","Y","PRIVATE SECTOR","WA7 1SY",null,null,"RUNCORN WA7",86220,86,"Human health services             ",0.29193168620018201,2022,143650,11530,1748880,{"$f":"SUM(S996:U996)","v":1904060},50136069,{"$f":"V996/W996","v":3.7977847844433116E-2},null,969760.39000000025,"*",null,{"$f":"VLOOKUP(A996,'[1]Update Sheet'!$A$3:$Y$15578,25,FALSE)","v":"In Master List"},"Reportable"]
["ANNE WILLIAMS",68395,null,"N","Y","Removal of a False Welsh Supplier","GB","Y","PRIVATE SECTOR",null,null,null,"PCS PAY",86900,86,"Human health services             ",0.29193168620018201,null,null,null,null,null,null,null,null,969677.23,"*",null,{"$f":"VLOOKUP(A997,'[1]Update Sheet'!$A$3:$Y$15578,25,FALSE)","v":0},"Reportable"]
["VIDA ROGERS ABERBARGOED LTD",68664,1,"Y","Y",true,"GB","Y","PRIVATE SECTOR",null,"South East Wales","Cwm Taf Morgannwg UHB","PCS PAY",47730,47,"Retail trade services, except of motor vehicles and motorcycles       ",0.17404287306456559,null,null,null,null,null,null,null,null,968484.29,"*",null,{"$f":"VLOOKUP(A998,'[1]Update Sheet'!$A$3:$Y$15578,25,FALSE)","v":0},"Reportable"]
["EXACT SCIENCES UK LTD",57612,null,"N","N",true,"GB","Y","PRIVATE SECTOR","SE1 7LY",null,null,"LONDON W1W",82990,82,"Office administrative, office support and other business support services       ",0.1180504360352973,2022,43.3,19046,217555,{"$f":"SUM(S999:U999)","v":236644.3},12071795,{"$f":"V999/W999","v":1.9603074770570574E-2},null,967140,"*",null,{"$f":"VLOOKUP(A999,'[1]Update Sheet'!$A$3:$Y$15578,25,FALSE)","v":"In Master List"},"Reportable"]
["WATERSIDE MEDICAL PRACTICE",52495,1,"Y","Y",true,"GB","Y","PRIVATE SECTOR","SA11 2FP","South West Wales","Swansea Bay UHB","PCS PAY",86210,86,"Human health services             ",0.29193168620018201,null,null,null,null,null,null,null,null,966607.34000000008,"*",null,{"$f":"VLOOKUP(A1000,'[1]Update Sheet'!$A$3:$Y$15578,25,FALSE)","v":0},"Reportable"]
["TECHNICAL TEXTILE SERVICES LTD",42862,null,"N","N",true,"GB","N","PRIVATE SECTOR","M24 4NE",null,null,"MANCHESTE M24",21100,21,"Basic pharmaceutical products and pharmaceutical preparations          ",0.62099518156965727,null,null,null,null,null,null,null,null,947314.08000000019,"*",null,{"$f":"VLOOKUP(A1016,'[1]Update Sheet'!$A$3:$Y$15578,25,FALSE)","v":0},"Reportable"]
["RESOLVEN PHARMACY LTD",70058,1,"Y","Y",true,"GB","N","PRIVATE SECTOR","SA11 4AA","South West Wales","Swansea Bay UHB","PCS PAY",86900,86,"Human health services             ",0.29193168620018201,null,null,null,null,null,null,null,null,944686.34,"*",null,{"$f":"VLOOKUP(A1020,'[1]Update Sheet'!$A$3:$Y$15578,25,FALSE)","v":0},"Reportable"]
["ST ISAN ROAD SURGERY",53922,1,"Y","Y",true,"GB","Y","PRIVATE SECTOR","CF14 4UU","South East Wales","Cardiff and Vale UHB","PCS PAY",86210,86,"Human health services             ",0.29193168620018201,null,null,null,null,null,null,null,null,926481.39,"*",null,{"$f":"VLOOKUP(A1039,'[1]Update Sheet'!$A$3:$Y$15578,25,FALSE)","v":0},"Reportable"]
["CARTREF BRYN YR EGLWYS",38696,1,"Y","Y",true,"GB","Y","PRIVATE SECTOR","LL24 0HY","North Wales","Betsi Cadwaladr UHB","BETWS Y C LL24",86900,86,"Human health services             ",0.29193168620018201,null,null,null,null,null,null,null,null,894265.25000000012,"*",null,{"$f":"VLOOKUP(A1064,'[1]Update Sheet'!$A$3:$Y$15578,25,FALSE)","v":0},"Reportable"]
["INFORMATICA SYSTEMS LTD",51551,null,"N","N",true,"GB","Y","PRIVATE SECTOR","K22 8JB",null,null,"LEATHERHEAD K22",62020,62,"Computer programming, consultancy and related services          ",0.13144659704407699,null,null,null,null,null,null,null,null,869114.10000000009,"*",null,{"$f":"VLOOKUP(A1083,'[1]Update Sheet'!$A$3:$Y$15578,25,FALSE)","v":0},"Reportable"]
["WOLTERS KLUWER (UK)",14761,null,"N","N",true,"GB","N","PRIVATE SECTOR","KT2 6SX",null,null,"KINGSTON KT2",58290,58,"Publishing services              ",8.0219457227851232E-2,null,null,null,null,null,null,null,null,846062,"*",null,{"$f":"VLOOKUP(A1102,'[1]Update Sheet'!$A$3:$Y$15578,25,FALSE)","v":0},"Reportable"]
["BRAIN INJURY REHABILITATION TRUST",27109,null,"N","N",true,"GB","N","VCSE","RH15 9NP",null,null,"LLANELLI SA15",87300,87,"Residential care services             ",0.16514437058930551,null,null,null,null,null,null,null,null,822189.22,"*",null,{"$f":"VLOOKUP(A1127,'[1]Update Sheet'!$A$3:$Y$15578,25,FALSE)","v":0},"Reportable"]
["PLAS RHOSNESNI LTD",72395,null,"N","N",true,"GB","Y","PRIVATE SECTOR","CT11 7NP",null,null,"RAMSGATE CT11",86900,86,"Human health services             ",0.29193168620018201,null,null,null,null,null,null,null,null,802369.71,"*",null,{"$f":"VLOOKUP(A1146,'[1]Update Sheet'!$A$3:$Y$15578,25,FALSE)","v":0},"Reportable"]
["THE SURGERY GWALCHMAI",4998,1,"Y","Y",true,"GB","N","PRIVATE SECTOR","LL65 4RS","North Wales","Betsi Cadwaladr UHB","PCS PAY",86900,86,"Human health services             ",0.29193168620018201,null,null,null,null,null,null,null,null,798648.83,"*",null,{"$f":"VLOOKUP(A1152,'[1]Update Sheet'!$A$3:$Y$15578,25,FALSE)","v":0},"Reportable"]
["ON A ROLL SANDWICH CO LTD",41516,null,"N","N",true,"GB","N","PRIVATE SECTOR","TS2 1RY",null,null,"MIDDLESBR TS2",10890,10.8,"Other food products             ",0.6606259935217188,null,null,null,null,null,null,null,null,777134.85999999987,"*",null,{"$f":"VLOOKUP(A1171,'[1]Update Sheet'!$A$3:$Y$15578,25,FALSE)","v":0},"Reportable"]
["PHILIPS RESPIRONICS UK",1754,null,"N","N",true,"GB","N","PRIVATE SECTOR","PO20 2FT",null,null,"PHARMACY",70100,70,"Services of head offices; management consulting services         ",9.3681183759862049E-2,null,null,null,null,null,null,null,null,753935.27999999991,"*",null,{"$f":"VLOOKUP(A1190,'[1]Update Sheet'!$A$3:$Y$15578,25,FALSE)","v":0},"Reportable"]
["NUVASIVE UK LTD",33802,null,"N","N",true,"GB","Y","PRIVATE SECTOR","WD6 3BS",null,null,"ELSTREE WD6",74909,74,"Other professional, scientific and technical services          ",0.19142587698446711,null,null,null,null,null,null,null,null,727068.74999999977,"*",null,{"$f":"VLOOKUP(A1215,'[1]Update Sheet'!$A$3:$Y$15578,25,FALSE)","v":0},"Reportable"]
["TABERNACLE SURGERY",41598,1,"Y","Y",true,"GB","Y","PRIVATE SECTOR","SA10 6UF","South West Wales","Swansea Bay UHB","PCS PAY",86210,86,"Human health services             ",0.29193168620018201,null,null,null,null,null,null,null,null,705363.63000000012,"*",null,{"$f":"VLOOKUP(A1234,'[1]Update Sheet'!$A$3:$Y$15578,25,FALSE)","v":0},"Reportable"]
["MR B M PATEL",68588,null,"N","Y","Removal of a False Welsh Supplier","GB","Y","PRIVATE SECTOR",null,null,null,"PCS PAY",86900,86,"Human health services             ",0.29193168620018201,null,null,null,null,null,null,null,null,684914.79999999993,"*",null,{"$f":"VLOOKUP(A1253,'[1]Update Sheet'!$A$3:$Y$15578,25,FALSE)","v":0},"Reportable"]
["HANMER SURGERY",68766,1,"Y","Y",true,"GB","N","PRIVATE SECTOR","SY13 3DL","North Wales","Betsi Cadwaladr UHB","PCS PAY",86900,86,"Human health services             ",0.29193168620018201,null,null,null,null,null,null,null,null,663480.88000000012,"*",null,{"$f":"VLOOKUP(A1278,'[1]Update Sheet'!$A$3:$Y$15578,25,FALSE)","v":0},"Reportable"]
["STAG CHEMIST BIRMINGHAM LTD",75839,null,"N","N",true,"GB","N","PRIVATE SECTOR","B12 8AN",null,null,"PCS PAY",82990,82,"Office administrative, office support and other business support services       ",0.1180504360352973,null,null,null,null,null,null,null,null,650539.34000000008,"*",null,{"$f":"VLOOKUP(A1297,'[1]Update Sheet'!$A$3:$Y$15578,25,FALSE)","v":0},"Reportable"]
["MORFA LANE SURGERY",68778,1,"Y","Y",true,"GB","Y","PRIVATE SECTOR","SA31 3AX","South West Wales","Hywel Dda UHB","PCS PAY",86210,86,"Human health services             ",0.29193168620018201,null,null,null,null,null,null,null,null,628851.91999999993,"*",null,{"$f":"VLOOKUP(A1322,'[1]Update Sheet'!$A$3:$Y$15578,25,FALSE)","v":0},"Reportable"]
["GUYMARK UK",2518,null,"N","N",true,"GB","Y","PRIVATE SECTOR","DY5 1UB",null,null,"DUDLEY DY5",32500,32,"Other manufactured goods             ",0.67238249414981133,null,null,null,null,null,null,null,null,612834.62,"*",null,{"$f":"VLOOKUP(A1341,'[1]Update Sheet'!$A$3:$Y$15578,25,FALSE)","v":0},"Reportable"]
["UNIVERSITY HEALTH CENTRE",39967,1,"Y","Y",true,"GB","Y","PRIVATE SECTOR","SA2 8PR","South West Wales","Swansea Bay UHB","PCS PAY",85421,85,"Education services              ",0.10257966678326461,null,null,null,null,null,null,null,null,599517.94999999995,"*",null,{"$f":"VLOOKUP(A1360,'[1]Update Sheet'!$A$3:$Y$15578,25,FALSE)","v":0},"Reportable"]
["HEALTHCARE 21 UK LTD",46191,null,"N","N",true,"GB","Y","PRIVATE SECTOR","RG24 8PZ",null,null,"BASINGSTO RG24",46460,46,"Wholesale trade services, except of motor vehicles and motorcycles       ",2.0310031510736858E-2,2023,{"$f":"926.2*1000","v":926200},{"$f":"502*1000","v":502000},{"$f":"852.6*1000","v":852600},{"$f":"SUM(S1366:U1366)","v":2280800},{"$f":"180000000*0.84","v":151200000},{"$f":"V1366/W1366","v":1.5084656084656084E-2},"CRP",597617.62000000011,"*",null,{"$f":"VLOOKUP(A1366,'[1]Update Sheet'!$A$3:$Y$15578,25,FALSE)","v":"In Master List"},"Reportable"]
["ORBIT PROPERTY MANAGEMENT",33971,null,"N","N",true,"GB","Y","PRIVATE SECTOR","B2 5TJ",null,null,"BIRMINGH B2",68320,68.3,"Real estate services on a fee or contract basis       ",8.4914337844308282E-2,null,null,null,null,null,null,null,null,580469.47,"*",null,{"$f":"VLOOKUP(A1385,'[1]Update Sheet'!$A$3:$Y$15578,25,FALSE)","v":0},"Reportable"]
["PIERRE FABRE LTD",233,null,"N","N",true,"GB","Y","PRIVATE SECTOR","SO23 7DR",null,null,"PHARMACY",20420,20.399999999999999,"Soap and detergents, cleaning and polishing preparations, perfumes and toilet preparations     ",0.71887260581861478,null,null,null,null,null,null,null,null,557339.09,"*",null,{"$f":"VLOOKUP(A1410,'[1]Update Sheet'!$A$3:$Y$15578,25,FALSE)","v":0},"Reportable"]
["ADAPT BUSINESS SERVICES LTD",53381,1,"Y","Y",true,"GB","N","PRIVATE SECTOR","SA4 4QN","South West Wales","Swansea Bay UHB","SWANSEA SA4",81229,81,"Services to buildings and landscape           ",0.1712664478524781,null,null,null,null,null,null,null,null,542811.12000000011,"*",null,{"$f":"VLOOKUP(A1429,'[1]Update Sheet'!$A$3:$Y$15578,25,FALSE)","v":0},"Reportable"]
["PSL PRINT MANAGEMENT LTD",64927,null,"N","N",true,"GB","Y","PRIVATE SECTOR","PR2 5ND",null,null,"PRESTON PR2",17290,17,"Paper and paper products            ",0.70687696279521584,2023,130560,15540,152790,{"$f":"SUM(S1448:U1448)","v":298890},{"$f":"33857167*2","v":67714334},{"$f":"V1448/W1448","v":4.4139841942475574E-3},"carbon reduction plan",530618.9,"*",null,{"$f":"VLOOKUP(A1448,'[1]Update Sheet'!$A$3:$Y$15578,25,FALSE)","v":"In Master List"},"Reportable"]
["EAST CHESHIRE NHS TRUST",9015,0,null,null,null,"GB","N","PUBLIC SECTOR",null,null,null,"WAKEFIELD WF3",null,null,null,null,null,null,null,null,null,null,null,null,47215.05,"*",null,{"$f":"VLOOKUP(A1473,'[1]Update Sheet'!$A$3:$Y$15578,25,FALSE)","v":"Public Sector- Exclude"},"Exclude- Intra NHS "]
["HARBOUR HEALTHCARE LTD",67631,null,"N","N",true,"GB","N","PRIVATE SECTOR",null,null,null,"TY EIRIN",86102,86,"Human health services             ",0.29193168620018201,null,null,null,null,null,null,null,null,500414.24,"*",null,{"$f":"VLOOKUP(A1492,'[1]Update Sheet'!$A$3:$Y$15578,25,FALSE)","v":0},"Reportable"]
["TY-NANT NURSING HOME",39953,1,"Y","Y",true,"GB","Y","PRIVATE SECTOR","SA13 3NR","South West Wales","Swansea Bay UHB","PORT TALB SA13",87100,87,"Residential care services             ",0.16514437058930551,null,null,null,null,null,null,null,null,483015.5500000004,"*",null,{"$f":"VLOOKUP(A1511,'[1]Update Sheet'!$A$3:$Y$15578,25,FALSE)","v":0},"Reportable"]
["VETRO HEALTH LTD",70891,1,"Y","Y",true,"GB","Y","PRIVATE SECTOR","CF83 3HU","South East Wales","Aneurin Bevan UHB","CAERPHILLY CF83",86900,86,"Human health services             ",0.29193168620018201,2022,0,6200,8500,{"$f":"SUM(S1517:U1517)","v":14700},4811437,{"$f":"V1517/W1517","v":3.0552203011283323E-3},null,477761.98,"*",null,{"$f":"VLOOKUP(A1517,'[1]Update Sheet'!$A$3:$Y$15578,25,FALSE)","v":"In Master List"},"Reportable"]
["MXF GPG HOLDINGS LTD",59526,null,"N","N",true,"GB","N","PRIVATE SECTOR","EC1N 2HT",null,null,"LONDON EC1N",86101,86,"Human health services             ",0.29193168620018201,null,null,null,null,null,null,null,null,465597.03,"*",null,{"$f":"VLOOKUP(A1536,'[1]Update Sheet'!$A$3:$Y$15578,25,FALSE)","v":0},"Reportable"]
["LLANDAFF FIELDS MEDICAL PRACTICE",63224,1,"Y","Y",true,"GB","Y","PRIVATE SECTOR","CF11 9SH","South East Wales","Cardiff and Vale UHB","PCS PAY",86210,86,"Human health services             ",0.29193168620018201,null,null,null,null,null,null,null,null,450419.99,"*",null,{"$f":"VLOOKUP(A1561,'[1]Update Sheet'!$A$3:$Y$15578,25,FALSE)","v":0},"Reportable"]
["CITY & COUNTY OF SWANSEA",1604,1,"Y","Y",true,"GB","N","PUBLIC SECTOR","SA1 4PE","South West Wales","Swansea Bay UHB","SWANSEA SA1",84110,84,"Public administration and defence services; compulsory social security services       ",0.1703405261372164,null,null,null,null,null,null,null,null,0,null,null,{"$f":"VLOOKUP(A1580,'[1]Update Sheet'!$A$3:$Y$15578,25,FALSE)","v":{"$error":"#N/A"}},"Reportable"]
["PHILLIPS OPTICIANS LTD",14984,1,"Y","Y",true,"GB","N","PRIVATE SECTOR","NP4 6LY","South East Wales","Aneurin Bevan UHB","PCS PAY",86900,86,"Human health services             ",0.29193168620018201,null,null,null,null,null,null,null,null,426203.3,"*",null,{"$f":"VLOOKUP(A1599,'[1]Update Sheet'!$A$3:$Y$15578,25,FALSE)","v":0},"Reportable"]
["BROWNE JACOBSON LLP",71859,null,"N","N",true,"GB","N","PRIVATE SECTOR","B2 2XS",null,null,"BIRMINGHA B2",69101,69.099999999999994,"Legal services              ",5.7877621976311508E-2,null,null,null,null,null,null,null,null,405761.96,"*",null,{"$f":"VLOOKUP(A1624,'[1]Update Sheet'!$A$3:$Y$15578,25,FALSE)","v":0},"Reportable"]
["IOS RECRUITMENT & TRAINING SERVICES LTD",64646,1,"Y","Y",true,"GB","Y","PRIVATE SECTOR","CF24 2SA","South East Wales","Cardiff and Vale UHB","CARDIFF CF24",78200,78,"Employment services              ",0.1176282196328419,null,null,null,null,null,null,null,null,393751.36,"*",null,{"$f":"VLOOKUP(A1643,'[1]Update Sheet'!$A$3:$Y$15578,25,FALSE)","v":0},"Reportable"]
["JENNIE REEVES RADIOGRAPHERS AGENCY LTD",56487,null,"N","N",true,"GB","N","PRIVATE SECTOR","SW18 2DT",null,null,"LONDON SW18",86220,86,"Human health services             ",0.29193168620018201,null,null,null,null,null,null,null,null,383760,"*",null,{"$f":"VLOOKUP(A1662,'[1]Update Sheet'!$A$3:$Y$15578,25,FALSE)","v":0},"Reportable"]
["QUALITY LOCUM SOLUTIONS LTD",57503,null,"N","N",true,"GB","Y","PRIVATE SECTOR","CH2 4NE",null,null,"CHESTER CH1",78109,78,"Employment services              ",0.1176282196328419,null,null,null,null,null,null,null,null,380130.66999999981,"*",null,{"$f":"VLOOKUP(A1668,'[1]Update Sheet'!$A$3:$Y$15578,25,FALSE)","v":0},"Reportable"]
["EFS SYSTEMS LTD",30790,null,"N","N",true,"GB","N","PRIVATE SECTOR","CF48 2SR","South East Wales","Cwm Taf Morgannwg UHB","MERTHYR T CF48",80200,80,"Security and investigation services            ",9.5408278947996958E-2,null,null,null,null,null,null,null,null,371559.91,"*",null,{"$f":"VLOOKUP(A1687,'[1]Update Sheet'!$A$3:$Y$15578,25,FALSE)","v":0},"Reportable"]
["ALTOMED LTD",1240,null,"N","N",true,"GB","Y","PRIVATE SECTOR","NE35 9PE",null,null,"BOLDON CO NE35",32500,32,"Other manufactured goods             ",0.67238249414981133,null,null,null,null,null,null,null,null,360366.39999999991,"*",null,{"$f":"VLOOKUP(A1712,'[1]Update Sheet'!$A$3:$Y$15578,25,FALSE)","v":0},"Reportable"]
["DUFFRYN FFRWD MANOR",38931,1,"Y","Y",true,"GB","Y","PRIVATE SECTOR","CF15 7TE","South East Wales","Cwm Taf Morgannwg UHB","CARDIFF CF15",87100,87,"Residential care services             ",0.16514437058930551,null,null,null,null,null,null,null,null,353138.84,"*",null,{"$f":"VLOOKUP(A1731,'[1]Update Sheet'!$A$3:$Y$15578,25,FALSE)","v":0},"Reportable"]
["KENWARD ORTHOPAEDIC LTD",23536,null,"N","N",true,"GB","Y","PRIVATE SECTOR","LS13 4AT",null,null,"ORTHOTICS",32990,32,"Other manufactured goods             ",0.67238249414981133,null,null,null,null,null,null,null,null,346791.22000000009,"*",null,{"$f":"VLOOKUP(A1750,'[1]Update Sheet'!$A$3:$Y$15578,25,FALSE)","v":0},"Reportable"]
["ORTHO EUROPE LTD",2148,null,"N","N",true,"GB","N","PRIVATE SECTOR","OX14 1RL",null,null,"ABINGDON OX14",32500,32,"Other manufactured goods             ",0.67238249414981133,null,null,null,null,null,null,null,null,338012.62,"*",null,{"$f":"VLOOKUP(A1775,'[1]Update Sheet'!$A$3:$Y$15578,25,FALSE)","v":0},"Reportable"]
["ROC SEARCH LTD",63793,null,"N","N",true,"GB","Y","PRIVATE SECTOR","RG1 3AR",null,null,"READING  RG1",78109,78,"Employment services              ",0.1176282196328419,null,null,null,null,null,null,null,null,329370.40000000002,"*",null,{"$f":"VLOOKUP(A1794,'[1]Update Sheet'!$A$3:$Y$15578,25,FALSE)","v":0},"Reportable"]
["JENNY WHITE LTD",72436,null,"N","Y","Removal of a False Welsh Supplier","GB","N","PRIVATE SECTOR","LL64 5UX",null,null,"PCS PAY",47730,47,"Retail trade services, except of motor vehicles and motorcycles       ",0.17404287306456559,null,null,null,null,null,null,null,null,327423.67,"*",null,{"$f":"VLOOKUP(A1800,'[1]Update Sheet'!$A$3:$Y$15578,25,FALSE)","v":0},"Reportable"]
["HUNTLEIGH DIAGNOSTICS LTD",520,null,"N","N",true,"GB","N","PRIVATE SECTOR","LU5 5XF",null,null,"PHARMACY",74990,74,"Other professional, scientific and technical services          ",0.19142587698446711,null,null,null,null,null,null,null,null,320395.10000000003,"*",null,{"$f":"VLOOKUP(A1819,'[1]Update Sheet'!$A$3:$Y$15578,25,FALSE)","v":0},"Reportable"]
["AGILENT TECHNOLOGIES LDA UK LTD",57501,null,"N","N",true,"GB","N","PRIVATE SECTOR","SK8 3GR",null,null,"CHEADLE SK8",74909,74,"Other professional, scientific and technical services          ",0.19142587698446711,null,null,null,null,null,null,null,null,311908.15999999997,"*",null,{"$f":"VLOOKUP(A1838,'[1]Update Sheet'!$A$3:$Y$15578,25,FALSE)","v":0},"Reportable"]
["ST WOOLOS SPORTS & SOCIAL CLUB",50509,1,"Y","Y",true,"GB","N","VCSE","NP20 4SZ","South East Wales","Aneurin Bevan UHB","NEWPORT NP20",93120,93,"Sports services and amusement and recreation services         ",0.22280360830166321,null,null,null,null,null,null,null,null,303297.57,"*",null,{"$f":"VLOOKUP(A1861,'[1]Update Sheet'!$A$3:$Y$15578,25,FALSE)","v":0},"Reportable"]
["BANKHOUSE CARE LTD",58593,1,"Y","Y",true,"GB","Y","PRIVATE SECTOR","NP23 5EY","South East Wales","Aneurin Bevan UHB","EBBW VALE NP23",87300,87,"Residential care services             ",0.16514437058930551,null,null,null,null,null,null,null,null,296963.29999999987,"*",null,{"$f":"VLOOKUP(A1881,'[1]Update Sheet'!$A$3:$Y$15578,25,FALSE)","v":0},"Reportable"]
["TOTAL CONTROLS SERVICES LTD",71499,null,"N","N",true,"GB","Y","PRIVATE SECTOR","TN2 3DN",null,null,"ESTATES",74909,74,"Other professional, scientific and technical services          ",0.19142587698446711,null,null,null,null,null,null,null,null,291267.59999999998,"*",null,{"$f":"VLOOKUP(A1900,'[1]Update Sheet'!$A$3:$Y$15578,25,FALSE)","v":0},"Reportable"]
["KINGSBRIDGE PRINT",23118,1,"Y","Y",true,"GB","Y","PRIVATE SECTOR","SA4 4AA","South West Wales","Swansea Bay UHB","SWANSEA SA4",18129,18,"Printing and recording services            ",0.38173396113307168,null,null,null,null,null,null,null,null,282830.51,"*",null,{"$f":"VLOOKUP(A1925,'[1]Update Sheet'!$A$3:$Y$15578,25,FALSE)","v":0},"Reportable"]
["SECA LTD",981,null,"N","N",true,"GB","Y","PRIVATE SECTOR","B5 5QB",null,null,"BIRMINGHA B5",46760,46,"Wholesale trade services, except of motor vehicles and motorcycles       ",2.0310031510736858E-2,null,null,null,null,null,null,null,null,275123.68,"*",null,{"$f":"VLOOKUP(A1944,'[1]Update Sheet'!$A$3:$Y$15578,25,FALSE)","v":0},"Reportable"]
["TIEVA UK LTD TA PURE DATA SOLUTIONS",64717,null,"N","N",true,"GB","N","PRIVATE SECTOR","LS28 5QS",null,null,"LEEDS LS28",70100,70,"Services of head offices; management consulting services         ",9.3681183759862049E-2,null,null,null,null,null,null,null,null,273569.93000000011,"*",null,{"$f":"VLOOKUP(A1950,'[1]Update Sheet'!$A$3:$Y$15578,25,FALSE)","v":0},"Reportable"]
["EUROPEAN ELECTRONIQUE LTD",10548,null,"N","N",true,"GB","N","PRIVATE SECTOR","OX29 2TT",null,null,"OXFORD OX29",62020,62,"Computer programming, consultancy and related services          ",0.13144659704407699,2021,{"$f":"74*1000","v":74000},{"$f":"0.2*1000","v":200},{"$f":"0.5*1000","v":500},{"$f":"SUM(S1969:U1969)","v":74700},75261322,{"$f":"V1969/W1969","v":9.9254169359395527E-4},"carbon reduction plan",268221.36,"*",null,{"$f":"VLOOKUP(A1969,'[1]Update Sheet'!$A$3:$Y$15578,25,FALSE)","v":"In Master List"},"Reportable"]
["MICHELIN TYRE PLC",70410,null,"N","N",true,"GB","N","PRIVATE SECTOR","ST4 4EY",null,null,"STOKE-ON- ST4",22110,22,"Rubber and plastic products            ",0.57621788964022036,null,null,null,null,null,null,null,null,264018.84000000008,"*",null,{"$f":"VLOOKUP(A1988,'[1]Update Sheet'!$A$3:$Y$15578,25,FALSE)","v":0},"Reportable"]
["HARWELL TECHNICAL SERVICES LTD",53049,null,"N","N",true,"GB","Y","PRIVATE SECTOR","OX11 0QT",null,null,"HARWELL OX11",96090,96,"Other personal services             ",7.6712791957121843E-2,null,null,null,null,null,null,null,null,257460.54,"*",null,{"$f":"VLOOKUP(A2013,'[1]Update Sheet'!$A$3:$Y$15578,25,FALSE)","v":0},"Reportable"]
["ECONSULT HEALTH LTD",63212,null,"N","N",true,"GB","Y","PRIVATE SECTOR","E14 9WU",null,null,"LONDON E14",62012,62,"Computer programming, consultancy and related services          ",0.13144659704407699,null,null,null,null,null,null,null,null,251424.82,"*",null,{"$f":"VLOOKUP(A2032,'[1]Update Sheet'!$A$3:$Y$15578,25,FALSE)","v":0},"Reportable"]
["AE & AT LEWIS LTD",60806,1,"Y","Y",true,"GB","Y","PRIVATE SECTOR","LL77 7PX","North Wales","Betsi Cadwaladr UHB","ESTATES",43120,42.99,"Specialised construction works             ",0.31026786628535008,null,null,null,null,null,null,null,null,243205.78999999989,"*",null,{"$f":"VLOOKUP(A2057,'[1]Update Sheet'!$A$3:$Y$15578,25,FALSE)","v":0},"Reportable"]
["KAIROS VENTURES LTD",34371,1,"Y","Y",true,"GB","Y","PRIVATE SECTOR","CF14 3NY","South East Wales","Cardiff and Vale UHB","CARDIFF CF14",74909,74,"Other professional, scientific and technical services          ",0.19142587698446711,null,null,null,null,null,null,null,null,238831.59,"*",null,{"$f":"VLOOKUP(A2076,'[1]Update Sheet'!$A$3:$Y$15578,25,FALSE)","v":0},"Reportable"]
["OPERATIONAL RESEARCH IN HEALTH LTD",46910,null,"N","N",true,"GB","Y","PRIVATE SECTOR","RG1 4AR",null,null,"READING RG1",70229,70,"Services of head offices; management consulting services         ",9.3681183759862049E-2,null,null,null,null,null,null,null,null,234000,"*",null,{"$f":"VLOOKUP(A2095,'[1]Update Sheet'!$A$3:$Y$15578,25,FALSE)","v":0},"Reportable"]
["WILSON FACILITIES MANAGEMENT SERVICES LTD",74601,1,"Y","Y",true,"GB","Y","PRIVATE SECTOR","LL19 7ND","North Wales","Betsi Cadwaladr UHB","ESTATES",43210,42.99,"Specialised construction works             ",0.31026786628535008,null,null,null,null,null,null,null,null,232525.66999999998,"*",null,{"$f":"VLOOKUP(A2101,'[1]Update Sheet'!$A$3:$Y$15578,25,FALSE)","v":0},"Reportable"]
["CHUBB FIRE & SECURITY LTD",48544,null,"N","N",true,"GB","N","PRIVATE SECTOR","TW15 1TZ",null,null,"ESTATES",70100,70,"Services of head offices; management consulting services         ",9.3681183759862049E-2,null,null,null,null,null,null,null,null,229397.93999999989,"*",null,{"$f":"VLOOKUP(A2120,'[1]Update Sheet'!$A$3:$Y$15578,25,FALSE)","v":0},"Reportable"]
["GHC SOUTH EAST WALES SHARED LIVES SCHEME",67168,1,null,null,null,"GB","N","PUBLIC SECTOR","CF81 9BJ",null,null,"FACTOR 26",0,0,0,null,null,null,null,null,null,null,null,null,52708.839999999989,"*",null,{"$f":"VLOOKUP(A2139,'[1]Update Sheet'!$A$3:$Y$15578,25,FALSE)","v":"Public Sector- Exclude"},"?"]
["GELDARDS LLP",28583,1,"Y","Y",true,"GB","N","PRIVATE SECTOR","CF10 4BZ","South East Wales","Cardiff and Vale UHB","CARDIFF CF10",69102,69.099999999999994,"Legal services              ",5.7877621976311508E-2,null,null,null,null,null,null,null,null,219169.4,"*",null,{"$f":"VLOOKUP(A2164,'[1]Update Sheet'!$A$3:$Y$15578,25,FALSE)","v":0},"Reportable"]
["COOKE & ARKWRIGHT",11663,1,"Y","Y",true,"GB","Y","PRIVATE SECTOR","CF10 3SX","South East Wales","Cardiff and Vale UHB","CARDIFF CF10",68310,68.3,"Real estate services on a fee or contract basis       ",8.4914337844308282E-2,null,null,null,null,null,null,null,null,213784.08,"*",null,{"$f":"VLOOKUP(A2183,'[1]Update Sheet'!$A$3:$Y$15578,25,FALSE)","v":0},"Reportable"]
["GLASGOW ROYAL INFIRMARY UNIVERSITY NHS TRUST",21147,0,null,null,null,"GB","N","PUBLIC SECTOR","G31 2ER",null,null,"GLASGOW G31",0,0,0,null,null,null,null,null,null,null,null,null,0,null,null,{"$f":"VLOOKUP(A2208,'[1]Update Sheet'!$A$3:$Y$15578,25,FALSE)","v":{"$error":"#N/A"}},"Exclude- Intra NHS "]
["SLICE AND DICE LTD",11353,1,"Y","Y",true,"GB","Y","PRIVATE SECTOR","SA8 4HR","South West Wales","Swansea Bay UHB","SWANSEA SA8",62012,62,"Computer programming, consultancy and related services          ",0.13144659704407699,null,null,null,null,null,null,null,null,202431.59,"*",null,{"$f":"VLOOKUP(A2227,'[1]Update Sheet'!$A$3:$Y$15578,25,FALSE)","v":0},"Reportable"]
["NEW HOUSE MOTORS 2011 LTD",59044,1,"Y","Y",true,"GB","Y","PRIVATE SECTOR","CF38 1SN","South East Wales","Cwm Taf Morgannwg UHB","PONTYPRID CF38",45112,45,"Wholesale and retail trade and repair services of motor vehicles and motorcycles    ",0.21034629699726889,null,null,null,null,null,null,null,null,199131.42,"*",null,{"$f":"VLOOKUP(A2246,'[1]Update Sheet'!$A$3:$Y$15578,25,FALSE)","v":0},"Reportable"]
["HM THOMAS ROOFERS LTD",36198,1,"Y","Y",true,"GB","Y","PRIVATE SECTOR","SA4 4AQ","South West Wales","Swansea Bay UHB","SWANSEA SA4",43910,42.99,"Specialised construction works             ",0.31026786628535008,null,null,null,null,null,null,null,null,194457.60000000001,"*",null,{"$f":"VLOOKUP(A2271,'[1]Update Sheet'!$A$3:$Y$15578,25,FALSE)","v":0},"Reportable"]
["GLOUCESTERSHIRE PRIMARY CARE TRUST (GLOUCESTERSHIRE CARE SERVICES NHS TRUST)",31440,0,null,null,null,"GB","N","PUBLIC SECTOR","WF3 1WE",null,null,"WAKEFIELD WF3",0,0,0,null,null,null,null,null,null,null,null,null,0,null,null,{"$f":"VLOOKUP(A2290,'[1]Update Sheet'!$A$3:$Y$15578,25,FALSE)","v":{"$error":"#N/A"}},"Exclude- Intra NHS "]
["SMARTLIFT LTD",13349,1,"Y","Y",true,"GB","Y","PRIVATE SECTOR","CF40 2ET","South East Wales","Cwm Taf Morgannwg UHB","TONYPANDY CF40",77390,77,"Rental and leasing services            ",0.13477794599811871,null,null,null,null,null,null,null,null,185224.31,"*",null,{"$f":"VLOOKUP(A2309,'[1]Update Sheet'!$A$3:$Y$15578,25,FALSE)","v":0},"Reportable"]
["VISIONAID TECHNOLOGIES LTD",52028,null,"N","N",true,"GB","Y","PRIVATE SECTOR","PE11 3AU",null,null,"SPALDING PE11",26200,26,"Computer, electronic and optical products           ",0.38174938765811312,null,null,null,null,null,null,null,null,184267.85,"*",null,{"$f":"VLOOKUP(A2315,'[1]Update Sheet'!$A$3:$Y$15578,25,FALSE)","v":0},"Reportable"]
["CLYDE & CO CLAIMS LLP",69536,null,"N","N",true,"GB","N","PRIVATE SECTOR","EC3A 7AR",null,null,"OFFICE ACCOUNT",69109,69.099999999999994,"Legal services              ",5.7877621976311508E-2,null,null,null,null,null,null,null,null,181216.2,"*",null,{"$f":"VLOOKUP(A2334,'[1]Update Sheet'!$A$3:$Y$15578,25,FALSE)","v":0},"Reportable"]
["SP POWER SYSTEMS LTD",17683,null,"N","N",true,"GB","N","PRIVATE SECTOR","G2 5AD",null,null,"GLASGOW G2",96090,96,"Other personal services             ",7.6712791957121843E-2,null,null,null,null,null,null,null,null,177371.19,"*",null,{"$f":"VLOOKUP(A2359,'[1]Update Sheet'!$A$3:$Y$15578,25,FALSE)","v":0},"Reportable"]
["DIXONDALE LTD",65031,null,"N","N",true,"GB","N","PRIVATE SECTOR","LA2 7AB",null,null,"LANCASTER LA2",68320,68.3,"Real estate services on a fee or contract basis       ",8.4914337844308282E-2,null,null,null,null,null,null,null,null,173853.8,"*",null,{"$f":"VLOOKUP(A2378,'[1]Update Sheet'!$A$3:$Y$15578,25,FALSE)","v":0},"Reportable"]
["KLS MARTIN UK LTD",44644,null,"N","N",true,"GB","N","PRIVATE SECTOR","RG2 0NH",null,null,"READING RG2",47749,47,"Retail trade services, except of motor vehicles and motorcycles       ",0.17404287306456559,null,null,null,null,null,null,null,null,171141.77999999991,"*",null,{"$f":"VLOOKUP(A2397,'[1]Update Sheet'!$A$3:$Y$15578,25,FALSE)","v":0},"Reportable"]
["PRIMARY HEALTH PROPERTIES PLC",68961,null,"N","N",true,"GB","N","PRIVATE SECTOR","SW1Y 4RF",null,null,"LONDON SW1Y",86900,86,"Human health services             ",0.29193168620018201,null,null,null,null,null,null,null,null,167648.35,"*",null,{"$f":"VLOOKUP(A2422,'[1]Update Sheet'!$A$3:$Y$15578,25,FALSE)","v":0},"Reportable"]
["NEW HORIZONS MENTAL HEALTH",50670,1,"Y","Y",true,"GB","Y","VCSE","CF44 7BN","South East Wales","Cwm Taf Morgannwg UHB","ABERDARE CF44",88100,88,"Social work services without accommodation           ",0.12926092802643949,null,null,null,null,null,null,null,null,164639.32,"*",null,{"$f":"VLOOKUP(A2441,'[1]Update Sheet'!$A$3:$Y$15578,25,FALSE)","v":0},"Reportable"]
["PROBERT AND WILLIAMS EYE CARE CYF",67714,1,"Y","Y",true,"GB","Y","PRIVATE SECTOR","SY23 2BJ","Mid Wales","Hywel Dda UHB","PCS PAY",47782,47,"Retail trade services, except of motor vehicles and motorcycles       ",0.17404287306456559,null,null,null,null,null,null,null,null,163287.22,"*",null,{"$f":"VLOOKUP(A2447,'[1]Update Sheet'!$A$3:$Y$15578,25,FALSE)","v":0},"Reportable"]
["EMPATH SECURITY LTD",70322,1,"Y","Y",true,"GB","Y","PRIVATE SECTOR","SA1 7LF","South West Wales","Swansea Bay UHB","SWANSEA SA1",80100,80,"Security and investigation services            ",9.5408278947996958E-2,null,null,null,null,null,null,null,null,160103.15,"*",null,{"$f":"VLOOKUP(A2466,'[1]Update Sheet'!$A$3:$Y$15578,25,FALSE)","v":0},"Reportable"]
["GAMMA BUSINESS COMMUNICATIONS",36617,null,"N","N",true,"GB","N","PRIVATE SECTOR","PO6 4TH",null,null,"PORTSMO PO6",61100,61,"Telecommunications services              ",0.10520703191029331,null,null,null,null,null,null,null,null,157180.44,"*",null,{"$f":"VLOOKUP(A2485,'[1]Update Sheet'!$A$3:$Y$15578,25,FALSE)","v":0},"Reportable"]
["ARGYLE IT CONSULTING LTD",70693,null,"N","N",true,"GB","Y","PRIVATE SECTOR","W7 3BJ",null,null,"LONDON W7",62090,62,"Computer programming, consultancy and related services          ",0.13144659704407699,null,null,null,null,null,null,null,null,154440,"*",null,{"$f":"VLOOKUP(A2510,'[1]Update Sheet'!$A$3:$Y$15578,25,FALSE)","v":0},"Reportable"]
["LANGHAM HEALTH LTD TA BLUEBIRD CARE",70231,1,"Y","Y",true,"GB","Y","PRIVATE SECTOR","CF14 1AE","South East Wales","Cardiff and Vale UHB","CARDIFF CF14",86900,86,"Human health services             ",0.29193168620018201,null,null,null,null,null,null,null,null,152546.25,"*",null,{"$f":"VLOOKUP(A2529,'[1]Update Sheet'!$A$3:$Y$15578,25,FALSE)","v":0},"Reportable"]
["IQUS LTD",39209,null,"N","N",true,"GB","Y","PRIVATE SECTOR","WF2 7AR",null,null,"WAKEFIELD WF2",62012,62,"Computer programming, consultancy and related services          ",0.13144659704407699,null,null,null,null,null,null,null,null,149242.46,"*",null,{"$f":"VLOOKUP(A2548,'[1]Update Sheet'!$A$3:$Y$15578,25,FALSE)","v":0},"Reportable"]
["MOORHOUSE CONSULTING LTD",76716,null,"N","N",true,"GB","Y","PRIVATE SECTOR","EC2M 1QS",null,null,"LONDON EC2M",70229,70,"Services of head offices; management consulting services         ",9.3681183759862049E-2,null,null,null,null,null,null,null,null,146515.44,"*",null,{"$f":"VLOOKUP(A2573,'[1]Update Sheet'!$A$3:$Y$15578,25,FALSE)","v":0},"Reportable"]
["BROOK STREET (UK) LTD",3666,null,"N","N",true,"GB","N","PRIVATE SECTOR","LU1 2AZ",null,null,"ST ALBANS AL1",78200,78,"Employment services              ",0.1176282196328419,null,null,null,null,null,null,null,null,142461.91,"*",null,{"$f":"VLOOKUP(A2592,'[1]Update Sheet'!$A$3:$Y$15578,25,FALSE)","v":0},"Reportable"]
["HOTEL METROPOLE LTD",6354,1,"Y","Y",true,"GB","Y","PRIVATE SECTOR","LS1 2HQ","Mid Wales","Powys Teaching HB",{"$error":"#N/A"},55100,55,"Accommodation services              ",0.32444602703376968,null,null,null,null,null,null,null,null,0,null,null,{"$f":"VLOOKUP(A2598,'[1]Update Sheet'!$A$3:$Y$15578,25,FALSE)","v":{"$error":"#N/A"}},"Reportable"]
["BRACES BAKERY LTD",72479,1,"Y","Y",true,"GB","N","PRIVATE SECTOR","NP11 3EF","South East Wales","Aneurin Bevan UHB","NEWPORT NP11",10710,10.7,"Bakery and farinaceous products            ",0.75528336941888297,null,null,null,null,null,null,null,null,138730.26,"*",null,{"$f":"VLOOKUP(A2617,'[1]Update Sheet'!$A$3:$Y$15578,25,FALSE)","v":0},"Reportable"]
["PRESTIGE CARE AGENCY SERVICES LTD",73184,1,"Y","Y",true,"GB","Y","PRIVATE SECTOR","NP15 1BQ","South East Wales","Aneurin Bevan UHB","USK NP15",87200,87,"Residential care services             ",0.16514437058930551,null,null,null,null,null,null,null,null,136537.62,"*",null,{"$f":"VLOOKUP(A2636,'[1]Update Sheet'!$A$3:$Y$15578,25,FALSE)","v":0},"Reportable"]
["JOHN COOPER ARCHITECTURE LTD",68037,null,"N","N",true,"GB","Y","PRIVATE SECTOR","SW1V 1AD",null,null,"LONDON SW1V",86900,86,"Human health services             ",0.29193168620018201,null,null,null,null,null,null,null,null,133984.39000000001,"*",null,{"$f":"VLOOKUP(A2661,'[1]Update Sheet'!$A$3:$Y$15578,25,FALSE)","v":0},"Reportable"]
["STUART JOHN SMALLWOOD",53785,1,"Y","Y",true,"GB","Y","PRIVATE SECTOR","NP4 0TE","South East Wales","Aneurin Bevan UHB","PONTYPOOL NP4",70100,70,"Services of head offices; management consulting services         ",9.3681183759862049E-2,null,null,null,null,null,null,null,null,131401.28,"*",null,{"$f":"VLOOKUP(A2680,'[1]Update Sheet'!$A$3:$Y$15578,25,FALSE)","v":0},"Reportable"]
["MY CHOICE HEALTHCARE SOUTH WALES LTD",39070,1,"Y","Y",true,"GB","Y","PRIVATE SECTOR","CF40 2JF","South East Wales","Cwm Taf Morgannwg UHB","GLYNCORNEL",64209,64,"Financial services, except insurance and pension funding         ",0.1103075939416239,null,null,null,null,null,null,null,null,129244.54,"*",null,{"$f":"VLOOKUP(A2699,'[1]Update Sheet'!$A$3:$Y$15578,25,FALSE)","v":0},"Reportable"]
["DATEL SERVICES LTD",7035,null,"N","N",true,"GB","Y","PRIVATE SECTOR","BS24 7JP",null,null,"WESTON SU BS22",62090,62,"Computer programming, consultancy and related services          ",0.13144659704407699,null,null,null,null,null,null,null,null,127383.43,"*",null,{"$f":"VLOOKUP(A2720,'[1]Update Sheet'!$A$3:$Y$15578,25,FALSE)","v":0},"Reportable"]
["HORIBA ABX DIAGNOSTICS",323,null,"N","N",true,"GB","Y","PRIVATE SECTOR","NN3 6FL",null,null,"NORTHAMPT NN3",86900,86,"Human health services             ",0.29193168620018201,null,null,null,null,null,null,null,null,124691.03,"*",null,{"$f":"VLOOKUP(A2742,'[1]Update Sheet'!$A$3:$Y$15578,25,FALSE)","v":0},"Reportable"]
["LAWSON & PARTNERS",38950,null,"N","N",true,"GB","N","PRIVATE SECTOR","CM12 0EQ",null,null,"BILLERICAY CM12",64999,64,"Financial services, except insurance and pension funding         ",0.1103075939416239,null,null,null,null,null,null,null,null,124196.71,"*",null,{"$f":"VLOOKUP(A2748,'[1]Update Sheet'!$A$3:$Y$15578,25,FALSE)","v":0},"Reportable"]
["WRENVALE N & L LTD",74102,1,"Y","Y",true,"GB","Y","PRIVATE SECTOR","SA9 2WF","South West Wales","Hywel Dda UHB","SWANSEA SA9",81300,81,"Services to buildings and landscape           ",0.1712664478524781,null,null,null,null,null,null,null,null,122153.8,"*",null,{"$f":"VLOOKUP(A2767,'[1]Update Sheet'!$A$3:$Y$15578,25,FALSE)","v":0},"Reportable"]
["INTEGRAL BUSINESS SUPPORT LTD",25610,1,"Y","Y",true,"GB","Y","PRIVATE SECTOR","LL13 7YP","North Wales","Betsi Cadwaladr UHB","WREXHAM LL13",96090,96,"Other personal services             ",7.6712791957121843E-2,null,null,null,null,null,null,null,null,119773,"*",null,{"$f":"VLOOKUP(A2786,'[1]Update Sheet'!$A$3:$Y$15578,25,FALSE)","v":0},"Reportable"]
["TEMPORARY STAFFING AGENCY TSA LTD",71846,null,"N","N",true,"GB","Y","PRIVATE SECTOR","HP13 7AD",null,null,"HIGH WYC HP13",78200,78,"Employment services              ",0.1176282196328419,null,null,null,null,null,null,null,null,117352.23,"*",null,{"$f":"VLOOKUP(A2811,'[1]Update Sheet'!$A$3:$Y$15578,25,FALSE)","v":0},"Reportable"]
["TP LEASING LTD",69996,null,"N","N",true,"GB","N","PRIVATE SECTOR","EC4N 7AF",null,null,"LONDON EC4N",77390,77,"Rental and leasing services            ",0.13477794599811871,null,null,null,null,null,null,null,null,114607.51,"*",null,{"$f":"VLOOKUP(A2830,'[1]Update Sheet'!$A$3:$Y$15578,25,FALSE)","v":0},"Reportable"]
["AIRROC LTD T/A SPECTRUM PRINTING",61446,1,"Y","Y",true,"GB","Y","PRIVATE SECTOR","CF10 4SP","South East Wales","Cardiff and Vale UHB","CARDIFF CF10",18129,18,"Printing and recording services            ",0.38173396113307168,null,null,null,null,null,null,null,null,112245.92,"*",null,{"$f":"VLOOKUP(A2855,'[1]Update Sheet'!$A$3:$Y$15578,25,FALSE)","v":0},"Reportable"]
["EPPENDORF UK LTD",43693,null,"N","N",true,"GB","Y","PRIVATE SECTOR","SG1 2FP",null,null,"STEVENAGE SG1",33140,"33OTHER","Rest of repair; Installation - 33.11-14/17/19/20          ",0.18696882687485539,null,null,null,null,null,null,null,null,110273.77999999997,"*",null,{"$f":"VLOOKUP(A2874,'[1]Update Sheet'!$A$3:$Y$15578,25,FALSE)","v":0},"Reportable"]
["ATEGI",11462,1,"Y","Y",true,"GB","Y","PRIVATE SECTOR","CF37 5HP","South East Wales","Cwm Taf Morgannwg UHB","PONTYPRID CF37",87900,87,"Residential care services             ",0.16514437058930551,null,null,null,null,null,null,null,null,108702.77,"*",null,{"$f":"VLOOKUP(A2893,'[1]Update Sheet'!$A$3:$Y$15578,25,FALSE)","v":0},"Reportable"]
["CARLTON GARDEN BUILDINGS",9403,1,"Y","Y",true,"GB","Y","PRIVATE SECTOR","LL12 0PX","North Wales","Betsi Cadwaladr UHB","ESTATES",95220,95,"Repair services of computers and personal and household goods       ",0.109537934139032,null,null,null,null,null,null,null,null,599,"*",null,{"$f":"VLOOKUP(A2899,'[1]Update Sheet'!$A$3:$Y$15578,25,FALSE)","v":0},"Reportable"]
["THE GABLES REST HOME LTD",63913,1,"Y","Y",true,"GB","Y","PRIVATE SECTOR","LL34 6YB","North Wales","Betsi Cadwaladr UHB","PENMAENMA LL34",96090,96,"Other personal services             ",7.6712791957121843E-2,null,null,null,null,null,null,null,null,105323.75,"*",null,{"$f":"VLOOKUP(A2918,'[1]Update Sheet'!$A$3:$Y$15578,25,FALSE)","v":0},"Reportable"]
["THEBIGWORD INTERPRETING SERVICES LTD",45166,null,"N","N",true,"GB","Y","PRIVATE SECTOR","LS12 66LL",null,null,"LEEDS LS12",74300,74,"Other professional, scientific and technical services          ",0.19142587698446711,null,null,null,null,null,null,null,null,103704.31,"*",null,{"$f":"VLOOKUP(A2937,'[1]Update Sheet'!$A$3:$Y$15578,25,FALSE)","v":0},"Reportable"]
["OLM DIAGNOSTICS LTD",65985,null,"N","N",true,"GB","Y","PRIVATE SECTOR","NE4 5TF",null,null,"NEWCASTLE NE4",72110,72,"Scientific research and development services           ",0.18562764998368861,null,null,null,null,null,null,null,null,101010,"*",null,{"$f":"VLOOKUP(A2962,'[1]Update Sheet'!$A$3:$Y$15578,25,FALSE)","v":0},"Reportable"]
["PALLETOWER (GB) LTD",37677,null,"N","N",true,"GB","Y","PRIVATE SECTOR","M33 7BH",null,null,"SALE M33",52290,52,"Warehousing and support services for transportation          ",0.24376795453982661,null,null,null,null,null,null,null,null,99588.88,"*",null,{"$f":"VLOOKUP(A2981,'[1]Update Sheet'!$A$3:$Y$15578,25,FALSE)","v":0},"Reportable"]
["MAX20 PROJECT SOLUTIONS LTD",69224,null,"N","N",true,"GB","Y","PRIVATE SECTOR","WA14 2DP",null,null,"ALTRINCHA WA14",82990,82,"Office administrative, office support and other business support services       ",0.1180504360352973,null,null,null,null,null,null,null,null,97363.62,"*",null,{"$f":"VLOOKUP(A3006,'[1]Update Sheet'!$A$3:$Y$15578,25,FALSE)","v":0},"Reportable"]
["PERAGO-WALES LTD",72052,1,"Y","Y",true,"GB","Y","PRIVATE SECTOR","SA1 1DP","South West Wales","Swansea Bay UHB","SWANSEA SA1",62020,62,"Computer programming, consultancy and related services          ",0.13144659704407699,null,null,null,null,null,null,null,null,96000,"*",null,{"$f":"VLOOKUP(A3025,'[1]Update Sheet'!$A$3:$Y$15578,25,FALSE)","v":0},"Reportable"]
["XMA LTD",5682,null,"N","N",true,"GB","N","PRIVATE SECTOR","NG11 7EP",null,null,"HALIFAX HX3",46510,46,"Wholesale trade services, except of motor vehicles and motorcycles       ",2.0310031510736858E-2,2023,{"$f":"250.4*1000","v":250400},{"$f":"174.89*1000","v":174890},{"$f":"607.95*1000","v":607950},{"$f":"SUM(S3044:U3044)","v":1033240},{"$f":"351205*1000","v":351205000},{"$f":"V3044/W3044","v":2.9419854500932503E-3},"CRP",94312.890000000014,"*",null,{"$f":"VLOOKUP(A3044,'[1]Update Sheet'!$A$3:$Y$15578,25,FALSE)","v":"In Master List"},"Reportable"]
["FOCUS MEDICAL SERVICES",4647,null,"N","N",true,"GB","N","PRIVATE SECTOR","EX2 7HU",null,null,"EXETER EX2",86220,86,"Human health services             ",0.29193168620018201,null,null,null,null,null,null,null,null,93795.47,"*",null,{"$f":"VLOOKUP(A3050,'[1]Update Sheet'!$A$3:$Y$15578,25,FALSE)","v":0},"Reportable"]
["MOJO 2 LTD",70088,null,"N","N",true,"GB","N","PRIVATE SECTOR","OY10 7HS",null,null,"OSWESTRY OY10",68100,68.12,"Real estate services, excluding on a fee or contract basis and imputed rent   ",0.1113515958311013,null,null,null,null,null,null,null,null,92154.68,"*",null,{"$f":"VLOOKUP(A3069,'[1]Update Sheet'!$A$3:$Y$15578,25,FALSE)","v":0},"Reportable"]
["MOSTYN ESTATES LTD",58456,1,"Y","Y",true,"GB","N","PRIVATE SECTOR","LL30 2PS","North Wales","Betsi Cadwaladr UHB","LLANDUDN LL30",68209,"68.2IMP","Owner-Occupiers' Housing Services",3.9621368125994462E-2,null,null,null,null,null,null,null,null,90009.18,"*",null,{"$f":"VLOOKUP(A3094,'[1]Update Sheet'!$A$3:$Y$15578,25,FALSE)","v":0},"Reportable"]
["TORBAY PHARMACEUTICALS LTD",76374,null,"N","N",true,"GB","Y","PRIVATE SECTOR","TQ4 7FG",null,null,"PAIGNTON TQ4",21100,21,"Basic pharmaceutical products and pharmaceutical preparations          ",0.62099518156965727,null,null,null,null,null,null,null,null,88607.660000000018,"*",null,{"$f":"VLOOKUP(A3113,'[1]Update Sheet'!$A$3:$Y$15578,25,FALSE)","v":0},"Reportable"]
["EVERSHEDS SUTHERLAND (INTERNATIONAL) LLP",24836,1,"Y","Y",true,"GB","N","PRIVATE SECTOR","CF10 5BT","South East Wales","Cardiff and Vale UHB","CARDIFF CF10",69102,69.099999999999994,"Legal services              ",5.7877621976311508E-2,null,null,null,null,null,null,null,null,86838.6,"*",null,{"$f":"VLOOKUP(A3132,'[1]Update Sheet'!$A$3:$Y$15578,25,FALSE)","v":0},"Reportable"]
["GRESFORD EYECARE",68499,1,"Y","Y",true,"GB","Y","PRIVATE SECTOR","LL12 8NB","North Wales","Betsi Cadwaladr UHB","PCS PAY",86900,86,"Human health services             ",0.29193168620018201,null,null,null,null,null,null,null,null,85170.459999999992,"*",null,{"$f":"VLOOKUP(A3157,'[1]Update Sheet'!$A$3:$Y$15578,25,FALSE)","v":0},"Reportable"]
["PICK EVERARD",40094,null,"N","N",true,"GB","Y","PRIVATE SECTOR","LE1 1HA",null,null,"LEICESTER LE1","71111 ",71,"Architectural and engineering services; technical testing and analysis services       ",0.1560575201743172,null,null,null,null,null,null,null,null,83977.74,"*",null,{"$f":"VLOOKUP(A3176,'[1]Update Sheet'!$A$3:$Y$15578,25,FALSE)","v":0},"Reportable"]
["CWTCH CONSULTING LTD",72464,1,"Y","Y",true,"GB","Y","PRIVATE SECTOR","SA71 5EA","South West Wales","Swansea Bay UHB","PEMBROKE SA71",85600,85,"Education services              ",0.10257966678326461,null,null,null,null,null,null,null,null,82940,"*",null,{"$f":"VLOOKUP(A3195,'[1]Update Sheet'!$A$3:$Y$15578,25,FALSE)","v":0},"Reportable"]
["BES LTD",6757,null,"N","N",true,"GB","N","PRIVATE SECTOR","B6 7JJ",null,null,"BIRMINGHA B6",77291,77,"Rental and leasing services            ",0.13477794599811871,null,null,null,null,null,null,null,null,81109.420000000013,"*",null,{"$f":"VLOOKUP(A3220,'[1]Update Sheet'!$A$3:$Y$15578,25,FALSE)","v":0},"Reportable"]
["T MORRICE-EVANS OPTOMETRISTS",14378,1,"Y","Y",true,"GB","N","PRIVATE SECTOR","LL18 2TR","North Wales","Betsi Cadwaladr UHB","PCS PAY",86900,86,"Human health services             ",0.29193168620018201,null,null,null,null,null,null,null,null,79938.73,"*",null,{"$f":"VLOOKUP(A3239,'[1]Update Sheet'!$A$3:$Y$15578,25,FALSE)","v":0},"Reportable"]
["SHEFFMED LTD",19745,null,"N","N",true,"GB","Y","PRIVATE SECTOR","S9 2DQ",null,null,"SHEFFIELD S9",32500,32,"Other manufactured goods             ",0.67238249414981133,null,null,null,null,null,null,null,null,79777.319999999992,"*",null,{"$f":"VLOOKUP(A3245,'[1]Update Sheet'!$A$3:$Y$15578,25,FALSE)","v":0},"Reportable"]
["RESOLUTION CARE SERVICES LTD",74953,1,"Y","Y",true,"GB","Y","VCSE","CF31 3TP","South East Wales","Cwm Taf Morgannwg UHB","BRIDGEND CF31",87200,87,"Residential care services             ",0.16514437058930551,null,null,null,null,null,null,null,null,78192.94,"*",null,{"$f":"VLOOKUP(A3264,'[1]Update Sheet'!$A$3:$Y$15578,25,FALSE)","v":0},"Reportable"]
["EXCHANGE CHAMBERS",59873,null,"N","N",true,"GB","Y","PRIVATE SECTOR","L2 9XX",null,null,"FACTOR CLARK",69109,69.099999999999994,"Legal services              ",5.7877621976311508E-2,null,null,null,null,null,null,null,null,76782,"*",null,{"$f":"VLOOKUP(A3283,'[1]Update Sheet'!$A$3:$Y$15578,25,FALSE)","v":0},"Reportable"]
["JAMES PAGET UNIVERSITY HOSPITAL NHS FOUNDATION TRUST",9019,0,null,null,null,"GB","N","PUBLIC SECTOR","NR31 6LA",null,null,"GREAT YAR NR31",null,null,null,null,null,null,null,null,null,null,null,null,0,null,null,{"$f":"VLOOKUP(A3308,'[1]Update Sheet'!$A$3:$Y$15578,25,FALSE)","v":"Public Sector- Exclude"},"Exclude- Intra NHS "]
["SANTEN UK LTD",68984,null,"N","N",true,"GB","Y","PRIVATE SECTOR","AL2 1BU",null,null,"STALBANS AL2",46190,46,"Wholesale trade services, except of motor vehicles and motorcycles       ",2.0310031510736858E-2,null,null,null,null,null,null,null,null,73800,"*",null,{"$f":"VLOOKUP(A3327,'[1]Update Sheet'!$A$3:$Y$15578,25,FALSE)","v":0},"Reportable"]
["ABB LTD",18050,null,"N","N",true,"GB","Y","PRIVATE SECTOR","WA4 4BT",null,null,"ESTATES",27120,27,"Electrical equipment              ",0.49523640333923419,null,null,null,null,null,null,null,null,72436,"*",null,{"$f":"VLOOKUP(A3346,'[1]Update Sheet'!$A$3:$Y$15578,25,FALSE)","v":0},"Reportable"]
["ABIOMED, LTD",70605,null,"N","N",true,"GB","Y","PRIVATE SECTOR","TW9 1PL",null,null,"RICHMOND TW9",47749,47,"Retail trade services, except of motor vehicles and motorcycles       ",0.17404287306456559,null,null,null,null,null,null,null,null,71280,"*",null,{"$f":"VLOOKUP(A3371,'[1]Update Sheet'!$A$3:$Y$15578,25,FALSE)","v":0},"Reportable"]
["CANTOR & NISSEL LTD",1493,null,"N","N",true,"GB","Y","PRIVATE SECTOR","NN13 7NN",null,null,"NORTHAMPT NN13",32990,32,"Other manufactured goods             ",0.67238249414981133,null,null,null,null,null,null,null,null,70305.789999999994,"*",null,{"$f":"VLOOKUP(A3390,'[1]Update Sheet'!$A$3:$Y$15578,25,FALSE)","v":0},"Reportable"]
["DHL",32136,null,"N","N",true,"GB","N","PRIVATE SECTOR","SL3 0BB",null,null,"SLOUGH SL3",49410,"49.3-5","Land transport services and transport services via pipelines, excluding rail transport     ",0.60315703544097854,2021,{"$f":"221002*1000","v":221002000},{"$f":"403*1000","v":403000},{"$f":"371712*1000","v":371712000},{"$f":"SUM(S3396:U3396)","v":593117000},{"$f":"2756977*1000","v":2756977000},{"$f":"V3396/W3396","v":0.21513309686660426},"Parent company CRP - DHL Supply Chain",70048.53,"*",null,{"$f":"VLOOKUP(A3396,'[1]Update Sheet'!$A$3:$Y$15578,25,FALSE)","v":"In Master List"},"Reportable"]
["COLLISTER & GLOVER LTD",5120,1,"Y","Y",true,"GB","Y","PRIVATE SECTOR","CH5 2UA","North Wales","Betsi Cadwaladr UHB","DEESIDE CH5",64204,64,"Financial services, except insurance and pension funding         ",0.1103075939416239,null,null,null,null,null,null,null,null,69286.95,"*",null,{"$f":"VLOOKUP(A3415,'[1]Update Sheet'!$A$3:$Y$15578,25,FALSE)","v":0},"Reportable"]
["ALLIANCE CARE (DALES HOMES) LTD",72294,null,"N","N",true,"GB","Y","PRIVATE SECTOR",null,null,null,"NEWTOWN RG17",86900,86,"Human health services             ",0.29193168620018201,null,null,null,null,null,null,null,null,68057.19,"*",null,{"$f":"VLOOKUP(A3434,'[1]Update Sheet'!$A$3:$Y$15578,25,FALSE)","v":0},"Reportable"]
["RADIANT MEDIA LTD",72159,null,"N","N",true,"GB","Y","PRIVATE SECTOR","W1F 7JY",null,null,"LONDON W1F",73120,73,"Advertising and market research services           ",0.1101924211553026,null,null,null,null,null,null,null,null,66891.600000000006,"*",null,{"$f":"VLOOKUP(A3459,'[1]Update Sheet'!$A$3:$Y$15578,25,FALSE)","v":0},"Reportable"]
["ROTHERHAM RESPIRATORY LTD",71360,null,"N","N",true,"GB","Y","PRIVATE SECTOR","S63 5DA",null,null,"ROTHERHAM R63",85590,85,"Education services              ",0.10257966678326461,null,null,null,null,null,null,null,null,66120,"*",null,{"$f":"VLOOKUP(A3478,'[1]Update Sheet'!$A$3:$Y$15578,25,FALSE)","v":0},"Reportable"]
["YOURMEDPACK LTD",74739,null,"N","N",true,"GB","Y","PRIVATE SECTOR","PO9 1TR",null,null,"HAVANT PO9",62012,62,"Computer programming, consultancy and related services          ",0.13144659704407699,null,null,null,null,null,null,null,null,65216,"*",null,{"$f":"VLOOKUP(A3503,'[1]Update Sheet'!$A$3:$Y$15578,25,FALSE)","v":0},"Reportable"]
["ALEXANDRA HOUSE SUPPORT SERVICES LTD",67618,1,"Y","Y",true,"GB","Y","PRIVATE SECTOR","LL19 7NR","North Wales","Betsi Cadwaladr UHB","PRESTATYN LL19",87300,87,"Residential care services             ",0.16514437058930551,null,null,null,null,null,null,null,null,64451.66,"*",null,{"$f":"VLOOKUP(A3522,'[1]Update Sheet'!$A$3:$Y$15578,25,FALSE)","v":0},"Reportable"]
["CHRIS JONES SURVEYING AND PROPERTY SERVICES LTD",68001,1,"Y","Y",true,"GB","Y","PRIVATE SECTOR","SA9 1HA","Mid Wales","Powys Teaching HB","SWANSEA SA9",71111,71,"Architectural and engineering services; technical testing and analysis services       ",0.1560575201743172,null,null,null,null,null,null,null,null,63428.02,"*",null,{"$f":"VLOOKUP(A3541,'[1]Update Sheet'!$A$3:$Y$15578,25,FALSE)","v":0},"Reportable"]
["ASTON UNIVERSITY",3139,null,"N","N",true,"GB","N","PUBLIC SECTOR","B4 7ET",null,null,"BIRMINGHA B4",85421,85,"Education services              ",0.10257966678326461,null,null,null,null,null,null,null,null,63160,"*",null,{"$f":"VLOOKUP(A3547,'[1]Update Sheet'!$A$3:$Y$15578,25,FALSE)","v":0},"Reportable"]
["HUNTERS MOOR 929 LTD",56468,null,"N","N",true,"GB","Y","PRIVATE SECTOR","NN1 5LL",null,null,"NORTHAMPT NN1",86900,86,"Human health services             ",0.29193168620018201,null,null,null,null,null,null,null,null,62461.66,"*",null,{"$f":"VLOOKUP(A3566,'[1]Update Sheet'!$A$3:$Y$15578,25,FALSE)","v":0},"Reportable"]
["POLYCO HEALTHLINE LTD",2553,null,"N","N",true,"GB","N","PRIVATE SECTOR","PE10 0DN",null,null,"BOURNE PE10",46420,46,"Wholesale trade services, except of motor vehicles and motorcycles       ",2.0310031510736858E-2,null,null,null,null,null,null,null,null,61914.41,"*",null,{"$f":"VLOOKUP(A3583,'[1]Update Sheet'!$A$3:$Y$15578,25,FALSE)","v":0},"Reportable"]
["HOSPITAL SERVICES LTD",57598,null,"N","N",true,"GB","Y","PRIVATE SECTOR","BT12 6TA",null,null,"BELFAST BT12",47749,47,"Retail trade services, except of motor vehicles and motorcycles       ",0.17404287306456559,null,null,null,null,null,null,null,null,60780.22,"*",null,{"$f":"VLOOKUP(A3609,'[1]Update Sheet'!$A$3:$Y$15578,25,FALSE)","v":0},"Reportable"]
["SHJ HOSPITAL PIPELINES LTD",67373,null,"N","N",true,"GB","Y","PRIVATE SECTOR","HP5 2QA",null,null,"ESTATES",86101,86,"Human health services             ",0.29193168620018201,null,null,null,null,null,null,null,null,60120.850000000013,"*",null,{"$f":"VLOOKUP(A3628,'[1]Update Sheet'!$A$3:$Y$15578,25,FALSE)","v":0},"Reportable"]
["LIFEWAYS SIL LTD",70297,null,"N","N",true,"GB","Y","PRIVATE SECTOR","SE1 0AS",null,null,"LONDON SE1",87300,87,"Residential care services             ",0.16514437058930551,null,null,null,null,null,null,null,null,58772.28,"*",null,{"$f":"VLOOKUP(A3653,'[1]Update Sheet'!$A$3:$Y$15578,25,FALSE)","v":0},"Reportable"]
["AUTOQUALITY LTD TA HCS",73319,null,"N","N",true,"GB","Y","PRIVATE SECTOR","CH1 4QP",null,null,"ESTATES",46740,46,"Wholesale trade services, except of motor vehicles and motorcycles       ",2.0310031510736858E-2,null,null,null,null,null,null,null,null,57997.07,"*",null,{"$f":"VLOOKUP(A3672,'[1]Update Sheet'!$A$3:$Y$15578,25,FALSE)","v":0},"Reportable"]
["RICOH UK LTD",672,null,"N","N",true,"GB","N","PRIVATE SECTOR","NN4 7YL",null,null,"NORTHAMPT NN4",62020,62,"Computer programming, consultancy and related services          ",0.13144659704407699,null,null,null,null,null,null,null,null,57367.680000000008,"*",null,{"$f":"VLOOKUP(A3691,'[1]Update Sheet'!$A$3:$Y$15578,25,FALSE)","v":0},"Reportable"]
["ORTHO-CARE (UK) LTD",11331,null,"N","N",true,"GB","N","PRIVATE SECTOR","BD17 7DR",null,null,"BRADFORD BD17",86230,86,"Human health services             ",0.29193168620018201,null,null,null,null,null,null,null,null,57107.98000000001,"*",null,{"$f":"VLOOKUP(A3697,'[1]Update Sheet'!$A$3:$Y$15578,25,FALSE)","v":0},"Reportable"]
["BATTERY CENTRE LTD",35933,1,"Y","Y",true,"GB","Y","PRIVATE SECTOR","SA1 2JG","South West Wales","Swansea Bay UHB","SWANSEA SA1",45200,45,"Wholesale and retail trade and repair services of motor vehicles and motorcycles    ",0.21034629699726889,null,null,null,null,null,null,null,null,56421.39,"*",null,{"$f":"VLOOKUP(A3716,'[1]Update Sheet'!$A$3:$Y$15578,25,FALSE)","v":0},"Reportable"]
["SMART OCCUPATIONAL HEALTH",74594,null,"N","N",true,"GB","Y","PRIVATE SECTOR","OL9 9NG",null,null,"OLDHAM OL9",82990,82,"Office administrative, office support and other business support services       ",0.1180504360352973,null,null,null,null,null,null,null,null,55000,"*",null,{"$f":"VLOOKUP(A3741,'[1]Update Sheet'!$A$3:$Y$15578,25,FALSE)","v":0},"Reportable"]
["CWMNI CYFIEITHU CANNA TRANSLATION SERVICES",40923,1,"Y","Y",true,"GB","Y","PRIVATE SECTOR","CF5 1AL","South East Wales","Cardiff and Vale UHB","CARDIFF CF5",74300,74,"Other professional, scientific and technical services          ",0.19142587698446711,null,null,null,null,null,null,null,null,53965.599999999991,"*",null,{"$f":"VLOOKUP(A3760,'[1]Update Sheet'!$A$3:$Y$15578,25,FALSE)","v":0},"Reportable"]
["TRIPOD PARTNERS LTD",60587,null,"N","N",true,"GB","N","PRIVATE SECTOR","W1F 0TA",null,null,"LONDON W1F",86900,86,"Human health services             ",0.29193168620018201,null,null,null,null,null,null,null,null,52942.92,"*",null,{"$f":"VLOOKUP(A3779,'[1]Update Sheet'!$A$3:$Y$15578,25,FALSE)","v":0},"Reportable"]
["THOMAS STONER SUPPLIES LTD",62625,null,"N","N",true,"GB","Y","PRIVATE SECTOR","WF17 8LL",null,null,"BATLEY WF17",82990,82,"Office administrative, office support and other business support services       ",0.1180504360352973,null,null,null,null,null,null,null,null,52332.529999999977,"*",null,{"$f":"VLOOKUP(A3804,'[1]Update Sheet'!$A$3:$Y$15578,25,FALSE)","v":0},"Reportable"]
["MR DAVID JOHN HUNT",61994,1,"Y","Y",true,"GB","N","PRIVATE SECTOR","SA65 9AF","South West Wales","Swansea Bay UHB","DD02",96090,96,"Other personal services             ",7.6712791957121843E-2,null,null,null,null,null,null,null,null,51780,"*",null,{"$f":"VLOOKUP(A3823,'[1]Update Sheet'!$A$3:$Y$15578,25,FALSE)","v":0},"Reportable"]
["RRPPS",16123,null,"N","N",true,"GB","Y","PRIVATE SECTOR","B30 3HP",null,null,"BIRMINGHA B30",68209,"68.2IMP","Owner-Occupiers' Housing Services",3.9621368125994462E-2,null,null,null,null,null,null,null,null,51090.6,"*",null,{"$f":"VLOOKUP(A3842,'[1]Update Sheet'!$A$3:$Y$15578,25,FALSE)","v":0},"Reportable"]
["OXFORD GENE TECHNOLOGY (OPERATIONS) LTD",57195,null,"N","N",true,"GB","Y","PRIVATE SECTOR","OX5 1PF",null,null,"OXFORD OX5",72110,72,"Scientific research and development services           ",0.18562764998368861,null,null,null,null,null,null,null,null,50977.34,"*",null,{"$f":"VLOOKUP(A3848,'[1]Update Sheet'!$A$3:$Y$15578,25,FALSE)","v":0},"Reportable"]
["AB SECURITY & ELECTRICAL SERVICES",57871,1,"Y","Y",true,"GB","Y","PRIVATE SECTOR","SA62 4HW","South West Wales","Swansea Bay UHB","HAVERFORD SA62",43120,42.99,"Specialised construction works             ",0.31026786628535008,null,null,null,null,null,null,null,null,50365.2,"*",null,{"$f":"VLOOKUP(A3867,'[1]Update Sheet'!$A$3:$Y$15578,25,FALSE)","v":0},"Reportable"]
["ENQUIN ENVIRONMENTAL LTD",47836,1,"Y","Y",true,"GB","N","PRIVATE SECTOR","CF3 2EW","South East Wales","Cardiff and Vale UHB","CARDIFF CF3",71200,71,"Architectural and engineering services; technical testing and analysis services       ",0.1560575201743172,null,null,null,null,null,null,null,null,49477,"*",null,{"$f":"VLOOKUP(A3892,'[1]Update Sheet'!$A$3:$Y$15578,25,FALSE)","v":0},"Reportable"]
["OIL 4 WALES LTD",50584,1,"Y","Y",true,"GB","N","PRIVATE SECTOR","CF72 9DZ","South East Wales","Cwm Taf Morgannwg UHB","LLANTRISANT CF7",46719,46,"Wholesale trade services, except of motor vehicles and motorcycles       ",2.0310031510736858E-2,null,null,null,null,null,null,null,null,48943.709999999992,"*",null,{"$f":"VLOOKUP(A3911,'[1]Update Sheet'!$A$3:$Y$15578,25,FALSE)","v":0},"Reportable"]
["AGE CONNECTS NORTH WALES CENTRAL",59360,1,"Y","Y",true,"GB","Y","VCSE","LL16 3LF","North Wales","Betsi Cadwaladr UHB","DENBIGH LL16",82990,82,"Office administrative, office support and other business support services       ",0.1180504360352973,null,null,null,null,null,null,null,null,48460,"*",null,{"$f":"VLOOKUP(A3930,'[1]Update Sheet'!$A$3:$Y$15578,25,FALSE)","v":0},"Reportable"]
["CLEAR VIEW SURGICAL LTD",77045,1,"Y","Y",true,"GB","Y","PRIVATE SECTOR","CF14 5LU","South East Wales","Cardiff and Vale UHB","CARDIFF CF14",86220,86,"Human health services             ",0.29193168620018201,null,null,null,null,null,null,null,null,47632,"*",null,{"$f":"VLOOKUP(A3955,'[1]Update Sheet'!$A$3:$Y$15578,25,FALSE)","v":0},"Reportable"]
["TMR HEALTH PROFESSIONALS",42306,null,"N","N",true,"GB","Y","PRIVATE SECTOR","BT9 5NW",null,null,"BELFAST BT6",86101,86,"Human health services             ",0.29193168620018201,null,null,null,null,null,null,null,null,47020.4,"*",null,{"$f":"VLOOKUP(A3974,'[1]Update Sheet'!$A$3:$Y$15578,25,FALSE)","v":0},"Reportable"]
["WALES EPILEPSY ASSOCIATION",39993,1,"Y","Y",true,"GB","Y","VCSE","CF14 0WZ","North Wales","Betsi Cadwaladr UHB","WREXHAM LL13",86900,86,"Human health services             ",0.29193168620018201,null,null,null,null,null,null,null,null,46497.599999999991,"*",null,{"$f":"VLOOKUP(A3993,'[1]Update Sheet'!$A$3:$Y$15578,25,FALSE)","v":0},"Reportable"]
["HOOP RESOURCING LTD TA HOOP NHS",71985,null,"N","N",true,"GB","Y","PRIVATE SECTOR","DT1 3BS",null,null,"DORCHESTER DT1",78200,78,"Employment services              ",0.1176282196328419,null,null,null,null,null,null,null,null,46254.580000000009,"*",null,{"$f":"VLOOKUP(A3999,'[1]Update Sheet'!$A$3:$Y$15578,25,FALSE)","v":0},"Reportable"]
["JISC",63548,null,"N","N",true,"GB","N","PRIVATE SECTOR","BS1 6NB",null,null,"DIDCOT OX11",94990,94,"Services furnished by membership organisations           ",0.1210358880635142,2023,8600,15350,606130,630080,129510000,4.8651069415489153E-3,null,45798,"*",null,{"$f":"VLOOKUP(A4018,'[1]Update Sheet'!$A$3:$Y$15578,25,FALSE)","v":"In Master List"},"Reportable"]
["NATIONWIDE CLINICAL SERVICES LTD",36855,null,"N","N",true,"GB","Y","PRIVATE SECTOR","NG22 8LA",null,null,"NEWARK NG28",86101,86,"Human health services             ",0.29193168620018201,null,null,null,null,null,null,null,null,44792,"*",null,{"$f":"VLOOKUP(A4043,'[1]Update Sheet'!$A$3:$Y$15578,25,FALSE)","v":0},"Reportable"]
["ORCHA HEALTH LTD",72209,null,"N","N",true,"GB","Y","PRIVATE SECTOR","WA4 4AB",null,null,"WARRINGTON WA4",74909,74,"Other professional, scientific and technical services          ",0.19142587698446711,null,null,null,null,null,null,null,null,44347.199999999997,"*",null,{"$f":"VLOOKUP(A4062,'[1]Update Sheet'!$A$3:$Y$15578,25,FALSE)","v":0},"Reportable"]
["RIDER LEVETT BUCKNALL UK LTD",69748,null,"N","N",true,"GB","N","PRIVATE SECTOR","B3 2BH",null,null,"BIRMINGHAM B3",71129,71,"Architectural and engineering services; technical testing and analysis services       ",0.1560575201743172,null,null,null,null,null,null,null,null,43938.91,"*",null,{"$f":"VLOOKUP(A4081,'[1]Update Sheet'!$A$3:$Y$15578,25,FALSE)","v":0},"Reportable"]
["THE PRIMARY CARE COUNSELLING NETWORK CIC TA PCCN",39892,1,"Y","Y",true,"GB","Y","VCSE","SA71 4LD","South West Wales","Swansea Bay UHB","PEMBROKE SA72",86900,86,"Human health services             ",0.29193168620018201,null,null,null,null,null,null,null,null,43280.320000000007,"*",null,{"$f":"VLOOKUP(A4106,'[1]Update Sheet'!$A$3:$Y$15578,25,FALSE)","v":0},"Reportable"]
["DIGITAL ID LTD",40407,null,"N","N",true,"GB","Y","PRIVATE SECTOR","OX29 8LN",null,null,"STOCKPORT SK1",62020,62,"Computer programming, consultancy and related services          ",0.13144659704407699,null,null,null,null,null,null,null,null,42837.74,"*",null,{"$f":"VLOOKUP(A4125,'[1]Update Sheet'!$A$3:$Y$15578,25,FALSE)","v":0},"Reportable"]
["POPPI CONTRACT FURNITURE LTD",59645,null,"N","N",true,"GB","Y","PRIVATE SECTOR","LS1 2NE",null,null,"LEEDS LS1",31090,31,"Furniture               ",0.37636837674684959,null,null,null,null,null,null,null,null,42239.34,"*",null,{"$f":"VLOOKUP(A4150,'[1]Update Sheet'!$A$3:$Y$15578,25,FALSE)","v":0},"Reportable"]
["PHENOMENEX UK LTD",2232,null,"N","N",true,"GB","N","PRIVATE SECTOR","SK10 2BN",null,null,"PHARMACY",46750,46,"Wholesale trade services, except of motor vehicles and motorcycles       ",2.0310031510736858E-2,null,null,null,null,null,null,null,null,41719.560000000005,"*",null,{"$f":"VLOOKUP(A4169,'[1]Update Sheet'!$A$3:$Y$15578,25,FALSE)","v":0},"Reportable"]
["CONWY CONNECT",44994,1,"Y","Y",true,"GB","Y","PRIVATE SECTOR","LL29 7TE","North Wales","Betsi Cadwaladr UHB","COLWYN BA LL29",74100,74,"Other professional, scientific and technical services          ",0.19142587698446711,null,null,null,null,null,null,null,null,41172.149999999987,"*",null,{"$f":"VLOOKUP(A4188,'[1]Update Sheet'!$A$3:$Y$15578,25,FALSE)","v":0},"Reportable"]
["DM ORTHOTICS LTD",32703,null,"N","N",true,"GB","Y","PRIVATE SECTOR","TR15 1SH",null,null,"REDRUTH TR15",32500,32,"Other manufactured goods             ",0.67238249414981133,null,null,null,null,null,null,null,null,41072.29,"*",null,{"$f":"VLOOKUP(A4194,'[1]Update Sheet'!$A$3:$Y$15578,25,FALSE)","v":0},"Reportable"]
["EVANS ELECTRICAL LTD",33881,1,"Y","Y",true,"GB","Y","PRIVATE SECTOR","CF23 9BL","South East Wales","Cardiff and Vale UHB","CARDIFF CF23",33140,"33OTHER","Rest of repair; Installation - 33.11-14/17/19/20          ",0.18696882687485539,null,null,null,null,null,null,null,null,40467.440000000002,"*",null,{"$f":"VLOOKUP(A4213,'[1]Update Sheet'!$A$3:$Y$15578,25,FALSE)","v":0},"Reportable"]
["ALARM RADIO MONITORING LTD",66723,null,"N","N",true,"GB","Y","PRIVATE SECTOR","HR6 0LX",null,null,"ESTATES",26110,26,"Computer, electronic and optical products           ",0.38174938765811312,null,null,null,null,null,null,null,null,40065.31,"*",null,{"$f":"VLOOKUP(A4232,'[1]Update Sheet'!$A$3:$Y$15578,25,FALSE)","v":0},"Reportable"]
["BOW CONSTRUCTION LTD",77238,null,"N","N",true,"GB","Y","PRIVATE SECTOR","SY1 3JE",null,null,"SHREWSBURY SY1",41201,41.2,"Buildings and building construction works           ",0.30500636264243469,null,null,null,null,null,null,null,null,39400.1,"*",null,{"$f":"VLOOKUP(A4257,'[1]Update Sheet'!$A$3:$Y$15578,25,FALSE)","v":0},"Reportable"]
["DELTA 2000",24193,1,"Y","Y",true,"GB","Y","PRIVATE SECTOR","CF63 1DE","South East Wales","Cardiff and Vale UHB","CARDIFF CF5",82990,82,"Office administrative, office support and other business support services       ",0.1180504360352973,null,null,null,null,null,null,null,null,38895,"*",null,{"$f":"VLOOKUP(A4276,'[1]Update Sheet'!$A$3:$Y$15578,25,FALSE)","v":0},"Reportable"]
["UNIVERSITY OF GREENWICH",24952,null,"N","N",true,"GB","N","PUBLIC SECTOR","SE9 2UG",null,null,"LONDON SE18",85421,85,"Education services              ",0.10257966678326461,null,null,null,null,null,null,null,null,38395,"*",null,{"$f":"VLOOKUP(A4301,'[1]Update Sheet'!$A$3:$Y$15578,25,FALSE)","v":0},"Reportable"]
["ZDUP NORTH WALES ADVICE & ADVOCACY ASSOCIATION",14472,1,"Y","N","Additional Welsh Supplier","GB","N","VCSE","LL77 7XA","North Wales","Betsi Cadwaladr UHB","BANGOR LL57",88990,88,"Social work services without accommodation           ",0.12926092802643949,null,null,null,null,null,null,null,null,0,null,null,{"$f":"VLOOKUP(A4320,'[1]Update Sheet'!$A$3:$Y$15578,25,FALSE)","v":{"$error":"#N/A"}},"Reportable"]
["GLAMOX LUXO LIGHTING LTD",43782,null,"N","N",true,"GB","Y","PRIVATE SECTOR","CR4 4NA",null,null,"BOREHAMWO WD6",27400,27,"Electrical equipment              ",0.49523640333923419,null,null,null,null,null,null,null,null,37422.800000000003,"*",null,{"$f":"VLOOKUP(A4339,'[1]Update Sheet'!$A$3:$Y$15578,25,FALSE)","v":0},"Reportable"]
["AMPLIVOX LTD",8246,null,"N","N",true,"GB","Y","PRIVATE SECTOR","B37 7YG",null,null,"BIRMINGHA B37",28990,28,"Machinery and equipment n.e.c.            ",0.33561667817643598,null,null,null,null,null,null,null,null,37263.19,"*",null,{"$f":"VLOOKUP(A4345,'[1]Update Sheet'!$A$3:$Y$15578,25,FALSE)","v":0},"Reportable"]
["FERRY CARE",19896,1,"Y","Y",true,"GB","Y","PRIVATE SECTOR","NP7 8BU","South East Wales","Aneurin Bevan UHB","ABERGAVEN NP7",87900,87,"Residential care services             ",0.16514437058930551,null,null,null,null,null,null,null,null,0,null,null,{"$f":"VLOOKUP(A4364,'[1]Update Sheet'!$A$3:$Y$15578,25,FALSE)","v":{"$error":"#N/A"}},"Reportable"]
["PENKNIFE LTD",63659,1,"Y","Y",true,"GB","Y","PRIVATE SECTOR","CF24 5PB","South East Wales","Cardiff and Vale UHB","CARDIFF CF24",74100,74,"Other professional, scientific and technical services          ",0.19142587698446711,null,null,null,null,null,null,null,null,36726,"*",null,{"$f":"VLOOKUP(A4383,'[1]Update Sheet'!$A$3:$Y$15578,25,FALSE)","v":0},"Reportable"]
["CONTAINED AIR SOLUTIONS LTD",50870,null,"N","N",true,"GB","Y","PRIVATE SECTOR","M24 1RU",null,null,"MANCHESTE M24",32990,32,"Other manufactured goods             ",0.67238249414981133,null,null,null,null,null,null,null,null,36282,"*",null,{"$f":"VLOOKUP(A4408,'[1]Update Sheet'!$A$3:$Y$15578,25,FALSE)","v":0},"Reportable"]
["FG REES & SONS",36911,1,"Y","Y",true,"GB","Y","PRIVATE SECTOR","SA62 3LS","South West Wales","Swansea Bay UHB","HAVERFORD SA62",96030,96,"Other personal services             ",7.6712791957121843E-2,null,null,null,null,null,null,null,null,36000,"*",null,{"$f":"VLOOKUP(A4427,'[1]Update Sheet'!$A$3:$Y$15578,25,FALSE)","v":0},"Reportable"]
["SUMED INTERNATIONAL (UK) LTD",1746,null,"N","N",true,"GB","Y","PRIVATE SECTOR","SK13 1QH",null,null,"GLOSSOP SK13",32500,32,"Other manufactured goods             ",0.67238249414981133,null,null,null,null,null,null,null,null,35476.29,"*",null,{"$f":"VLOOKUP(A4446,'[1]Update Sheet'!$A$3:$Y$15578,25,FALSE)","v":0},"Reportable"]
["SERCO LTD",30605,null,"N","N",true,"GB","N","PRIVATE SECTOR","RG27 9UY",null,null,"HOOK RG27",70100,70,"Services of head offices; management consulting services         ",9.3681183759862049E-2,2023,{"$f":"15728*1000","v":15728000},{"$f":"169*1000","v":169000},{"$f":"(2290+171+4322+5127)*1000","v":11910000},{"$f":"SUM(S4470:U4470)","v":27807000},{"$f":"1897.7*1000000","v":1897700000},{"$f":"V4470/W4470","v":1.4653001001211993E-2},"carbon reduction plan",35000,"*",null,{"$f":"VLOOKUP(A4470,'[1]Update Sheet'!$A$3:$Y$15578,25,FALSE)","v":"In Master List"},"Reportable"]
["DR AL SABAH",52563,1,"Y","Y",true,"GB","N","PRIVATE SECTOR","CF64 2XX","South East Wales","Cardiff and Vale UHB","PENARTH CF64",86210,86,"Human health services             ",0.29193168620018201,null,null,null,null,null,null,null,null,34710,"*",null,{"$f":"VLOOKUP(A4489,'[1]Update Sheet'!$A$3:$Y$15578,25,FALSE)","v":0},"Reportable"]
["POWER-A-DOOR LTD",26106,null,"N","N",true,"GB","Y","PRIVATE SECTOR","GL12 8NB",null,null,"WOTTON UN GL12",43999,42.99,"Specialised construction works             ",0.31026786628535008,null,null,null,null,null,null,null,null,34462.800000000003,"*",null,{"$f":"VLOOKUP(A4495,'[1]Update Sheet'!$A$3:$Y$15578,25,FALSE)","v":0},"Reportable"]
["BARBOUR EHS LTD",72847,null,"N","N",true,"GB","Y","PRIVATE SECTOR","SW1X 7HN",null,null,"LONDON SW1X",63990,63,"Information services              ",0.16934169875693919,null,null,null,null,null,null,null,null,34189.800000000003,"*",null,{"$f":"VLOOKUP(A4514,'[1]Update Sheet'!$A$3:$Y$15578,25,FALSE)","v":0},"Reportable"]
["NCH (UK) LTD",27188,null,"N","N",true,"GB","N","PRIVATE SECTOR","WV14 0QL",null,null,"BILSTON WV14",20411,20.399999999999999,"Soap and detergents, cleaning and polishing preparations, perfumes and toilet preparations     ",0.71887260581861478,null,null,null,null,null,null,null,null,33793.910000000003,"*",null,{"$f":"VLOOKUP(A4539,'[1]Update Sheet'!$A$3:$Y$15578,25,FALSE)","v":0},"Reportable"]
["TRISCAN SYSTEMS LTD",46217,null,"N","N",true,"GB","Y","PRIVATE SECTOR","BB5 5HY",null,null,"BLACKBURN BB1",74909,74,"Other professional, scientific and technical services          ",0.19142587698446711,null,null,null,null,null,null,null,null,33555.120000000003,"*",null,{"$f":"VLOOKUP(A4558,'[1]Update Sheet'!$A$3:$Y$15578,25,FALSE)","v":0},"Reportable"]
["SUSAN M CURNESS",64975,null,"N","N",true,"GB","N","PRIVATE SECTOR","OL13 0SP",null,null,"DD02",96090,96,"Other personal services             ",7.6712791957121843E-2,null,null,null,null,null,null,null,null,33173.040000000001,"*",null,{"$f":"VLOOKUP(A4577,'[1]Update Sheet'!$A$3:$Y$15578,25,FALSE)","v":0},"Reportable"]
["MRS AVRIL ANN MATTHEWS",62088,1,"Y","Y",true,"GB","N","PRIVATE SECTOR","CF3 3BH","South East Wales","Cardiff and Vale UHB","DD02",96090,96,"Other personal services             ",7.6712791957121843E-2,null,null,null,null,null,null,null,null,33173.040000000001,"*",null,{"$f":"VLOOKUP(A4602,'[1]Update Sheet'!$A$3:$Y$15578,25,FALSE)","v":0},"Reportable"]
["MR MARK DENNER",62218,1,"Y","Y",true,"GB","N","PRIVATE SECTOR","SA9 1GW","Mid Wales","Powys Teaching HB","DD02",96090,96,"Other personal services             ",7.6712791957121843E-2,null,null,null,null,null,null,null,null,33173.040000000001,"*",null,{"$f":"VLOOKUP(A4621,'[1]Update Sheet'!$A$3:$Y$15578,25,FALSE)","v":0},"Reportable"]
["MR BRIAN WILLIAMS",62000,1,"Y","Y",true,"GB","N","PRIVATE SECTOR","CF5 3DP","South East Wales","Cardiff and Vale UHB","DD02",96090,96,"Other personal services             ",7.6712791957121843E-2,null,null,null,null,null,null,null,null,33173.040000000001,"*",null,{"$f":"VLOOKUP(A4640,'[1]Update Sheet'!$A$3:$Y$15578,25,FALSE)","v":0},"Reportable"]
["LYNETTE MAY EVANS",67579,1,"Y","Y",true,"GB","N","PRIVATE SECTOR","SA12 8TG","South West Wales","Swansea Bay UHB","DD02",96090,96,"Other personal services             ",7.6712791957121843E-2,null,null,null,null,null,null,null,null,33173.040000000001,"*",null,{"$f":"VLOOKUP(A4646,'[1]Update Sheet'!$A$3:$Y$15578,25,FALSE)","v":0},"Reportable"]
["MR JEFFREY FREDRICK SAUNDERS",62027,1,"Y","Y",true,"GB","N","PRIVATE SECTOR","SA11 1DQ","South West Wales","Swansea Bay UHB","DD02",96090,96,"Other personal services             ",7.6712791957121843E-2,null,null,null,null,null,null,null,null,33173,"*",null,{"$f":"VLOOKUP(A4665,'[1]Update Sheet'!$A$3:$Y$15578,25,FALSE)","v":0},"Reportable"]
["TESTUN CYFYNGEDIG",50889,1,"Y","Y",true,"GB","Y","PRIVATE SECTOR","CF10 2TH","South East Wales","Cardiff and Vale UHB","CARDIFF CF10",59120,59,"Motion picture, video and TV programme production services, sound recording & music publishing   ",0.1101389562964399,null,null,null,null,null,null,null,null,32806.079999999987,"*",null,{"$f":"VLOOKUP(A4690,'[1]Update Sheet'!$A$3:$Y$15578,25,FALSE)","v":0},"Reportable"]
["INT2MED LTD",43136,null,"N","N",true,"GB","Y","PRIVATE SECTOR","SL4 1RU",null,null,"WINDSOR SL4",32500,32,"Other manufactured goods             ",0.67238249414981133,null,null,null,null,null,null,null,null,32364.2,"*",null,{"$f":"VLOOKUP(A4709,'[1]Update Sheet'!$A$3:$Y$15578,25,FALSE)","v":0},"Reportable"]
["THE PARKWAY HOTEL & CONFERENCE CENTRE",23389,1,"Y","Y",true,"GB","Y","PRIVATE SECTOR","NP44 3UW","South East Wales","Aneurin Bevan UHB","CWMBRAN NP44",55100,55,"Accommodation services              ",0.32444602703376968,null,null,null,null,null,null,null,null,31978.15,"*",null,{"$f":"VLOOKUP(A4728,'[1]Update Sheet'!$A$3:$Y$15578,25,FALSE)","v":0},"Reportable"]
["CHROMALYTICAL LTD",37710,null,"N","N",true,"GB","N","PRIVATE SECTOR","PO16 9DR",null,null,"LEATHERHE KT22",62020,62,"Computer programming, consultancy and related services          ",0.13144659704407699,null,null,null,null,null,null,null,null,31559.4,"*",null,{"$f":"VLOOKUP(A4753,'[1]Update Sheet'!$A$3:$Y$15578,25,FALSE)","v":0},"Reportable"]
["CALIBRATION & CONSULTANCY SERVICES UK LTD",34636,null,"N","N",true,"GB","Y","PRIVATE SECTOR","WN7 3XJ",null,null,"LEIGH WN7",71200,71,"Architectural and engineering services; technical testing and analysis services       ",0.1560575201743172,null,null,null,null,null,null,null,null,31209.22,"*",null,{"$f":"VLOOKUP(A4772,'[1]Update Sheet'!$A$3:$Y$15578,25,FALSE)","v":0},"Reportable"]
["HDT PATIENTS MONIES",36808,null,"N","N",true,"GB","N","PRIVATE SECTOR",null,null,null,"FACTOR 351",86900,86,"Human health services             ",0.29193168620018201,null,null,null,null,null,null,null,null,31160.62,"*",null,{"$f":"VLOOKUP(A4778,'[1]Update Sheet'!$A$3:$Y$15578,25,FALSE)","v":0},"Reportable"]
["SHANGRI-LA CHAPEL HILL LTD",76098,1,"Y","Y",true,"GB","Y","PRIVATE SECTOR","SA71 5HY","South West Wales","Hywel Dda UHB","PEMBROKE SA71",87100,87,"Residential care services             ",0.16514437058930551,null,null,null,null,null,null,null,null,30732.75,"*",null,{"$f":"VLOOKUP(A4797,'[1]Update Sheet'!$A$3:$Y$15578,25,FALSE)","v":0},"Reportable"]
["MACE CONSULT LTD",75912,null,"N","N",true,"GB","Y","PRIVATE SECTOR","EC2M 6XB",null,null,"LONDON EC2M",70229,70,"Services of head offices; management consulting services         ",9.3681183759862049E-2,null,null,null,null,null,null,null,null,30378.959999999999,"*",null,{"$f":"VLOOKUP(A4816,'[1]Update Sheet'!$A$3:$Y$15578,25,FALSE)","v":0},"Reportable"]
["TALARDY HOTEL",11065,1,"Y","Y",true,"GB","Y","PRIVATE SECTOR","LL17 0HY","North Wales","Betsi Cadwaladr UHB","ST ASAPH LL17",55100,55,"Accommodation services              ",0.32444602703376968,null,null,null,null,null,null,null,null,29929.759999999998,"*",null,{"$f":"VLOOKUP(A4841,'[1]Update Sheet'!$A$3:$Y$15578,25,FALSE)","v":0},"Reportable"]
["Q SURGICAL LTD",34750,null,"N","N",true,"GB","Y","PRIVATE SECTOR","BS16 7GA",null,null,"BRISTOL BS16",46750,46,"Wholesale trade services, except of motor vehicles and motorcycles       ",2.0310031510736858E-2,null,null,null,null,null,null,null,null,29543.82,"*",null,{"$f":"VLOOKUP(A4860,'[1]Update Sheet'!$A$3:$Y$15578,25,FALSE)","v":0},"Reportable"]
["WATER & AIR MANAGEMENT LTD",69132,null,"N","N",true,"GB","Y","PRIVATE SECTOR","SK4 1QH",null,null,"STOCKPORT, SK4",36000,36,"Natural water; water treatment and supply services         ",0.2455437385220309,null,null,null,null,null,null,null,null,14536,"*",null,{"$f":"VLOOKUP(A4879,'[1]Update Sheet'!$A$3:$Y$15578,25,FALSE)","v":0},"Reportable"]
["DENWARD MANUFACTURING LTD",37909,null,"N","N",true,"GB","Y","PRIVATE SECTOR","CM1 3BU",null,null,"PHARMACY",25620,"25OTHER","Fabricated metal products, excl. machinery and equipment and weapons & ammunition - 25.1-3/25.5-9   ",0.45904169551503349,null,null,null,null,null,null,null,null,28709.42,"*",null,{"$f":"VLOOKUP(A4904,'[1]Update Sheet'!$A$3:$Y$15578,25,FALSE)","v":0},"Reportable"]
["IBERIAN AND LATIN AMERICAN ASSOCIATION IN WALES",72007,1,"Y","Y",true,"GB","Y","VCSE","SA2 9AR","South West Wales","Swansea Bay UHB","SWANSEA SA2",85520,85,"Education services              ",0.10257966678326461,null,null,null,null,null,null,null,null,28368,"*",null,{"$f":"VLOOKUP(A4923,'[1]Update Sheet'!$A$3:$Y$15578,25,FALSE)","v":0},"Reportable"]
["ENWA WATER TECHNOLOGY UK",50989,null,"N","N",true,"GB","N","PRIVATE SECTOR","LE9 9FE",null,null,"DESFORD LE9",36000,36,"Natural water; water treatment and supply services         ",0.2455437385220309,null,null,null,null,null,null,null,null,4940.3999999999996,"*",null,{"$f":"VLOOKUP(A4929,'[1]Update Sheet'!$A$3:$Y$15578,25,FALSE)","v":0},"Reportable"]
["LAMB BROOKS SOLICITORS",58970,null,"N","N",true,"GB","Y","PRIVATE SECTOR","RG21 7EQ",null,null,"BASINGSTO RG21",69102,69.099999999999994,"Legal services              ",5.7877621976311508E-2,null,null,null,null,null,null,null,null,28000,"*",null,{"$f":"VLOOKUP(A4948,'[1]Update Sheet'!$A$3:$Y$15578,25,FALSE)","v":0},"Reportable"]
["FLETCHER EUROPEAN CONTAINERS LTD",66977,null,"N","N",true,"GB","Y","PRIVATE SECTOR","NN8 4NL",null,null,"WELLINGBO NN8",22290,22,"Rubber and plastic products            ",0.57621788964022036,null,null,null,null,null,null,null,null,27673.200000000001,"*",null,{"$f":"VLOOKUP(A4967,'[1]Update Sheet'!$A$3:$Y$15578,25,FALSE)","v":0},"Reportable"]
["BRIAN SHUTTLEWORTH",66111,1,"Y","Y",true,"GB","N","PRIVATE SECTOR","LL11 3YY","North Wales","Betsi Cadwaladr UHB","WREXHAM LL11",7487,74,"Other professional, scientific and technical services          ",0.19142587698446711,null,null,null,null,null,null,null,null,27205.15,"*",null,{"$f":"VLOOKUP(A4992,'[1]Update Sheet'!$A$3:$Y$15578,25,FALSE)","v":0},"Reportable"]
["STOR A FILE LTD",36908,null,"N","N",true,"GB","Y","PRIVATE SECTOR","LE7 1PD",null,null,"LEICESTER LE7",82990,82,"Office administrative, office support and other business support services       ",0.1180504360352973,null,null,null,null,null,null,null,null,26953.079999999991,"*",null,{"$f":"VLOOKUP(A5011,'[1]Update Sheet'!$A$3:$Y$15578,25,FALSE)","v":0},"Reportable"]
["UNIVERSITY OF HERTFORDSHIRE",15869,null,"N","N",true,"GB","N","PUBLIC SECTOR","AL10 9AB",null,null,"HATFIELD AL10",85421,85,"Education services              ",0.10257966678326461,null,null,null,null,null,null,null,null,26735,"*",null,{"$f":"VLOOKUP(A5030,'[1]Update Sheet'!$A$3:$Y$15578,25,FALSE)","v":0},"Reportable"]
["SUPAC LTD",23295,1,"Y","Y",true,"GB","Y","PRIVATE SECTOR","CF48 3TD","South East Wales","Cwm Taf Morgannwg UHB","MERTHYR T CF48",46690,46,"Wholesale trade services, except of motor vehicles and motorcycles       ",2.0310031510736858E-2,null,null,null,null,null,null,null,null,26481.58,"*",null,{"$f":"VLOOKUP(A5055,'[1]Update Sheet'!$A$3:$Y$15578,25,FALSE)","v":0},"Reportable"]
["BENSON VISCOMETERS LTD",17841,1,"Y","Y",true,"GB","Y","PRIVATE SECTOR","SA68 0TN","South West Wales","Swansea Bay UHB","KILGETTY SA68",26511,26,"Computer, electronic and optical products           ",0.38174938765811312,null,null,null,null,null,null,null,null,26226.82,"*",null,{"$f":"VLOOKUP(A5074,'[1]Update Sheet'!$A$3:$Y$15578,25,FALSE)","v":0},"Reportable"]
["WARRINGTONFIRE TESTING AND CERTIFICATION LTD TA BM TRADA",65062,null,"N","N",true,"GB","N","PRIVATE SECTOR","EH28 8QJ",null,null,"ESTATES",43210,42.99,"Specialised construction works             ",0.31026786628535008,null,null,null,null,null,null,null,null,25812,"*",null,{"$f":"VLOOKUP(A5099,'[1]Update Sheet'!$A$3:$Y$15578,25,FALSE)","v":0},"Reportable"]
["OXFORD BROOKES ENTERPRISES LTD",50469,null,"N","N",true,"GB","Y","PRIVATE SECTOR","OX3 0BP",null,null,"OXFORD OX3",82990,82,"Office administrative, office support and other business support services       ",0.1180504360352973,null,null,null,null,null,null,null,null,25500,"*",null,{"$f":"VLOOKUP(A5118,'[1]Update Sheet'!$A$3:$Y$15578,25,FALSE)","v":0},"Reportable"]
["LOCKDOWN MEDICAL LTD",50468,null,"N","N",true,"GB","N","PRIVATE SECTOR","B98 7ST",null,null,"PHARMACY",32500,32,"Other manufactured goods             ",0.67238249414981133,null,null,null,null,null,null,null,null,25193.7,"*",null,{"$f":"VLOOKUP(A5137,'[1]Update Sheet'!$A$3:$Y$15578,25,FALSE)","v":0},"Reportable"]
["SPRINK LTD",68655,null,"N","N",true,"GB","Y","PRIVATE SECTOR","OX20 1FQ",null,null,"WOODSTOCK OX20",70229,70,"Services of head offices; management consulting services         ",9.3681183759862049E-2,null,null,null,null,null,null,null,null,25100.04,"*",null,{"$f":"VLOOKUP(A5143,'[1]Update Sheet'!$A$3:$Y$15578,25,FALSE)","v":0},"Reportable"]
["MR ANDREW MORGAN",72546,1,"Y","Y",true,"GB","N","PRIVATE SECTOR","SA6 8BS","South West Wales","Swansea Bay UHB","DD02",96090,96,"Other personal services             ",7.6712791957121843E-2,null,null,null,null,null,null,null,null,25035,"*",null,{"$f":"VLOOKUP(A5162,'[1]Update Sheet'!$A$3:$Y$15578,25,FALSE)","v":0},"Reportable"]
["MR GARETH EVANS",62059,1,"Y","Y",true,"GB","N","PRIVATE SECTOR","LL57 3YS","North Wales","Betsi Cadwaladr UHB","DD02",96090,96,"Other personal services             ",7.6712791957121843E-2,null,null,null,null,null,null,null,null,24857,"*",null,{"$f":"VLOOKUP(A5187,'[1]Update Sheet'!$A$3:$Y$15578,25,FALSE)","v":0},"Reportable"]
["ABLE CALIBRATION SERVICES LTD",32143,1,"Y","Y",true,"GB","Y","PRIVATE SECTOR","NP10 9LE","South East Wales","Aneurin Bevan UHB","NEWPORT NP10",71200,71,"Architectural and engineering services; technical testing and analysis services       ",0.1560575201743172,null,null,null,null,null,null,null,null,24594,"*",null,{"$f":"VLOOKUP(A5206,'[1]Update Sheet'!$A$3:$Y$15578,25,FALSE)","v":0},"Reportable"]
["PROTECH SUPPLIES LTD",73900,1,"Y","Y",true,"GB","Y","PRIVATE SECTOR","CH7 3PS","North Wales","Betsi Cadwaladr UHB","ESTATES",96090,96,"Other personal services             ",7.6712791957121843E-2,null,null,null,null,null,null,null,null,24313.8,"*",null,{"$f":"VLOOKUP(A5225,'[1]Update Sheet'!$A$3:$Y$15578,25,FALSE)","v":0},"Reportable"]
["FLUELLEN THEATRE COMPANY",51184,1,"Y","Y",true,"GB","Y","VCSE","SA3 4DR","South West Wales","Swansea Bay UHB","SWANSEA SA3",90040,90,"Creative, arts and entertainment services           ",0.2018836157509922,null,null,null,null,null,null,null,null,23955,"*",null,{"$f":"VLOOKUP(A5250,'[1]Update Sheet'!$A$3:$Y$15578,25,FALSE)","v":0},"Reportable"]
["FIRE SYSTEMS CONSULTANCY LTD",37456,null,"N","N",true,"GB","Y","PRIVATE SECTOR","SG12 9PZ",null,null,"WARE SG12",82990,82,"Office administrative, office support and other business support services       ",0.1180504360352973,null,null,null,null,null,null,null,null,23695.759999999998,"*",null,{"$f":"VLOOKUP(A5269,'[1]Update Sheet'!$A$3:$Y$15578,25,FALSE)","v":0},"Reportable"]
["ROSCOE TREE SERVICES",53069,1,"Y","Y",true,"GB","Y","PRIVATE SECTOR","SA62 4BD","South West Wales","Swansea Bay UHB","HAVERFORD SA62",96090,96,"Other personal services             ",7.6712791957121843E-2,null,null,null,null,null,null,null,null,23424,"*",null,{"$f":"VLOOKUP(A5288,'[1]Update Sheet'!$A$3:$Y$15578,25,FALSE)","v":0},"Reportable"]
["NATIONAL WAITING TIMES CENTRE BOARD",59396,0,null,null,null,"GB","N","PUBLIC SECTOR","G81 4HX",null,null,"CLYDEBANK G81",null,null,null,null,null,null,null,null,null,null,null,null,5226.18,"*",null,{"$f":"VLOOKUP(A5294,'[1]Update Sheet'!$A$3:$Y$15578,25,FALSE)","v":"Public Sector- Exclude"},"?"]
["STEVENAGE PACKAGING LTD",13469,null,"N","N",true,"GB","Y","PRIVATE SECTOR","SG1 3EE",null,null,"STEVENAGE SG1",46900,46,"Wholesale trade services, except of motor vehicles and motorcycles       ",2.0310031510736858E-2,null,null,null,null,null,null,null,null,23163.77,"*",null,{"$f":"VLOOKUP(A5309,'[1]Update Sheet'!$A$3:$Y$15578,25,FALSE)","v":0},"Reportable"]
["VERSAPAK (INTERNATIONAL) LTD",4660,null,"N","N",true,"GB","Y","PRIVATE SECTOR","DA18 4AL",null,null,"PHARMACY",32990,32,"Other manufactured goods             ",0.67238249414981133,null,null,null,null,null,null,null,null,22831.82,"*",null,{"$f":"VLOOKUP(A5337,'[1]Update Sheet'!$A$3:$Y$15578,25,FALSE)","v":0},"Reportable"]
["NHS BARNET CCG",64619,0,null,null,null,"GB","N","PUBLIC SECTOR","WF3 1WE",null,null,"WAKEFIELD WF3",0,0,0,null,null,null,null,null,null,null,null,null,0,null,null,{"$f":"VLOOKUP(A5356,'[1]Update Sheet'!$A$3:$Y$15578,25,FALSE)","v":{"$error":"#N/A"}},"Exclude- Intra NHS "]
["LABXCELL LTD",26041,null,"N","N",true,"GB","Y","PRIVATE SECTOR","NE1 4LE",null,null,"NEWCASTLE NE1",86900,86,"Human health services             ",0.29193168620018201,null,null,null,null,null,null,null,null,22246.799999999999,"*",null,{"$f":"VLOOKUP(A5375,'[1]Update Sheet'!$A$3:$Y$15578,25,FALSE)","v":0},"Reportable"]
["MR NIGEL THORNE",64880,1,"Y","Y",true,"GB","N","PRIVATE SECTOR","CF11 8AS","South East Wales","Cardiff and Vale UHB","DD02",96090,96,"Other personal services             ",7.6712791957121843E-2,null,null,null,null,null,null,null,null,22085.040000000001,"*",null,{"$f":"VLOOKUP(A5400,'[1]Update Sheet'!$A$3:$Y$15578,25,FALSE)","v":0},"Reportable"]
["OPTIMUS MEDICAL LTD",58661,null,"N","N",true,"GB","Y","PRIVATE SECTOR","DN22 7GR",null,null,"RETFORD DN22",46190,46,"Wholesale trade services, except of motor vehicles and motorcycles       ",2.0310031510736858E-2,null,null,null,null,null,null,null,null,22026,"*",null,{"$f":"VLOOKUP(A5419,'[1]Update Sheet'!$A$3:$Y$15578,25,FALSE)","v":0},"Reportable"]
["MOUNT INTERNATIONAL UNITED SERVICES LTD",31553,null,"N","N",true,"GB","N","PRIVATE SECTOR","GL2 2FN",null,null,"GLOUCESTE GL2",33130,"33OTHER","Rest of repair; Installation - 33.11-14/17/19/20          ",0.18696882687485539,null,null,null,null,null,null,null,null,21794.400000000001,"*",null,{"$f":"VLOOKUP(A5438,'[1]Update Sheet'!$A$3:$Y$15578,25,FALSE)","v":0},"Reportable"]
["LIVESTHROUGHFRIENDS CIC",73955,null,"N","N",true,"GB","Y","VCSE","GL14 3BN",null,null,"CINDERFORD GL14",88990,88,"Social work services without accommodation           ",0.12926092802643949,null,null,null,null,null,null,null,null,21692.25,"*",null,{"$f":"VLOOKUP(A5444,'[1]Update Sheet'!$A$3:$Y$15578,25,FALSE)","v":0},"Reportable"]
["WEL MEDICAL LTD",36820,null,"N","N",true,"GB","Y","PRIVATE SECTOR","GU14 8FF",null,null,"FARNBORO GU14",82990,82,"Office administrative, office support and other business support services       ",0.1180504360352973,null,null,null,null,null,null,null,null,21543.73,"*",null,{"$f":"VLOOKUP(A5463,'[1]Update Sheet'!$A$3:$Y$15578,25,FALSE)","v":0},"Reportable"]
["DIAGNOSTIC IMAGING LTD",25186,null,"N","N",true,"GB","Y","PRIVATE SECTOR","NN6 6HE",null,null,"WELFORD NN6",47749,47,"Retail trade services, except of motor vehicles and motorcycles       ",0.17404287306456559,null,null,null,null,null,null,null,null,21220.799999999999,"*",null,{"$f":"VLOOKUP(A5488,'[1]Update Sheet'!$A$3:$Y$15578,25,FALSE)","v":0},"Reportable"]
["PROVIDE LOCUMS LTD",77389,null,"N","Y",true,"GB","Y","PRIVATE SECTOR","MK19 7DP",null,null,"NEWPORT NP18",78200,78,"Employment services              ",0.1176282196328419,null,null,null,null,null,null,null,null,20878.560000000001,"*",null,{"$f":"VLOOKUP(A5507,'[1]Update Sheet'!$A$3:$Y$15578,25,FALSE)","v":0},"Reportable"]
["APROBRIUM LTD",53641,null,"N","N",true,"GB","Y","PRIVATE SECTOR","OX16 2AF",null,null,"BANBURY OX16",62012,62,"Computer programming, consultancy and related services          ",0.13144659704407699,null,null,null,null,null,null,null,null,20691.34,"*",null,{"$f":"VLOOKUP(A5526,'[1]Update Sheet'!$A$3:$Y$15578,25,FALSE)","v":0},"Reportable"]
["DR PAUL S JOHN",74362,1,"Y","Y",true,"GB","N","PRIVATE SECTOR","SA3 4RH","South West Wales","Swansea Bay UHB","PCS PAY",86900,86,"Human health services             ",0.29193168620018201,null,null,null,null,null,null,null,null,20454.53,"*",null,{"$f":"VLOOKUP(A5551,'[1]Update Sheet'!$A$3:$Y$15578,25,FALSE)","v":0},"Reportable"]
["THE MYERS-BRIGGS COMPANY LTD",23839,null,"N","N",true,"GB","Y","PRIVATE SECTOR","OX2 8EP",null,null,"OXFORD OX2",58190,58,"Publishing services              ",8.0219457227851232E-2,null,null,null,null,null,null,null,null,20177.48,"*",null,{"$f":"VLOOKUP(A5570,'[1]Update Sheet'!$A$3:$Y$15578,25,FALSE)","v":0},"Reportable"]
["ADRA (TAI) CYFYNGEDIG",70448,1,"Y","Y",true,"GB","Y","VCSE","LL57 4BL","North Wales","Betsi Cadwaladr UHB","ESTATES",86900,86,"Human health services             ",0.29193168620018201,null,null,null,null,null,null,null,null,20150.060000000001,"*",null,{"$f":"VLOOKUP(A5576,'[1]Update Sheet'!$A$3:$Y$15578,25,FALSE)","v":0},"Reportable"]
["ARGUS FIRE PROTECTION COMPANY LTD",59732,null,"N","N",true,"GB","Y","PRIVATE SECTOR","DY8 1PA",null,null,"STOURBRID DY8",43999,42.99,"Specialised construction works             ",0.31026786628535008,null,null,null,null,null,null,null,null,19909.2,"*",null,{"$f":"VLOOKUP(A5595,'[1]Update Sheet'!$A$3:$Y$15578,25,FALSE)","v":0},"Reportable"]
["ONEILLS FACILITIES AND WASTE MANAGEMENT LTD",76829,1,"Y","Y",true,"GB","Y","PRIVATE SECTOR","CF32 9BF","South East Wales","Cwm Taf Morgannwg UHB","BRIDGEND CF32",82990,82,"Office administrative, office support and other business support services       ",0.1180504360352973,null,null,null,null,null,null,null,null,19709.060000000001,"*",null,{"$f":"VLOOKUP(A5614,'[1]Update Sheet'!$A$3:$Y$15578,25,FALSE)","v":0},"Reportable"]
["CARNEYSWEENEY LTD",75076,null,"N","N",true,"GB","Y","PRIVATE SECTOR","GU9 7PT",null,null,"CARDIFF CF24",74901,74,"Other professional, scientific and technical services          ",0.19142587698446711,null,null,null,null,null,null,null,null,19380.18,"*",null,{"$f":"VLOOKUP(A5639,'[1]Update Sheet'!$A$3:$Y$15578,25,FALSE)","v":0},"Reportable"]
["TRINITY BIOTECH",41590,null,"N","N",true,"GB","N","PRIVATE SECTOR",null,null,null,"FOREIGN",86900,86,"Human health services             ",0.29193168620018201,null,null,null,null,null,null,null,null,19158.53,"*",null,{"$f":"VLOOKUP(A5658,'[1]Update Sheet'!$A$3:$Y$15578,25,FALSE)","v":0},"Reportable"]
["ABACUS SECURITIES LTD",44842,null,"N","N",true,"GB","Y","PRIVATE SECTOR","L34 1QL",null,null,"ESTATES",96090,96,"Other personal services             ",7.6712791957121843E-2,null,null,null,null,null,null,null,null,18973.32,"*",null,{"$f":"VLOOKUP(A5677,'[1]Update Sheet'!$A$3:$Y$15578,25,FALSE)","v":0},"Reportable"]
["WORLD OF WORK PROJECT CIC",75548,null,"N","N",true,"GB","Y","VCSE","EH9 1DJ",null,null,"EDINBURGH EH9",70229,70,"Services of head offices; management consulting services         ",9.3681183759862049E-2,null,null,null,null,null,null,null,null,18750,"*",null,{"$f":"VLOOKUP(A5702,'[1]Update Sheet'!$A$3:$Y$15578,25,FALSE)","v":0},"Reportable"]
["CARPENTER DAVIES PARTNERSHIP",5255,1,"Y","Y",true,"GB","N","PRIVATE SECTOR","LL16 3SD","North Wales","Betsi Cadwaladr UHB","ESTATES",71121,71,"Architectural and engineering services; technical testing and analysis services       ",0.1560575201743172,null,null,null,null,null,null,null,null,18559.2,"*",null,{"$f":"VLOOKUP(A5721,'[1]Update Sheet'!$A$3:$Y$15578,25,FALSE)","v":0},"Reportable"]
["SOUTH WALES ENVIRONMENTAL SERVICES LTD",44166,1,"Y","Y",true,"GB","Y","PRIVATE SECTOR","SA12 8AL","South West Wales","Swansea Bay UHB","PORT TALB SA12",82990,82,"Office administrative, office support and other business support services       ",0.1180504360352973,null,null,null,null,null,null,null,null,18498,"*",null,{"$f":"VLOOKUP(A5727,'[1]Update Sheet'!$A$3:$Y$15578,25,FALSE)","v":0},"Reportable"]
["LLOYD & PAWLETT",24241,1,"Y","Y",true,"GB","Y","PRIVATE SECTOR","SA73 1DP","South West Wales","Swansea Bay UHB","MILFORD H SA73",52103,52,"Warehousing and support services for transportation          ",0.24376795453982661,null,null,null,null,null,null,null,null,0,null,null,{"$f":"VLOOKUP(A5746,'[1]Update Sheet'!$A$3:$Y$15578,25,FALSE)","v":{"$error":"#N/A"}},"Reportable"]
["HILL DENTAL CONSULTING LTD",71854,1,"Y","Y",true,"GB","Y","PRIVATE SECTOR","CF24 5PJ","South East Wales","Cardiff and Vale UHB","CARDIFF CF24",86230,86,"Human health services             ",0.29193168620018201,null,null,null,null,null,null,null,null,18033.43,"*",null,{"$f":"VLOOKUP(A5765,'[1]Update Sheet'!$A$3:$Y$15578,25,FALSE)","v":0},"Reportable"]
["KEVIN EDWARDS",60380,1,"Y","Y",true,"GB","N","PRIVATE SECTOR","LL49 9NU","North Wales","Betsi Cadwaladr UHB","PORTHMAD LL49",82990,82,"Office administrative, office support and other business support services       ",0.1180504360352973,null,null,null,null,null,null,null,null,17781,"*",null,{"$f":"VLOOKUP(A5790,'[1]Update Sheet'!$A$3:$Y$15578,25,FALSE)","v":0},"Reportable"]
["LUMIVERO UK LTD",21703,null,"N","N",true,"GB","Y","PRIVATE SECTOR","WC1V 7HP",null,null,"LONDON WC1V",96090,96,"Other personal services             ",7.6712791957121843E-2,null,null,null,null,null,null,null,null,17628.46,"*",null,{"$f":"VLOOKUP(A5809,'[1]Update Sheet'!$A$3:$Y$15578,25,FALSE)","v":0},"Reportable"]
["DR MOHAMED YOUSUF KUNJU",77068,1,"Y","Y",true,"GB","N","PRIVATE SECTOR","NP23 8WR","South East Wales","Aneurin Bevan UHB","EBBW VALE NP23",86000,86,"Human health services             ",0.29193168620018201,null,null,null,null,null,null,null,null,17404.14,"*",null,{"$f":"VLOOKUP(A5834,'[1]Update Sheet'!$A$3:$Y$15578,25,FALSE)","v":0},"Reportable"]
["SOCIAL ABILITY LTD",69888,null,"N","N",true,"GB","Y","PRIVATE SECTOR","TN9 1SP",null,null,"TONBRIDGE TN9",70229,70,"Services of head offices; management consulting services         ",9.3681183759862049E-2,null,null,null,null,null,null,null,null,17250,"*",null,{"$f":"VLOOKUP(A5853,'[1]Update Sheet'!$A$3:$Y$15578,25,FALSE)","v":0},"Reportable"]
["NHS CANTERBURY AND COASTAL CCG",60670,0,null,null,null,"GB","N","PUBLIC SECTOR","WF3 1WE",null,null,"WAKEFIELD WF3",0,0,0,null,null,null,null,null,null,null,null,null,0,null,null,{"$f":"VLOOKUP(A5872,'[1]Update Sheet'!$A$3:$Y$15578,25,FALSE)","v":{"$error":"#N/A"}},"Exclude- Intra NHS "]
["BARBRI ALTIOR",69500,null,"N","N",true,"IE","N","PRIVATE SECTOR","D1 7QZ",null,null,"DUBLIN D1",85590,85,"Education services              ",0.10257966678326461,null,null,null,null,null,null,null,null,16861.2,"*",null,{"$f":"VLOOKUP(A5878,'[1]Update Sheet'!$A$3:$Y$15578,25,FALSE)","v":0},"Reportable"]
["MRS JULIANA MERRETT",62098,1,"Y","Y",true,"GB","N","PRIVATE SECTOR","CF35 5DW","South East Wales","Cardiff and Vale UHB","DD02",96090,96,"Other personal services             ",7.6712791957121843E-2,null,null,null,null,null,null,null,null,16718.04,"*",null,{"$f":"VLOOKUP(A5897,'[1]Update Sheet'!$A$3:$Y$15578,25,FALSE)","v":0},"Reportable"]
["NEW DIAGNOSTIC SERVICES LTD",75504,null,"N","N",true,"GB","Y","PRIVATE SECTOR","BA22 7AZ",null,null,"YEOVIL BA22",74909,74,"Other professional, scientific and technical services          ",0.19142587698446711,null,null,null,null,null,null,null,null,16534.98,"*",null,{"$f":"VLOOKUP(A5916,'[1]Update Sheet'!$A$3:$Y$15578,25,FALSE)","v":0},"Reportable"]
["HSS HIRE SERVICE GROUP LTD",3476,null,"N","N",true,"GB","N","PRIVATE SECTOR","CR4 4HR",null,null,"BRIDGEND CF31",77320,77,"Rental and leasing services            ",0.13477794599811871,null,null,null,null,null,null,null,null,16342,"*",null,{"$f":"VLOOKUP(A5941,'[1]Update Sheet'!$A$3:$Y$15578,25,FALSE)","v":0},"Reportable"]
["PCS BUSINESS SYSTEMS LTD",26868,null,"N","N",true,"GB","Y","PRIVATE SECTOR","NN16 9QJ",null,null,"KETTERING NN16",64209,64,"Financial services, except insurance and pension funding         ",0.1103075939416239,null,null,null,null,null,null,null,null,16188.02,"*",null,{"$f":"VLOOKUP(A5960,'[1]Update Sheet'!$A$3:$Y$15578,25,FALSE)","v":0},"Reportable"]
["PYRAMID HYGIENE",13459,1,"Y","Y",true,"GB","Y","PRIVATE SECTOR","NP44 1UH","South East Wales","Aneurin Bevan UHB","CARDIFF CF3",32990,32,"Other manufactured goods             ",0.67238249414981133,null,null,null,null,null,null,null,null,15972,"*",null,{"$f":"VLOOKUP(A5985,'[1]Update Sheet'!$A$3:$Y$15578,25,FALSE)","v":0},"Reportable"]
["RHINO ENGINEERING LTD",12629,null,"N","N",true,"GB","Y","PRIVATE SECTOR","CH3 5JA",null,null,"ESTATES",25120,"25OTHER","Fabricated metal products, excl. machinery and equipment and weapons & ammunition - 25.1-3/25.5-9   ",0.45904169551503349,null,null,null,null,null,null,null,null,15846.68,"*",null,{"$f":"VLOOKUP(A6004,'[1]Update Sheet'!$A$3:$Y$15578,25,FALSE)","v":0},"Reportable"]
["NETWORK FOR PRACTICES LTD",63541,null,"N","N",true,"GB","Y","PRIVATE SECTOR","BA14 7PT",null,null,"TROWBRIDGE BA14",85590,85,"Education services              ",0.10257966678326461,null,null,null,null,null,null,null,null,15715,"*",null,{"$f":"VLOOKUP(A6023,'[1]Update Sheet'!$A$3:$Y$15578,25,FALSE)","v":0},"Reportable"]
["ALWYN L PARRY LTD",58497,1,"Y","Y",true,"GB","Y","PRIVATE SECTOR","LL55 3AR","North Wales","Betsi Cadwaladr UHB","CAERNARFO LL55",86210,86,"Human health services             ",0.29193168620018201,null,null,null,null,null,null,null,null,15510.06,"*",null,{"$f":"VLOOKUP(A6048,'[1]Update Sheet'!$A$3:$Y$15578,25,FALSE)","v":0},"Reportable"]
["CHARLES E SERAFINI",63939,1,"Y","Y",true,"GB","N","PRIVATE SECTOR","NP18 2DZ","South East Wales","Aneurin Bevan UHB","NEWPORT NP18",7487,74,"Other professional, scientific and technical services          ",0.19142587698446711,null,null,null,null,null,null,null,null,15360.99,"*",null,{"$f":"VLOOKUP(A6067,'[1]Update Sheet'!$A$3:$Y$15578,25,FALSE)","v":0},"Reportable"]
["NARBERTH & DIST COMMUNITY & SPORTS ASSOC",35597,1,"Y","Y",true,"GB","Y","VCSE","SA67 7ES","South West Wales","Swansea Bay UHB","NARBERTH SA67",93290,93,"Sports services and amusement and recreation services         ",0.22280360830166321,null,null,null,null,null,null,null,null,15222.5,"*",null,{"$f":"VLOOKUP(A6086,'[1]Update Sheet'!$A$3:$Y$15578,25,FALSE)","v":0},"Reportable"]
["PRO-MOTO EUROPE LTD",71576,null,"N","N",true,"GB","Y","PRIVATE SECTOR","GU12 5RT",null,null,"SURREY GU12",85320,85,"Education services              ",0.10257966678326461,null,null,null,null,null,null,null,null,15118,"*",null,{"$f":"VLOOKUP(A6092,'[1]Update Sheet'!$A$3:$Y$15578,25,FALSE)","v":0},"Reportable"]
["BRYN MEADOWS",38615,1,"Y","Y",true,"GB","Y","PRIVATE SECTOR","CF82 7SN","South East Wales","Aneurin Bevan UHB","CAERPHILL CF82",55100,55,"Accommodation services              ",0.32444602703376968,null,null,null,null,null,null,null,null,14935,"*",null,{"$f":"VLOOKUP(A6111,'[1]Update Sheet'!$A$3:$Y$15578,25,FALSE)","v":0},"Reportable"]
["COWENS",31112,null,"N","N",true,"GB","Y","PRIVATE SECTOR","NG18 1EU",null,null,"MANSFIELDS NG18",13950,13,"Textiles               ",0.77085168361943579,null,null,null,null,null,null,null,null,14745.92,"*",null,{"$f":"VLOOKUP(A6136,'[1]Update Sheet'!$A$3:$Y$15578,25,FALSE)","v":0},"Reportable"]
["C.V.A.D LTD",74149,1,"Y","Y",true,"GB","Y","PRIVATE SECTOR","LL29 7RL","North Wales","Betsi Cadwaladr UHB","COLWYN BAY LL29",61100,61,"Telecommunications services              ",0.10520703191029331,null,null,null,null,null,null,null,null,14574,"*",null,{"$f":"VLOOKUP(A6155,'[1]Update Sheet'!$A$3:$Y$15578,25,FALSE)","v":0},"Reportable"]
["DAVIS SCHOTTLANDER & DAVIES LTD",436,null,"N","N",true,"GB","Y","PRIVATE SECTOR","SG6 2WD",null,null,"LETCHWORT SG6",86230,86,"Human health services             ",0.29193168620018201,null,null,null,null,null,null,null,null,14449.14,"*",null,{"$f":"VLOOKUP(A6168,'[1]Update Sheet'!$A$3:$Y$15578,25,FALSE)","v":0},"Reportable"]
["MELIN COMMUNITY TRUST",73489,1,"Y","Y",true,"GB","Y","VCSE","SA11 1AP","South West Wales","Swansea Bay UHB","NEATH SA11",94990,94,"Services furnished by membership organisations           ",0.1210358880635142,null,null,null,null,null,null,null,null,14045,"*",null,{"$f":"VLOOKUP(A6198,'[1]Update Sheet'!$A$3:$Y$15578,25,FALSE)","v":0},"Reportable"]
["EXETER CARE DEVELOPMENTS LTD",77316,null,"N","N",true,"GB","Y","PRIVATE SECTOR","SL1 7LW",null,null,"BURNHAM SL1",87900,87,"Residential care services             ",0.16514437058930551,null,null,null,null,null,null,null,null,13928.57,"*",null,{"$f":"VLOOKUP(A6217,'[1]Update Sheet'!$A$3:$Y$15578,25,FALSE)","v":0},"Reportable"]
["NHS DONCASTER CCG",52196,0,null,null,null,"GB","N","PUBLIC SECTOR",null,null,null,"WAKEFIELD WF3",null,null,null,null,null,null,null,null,null,null,null,null,0,null,null,{"$f":"VLOOKUP(A6223,'[1]Update Sheet'!$A$3:$Y$15578,25,FALSE)","v":"Public Sector- Exclude"},"Exclude- Intra NHS "]
["NEIL ALLEN",43433,null,"N","N",true,"GB","Y","PRIVATE SECTOR","M13 9PL",null,null,"MANCHESTE M13",7487,74,"Other professional, scientific and technical services          ",0.19142587698446711,null,null,null,null,null,null,null,null,13680,"*",null,{"$f":"VLOOKUP(A6242,'[1]Update Sheet'!$A$3:$Y$15578,25,FALSE)","v":0},"Reportable"]
["RP TAXIS",69401,1,"Y","Y",true,"GB","Y","PRIVATE SECTOR","NP23 7RH","South East Wales","Aneurin Bevan UHB","EBBW VALE NP23",49320,"49.3-5","Land transport services and transport services via pipelines, excluding rail transport     ",0.60315703544097854,null,null,null,null,null,null,null,null,13543.2,"*",null,{"$f":"VLOOKUP(A6261,'[1]Update Sheet'!$A$3:$Y$15578,25,FALSE)","v":0},"Reportable"]
["INSTITUTE OF BIOMEDICAL SCIENCE (PROFESSIONAL SERVICES) LTD",66579,null,"N","N",true,"GB","Y","PRIVATE SECTOR","EC1R 5HL",null,null,"LONDON EC1R",82990,82,"Office administrative, office support and other business support services       ",0.1180504360352973,null,null,null,null,null,null,null,null,13347.12,"*",null,{"$f":"VLOOKUP(A6286,'[1]Update Sheet'!$A$3:$Y$15578,25,FALSE)","v":0},"Reportable"]
["DR A FLETCHER",57446,null,"N","N",true,"GB","N","PRIVATE SECTOR","S5 7AU",null,null,"SHEFFIELD S5",86210,86,"Human health services             ",0.29193168620018201,null,null,null,null,null,null,null,null,13232.4,"*",null,{"$f":"VLOOKUP(A6305,'[1]Update Sheet'!$A$3:$Y$15578,25,FALSE)","v":0},"Reportable"]
["VIKING OFFICE UK LTD",72686,null,"N","N",true,"GB","N","PRIVATE SECTOR","LE4 2BN",null,null,"LEICESTER LE4",47910,47,"Retail trade services, except of motor vehicles and motorcycles       ",0.17404287306456559,2022,{"$f":"392*1000","v":392000},{"$f":"858*1000","v":858000},{"$f":"3039*1000","v":3039000},{"$f":"SUM(S6324:U6324)","v":4289000},{"$f":"40463*1000","v":40463000},{"$f":"V6324/W6324","v":0.10599807231297728},null,13022.31,"*",null,{"$f":"VLOOKUP(A6324,'[1]Update Sheet'!$A$3:$Y$15578,25,FALSE)","v":"In Master List"},"Reportable"]
["LEARNQUEST SRO",76621,null,"N","N",true,"GB","N","PRIVATE SECTOR","110 00 PRAHA 1",null,null,"FOREIGN",85000,85,"Education services              ",0.10257966678326461,null,null,null,null,null,null,null,null,12800,"*",null,{"$f":"VLOOKUP(A6349,'[1]Update Sheet'!$A$3:$Y$15578,25,FALSE)","v":0},"Reportable"]
["INSTITUTE OF PHYSICS & ENGINEERING IN MEDICINE",734,null,"N","N",true,"GB","Y","PRIVATE SECTOR","YO24 1ES",null,null,"YORK YO24",58110,58,"Publishing services              ",8.0219457227851232E-2,null,null,null,null,null,null,null,null,12638,"*",null,{"$f":"VLOOKUP(A6368,'[1]Update Sheet'!$A$3:$Y$15578,25,FALSE)","v":0},"Reportable"]
["APPLIED POWER SERVICES (S WESTERN) LTD",20096,1,"Y","Y",true,"GB","N","PRIVATE SECTOR","CF40 1JS","South East Wales","Cwm Taf Morgannwg UHB","TONYPANDY CF40",42220,41.2,"Buildings and building construction works           ",0.30500636264243469,null,null,null,null,null,null,null,null,12614.4,"*",null,{"$f":"VLOOKUP(A6374,'[1]Update Sheet'!$A$3:$Y$15578,25,FALSE)","v":0},"Reportable"]
["NHS DUMFRIES AND GALLOWAY",11339,0,null,null,null,"GB","N","PUBLIC SECTOR","DG1 4TG",null,null,"DUMFRIES DG1",null,null,null,null,null,null,null,null,null,null,null,null,13884,"*",null,{"$f":"VLOOKUP(A6393,'[1]Update Sheet'!$A$3:$Y$15578,25,FALSE)","v":"Public Sector- Exclude"},"Exclude- Intra NHS "]
["PRECISION HYGIENE LTD T/A SPOONSHINE",64198,null,"N","N",true,"GB","Y","PRIVATE SECTOR","EX1 1NT",null,null,"NEWTON ABB TQ12",47990,47,"Retail trade services, except of motor vehicles and motorcycles       ",0.17404287306456559,null,null,null,null,null,null,null,null,12292.8,"*",null,{"$f":"VLOOKUP(A6412,'[1]Update Sheet'!$A$3:$Y$15578,25,FALSE)","v":0},"Reportable"]
["PITMAN TRAINING",52480,1,"Y","Y",true,"GB","Y","PRIVATE SECTOR","CF10 1BS","South East Wales","Cardiff and Vale UHB","CARDIFF CF10",74990,74,"Other professional, scientific and technical services          ",0.19142587698446711,null,null,null,null,null,null,null,null,12132.75,"*",null,{"$f":"VLOOKUP(A6437,'[1]Update Sheet'!$A$3:$Y$15578,25,FALSE)","v":0},"Reportable"]
["JACK ALLEN CONTACT LENSES",781,null,"N","N",true,"GB","Y","PRIVATE SECTOR","EN3 4LQ",null,null,"ENFIELD EN3",62012,62,"Computer programming, consultancy and related services          ",0.13144659704407699,null,null,null,null,null,null,null,null,12008.4,"*",null,{"$f":"VLOOKUP(A6456,'[1]Update Sheet'!$A$3:$Y$15578,25,FALSE)","v":0},"Reportable"]
["365 HEALTHCARE",25542,null,"N","N",true,"GB","N","PRIVATE SECTOR","W1W 5PF",null,null,{"$error":"#N/A"},87200,87,"Residential care services             ",0.16514437058930551,null,null,null,null,null,null,null,null,0,null,null,{"$f":"VLOOKUP(A6481,'[1]Update Sheet'!$A$3:$Y$15578,25,FALSE)","v":{"$error":"#N/A"}},"Reportable"]
["ARDEN ORTHOTICS",4921,null,"N","N",true,"GB","Y","PRIVATE SECTOR","B11 1TB",null,null,"ORTHOTICS",15200,15,"Leather and related products            ",0.73443478334510204,null,null,null,null,null,null,null,null,11675.07,"*",null,{"$f":"VLOOKUP(A6500,'[1]Update Sheet'!$A$3:$Y$15578,25,FALSE)","v":0},"Reportable"]
["VICARAGE CARE LTD",39980,null,"N","N",true,"GB","Y","PRIVATE SECTOR","SY3 0EA",null,null,"SHREWSBUR SY3",87300,87,"Residential care services             ",0.16514437058930551,null,null,null,null,null,null,null,null,11550,"*",null,{"$f":"VLOOKUP(A6519,'[1]Update Sheet'!$A$3:$Y$15578,25,FALSE)","v":0},"Reportable"]
["DR HUW OWEN",65527,1,"Y","Y",true,"GB","N","PRIVATE SECTOR","SA15 5TR","South West Wales","Hywel Dda UHB","PONTYATES SA15",86210,86,"Human health services             ",0.29193168620018201,null,null,null,null,null,null,null,null,11500,"*",null,{"$f":"VLOOKUP(A6525,'[1]Update Sheet'!$A$3:$Y$15578,25,FALSE)","v":0},"Reportable"]
["PROTAK SCIENTIFIC LTD",74643,null,"N","N",true,"GB","Y","PRIVATE SECTOR","RH1 2NL",null,null,"REDHILL RH1",21100,21,"Basic pharmaceutical products and pharmaceutical preparations          ",0.62099518156965727,null,null,null,null,null,null,null,null,11444.37,"*",null,{"$f":"VLOOKUP(A6544,'[1]Update Sheet'!$A$3:$Y$15578,25,FALSE)","v":0},"Reportable"]
["MYPAY LTD",75561,null,"N","N",true,"GB","Y","PRIVATE SECTOR","SK8 2EA",null,null,"CHEADLE SK8",82990,82,"Office administrative, office support and other business support services       ",0.1180504360352973,null,null,null,null,null,null,null,null,11340,"*",null,{"$f":"VLOOKUP(A6563,'[1]Update Sheet'!$A$3:$Y$15578,25,FALSE)","v":0},"Reportable"]
["POLARIS ELECTRICAL SOLUTIONS LTD",70337,1,"Y","Y",true,"GB","Y","PRIVATE SECTOR","SA14 9PZ","South West Wales","Hywel Dda UHB","LLANELLI SA14",43210,42.99,"Specialised construction works             ",0.31026786628535008,null,null,null,null,null,null,null,null,11209.06,"*",null,{"$f":"VLOOKUP(A6588,'[1]Update Sheet'!$A$3:$Y$15578,25,FALSE)","v":0},"Reportable"]
["SILVALEA LTD",7913,null,"N","N",true,"GB","N","PRIVATE SECTOR","TQ12 5LZ",null,null,"NEWTON AB TQ12",32990,32,"Other manufactured goods             ",0.67238249414981133,null,null,null,null,null,null,null,null,11069.4,"*",null,{"$f":"VLOOKUP(A6607,'[1]Update Sheet'!$A$3:$Y$15578,25,FALSE)","v":0},"Reportable"]
["NOTICEBOARD TV LTD",59712,null,"N","N",true,"GB","N","PRIVATE SECTOR","OX11 9DY",null,null,"DIDCOT OX11",62011,62,"Computer programming, consultancy and related services          ",0.13144659704407699,null,null,null,null,null,null,null,null,10886.4,"*",null,{"$f":"VLOOKUP(A6632,'[1]Update Sheet'!$A$3:$Y$15578,25,FALSE)","v":0},"Reportable"]
["J&S EVANS DENTAL LABORATORY",47535,1,"Y","Y",true,"GB","Y","PRIVATE SECTOR","SA69 9BP","South West Wales","Swansea Bay UHB","SAUNDERSF SA69",86230,86,"Human health services             ",0.29193168620018201,null,null,null,null,null,null,null,null,10795.5,"*",null,{"$f":"VLOOKUP(A6651,'[1]Update Sheet'!$A$3:$Y$15578,25,FALSE)","v":0},"Reportable"]
["NICHOLAS MORLEY",66721,1,"Y","Y",true,"GB","N","PRIVATE SECTOR","CF14 2TL","South East Wales","Cardiff and Vale UHB","CARDIFF CF14",7487,74,"Other professional, scientific and technical services          ",0.19142587698446711,null,null,null,null,null,null,null,null,10691,"*",null,{"$f":"VLOOKUP(A6670,'[1]Update Sheet'!$A$3:$Y$15578,25,FALSE)","v":0},"Reportable"]
["INVIVOSCRIBE TECHNOLOGIES SARL",26610,null,"N","N",true,"FR","N","PRIVATE SECTOR","FRANCE",null,null,"FRANCE",86000,86,"Human health services             ",0.29193168620018201,null,null,null,null,null,null,null,null,41109.800000000003,"*",null,{"$f":"VLOOKUP(A6676,'[1]Update Sheet'!$A$3:$Y$15578,25,FALSE)","v":0},"Reportable"]
["TECH SERVICES HVAC LTD",69703,null,"N","N",true,"GB","Y","PRIVATE SECTOR","PO2 0TH",null,null,"PORTSMOU SA12",43210,42.99,"Specialised construction works             ",0.31026786628535008,null,null,null,null,null,null,null,null,10510.8,"*",null,{"$f":"VLOOKUP(A6695,'[1]Update Sheet'!$A$3:$Y$15578,25,FALSE)","v":0},"Reportable"]
["GOFAL A THRWSIO GWYNEDD A MON",40060,1,"Y","Y",true,"GB","Y","VCSE","LL57 4BL","North Wales","Betsi Cadwaladr UHB","LLANGEFNI LL7",88100,88,"Social work services without accommodation           ",0.12926092802643949,null,null,null,null,null,null,null,null,10404,"*",null,{"$f":"VLOOKUP(A6714,'[1]Update Sheet'!$A$3:$Y$15578,25,FALSE)","v":0},"Reportable"]
["NOVAR SYSTEMS LTD",2455,null,"N","N",true,"GB","N","PRIVATE SECTOR","LE5 1TN",null,null,"ESTATES",82990,82,"Office administrative, office support and other business support services       ",0.1180504360352973,null,null,null,null,null,null,null,null,10217.620000000001,"*",null,{"$f":"VLOOKUP(A6739,'[1]Update Sheet'!$A$3:$Y$15578,25,FALSE)","v":0},"Reportable"]
["DIG INCLUSION LTD",72526,null,"N","N",true,"GB","Y","PRIVATE SECTOR","B2 5AL",null,null,"BIRMINGHA B2",82990,82,"Office administrative, office support and other business support services       ",0.1180504360352973,null,null,null,null,null,null,null,null,10080,"*",null,{"$f":"VLOOKUP(A6758,'[1]Update Sheet'!$A$3:$Y$15578,25,FALSE)","v":0},"Reportable"]
["MORGANS HOTELS LTD",52232,1,"Y","Y",true,"GB","N","PRIVATE SECTOR","SA1 1RR","South West Wales","Swansea Bay UHB","SWANSEA SA1",55100,55,"Accommodation services              ",0.32444602703376968,null,null,null,null,null,null,null,null,9932.25,"*",null,{"$f":"VLOOKUP(A6783,'[1]Update Sheet'!$A$3:$Y$15578,25,FALSE)","v":0},"Reportable"]
["WASTE TRANSFER SYSTEMS LTD",44621,null,"N","N",true,"GB","Y","PRIVATE SECTOR","CF72 8NL",null,null,"PONTYCLUN CF72",70229,70,"Services of head offices; management consulting services         ",9.3681183759862049E-2,null,null,null,null,null,null,null,null,9816,"*",null,{"$f":"VLOOKUP(A6802,'[1]Update Sheet'!$A$3:$Y$15578,25,FALSE)","v":0},"Reportable"]
["TENDERLEAF LTD",76245,1,"Y","Y",true,"GB","Y","PRIVATE SECTOR","SA8 3EQ","South West Wales","Swansea Bay UHB","PONTARDAW SA8",1300,1,"Products of agriculture, hunting and related services         ",1.9737351574869011,null,null,null,null,null,null,null,null,9714,"*",null,{"$f":"VLOOKUP(A6821,'[1]Update Sheet'!$A$3:$Y$15578,25,FALSE)","v":0},"Reportable"]
["ORAL HEALTH FOUNDATION",3095,null,"N","N",true,"GB","Y","VCSE","CV22 6AJ",null,null,"RUGBY CV22",85320,85,"Education services              ",0.10257966678326461,null,null,null,null,null,null,null,null,9683.17,"*",null,{"$f":"VLOOKUP(A6827,'[1]Update Sheet'!$A$3:$Y$15578,25,FALSE)","v":0},"Reportable"]
["SPLICE CAST LTD",52210,1,"Y","Y",true,"GB","Y","PRIVATE SECTOR","SY16 4LE","Mid Wales","Powys Teaching HB","NEWTOWN SY16",22290,22,"Rubber and plastic products            ",0.57621788964022036,null,null,null,null,null,null,null,null,9550.6999999999989,"*",null,{"$f":"VLOOKUP(A6846,'[1]Update Sheet'!$A$3:$Y$15578,25,FALSE)","v":0},"Reportable"]
["EMDR EQUIPMENT 2022 LTD",74369,null,"N","N",true,"GB","Y","PRIVATE SECTOR","GL3 4EB",null,null,"GLOUCESTER GL3",26110,26,"Computer, electronic and optical products           ",0.38174938765811312,null,null,null,null,null,null,null,null,9439.6999999999989,"*",null,{"$f":"VLOOKUP(A6871,'[1]Update Sheet'!$A$3:$Y$15578,25,FALSE)","v":0},"Reportable"]
["POWLSONS LTD",53395,1,"Y","Y",true,"GB","Y","PRIVATE SECTOR","LL29 7SD","North Wales","Betsi Cadwaladr UHB","COLWYN BA LL29",18129,18,"Printing and recording services            ",0.38173396113307168,null,null,null,null,null,null,null,null,9333.380000000001,"*",null,{"$f":"VLOOKUP(A6890,'[1]Update Sheet'!$A$3:$Y$15578,25,FALSE)","v":0},"Reportable"]
["FRESHWATER UK REGIONS LTD",72489,1,"Y","Y",true,"GB","Y","PRIVATE SECTOR","CF23 8BA","South East Wales","Cardiff and Vale UHB","CARDIFF CF23",70210,70,"Services of head offices; management consulting services         ",9.3681183759862049E-2,null,null,null,null,null,null,null,null,9246,"*",null,{"$f":"VLOOKUP(A6909,'[1]Update Sheet'!$A$3:$Y$15578,25,FALSE)","v":0},"Reportable"]
["MINSTER CLEANING SERVICES",36841,1,"Y","Y",true,"GB","Y","PRIVATE SECTOR","CF23 9AF","South East Wales","Cardiff and Vale UHB","CARDIFF CF23",74990,74,"Other professional, scientific and technical services          ",0.19142587698446711,null,null,null,null,null,null,null,null,9162.25,"*",null,{"$f":"VLOOKUP(A6934,'[1]Update Sheet'!$A$3:$Y$15578,25,FALSE)","v":0},"Reportable"]
["LAYTON MEDICAL SERVICES LTD",60168,null,"N","N",true,"GB","Y","PRIVATE SECTOR","BS9 3LX",null,null,"BRISTOL BS9",86220,86,"Human health services             ",0.29193168620018201,null,null,null,null,null,null,null,null,9056.06,"*",null,{"$f":"VLOOKUP(A6953,'[1]Update Sheet'!$A$3:$Y$15578,25,FALSE)","v":0},"Reportable"]
["SHARLENE LEWIS",75817,1,"Y","Y",true,"GB","Y","PRIVATE SECTOR","CF35 6AT","South East Wales","Cwm Taf Morgannwg UHB","COITY CF35",86102,86,"Human health services             ",0.29193168620018201,null,null,null,null,null,null,null,null,8950,"*",null,{"$f":"VLOOKUP(A6972,'[1]Update Sheet'!$A$3:$Y$15578,25,FALSE)","v":0},"Reportable"]
["GEORGE BROS OF SWANSEA",21009,1,"Y","Y",true,"GB","Y","PRIVATE SECTOR","SA5 8LE","South West Wales","Swansea Bay UHB","SWANSEA SA5",52290,52,"Warehousing and support services for transportation          ",0.24376795453982661,null,null,null,null,null,null,null,null,8844,"*",null,{"$f":"VLOOKUP(A6997,'[1]Update Sheet'!$A$3:$Y$15578,25,FALSE)","v":0},"Reportable"]
["SAMANTHA BURRAGE",65193,null,"N","N",true,"GB","Y","PRIVATE SECTOR","CH4 7HB",null,null,"CHESTER CH4",96090,96,"Other personal services             ",7.6712791957121843E-2,null,null,null,null,null,null,null,null,8750,"*",null,{"$f":"VLOOKUP(A7016,'[1]Update Sheet'!$A$3:$Y$15578,25,FALSE)","v":0},"Reportable"]
["GMC CONSULTANCY SERVICES",37524,1,"Y","Y",true,"GB","Y","PRIVATE SECTOR","CF65 6NQ","South East Wales","Cwm Taf Morgannwg UHB","CARDIFF CF15",70229,70,"Services of head offices; management consulting services         ",9.3681183759862049E-2,null,null,null,null,null,null,null,null,8740,"*",null,{"$f":"VLOOKUP(A7022,'[1]Update Sheet'!$A$3:$Y$15578,25,FALSE)","v":0},"Reportable"]
["ELITE AERIAL SERVICES LTD",11773,1,"Y","Y",true,"GB","Y","PRIVATE SECTOR","SA5 4HH","South West Wales","Swansea Bay UHB","SWANSEA SA5",43999,42.99,"Specialised construction works             ",0.31026786628535008,null,null,null,null,null,null,null,null,8632.3700000000008,"*",null,{"$f":"VLOOKUP(A7053,'[1]Update Sheet'!$A$3:$Y$15578,25,FALSE)","v":0},"Reportable"]
["ZURICH MANAGEMENT SERVICES LTD",16260,null,"N","N",true,"GB","N","PRIVATE SECTOR","SN4 4FJ",null,null,"FAREHAM PO15",82990,82,"Office administrative, office support and other business support services       ",0.1180504360352973,null,null,null,null,null,null,null,null,8592.6,"*",null,{"$f":"VLOOKUP(A7059,'[1]Update Sheet'!$A$3:$Y$15578,25,FALSE)","v":0},"Reportable"]
["ICM SERVICES",18309,1,"Y","Y",true,"GB","Y","PRIVATE SECTOR","NP24 6JN","South East Wales","Aneurin Bevan UHB","NEW TREDE NP24",82990,82,"Office administrative, office support and other business support services       ",0.1180504360352973,null,null,null,null,null,null,null,null,8500,"*",null,{"$f":"VLOOKUP(A7084,'[1]Update Sheet'!$A$3:$Y$15578,25,FALSE)","v":0},"Reportable"]
["SOUNDESIGN",23345,null,"N","N",true,"GB","N","PRIVATE SECTOR","SY11 4PB",null,null,"WREXHAM LL14",59200,59,"Motion picture, video and TV programme production services, sound recording & music publishing   ",0.1101389562964399,null,null,null,null,null,null,null,null,8424.6,"*",null,{"$f":"VLOOKUP(A7103,'[1]Update Sheet'!$A$3:$Y$15578,25,FALSE)","v":0},"Reportable"]
["PWIDF LTD",13252,1,"Y","Y",true,"GB","Y","PRIVATE SECTOR","NP19 4ED","South East Wales","Aneurin Bevan UHB","NEWPORT NP19",43999,42.99,"Specialised construction works             ",0.31026786628535008,null,null,null,null,null,null,null,null,8375.0300000000007,"*",null,{"$f":"VLOOKUP(A7122,'[1]Update Sheet'!$A$3:$Y$15578,25,FALSE)","v":0},"Reportable"]
["VM ORTHOTICS LTD",19519,null,"N","N",true,"GB","Y","PRIVATE SECTOR","IP19 8QJ",null,null,"HALESWORT IP19",46760,46,"Wholesale trade services, except of motor vehicles and motorcycles       ",2.0310031510736858E-2,null,null,null,null,null,null,null,null,8248.44,"*",null,{"$f":"VLOOKUP(A7147,'[1]Update Sheet'!$A$3:$Y$15578,25,FALSE)","v":0},"Reportable"]
["ATS BUSINESS MACHINES",14875,1,"Y","Y",true,"GB","Y","PRIVATE SECTOR","CF24 4LE","South East Wales","Cardiff and Vale UHB","CARDIFF CF24",28302,28,"Machinery and equipment n.e.c.            ",0.33561667817643598,null,null,null,null,null,null,null,null,8178,"*",null,{"$f":"VLOOKUP(A7166,'[1]Update Sheet'!$A$3:$Y$15578,25,FALSE)","v":0},"Reportable"]
["WYNNSTAY ARMS HOTEL",10088,1,"Y","Y",true,"GB","N","PRIVATE SECTOR","LL14 6BL","North Wales","Betsi Cadwaladr UHB","WREXHAM LL14",96090,96,"Other personal services             ",7.6712791957121843E-2,null,null,null,null,null,null,null,null,8136.3000000000011,"*",null,{"$f":"VLOOKUP(A7172,'[1]Update Sheet'!$A$3:$Y$15578,25,FALSE)","v":0},"Reportable"]
["AHS (SPECIALIST SERVICES) LTD",58101,null,"N","N",true,"GB","N","PRIVATE SECTOR","DL4 1QB",null,null,"ESTATES",43220,42.99,"Specialised construction works             ",0.31026786628535008,null,null,null,null,null,null,null,null,8076.6399999999994,"*",null,{"$f":"VLOOKUP(A7191,'[1]Update Sheet'!$A$3:$Y$15578,25,FALSE)","v":0},"Reportable"]
["INTERFACE METRIX LTD TA FIRST TEN ANGSTROMS",73408,null,"N","N",true,"GB","N","PRIVATE SECTOR","CB4 0WS",null,null,"CAMBRIDGE CB4",96090,96,"Other personal services             ",7.6712791957121843E-2,null,null,null,null,null,null,null,null,8020,"*",null,{"$f":"VLOOKUP(A7210,'[1]Update Sheet'!$A$3:$Y$15578,25,FALSE)","v":0},"Reportable"]
["NEATER SOLUTIONS LTD",2051,null,"N","N",true,"GB","Y","PRIVATE SECTOR","SK17 9AL",null,null,"BUXTON SK17",32990,32,"Other manufactured goods             ",0.67238249414981133,null,null,null,null,null,null,null,null,7926,"*",null,{"$f":"VLOOKUP(A7235,'[1]Update Sheet'!$A$3:$Y$15578,25,FALSE)","v":0},"Reportable"]
["CORRMED LTD",71306,null,"N","N",true,"GB","Y","PRIVATE SECTOR","GL19 3HJ",null,null,"HUNTLEY GL19",74909,74,"Other professional, scientific and technical services          ",0.19142587698446711,null,null,null,null,null,null,null,null,7846.8,"*",null,{"$f":"VLOOKUP(A7254,'[1]Update Sheet'!$A$3:$Y$15578,25,FALSE)","v":0},"Reportable"]
["LYON EQUIPMENT LTD",53549,null,"N","N",true,"GB","Y","PRIVATE SECTOR","CA10 3SS",null,null,"PENRITH CA10",14190,14,"Wearing apparel              ",0.79124467818111843,null,null,null,null,null,null,null,null,7735.69,"*",null,{"$f":"VLOOKUP(A7279,'[1]Update Sheet'!$A$3:$Y$15578,25,FALSE)","v":0},"Reportable"]
["DR DAVID MCKEAN",53762,null,"N","N",true,"GB","N","PRIVATE SECTOR","EH6 7BF",null,null,"EDINBURGH EH6",86210,86,"Human health services             ",0.29193168620018201,null,null,null,null,null,null,null,null,7680,"*",null,{"$f":"VLOOKUP(A7298,'[1]Update Sheet'!$A$3:$Y$15578,25,FALSE)","v":0},"Reportable"]
["SIGNALONG THE COMMUNICATION CHARITY",15995,null,"N","N",true,"GB","Y","VCSE","NR10 4FE",null,null,"NORWICH NR10",85590,85,"Education services              ",0.10257966678326461,null,null,null,null,null,null,null,null,7629.5,"*",null,{"$f":"VLOOKUP(A7317,'[1]Update Sheet'!$A$3:$Y$15578,25,FALSE)","v":0},"Reportable"]
["CORRIE WILLIAMS TA APPAREL SOURCING AGENCY",68468,1,"Y","Y",true,"GB","Y","PRIVATE SECTOR","SA69 9PA","South West Wales","Swansea Bay UHB","SAUNDERSF SA69",14120,14,"Wearing apparel              ",0.79124467818111843,null,null,null,null,null,null,null,null,7605.6,"*",null,{"$f":"VLOOKUP(A7323,'[1]Update Sheet'!$A$3:$Y$15578,25,FALSE)","v":0},"Reportable"]
["OLD OAK DENTAL PRACTICE",76192,1,"Y","Y",true,"GB","Y","PRIVATE SECTOR","SA31 2NF","South West Wales","Hywel Dda UHB","CARMARTHE SA31",86230,86,"Human health services             ",0.29193168620018201,null,null,null,null,null,null,null,null,7548.06,"*",null,{"$f":"VLOOKUP(A7342,'[1]Update Sheet'!$A$3:$Y$15578,25,FALSE)","v":0},"Reportable"]
["POSITIVE MEDIA PROMOTIONS LTD",58856,null,"N","N",true,"GB","Y","PRIVATE SECTOR","LE19 4SA",null,null,"LEICESTER LE19",73120,73,"Advertising and market research services           ",0.1101924211553026,null,null,null,null,null,null,null,null,7491.92,"*",null,{"$f":"VLOOKUP(A7361,'[1]Update Sheet'!$A$3:$Y$15578,25,FALSE)","v":0},"Reportable"]
["THE PURPLE COMPANY UK LTD",73223,null,"N","N",true,"GB","Y","VCSE","EX2 8RU",null,null,"EXETER EX2",82990,82,"Office administrative, office support and other business support services       ",0.1180504360352973,null,null,null,null,null,null,null,null,7373.4,"*",null,{"$f":"VLOOKUP(A7386,'[1]Update Sheet'!$A$3:$Y$15578,25,FALSE)","v":0},"Reportable"]
["HARBOUR BLINDS AND SHUTTERS",72412,1,"Y","Y",true,"GB","Y","PRIVATE SECTOR","SA73 2QJ","South West Wales","Swansea Bay UHB","MILFORD SA73",47510,47,"Retail trade services, except of motor vehicles and motorcycles       ",0.17404287306456559,null,null,null,null,null,null,null,null,7316,"*",null,{"$f":"VLOOKUP(A7405,'[1]Update Sheet'!$A$3:$Y$15578,25,FALSE)","v":0},"Reportable"]
["ST MARGARETS CHURCH & COMMUNITY HALL",58762,1,"Y","Y",true,"GB","Y","VCSE","LL11 2SH","North Wales","Betsi Cadwaladr UHB","WREXHAM LL11",94910,94,"Services furnished by membership organisations           ",0.1210358880635142,null,null,null,null,null,null,null,null,7207,"*",null,{"$f":"VLOOKUP(A7430,'[1]Update Sheet'!$A$3:$Y$15578,25,FALSE)","v":0},"Reportable"]
["CARE AND REPAIR CARMARTHENSHIRE",77122,1,"Y","Y",true,"GB","Y","VCSE","SA15 3YF","South West Wales","Hywel Dda UHB","LLANELLI SA15",88990,88,"Social work services without accommodation           ",0.12926092802643949,null,null,null,null,null,null,null,null,7160.1,"*",null,{"$f":"VLOOKUP(A7449,'[1]Update Sheet'!$A$3:$Y$15578,25,FALSE)","v":0},"Reportable"]
["DR ESM WILTSHIRE",59264,1,"Y","Y",true,"GB","N","PRIVATE SECTOR","CF14 2DY","South East Wales","Cardiff and Vale UHB","CARDIFF CF14",86900,86,"Human health services             ",0.29193168620018201,null,null,null,null,null,null,null,null,7060,"*",null,{"$f":"VLOOKUP(A7468,'[1]Update Sheet'!$A$3:$Y$15578,25,FALSE)","v":0},"Reportable"]
["ACADEMY COFFEE LTD",77033,1,"Y","Y",true,"GB","Y","PRIVATE SECTOR","CF62 6RR","South East Wales","Cardiff and Vale UHB","BARRY CF62",56101,56,"Food and beverage serving services           ",0.28886167518608219,null,null,null,null,null,null,null,null,7031,"*",null,{"$f":"VLOOKUP(A7474,'[1]Update Sheet'!$A$3:$Y$15578,25,FALSE)","v":0},"Reportable"]
["CCW ELECTRICAL LTD",56238,1,"Y","Y",true,"GB","Y","PRIVATE SECTOR","SA15 5BX","South West Wales","Hywel Dda UHB","LLANELLI SA15",33130,"33OTHER","Rest of repair; Installation - 33.11-14/17/19/20          ",0.18696882687485539,null,null,null,null,null,null,null,null,6988.7999999999993,"*",null,{"$f":"VLOOKUP(A7493,'[1]Update Sheet'!$A$3:$Y$15578,25,FALSE)","v":0},"Reportable"]
["HIGHFIELD AWARDING BODY FOR COMPLIANCE LTD",63396,null,"N","N",true,"GB","Y","PRIVATE SECTOR","DN2 5TB",null,null,"DONCASTER DN2",84120,84,"Public administration and defence services; compulsory social security services       ",0.1703405261372164,null,null,null,null,null,null,null,null,6886,"*",null,{"$f":"VLOOKUP(A7518,'[1]Update Sheet'!$A$3:$Y$15578,25,FALSE)","v":0},"Reportable"]
["FACULTY OF OCCUPATIONAL MEDICINE",57291,null,"N","N",true,"GB","Y","VCSE","SE10 9FT",null,null,"LONDON WC1X",94120,94,"Services furnished by membership organisations           ",0.1210358880635142,null,null,null,null,null,null,null,null,6820,"*",null,{"$f":"VLOOKUP(A7537,'[1]Update Sheet'!$A$3:$Y$15578,25,FALSE)","v":0},"Reportable"]
["INTERNATIONAL LYMPHOEDEMA FRAMEWORK",75667,null,"N","N",true,"GB","Y","VCSE","B50 4JS",null,null,"BIDFORD B50",72190,72,"Scientific research and development services           ",0.18562764998368861,null,null,null,null,null,null,null,null,6722,"*",null,{"$f":"VLOOKUP(A7556,'[1]Update Sheet'!$A$3:$Y$15578,25,FALSE)","v":0},"Reportable"]
["DR AMEER HAMZA KAPRA",76041,1,"Y","Y",true,"GB","N","PRIVATE SECTOR","NP18 2JS","South East Wales","Aneurin Bevan UHB","PCS PAY",86000,86,"Human health services             ",0.29193168620018201,null,null,null,null,null,null,null,null,6646.5,"*",null,{"$f":"VLOOKUP(A7581,'[1]Update Sheet'!$A$3:$Y$15578,25,FALSE)","v":0},"Reportable"]
["THE SITE SUPPLY COMPANY LTD",68274,null,"N","N",true,"GB","Y","PRIVATE SECTOR","SK4 1QR",null,null,"STOCKPORT SK4",46190,46,"Wholesale trade services, except of motor vehicles and motorcycles       ",2.0310031510736858E-2,null,null,null,null,null,null,null,null,6578.33,"*",null,{"$f":"VLOOKUP(A7600,'[1]Update Sheet'!$A$3:$Y$15578,25,FALSE)","v":0},"Reportable"]
["CALTAG-MEDSYSTEMS LTD",2940,null,"N","N",true,"GB","Y","PRIVATE SECTOR","MK18 1TF",null,null,"BUCKINGHA MK18",82990,82,"Office administrative, office support and other business support services       ",0.1180504360352973,null,null,null,null,null,null,null,null,6516,"*",null,{"$f":"VLOOKUP(A7619,'[1]Update Sheet'!$A$3:$Y$15578,25,FALSE)","v":0},"Reportable"]
["PAULA MCCREARY",75505,1,"Y","Y",true,"GB","Y","PRIVATE SECTOR","SA38 9AJ","South West Wales","Hywel Dda UHB","NEWCASTLE SA38",86000,86,"Human health services             ",0.29193168620018201,null,null,null,null,null,null,null,null,6500,"*",null,{"$f":"VLOOKUP(A7625,'[1]Update Sheet'!$A$3:$Y$15578,25,FALSE)","v":0},"Reportable"]
["TARGET HEALTHCARE LTD",67212,null,"N","N",true,"GB","N","PRIVATE SECTOR","G74 5PA",null,null,"PHARMACY",46460,46,"Wholesale trade services, except of motor vehicles and motorcycles       ",2.0310031510736858E-2,null,null,null,null,null,null,null,null,6446.8600000000006,"*",null,{"$f":"VLOOKUP(A7644,'[1]Update Sheet'!$A$3:$Y$15578,25,FALSE)","v":0},"Reportable"]
["POLICE & CRIME COMMISSIONER FOR NORTH WALES",5386,1,"Y","Y",true,"GB","N","PUBLIC SECTOR","LL29 8AW","North Wales","Betsi Cadwaladr UHB","COLWYN BA LL29",84240,84,"Public administration and defence services; compulsory social security services       ",0.1703405261372164,null,null,null,null,null,null,null,null,6382.5,"*",null,{"$f":"VLOOKUP(A7669,'[1]Update Sheet'!$A$3:$Y$15578,25,FALSE)","v":0},"Reportable"]
["DR CHLOE PATON",74513,1,"Y","Y",true,"GB","N","PRIVATE SECTOR","CF64 1ST","South East Wales","Cardiff and Vale UHB","PCS PAY",86900,86,"Human health services             ",0.29193168620018201,null,null,null,null,null,null,null,null,6330,"*",null,{"$f":"VLOOKUP(A7688,'[1]Update Sheet'!$A$3:$Y$15578,25,FALSE)","v":0},"Reportable"]
["WORKPLACE INTERIORS COMPANY CHELTENHAM LTD",58070,null,"N","N",true,"GB","N","PRIVATE SECTOR","GL51 4XB",null,null,"CHELTENHAM GL51",43290,42.99,"Specialised construction works             ",0.31026786628535008,null,null,null,null,null,null,null,null,6256.7999999999993,"*",null,{"$f":"VLOOKUP(A7707,'[1]Update Sheet'!$A$3:$Y$15578,25,FALSE)","v":0},"Reportable"]
["ABALONE GRAPHICS LTD",55428,null,"N","N",true,"GB","Y","PRIVATE SECTOR","ST4 8HX",null,null,"FENTON ST4",32990,32,"Other manufactured goods             ",0.67238249414981133,null,null,null,null,null,null,null,null,6152.69,"*",null,{"$f":"VLOOKUP(A7732,'[1]Update Sheet'!$A$3:$Y$15578,25,FALSE)","v":0},"Reportable"]
["MALONEY METALCRAFT LTD TA ORMANDY RYCROFT ENGINEERING",67257,null,"N","N",true,"GB","Y","PRIVATE SECTOR","PE16 6SA",null,null,"ESTATES",28990,28,"Machinery and equipment n.e.c.            ",0.33561667817643598,null,null,null,null,null,null,null,null,6093.6,"*",null,{"$f":"VLOOKUP(A7751,'[1]Update Sheet'!$A$3:$Y$15578,25,FALSE)","v":0},"Reportable"]
["SCRUFFY DOG PUBLIC RELATIONS LTD",55752,1,"Y","Y",true,"GB","Y","PRIVATE SECTOR","CF23 5NZ","South East Wales","Cardiff and Vale UHB","CARDIFF CF23",70210,70,"Services of head offices; management consulting services         ",9.3681183759862049E-2,null,null,null,null,null,null,null,null,6000,"*",null,{"$f":"VLOOKUP(A7770,'[1]Update Sheet'!$A$3:$Y$15578,25,FALSE)","v":0},"Reportable"]
["PROTECTS PLUS LTD",74430,null,"N","N",true,"GB","Y","PRIVATE SECTOR","SS11 8DH",null,null,"WICKFORD SS11",96090,96,"Other personal services             ",7.6712791957121843E-2,null,null,null,null,null,null,null,null,5999.76,"*",null,{"$f":"VLOOKUP(A7776,'[1]Update Sheet'!$A$3:$Y$15578,25,FALSE)","v":0},"Reportable"]
["GOODMAN RETAIL LTD",53242,null,"N","N",true,"GB","N","PRIVATE SECTOR","SL1 4RF",null,null,"LLANDUDNO LL31",45111,45,"Wholesale and retail trade and repair services of motor vehicles and motorcycles    ",0.21034629699726889,null,null,null,null,null,null,null,null,5983.38,"*",null,{"$f":"VLOOKUP(A7795,'[1]Update Sheet'!$A$3:$Y$15578,25,FALSE)","v":0},"Reportable"]
["IMPACT GENERATORS LTD",66510,null,"N","N",true,"GB","Y","PRIVATE SECTOR","BS30 6ED",null,null,"BRISTOL BS30",74909,74,"Other professional, scientific and technical services          ",0.19142587698446711,null,null,null,null,null,null,null,null,5940,"*",null,{"$f":"VLOOKUP(A7820,'[1]Update Sheet'!$A$3:$Y$15578,25,FALSE)","v":0},"Reportable"]
["JARDINE MOTORS GROUP UK LTD",57435,null,"N","N",true,"GB","N","PRIVATE SECTOR","MK15 0DQ",null,null,"MILTON MK15",70100,70,"Services of head offices; management consulting services         ",9.3681183759862049E-2,null,null,null,null,null,null,null,null,5882.96,"*",null,{"$f":"VLOOKUP(A7839,'[1]Update Sheet'!$A$3:$Y$15578,25,FALSE)","v":0},"Reportable"]
["ROZONE",27777,null,"N","N",true,"GB","N","PRIVATE SECTOR","WS10 8JD",null,null,"WEDNESBUR WS10",33190,"33OTHER","Rest of repair; Installation - 33.11-14/17/19/20          ",0.18696882687485539,null,null,null,null,null,null,null,null,0,null,null,{"$f":"VLOOKUP(A7858,'[1]Update Sheet'!$A$3:$Y$15578,25,FALSE)","v":{"$error":"#N/A"}},"Reportable"]
["DISYS TECHNOLOGIES LTD",65347,1,"Y","Y",true,"GB","Y","PRIVATE SECTOR","SA14 6RE","South West Wales","Hywel Dda UHB","LLANELLI SA14",86900,86,"Human health services             ",0.29193168620018201,null,null,null,null,null,null,null,null,5725.33,"*",null,{"$f":"VLOOKUP(A7883,'[1]Update Sheet'!$A$3:$Y$15578,25,FALSE)","v":0},"Reportable"]
["PRESTIGE DENTAL PRODS",2293,null,"N","N",true,"GB","Y","PRIVATE SECTOR","BD3 0EF",null,null,"BRADFORD BD3",46460,46,"Wholesale trade services, except of motor vehicles and motorcycles       ",2.0310031510736858E-2,null,null,null,null,null,null,null,null,5693.2400000000007,"*",null,{"$f":"VLOOKUP(A7894,'[1]Update Sheet'!$A$3:$Y$15578,25,FALSE)","v":0},"Reportable"]
["KINGSMOOR PUBLICATIONS LTD",56533,null,"N","N",true,"GB","N","PRIVATE SECTOR","CM23 3BT",null,null,"BRAINTREE CM7",58142,58,"Publishing services              ",8.0219457227851232E-2,null,null,null,null,null,null,null,null,5594.9400000000014,"*",null,{"$f":"VLOOKUP(A7926,'[1]Update Sheet'!$A$3:$Y$15578,25,FALSE)","v":0},"Reportable"]
["PHOENIX HEALTHCARE PRODUCTS LTD",2237,null,"N","N",true,"GB","Y","PRIVATE SECTOR","NG14 6QL",null,null,"NOTTINGHA NG14",96090,96,"Other personal services             ",7.6712791957121843E-2,null,null,null,null,null,null,null,null,5549.75,"*",null,{"$f":"VLOOKUP(A7945,'[1]Update Sheet'!$A$3:$Y$15578,25,FALSE)","v":0},"Reportable"]
["REBECCA WOOLLEY",74823,1,"Y","Y",true,"GB","Y","PRIVATE SECTOR","CF14 3PT","South East Wales","Cardiff and Vale UHB","CARDIFF CF14",71129,71,"Architectural and engineering services; technical testing and analysis services       ",0.1560575201743172,null,null,null,null,null,null,null,null,5500,"*",null,{"$f":"VLOOKUP(A7964,'[1]Update Sheet'!$A$3:$Y$15578,25,FALSE)","v":0},"Reportable"]
["FLASHBAY LTD",54115,null,"N","N",true,"GB","N","PRIVATE SECTOR","SW6 2TW",null,null,"LONDON SW6",96090,96,"Other personal services             ",7.6712791957121843E-2,null,null,null,null,null,null,null,null,5492.4,"*",null,{"$f":"VLOOKUP(A7970,'[1]Update Sheet'!$A$3:$Y$15578,25,FALSE)","v":0},"Reportable"]
["MAGGIE'S CENTRES",65497,null,"N","N",true,"GB","N","VCSE","G11 6PA",null,null,"GLASGOW G11",86900,86,"Human health services             ",0.29193168620018201,null,null,null,null,null,null,null,null,5425.55,"*",null,{"$f":"VLOOKUP(A7989,'[1]Update Sheet'!$A$3:$Y$15578,25,FALSE)","v":0},"Reportable"]
["CLEMAS AND CO LTD",67570,null,"N","N",true,"GB","N","PRIVATE SECTOR","GL20 8NB",null,null,"TEWKESBUR GL20",33190,"33OTHER","Rest of repair; Installation - 33.11-14/17/19/20          ",0.18696882687485539,null,null,null,null,null,null,null,null,5385.6,"*",null,{"$f":"VLOOKUP(A8008,'[1]Update Sheet'!$A$3:$Y$15578,25,FALSE)","v":0},"Reportable"]
["MR GRAHAM M DAVIS",69959,1,"Y","Y",true,"GB","Y","PRIVATE SECTOR","SY18 6BA","Mid Wales","Powys Teaching HB","LLANIDLOE SY18",7487,74,"Other professional, scientific and technical services          ",0.19142587698446711,null,null,null,null,null,null,null,null,5315.95,"*",null,{"$f":"VLOOKUP(A8033,'[1]Update Sheet'!$A$3:$Y$15578,25,FALSE)","v":0},"Reportable"]
["GROUNDWORK NORTH WALES",51152,1,"Y","Y",true,"GB","Y","VCSE","LL11 5SZ","North Wales","Betsi Cadwaladr UHB","TANYFRON LL11",74909,74,"Other professional, scientific and technical services          ",0.19142587698446711,null,null,null,null,null,null,null,null,5264.84,"*",null,{"$f":"VLOOKUP(A8052,'[1]Update Sheet'!$A$3:$Y$15578,25,FALSE)","v":0},"Reportable"]
["EARLYYES LTD",58680,null,"N","N",true,"GB","Y","PRIVATE SECTOR","BS7 8LQ",null,null,"BRISTOL BS7",86900,86,"Human health services             ",0.29193168620018201,null,null,null,null,null,null,null,null,5206,"*",null,{"$f":"VLOOKUP(A8077,'[1]Update Sheet'!$A$3:$Y$15578,25,FALSE)","v":0},"Reportable"]
["CARDIFF EXECUTIVE CENTRE LTD",59496,null,"N","N",true,"GB","N","PRIVATE SECTOR","NN17 5JG",null,null,"CARDIFF CF11",82990,82,"Office administrative, office support and other business support services       ",0.1180504360352973,null,null,null,null,null,null,null,null,5172,"*",null,{"$f":"VLOOKUP(A8096,'[1]Update Sheet'!$A$3:$Y$15578,25,FALSE)","v":0},"Reportable"]
["LABORATORY SOLUTIONS RECRUITMENT LTD",69587,null,"N","N",true,"GB","Y","PRIVATE SECTOR","HP5 1BW",null,null,"CHESHAM HP4",78200,78,"Employment services              ",0.1176282196328419,null,null,null,null,null,null,null,null,5120.5599999999986,"*",null,{"$f":"VLOOKUP(A8115,'[1]Update Sheet'!$A$3:$Y$15578,25,FALSE)","v":0},"Reportable"]
["GLS SCIENTIFIC SERVICES LTD",55072,null,"N","N",true,"GB","Y","PRIVATE SECTOR","NN2 8RS",null,null,"NORTHAMPT NN4",72110,72,"Scientific research and development services           ",0.18562764998368861,null,null,null,null,null,null,null,null,5100.55,"*",null,{"$f":"VLOOKUP(A8121,'[1]Update Sheet'!$A$3:$Y$15578,25,FALSE)","v":0},"Reportable"]
["BLINK CHARGING UK LTD",71574,null,"N","N",true,"GB","Y","PRIVATE SECTOR","AL1 3AW",null,null,"STALBANS AL3",96090,96,"Other personal services             ",7.6712791957121843E-2,null,null,null,null,null,null,null,null,5075.45,"*",null,{"$f":"VLOOKUP(A8140,'[1]Update Sheet'!$A$3:$Y$15578,25,FALSE)","v":0},"Reportable"]
["HANCOCK & BROWN (TIMBER) LTD",19195,1,"Y","Y",true,"GB","Y","PRIVATE SECTOR","SA1 8QY","South West Wales","Swansea Bay UHB","SWANSEA SA1",16100,16,"Wood and of products of wood and cork, except furniture; articles of straw and plaiting materials",0.47464506998431383,null,null,null,null,null,null,null,null,5000.8599999999997,"*",null,{"$f":"VLOOKUP(A8165,'[1]Update Sheet'!$A$3:$Y$15578,25,FALSE)","v":0},"Reportable"]
["LONDON ACADEMY OF IT LTD",76812,null,"N","N",true,"GB","Y","PRIVATE SECTOR","E15 1NT",null,null,"STRATFORD E15",62090,62,"Computer programming, consultancy and related services          ",0.13144659704407699,null,null,null,null,null,null,null,null,4990,"*",null,{"$f":"VLOOKUP(A8184,'[1]Update Sheet'!$A$3:$Y$15578,25,FALSE)","v":0},"Reportable"]
["ALFASOFT LTD",56097,null,"N","N",true,"GB","Y","PRIVATE SECTOR","LU1 1RS",null,null,"LUTON LU1",62090,62,"Computer programming, consultancy and related services          ",0.13144659704407699,null,null,null,null,null,null,null,null,4948.34,"*",null,{"$f":"VLOOKUP(A8203,'[1]Update Sheet'!$A$3:$Y$15578,25,FALSE)","v":0},"Reportable"]
["MEDTREE",30872,null,"N","N",true,"GB","Y","PRIVATE SECTOR",null,null,null,"TELFORD TF2",47749,47,"Retail trade services, except of motor vehicles and motorcycles       ",0.17404287306456559,null,null,null,null,null,null,null,null,0,null,null,{"$f":"VLOOKUP(A8228,'[1]Update Sheet'!$A$3:$Y$15578,25,FALSE)","v":{"$error":"#N/A"}},"Reportable"]
["THELMA-EU LTD",72258,null,"N","N",true,"GB","N","PRIVATE SECTOR","HP7 9LP",null,null,"AMERSHAM HP7",82990,82,"Office administrative, office support and other business support services       ",0.1180504360352973,null,null,null,null,null,null,null,null,4850,"*",null,{"$f":"VLOOKUP(A8247,'[1]Update Sheet'!$A$3:$Y$15578,25,FALSE)","v":0},"Reportable"]
["SHIELD SECURITY LTD",12702,1,"Y","Y",true,"GB","Y","PRIVATE SECTOR","SA12 7AX","South West Wales","Swansea Bay UHB","NEATH SA10",84240,84,"Public administration and defence services; compulsory social security services       ",0.1703405261372164,null,null,null,null,null,null,null,null,4800,"*",null,{"$f":"VLOOKUP(A8266,'[1]Update Sheet'!$A$3:$Y$15578,25,FALSE)","v":0},"Reportable"]
["MICHAEL S HENNESSY LTD",58567,null,"N","N",true,"GB","N","PRIVATE SECTOR","L1 2TQ",null,null,"LIVERPOOL L1",86101,86,"Human health services             ",0.29193168620018201,null,null,null,null,null,null,null,null,4800,"*",null,{"$f":"VLOOKUP(A8272,'[1]Update Sheet'!$A$3:$Y$15578,25,FALSE)","v":0},"Reportable"]
["PURETECH LTD",31457,null,"N","N",true,"GB","Y","PRIVATE SECTOR","BS36 2BG",null,null,"BRISTOL BS36",96090,96,"Other personal services             ",7.6712791957121843E-2,null,null,null,null,null,null,null,null,4794,"*",null,{"$f":"VLOOKUP(A8291,'[1]Update Sheet'!$A$3:$Y$15578,25,FALSE)","v":0},"Reportable"]
["REALTIMEBOARD INC. DBA MIRO",73246,null,"N","N",true,"GB","N","VCSE",null,null,null,"FOREIGN",96090,96,"Other personal services             ",7.6712791957121843E-2,null,null,null,null,null,null,null,null,4717.42,"*",null,{"$f":"VLOOKUP(A8316,'[1]Update Sheet'!$A$3:$Y$15578,25,FALSE)","v":0},"Reportable"]
["DESIGN TRIBE UK LTD",68983,1,"Y","Y",true,"GB","Y","PRIVATE SECTOR","CF24 5EA","South East Wales","Cardiff and Vale UHB","CARDIFF CF14",74100,74,"Other professional, scientific and technical services          ",0.19142587698446711,null,null,null,null,null,null,null,null,4675.2,"*",null,{"$f":"VLOOKUP(A8335,'[1]Update Sheet'!$A$3:$Y$15578,25,FALSE)","v":0},"Reportable"]
["AWAIR G.B. LTD",75508,null,"N","N",true,"GB","Y","PRIVATE SECTOR","SE1 0AS",null,null,"LONDON SE1",70229,70,"Services of head offices; management consulting services         ",9.3681183759862049E-2,null,null,null,null,null,null,null,null,4608,"*",null,{"$f":"VLOOKUP(A8354,'[1]Update Sheet'!$A$3:$Y$15578,25,FALSE)","v":0},"Reportable"]
["JOSHUA SCAIFE",66888,1,"Y","Y",true,"GB","Y","PRIVATE SECTOR","CF14 3BX","South East Wales","Cardiff and Vale UHB","CARDIFF CF14",86230,86,"Human health services             ",0.29193168620018201,null,null,null,null,null,null,null,null,4546.4699999999993,"*",null,{"$f":"VLOOKUP(A8379,'[1]Update Sheet'!$A$3:$Y$15578,25,FALSE)","v":0},"Reportable"]
["JS CLEANING SERVICES LTD",31144,1,"Y","Y",true,"GB","Y","PRIVATE SECTOR","NP20 5ED","South East Wales","Aneurin Bevan UHB","NEWPORT NP20",81210,81,"Services to buildings and landscape           ",0.1712664478524781,null,null,null,null,null,null,null,null,4512,"*",null,{"$f":"VLOOKUP(A8398,'[1]Update Sheet'!$A$3:$Y$15578,25,FALSE)","v":0},"Reportable"]
["GRADUS LTD",12518,null,"N","N",true,"GB","N","PRIVATE SECTOR","SK11 7LZ",null,null,"MACCLESFI SK11",22290,22,"Rubber and plastic products            ",0.57621788964022036,null,null,null,null,null,null,null,null,4484.4799999999996,"*",null,{"$f":"VLOOKUP(A8417,'[1]Update Sheet'!$A$3:$Y$15578,25,FALSE)","v":0},"Reportable"]
["CLASSIC BADGE COMPANY",75783,null,"N","N",true,"GB","Y","PRIVATE SECTOR","ST19 9PA",null,null,"STAFFORD ST19",14190,14,"Wearing apparel              ",0.79124467818111843,null,null,null,null,null,null,null,null,4472.3999999999996,"*",null,{"$f":"VLOOKUP(A8423,'[1]Update Sheet'!$A$3:$Y$15578,25,FALSE)","v":0},"Reportable"]
["GROWTH MEDICAL LTD",61319,null,"N","N",true,"GB","Y","PRIVATE SECTOR","KT15 2LE",null,null,"ADDLESTON KT15",46190,46,"Wholesale trade services, except of motor vehicles and motorcycles       ",2.0310031510736858E-2,null,null,null,null,null,null,null,null,4412.8999999999996,"*",null,{"$f":"VLOOKUP(A8442,'[1]Update Sheet'!$A$3:$Y$15578,25,FALSE)","v":0},"Reportable"]
["NORTH WALES ENGINEERING SOLUTIONS LTD",57278,null,"N","N",true,"GB","Y","PRIVATE SECTOR","LL30 1HH",null,null,"ESTATES",71129,71,"Architectural and engineering services; technical testing and analysis services       ",0.1560575201743172,null,null,null,null,null,null,null,null,4368,"*",null,{"$f":"VLOOKUP(A8467,'[1]Update Sheet'!$A$3:$Y$15578,25,FALSE)","v":0},"Reportable"]
["WAGTAIL UK LTD",76250,1,"Y","Y",true,"GB","Y","PRIVATE SECTOR","CH8 9HN","North Wales","Betsi Cadwaladr UHB","HOLYWELL CH8",82990,82,"Office administrative, office support and other business support services       ",0.1180504360352973,null,null,null,null,null,null,null,null,4320,"*",null,{"$f":"VLOOKUP(A8486,'[1]Update Sheet'!$A$3:$Y$15578,25,FALSE)","v":0},"Reportable"]
["CONFERENCE ASTON LTD",64600,null,"N","N",true,"GB","N","PRIVATE SECTOR","B4 7ET",null,null,"BIRMINGHA B4",55100,55,"Accommodation services              ",0.32444602703376968,null,null,null,null,null,null,null,null,4282.8,"*",null,{"$f":"VLOOKUP(A8505,'[1]Update Sheet'!$A$3:$Y$15578,25,FALSE)","v":0},"Reportable"]
["LEC CHECK LTD",46367,1,"Y","Y",true,"GB","Y","PRIVATE SECTOR","CF61 2SE","South East Wales","Cardiff and Vale UHB","LLANTWIT CF61",33140,"33OTHER","Rest of repair; Installation - 33.11-14/17/19/20          ",0.18696882687485539,null,null,null,null,null,null,null,null,4242.5,"*",null,{"$f":"VLOOKUP(A8530,'[1]Update Sheet'!$A$3:$Y$15578,25,FALSE)","v":0},"Reportable"]
["ASSOCIATION OF PROFESSIONAL HEALTHCARE ANALYSTS",60229,null,"N","N",true,"GB","Y","VCSE","TA3 5LY",null,null,"TAUNTON TA3",82990,82,"Office administrative, office support and other business support services       ",0.1180504360352973,null,null,null,null,null,null,null,null,4205.7,"*",null,{"$f":"VLOOKUP(A8549,'[1]Update Sheet'!$A$3:$Y$15578,25,FALSE)","v":0},"Reportable"]
["PARAGON CPS LTD",75728,null,"N","N",true,"GB","Y","PRIVATE SECTOR","SK4 2HD",null,null,"STOCKPORT SK1",82990,82,"Office administrative, office support and other business support services       ",0.1180504360352973,null,null,null,null,null,null,null,null,4200,"*",null,{"$f":"VLOOKUP(A8555,'[1]Update Sheet'!$A$3:$Y$15578,25,FALSE)","v":0},"Reportable"]
["DRAINCARE LTD",55028,null,"N","N",true,"GB","N","PRIVATE SECTOR","AL5 5BZ",null,null,"HARPENDEN AL5",37000,37,"Sewerage services; sewage sludge            ",0.361124966754091,null,null,null,null,null,null,null,null,0,null,null,{"$f":"VLOOKUP(A8574,'[1]Update Sheet'!$A$3:$Y$15578,25,FALSE)","v":{"$error":"#N/A"}},"Reportable"]
["GLYN EDWARDS OFFICE EQUIPMENT",6560,1,"Y","Y",true,"GB","Y","PRIVATE SECTOR","SA73 2AJ","South West Wales","Swansea Bay UHB","MILFORD H SA73",47789,47,"Retail trade services, except of motor vehicles and motorcycles       ",0.17404287306456559,null,null,null,null,null,null,null,null,4130.42,"*",null,{"$f":"VLOOKUP(A8593,'[1]Update Sheet'!$A$3:$Y$15578,25,FALSE)","v":0},"Reportable"]
["TRANSCRIPT DIVAS LTD",65060,null,"N","N",true,"GB","Y","PRIVATE SECTOR","WC1N 3AX",null,null,"LONDON WC1N",96090,96,"Other personal services             ",7.6712791957121843E-2,null,null,null,null,null,null,null,null,4074.59,"*",null,{"$f":"VLOOKUP(A8618,'[1]Update Sheet'!$A$3:$Y$15578,25,FALSE)","v":0},"Reportable"]
["JANET BEVAN INDEPENDENT OT",76797,1,"Y","Y",true,"GB","Y","PRIVATE SECTOR","CF42 6LF","South East Wales","Cwm Taf Morgannwg UHB","TREORCHY CF42",86000,86,"Human health services             ",0.29193168620018201,null,null,null,null,null,null,null,null,4032,"*",null,{"$f":"VLOOKUP(A8637,'[1]Update Sheet'!$A$3:$Y$15578,25,FALSE)","v":0},"Reportable"]
["RCB LOGIC LTD",71272,null,"N","N",true,"GB","N","PRIVATE SECTOR","HP5 2PX",null,null,"CHESHAM HP5",47430,47,"Retail trade services, except of motor vehicles and motorcycles       ",0.17404287306456559,null,null,null,null,null,null,null,null,4005.86,"*",null,{"$f":"VLOOKUP(A8656,'[1]Update Sheet'!$A$3:$Y$15578,25,FALSE)","v":0},"Reportable"]
["ALLIED VEHICLE LTD",76899,null,"N","N",true,"GB","Y","PRIVATE SECTOR","G22 6IJ",null,null,"GLASGOW G22",29100,29,"Motor vehicles, trailers and semi-trailers           ",0.35851447470468079,null,null,null,null,null,null,null,null,3974.4,"*",null,{"$f":"VLOOKUP(A8681,'[1]Update Sheet'!$A$3:$Y$15578,25,FALSE)","v":0},"Reportable"]
["CASTLELAND COMMUNITY CENTRE",48047,1,"Y","Y",true,"GB","N","VCSE","CF63 4JZ","South East Wales","Cardiff and Vale UHB","CARDIFF CF63",93290,93,"Sports services and amusement and recreation services         ",0.22280360830166321,null,null,null,null,null,null,null,null,3954,"*",null,{"$f":"VLOOKUP(A8700,'[1]Update Sheet'!$A$3:$Y$15578,25,FALSE)","v":0},"Reportable"]
["SHADES OF PERFECTION",67770,1,"Y","Y",true,"GB","Y","PRIVATE SECTOR","CF48 3HG","South East Wales","Cwm Taf Morgannwg UHB","MERTHYR CF48",22230,22,"Rubber and plastic products            ",0.57621788964022036,null,null,null,null,null,null,null,null,3945,"*",null,{"$f":"VLOOKUP(A8706,'[1]Update Sheet'!$A$3:$Y$15578,25,FALSE)","v":0},"Reportable"]
["ENGAGE BUSINESS WALES LTD",59773,1,"Y","Y",true,"GB","Y","PRIVATE SECTOR","CF31 3DF","South East Wales","Cwm Taf Morgannwg UHB","BRIDGEND CF31",85410,85,"Education services              ",0.10257966678326461,null,null,null,null,null,null,null,null,3920,"*",null,{"$f":"VLOOKUP(A8725,'[1]Update Sheet'!$A$3:$Y$15578,25,FALSE)","v":0},"Reportable"]
["FLASH-OVER LTD",72129,null,"N","N",true,"GB","Y","PRIVATE SECTOR","DE24 9GX",null,null,"ESTATES",43290,42.99,"Specialised construction works             ",0.31026786628535008,null,null,null,null,null,null,null,null,3882,"*",null,{"$f":"VLOOKUP(A8744,'[1]Update Sheet'!$A$3:$Y$15578,25,FALSE)","v":0},"Reportable"]
["DJ DRIVER TRAINING",57546,1,"Y","Y",true,"GB","Y","PRIVATE SECTOR","CF38 1AD","South East Wales","Cwm Taf Morgannwg UHB","PONTYPRID CF38",85530,85,"Education services              ",0.10257966678326461,null,null,null,null,null,null,null,null,3826,"*",null,{"$f":"VLOOKUP(A8779,'[1]Update Sheet'!$A$3:$Y$15578,25,FALSE)","v":0},"Reportable"]
["CHELLO PUBLISHING LTD",59525,null,"N","N",true,"GB","N","PRIVATE SECTOR","E15 2LR",null,null,"LONDON E15",58110,58,"Publishing services              ",8.0219457227851232E-2,null,null,null,null,null,null,null,null,3801.05,"*",null,{"$f":"VLOOKUP(A8787,'[1]Update Sheet'!$A$3:$Y$15578,25,FALSE)","v":0},"Reportable"]
["ARTIUS PROPERTY PROTECTION LTD",61342,null,"N","N",true,"GB","Y","PRIVATE SECTOR","RH10 1TN",null,null,"WALLINGTON SM6",64209,64,"Financial services, except insurance and pension funding         ",0.1103075939416239,null,null,null,null,null,null,null,null,3771.6,"*",null,{"$f":"VLOOKUP(A8806,'[1]Update Sheet'!$A$3:$Y$15578,25,FALSE)","v":0},"Reportable"]
["THYSSENKRUPP ELEVATOR UK LTD",26441,null,"N","N",true,"GB","N","PRIVATE SECTOR","NG2 1NF",null,null,"NOTTINGHAM NG7",30990,"30OTHER","Other transport equipment - 30.2/4/9           ",0.1896917059859729,null,null,null,null,null,null,null,null,3734.71,"*",null,{"$f":"VLOOKUP(A8831,'[1]Update Sheet'!$A$3:$Y$15578,25,FALSE)","v":0},"Reportable"]
["CJS DIRECT LTD",44562,null,"N","N",true,"GB","N","PRIVATE SECTOR","B6 7EE",null,null,"ESTATES",33190,"33OTHER","Rest of repair; Installation - 33.11-14/17/19/20          ",0.18696882687485539,null,null,null,null,null,null,null,null,3701.6400000000003,"*",null,{"$f":"VLOOKUP(A8850,'[1]Update Sheet'!$A$3:$Y$15578,25,FALSE)","v":0},"Reportable"]
["INSIGHT HRC LTD",59566,1,"Y","Y",true,"GB","Y","PRIVATE SECTOR","NP20 1DB","South East Wales","Aneurin Bevan UHB","LANGSTONE NP18",70229,70,"Services of head offices; management consulting services         ",9.3681183759862049E-2,null,null,null,null,null,null,null,null,3647.88,"*",null,{"$f":"VLOOKUP(A8875,'[1]Update Sheet'!$A$3:$Y$15578,25,FALSE)","v":0},"Reportable"]
["JUST CABLES AND ACCESSORIES LTD",70685,null,"N","N",true,"GB","Y","PRIVATE SECTOR","KT15 2ES",null,null,"ADDLESTON KT15",61100,61,"Telecommunications services              ",0.10520703191029331,null,null,null,null,null,null,null,null,3619.8,"*",null,{"$f":"VLOOKUP(A8894,'[1]Update Sheet'!$A$3:$Y$15578,25,FALSE)","v":0},"Reportable"]
["JARROD HOMER LTD",77382,null,"N","N",true,"GB","Y","PRIVATE SECTOR","WA16 1EG",null,null,"KNUTSFORD WA16",86220,86,"Human health services             ",0.29193168620018201,null,null,null,null,null,null,null,null,3600,"*",null,{"$f":"VLOOKUP(A8913,'[1]Update Sheet'!$A$3:$Y$15578,25,FALSE)","v":0},"Reportable"]
["DR MICHAEL MUNRO",77036,null,"N","N",true,"GB","Y","PRIVATE SECTOR","AB25 2ZL",null,null,"ABERDEEN AB25",86000,86,"Human health services             ",0.29193168620018201,null,null,null,null,null,null,null,null,3600,"*",null,{"$f":"VLOOKUP(A8919,'[1]Update Sheet'!$A$3:$Y$15578,25,FALSE)","v":0},"Reportable"]
["SERVO CHEM LTD",51250,null,"N","N",true,"GB","Y","PRIVATE SECTOR","BS49 5DJ",null,null,"WESTON BS22",20412,20.399999999999999,"Soap and detergents, cleaning and polishing preparations, perfumes and toilet preparations     ",0.71887260581861478,null,null,null,null,null,null,null,null,3564,"*",null,{"$f":"VLOOKUP(A8938,'[1]Update Sheet'!$A$3:$Y$15578,25,FALSE)","v":0},"Reportable"]
["MERTHYR BOROUGH RECYCLING CENTRE LTD T/A NEW TREDEGAR SKIP HIRE",75165,1,"Y","Y",true,"GB","Y","PRIVATE SECTOR","CF48 2TA","South East Wales","Cwm Taf Morgannwg UHB","MERTHYRCF48",96090,96,"Other personal services             ",7.6712791957121843E-2,null,null,null,null,null,null,null,null,3520,"*",null,{"$f":"VLOOKUP(A8963,'[1]Update Sheet'!$A$3:$Y$15578,25,FALSE)","v":0},"Reportable"]
["THE LEARNING PEOPLE LTD",77378,null,"N","N",true,"GB","N","PRIVATE SECTOR","BN3 3LN",null,null,"HOVE BN3",85590,85,"Education services              ",0.10257966678326461,null,null,null,null,null,null,null,null,3495,"*",null,{"$f":"VLOOKUP(A8982,'[1]Update Sheet'!$A$3:$Y$15578,25,FALSE)","v":0},"Reportable"]
["EURO SELF DRIVE LTD",77510,null,"N","N",true,"GB","Y","PRIVATE SECTOR","RH12 4SE",null,null,"HORSHAM RH12",77110,77,"Rental and leasing services            ",0.13477794599811871,null,null,null,null,null,null,null,null,3441.6,"*",null,{"$f":"VLOOKUP(A9001,'[1]Update Sheet'!$A$3:$Y$15578,25,FALSE)","v":0},"Reportable"]
["CENTRE FOR BREASTFEEDING EDUCATION AND RESEARCH",70831,null,"N","N",true,"GB","Y","PRIVATE SECTOR","SW19 3DS",null,null,"LONDON SW19",85590,85,"Education services              ",0.10257966678326461,null,null,null,null,null,null,null,null,3400,"*",null,{"$f":"VLOOKUP(A9026,'[1]Update Sheet'!$A$3:$Y$15578,25,FALSE)","v":0},"Reportable"]
["CRESTCHIC UK LTD",68818,null,"N","N",true,"GB","N","PRIVATE SECTOR","DE14 2WF",null,null,"BURTONON DE14",86900,86,"Human health services             ",0.29193168620018201,null,null,null,null,null,null,null,null,3371.52,"*",null,{"$f":"VLOOKUP(A9045,'[1]Update Sheet'!$A$3:$Y$15578,25,FALSE)","v":0},"Reportable"]
["ANZE LTD",68606,null,"N","N",true,"GB","Y","PRIVATE SECTOR","NG17 4JW",null,null,"SUTTON NG17",14120,14,"Wearing apparel              ",0.79124467818111843,null,null,null,null,null,null,null,null,3342,"*",null,{"$f":"VLOOKUP(A9064,'[1]Update Sheet'!$A$3:$Y$15578,25,FALSE)","v":0},"Reportable"]
["BENCHMARKER LTD",50984,null,"N","N",true,"GB","Y","PRIVATE SECTOR","OX16 0TH",null,null,"OXFORD OX16",62020,62,"Computer programming, consultancy and related services          ",0.13144659704407699,null,null,null,null,null,null,null,null,3339.62,"*",null,{"$f":"VLOOKUP(A9070,'[1]Update Sheet'!$A$3:$Y$15578,25,FALSE)","v":0},"Reportable"]
["ESSBEA LTD T/A LOT 11",62644,1,"Y","Y",true,"GB","Y","PRIVATE SECTOR","LL11 1SN","North Wales","Betsi Cadwaladr UHB","WREXHAM LL11",47250,47,"Retail trade services, except of motor vehicles and motorcycles       ",0.17404287306456559,null,null,null,null,null,null,null,null,3312,"*",null,{"$f":"VLOOKUP(A9089,'[1]Update Sheet'!$A$3:$Y$15578,25,FALSE)","v":0},"Reportable"]
["SYNCFUSION INC",74364,null,"N","N",true,"US","N","PRIVATE SECTOR","NC 27560",null,null,"FOREIGN",96090,96,"Other personal services             ",7.6712791957121843E-2,null,null,null,null,null,null,null,null,3276.02,"*",null,{"$f":"VLOOKUP(A9114,'[1]Update Sheet'!$A$3:$Y$15578,25,FALSE)","v":0},"Reportable"]
["ID-DIRECT LTD",65758,null,"N","N",true,"GB","Y","PRIVATE SECTOR","LE16 8HL",null,null,"MARKET HA LE16",80200,80,"Security and investigation services            ",9.5408278947996958E-2,null,null,null,null,null,null,null,null,3241.62,"*",null,{"$f":"VLOOKUP(A9133,'[1]Update Sheet'!$A$3:$Y$15578,25,FALSE)","v":0},"Reportable"]
["BRITISH ASSOCATION OF SEXUAL HEALTH & HIV (BASHH)",51879,null,"N","N",true,"GB","Y","VCSE","SK11 6DY",null,null,"MACCLESFI SK11",86900,86,"Human health services             ",0.29193168620018201,null,null,null,null,null,null,null,null,3210,"*",null,{"$f":"VLOOKUP(A9152,'[1]Update Sheet'!$A$3:$Y$15578,25,FALSE)","v":0},"Reportable"]
["CONCORDIA SUMMIT",77487,null,"N","N",true,"GB","Y","PRIVATE SECTOR","NY 10016",null,null,"FOREIGN",82301,82,"Office administrative, office support and other business support services       ",0.1180504360352973,null,null,null,null,null,null,null,null,3177.68,"*",null,{"$f":"VLOOKUP(A9177,'[1]Update Sheet'!$A$3:$Y$15578,25,FALSE)","v":0},"Reportable"]
["KATHERINE MILLER",74732,1,"Y","Y",true,"GB","Y","PRIVATE SECTOR","CF5 2RW","South East Wales","Cardiff and Vale UHB","CARDIFF CF5",86900,86,"Human health services             ",0.29193168620018201,null,null,null,null,null,null,null,null,3150,"*",null,{"$f":"VLOOKUP(A9196,'[1]Update Sheet'!$A$3:$Y$15578,25,FALSE)","v":0},"Reportable"]
["CATHY WOOD PSYCHOLOGY",63011,1,"Y","Y",true,"GB","Y","PRIVATE SECTOR","LL19 9BE","North Wales","Betsi Cadwaladr UHB","IR35",86220,86,"Human health services             ",0.29193168620018201,null,null,null,null,null,null,null,null,3135,"*",null,{"$f":"VLOOKUP(A9202,'[1]Update Sheet'!$A$3:$Y$15578,25,FALSE)","v":0},"Reportable"]
["EDEN LEARNING",53591,null,"N","N",true,"GB","N","PRIVATE SECTOR","CV37 OJH",null,null,"SNITTERF CV37",85100,85,"Education services              ",0.10257966678326461,null,null,null,null,null,null,null,null,3096,"*",null,{"$f":"VLOOKUP(A9221,'[1]Update Sheet'!$A$3:$Y$15578,25,FALSE)","v":0},"Reportable"]
["TMLE LTD",69190,null,"N","N",true,"GB","N","PRIVATE SECTOR","TN23 1FB",null,null,"CLIENT ACCOUNT",69109,69.099999999999994,"Legal services              ",5.7877621976311508E-2,null,null,null,null,null,null,null,null,3054,"*",null,{"$f":"VLOOKUP(A9240,'[1]Update Sheet'!$A$3:$Y$15578,25,FALSE)","v":0},"Reportable"]
["GOLWG CYFYNGEDIG",56002,1,"Y","Y",true,"GB","N","PRIVATE SECTOR","SA48 7LX","Mid Wales","Hywel Dda UHB","CEREDIGION SA48",58190,58,"Publishing services              ",8.0219457227851232E-2,null,null,null,null,null,null,null,null,3007.68,"*",null,{"$f":"VLOOKUP(A9265,'[1]Update Sheet'!$A$3:$Y$15578,25,FALSE)","v":0},"Reportable"]
["MR ALI SYED",77191,null,"N","N",true,"GB","Y","PRIVATE SECTOR","M14 6FD",null,null,"MANCHESTER M14",86000,86,"Human health services             ",0.29193168620018201,null,null,null,null,null,null,null,null,3000,"*",null,{"$f":"VLOOKUP(A9284,'[1]Update Sheet'!$A$3:$Y$15578,25,FALSE)","v":0},"Reportable"]
["ACE INDIA LTD",61030,null,"N","N",true,"GB","Y","PRIVATE SECTOR","TN9 1FX",null,null,"TONBRIDGE TN9",86101,86,"Human health services             ",0.29193168620018201,null,null,null,null,null,null,null,null,3000,"*",null,{"$f":"VLOOKUP(A9303,'[1]Update Sheet'!$A$3:$Y$15578,25,FALSE)","v":0},"Reportable"]
["THE ATRIUM CAFE",65966,1,"Y","Y",true,"GB","Y","PRIVATE SECTOR","LL13 7YP","North Wales","Betsi Cadwaladr UHB","WREXHAM LL11",56102,56,"Food and beverage serving services           ",0.28886167518608219,null,null,null,null,null,null,null,null,2963,"*",null,{"$f":"VLOOKUP(A9328,'[1]Update Sheet'!$A$3:$Y$15578,25,FALSE)","v":0},"Reportable"]
["PRESSURE WASHER SERVICES",27424,1,"Y","Y",true,"GB","N","PRIVATE SECTOR","SA11 1NJ","South West Wales","Swansea Bay UHB","NEATH SA11",33120,"33OTHER","Rest of repair; Installation - 33.11-14/17/19/20          ",0.18696882687485539,null,null,null,null,null,null,null,null,2943.54,"*",null,{"$f":"VLOOKUP(A9347,'[1]Update Sheet'!$A$3:$Y$15578,25,FALSE)","v":0},"Reportable"]
["WAYNE AND BARBARA JOHN",77102,1,"Y","Y",true,"GB","N","PRIVATE SECTOR","CF42 6PN","South East Wales","Cwm Taf Morgannwg UHB","PCS PAY",86000,86,"Human health services             ",0.29193168620018201,null,null,null,null,null,null,null,null,2937.51,"*",null,{"$f":"VLOOKUP(A9353,'[1]Update Sheet'!$A$3:$Y$15578,25,FALSE)","v":0},"Reportable"]
["SNAPPER DESIGN LTD",34941,null,"N","N",true,"GB","Y","PRIVATE SECTOR","FY8 2PF",null,null,"LYTHAM ST FY8",18129,18,"Printing and recording services            ",0.38173396113307168,null,null,null,null,null,null,null,null,2898,"*",null,{"$f":"VLOOKUP(A9372,'[1]Update Sheet'!$A$3:$Y$15578,25,FALSE)","v":0},"Reportable"]
["JASUN ENVIROCARE PLC",44463,null,"N","N",true,"GB","N","PRIVATE SECTOR","TA6 5LB",null,null,"BRIDGEWAT TA6",32990,32,"Other manufactured goods             ",0.67238249414981133,null,null,null,null,null,null,null,null,2880,"*",null,{"$f":"VLOOKUP(A9391,'[1]Update Sheet'!$A$3:$Y$15578,25,FALSE)","v":0},"Reportable"]
["FARLA MEDICAL HEALTHCARE LTD",75162,null,"N","N",true,"GB","Y","PRIVATE SECTOR","NW2 7JP",null,null,"LONDON NW2",86900,86,"Human health services             ",0.29193168620018201,null,null,null,null,null,null,null,null,2849.849999999999,"*",null,{"$f":"VLOOKUP(A9416,'[1]Update Sheet'!$A$3:$Y$15578,25,FALSE)","v":0},"Reportable"]
["NCDP LTD (NUFFIELD CENTRE DYSPRAXIA PROGRAMME)",25803,null,"N","N",true,"GB","N","PRIVATE SECTOR","SL4 6BP",null,null,"ETON SL4",74909,74,"Other professional, scientific and technical services          ",0.19142587698446711,null,null,null,null,null,null,null,null,2822,"*",null,{"$f":"VLOOKUP(A9435,'[1]Update Sheet'!$A$3:$Y$15578,25,FALSE)","v":0},"Reportable"]
["THE HEARING AND MOBILITY STORE LTD",75965,null,"N","N",true,"GB","Y","PRIVATE SECTOR","SN4 0RZ",null,null,"SWINDON SN4",47789,47,"Retail trade services, except of motor vehicles and motorcycles       ",0.17404287306456559,null,null,null,null,null,null,null,null,2795,"*",null,{"$f":"VLOOKUP(A9454,'[1]Update Sheet'!$A$3:$Y$15578,25,FALSE)","v":0},"Reportable"]
["MYNDE LTD",76253,1,"Y","Y",true,"GB","Y","PRIVATE SECTOR","LL60 6LW","North Wales","Betsi Cadwaladr UHB","GAERWEN LL60",82990,82,"Office administrative, office support and other business support services       ",0.1180504360352973,null,null,null,null,null,null,null,null,2760,"*",null,{"$f":"VLOOKUP(A9479,'[1]Update Sheet'!$A$3:$Y$15578,25,FALSE)","v":0},"Reportable"]
["JOHN PRESTON HEALTHCARE SUPPLIES & SERVICES",49787,null,"N","N",true,"GB","N","PRIVATE SECTOR","BT27 5QB",null,null,"LISBURN BT27",46460,46,"Wholesale trade services, except of motor vehicles and motorcycles       ",2.0310031510736858E-2,null,null,null,null,null,null,null,null,2736.31,"*",null,{"$f":"VLOOKUP(A9498,'[1]Update Sheet'!$A$3:$Y$15578,25,FALSE)","v":0},"Reportable"]
["CONFERENCE BADGES LTD",54709,null,"N","N",true,"GB","N","PRIVATE SECTOR","TW11 8EW",null,null,"TEDDINGTO TW11",82302,82,"Office administrative, office support and other business support services       ",0.1180504360352973,null,null,null,null,null,null,null,null,2726.34,"*",null,{"$f":"VLOOKUP(A9504,'[1]Update Sheet'!$A$3:$Y$15578,25,FALSE)","v":0},"Reportable"]
["ETHOS LTD",72176,null,"N","N",true,"GB","Y","PRIVATE SECTOR","IM1 5EP",null,null,"DOUGLAS IM1",96090,96,"Other personal services             ",7.6712791957121843E-2,null,null,null,null,null,null,null,null,2700,"*",null,{"$f":"VLOOKUP(A9523,'[1]Update Sheet'!$A$3:$Y$15578,25,FALSE)","v":0},"Reportable"]
["TRADEBE GWENT LTD",70816,null,"N","N",true,"GB","Y","PRIVATE SECTOR","SL7 1EY",null,null,"MARLOW SL7",38220,38,"Waste collection, treatment and disposal services; materials recovery services       ",1.2566528696390891,null,null,null,null,null,null,null,null,72396.53,"*",null,{"$f":"VLOOKUP(A9542,'[1]Update Sheet'!$A$3:$Y$15578,25,FALSE)","v":0},"Exclude- Captured under Waste, Energy, Water or Invesments"]
["SAFETYCULTURE PTY LTD",76594,null,"N","N",true,"GB","Y","PRIVATE SECTOR","NSW 2000",null,null,"FOREIGN",82990,82,"Office administrative, office support and other business support services       ",0.1180504360352973,null,null,null,null,null,null,null,null,2647.16,"*",null,{"$f":"VLOOKUP(A9567,'[1]Update Sheet'!$A$3:$Y$15578,25,FALSE)","v":0},"Reportable"]
["DR JM BAMFORD",59243,null,"N","N",true,"GB","N","PRIVATE SECTOR","LS23 6JF",null,null,"WETHERBY LS23",86210,86,"Human health services             ",0.29193168620018201,null,null,null,null,null,null,null,null,2634,"*",null,{"$f":"VLOOKUP(A9586,'[1]Update Sheet'!$A$3:$Y$15578,25,FALSE)","v":0},"Reportable"]
["DR CAROLYN HINDS",64844,1,"Y","Y",true,"GB","Y","PRIVATE SECTOR","LL30 1TY","North Wales","Betsi Cadwaladr UHB","LLANDUDNO LL30",86210,86,"Human health services             ",0.29193168620018201,null,null,null,null,null,null,null,null,2600,"*",null,{"$f":"VLOOKUP(A9611,'[1]Update Sheet'!$A$3:$Y$15578,25,FALSE)","v":0},"Reportable"]
["TIMOTHY STUART BURGE",54530,null,"N","N",true,"GB","N","PRIVATE SECTOR","BS8 3BS",null,null,"BRISTOL BS8",7487,74,"Other professional, scientific and technical services          ",0.19142587698446711,null,null,null,null,null,null,null,null,2592,"*",null,{"$f":"VLOOKUP(A9620,'[1]Update Sheet'!$A$3:$Y$15578,25,FALSE)","v":0},"Reportable"]
["4X4 RESPONSE WALES",43198,1,"Y","Y",true,"GB","Y","VCSE","SY22 6UJ","Mid Wales","Powys Teaching HB","LLANFECHA SY22",88990,88,"Social work services without accommodation           ",0.12926092802643949,null,null,null,null,null,null,null,null,2555.37,"*",null,{"$f":"VLOOKUP(A9648,'[1]Update Sheet'!$A$3:$Y$15578,25,FALSE)","v":0},"Reportable"]
["SCARBOROUGHS HEALTH LTD",70073,null,"N","N",true,"GB","Y","PRIVATE SECTOR","DT6 5HS",null,null,"BRIDPORT DT6",82990,82,"Office administrative, office support and other business support services       ",0.1180504360352973,null,null,null,null,null,null,null,null,2545.1999999999998,"*",null,{"$f":"VLOOKUP(A9654,'[1]Update Sheet'!$A$3:$Y$15578,25,FALSE)","v":0},"Reportable"]
["PAB LANGUAGES CENTRE LTD",77432,null,"N","N",true,"GB","Y","PRIVATE SECTOR","CT1 3DN",null,null,"CANTERBURY CT1",74300,74,"Other professional, scientific and technical services          ",0.19142587698446711,null,null,null,null,null,null,null,null,2520,"*",null,{"$f":"VLOOKUP(A9673,'[1]Update Sheet'!$A$3:$Y$15578,25,FALSE)","v":0},"Reportable"]
["QISMET",67511,null,"N","N",true,"GB","Y","PRIVATE SECTOR","CR3 5AE",null,null,"CHALDON CR3",74909,74,"Other professional, scientific and technical services          ",0.19142587698446711,null,null,null,null,null,null,null,null,2500,"*",null,{"$f":"VLOOKUP(A9692,'[1]Update Sheet'!$A$3:$Y$15578,25,FALSE)","v":0},"Reportable"]
["AXA PPP HEALTHCARE",18120,null,"N","N",true,"GB","Y","PRIVATE SECTOR","TN1 2PL",null,null,"TUNBRIDGE TN1",65120,"65.1-2","Insurance and reinsurance services, except compulsory social security      ",7.5671294490098365E-2,null,null,null,null,null,null,null,null,2473.91,"*",null,{"$f":"VLOOKUP(A9717,'[1]Update Sheet'!$A$3:$Y$15578,25,FALSE)","v":0},"Reportable"]
["P&A COMMERCIALS LTD",76131,1,"Y","Y",true,"GB","N","PRIVATE SECTOR","CH8 9DZ","North Wales","Betsi Cadwaladr UHB","MOSTYN CH8",82990,82,"Office administrative, office support and other business support services       ",0.1180504360352973,null,null,null,null,null,null,null,null,2445.5100000000002,"*",null,{"$f":"VLOOKUP(A9736,'[1]Update Sheet'!$A$3:$Y$15578,25,FALSE)","v":0},"Reportable"]
["WYNNLODGE LTD",50484,null,"N","N",true,"GB","Y","PRIVATE SECTOR","YO32 5YG",null,null,"YORK YO32",62012,62,"Computer programming, consultancy and related services          ",0.13144659704407699,null,null,null,null,null,null,null,null,2400,"*",null,{"$f":"VLOOKUP(A9761,'[1]Update Sheet'!$A$3:$Y$15578,25,FALSE)","v":0},"Reportable"]
["PROMEDICAL PERSONNEL LTD",34343,null,"N","N",true,"GB","Y","PRIVATE SECTOR","CM14 4JE",null,null,"BRENTWOOD CM14",78200,78,"Employment services              ",0.1176282196328419,null,null,null,null,null,null,null,null,2398.0100000000002,"*",null,{"$f":"VLOOKUP(A9780,'[1]Update Sheet'!$A$3:$Y$15578,25,FALSE)","v":0},"Reportable"]
["INTENSIVE INTERACTION INSTITUTE",62087,null,"N","N",true,"GB","Y","PRIVATE SECTOR","CM24 8JG",null,null,"PUCK SG11",85600,85,"Education services              ",0.10257966678326461,null,null,null,null,null,null,null,null,2375,"*",null,{"$f":"VLOOKUP(A9799,'[1]Update Sheet'!$A$3:$Y$15578,25,FALSE)","v":0},"Reportable"]
["OUR WEIGH",25614,null,"N","N",true,"GB","N","PRIVATE SECTOR","TQ2 8JH",null,null,"TORQUAY TQ2",47910,47,"Retail trade services, except of motor vehicles and motorcycles       ",0.17404287306456559,null,null,null,null,null,null,null,null,2344.44,"*",null,{"$f":"VLOOKUP(A9824,'[1]Update Sheet'!$A$3:$Y$15578,25,FALSE)","v":0},"Reportable"]
["BIG FRESH CATERING LTD",68119,1,"Y","Y",true,"GB","Y","PRIVATE SECTOR","CF63 4RU","South East Wales","Cardiff and Vale UHB","BARRY CF63",56101,56,"Food and beverage serving services           ",0.28886167518608219,null,null,null,null,null,null,null,null,2319.75,"*",null,{"$f":"VLOOKUP(A9843,'[1]Update Sheet'!$A$3:$Y$15578,25,FALSE)","v":0},"Reportable"]
["FUNDRAISING REGULATOR",59544,null,"N","N",true,"GB","Y","VCSE","EC1V 1AW",null,null,"LONDON EC1V",84120,84,"Public administration and defence services; compulsory social security services       ",0.1703405261372164,null,null,null,null,null,null,null,null,2300,"*",null,{"$f":"VLOOKUP(A9862,'[1]Update Sheet'!$A$3:$Y$15578,25,FALSE)","v":0},"Reportable"]
["LEGACY TRAINING SERVICES LTD",74696,1,"Y","Y",true,"GB","N","PRIVATE SECTOR","CF83 2JR","South East Wales","Aneurin Bevan UHB","CAERPHIL CF83",85590,85,"Education services              ",0.10257966678326461,null,null,null,null,null,null,null,null,2292,"*",null,{"$f":"VLOOKUP(A9868,'[1]Update Sheet'!$A$3:$Y$15578,25,FALSE)","v":0},"Reportable"]
["RRC INTERNATIONAL TRAINING AND CONSULTANCY LTD",50568,null,"N","N",true,"GB","N","PRIVATE SECTOR","SW19 4DS",null,null,"LONDON SW19",85320,85,"Education services              ",0.10257966678326461,null,null,null,null,null,null,null,null,2268.4,"*",null,{"$f":"VLOOKUP(A9887,'[1]Update Sheet'!$A$3:$Y$15578,25,FALSE)","v":0},"Reportable"]
["MALEM MEDICAL LTD",14063,null,"N","N",true,"GB","Y","PRIVATE SECTOR","NG14 7EJ",null,null,"NOTTINGHA NG14",46460,46,"Wholesale trade services, except of motor vehicles and motorcycles       ",2.0310031510736858E-2,null,null,null,null,null,null,null,null,2248.62,"*",null,{"$f":"VLOOKUP(A9912,'[1]Update Sheet'!$A$3:$Y$15578,25,FALSE)","v":0},"Reportable"]
["UNITEDMIND LTD",73428,null,"N","N",true,"GB","Y","PRIVATE SECTOR","EC1V 2NX",null,null,"LONDON EC1V",96090,96,"Other personal services             ",7.6712791957121843E-2,null,null,null,null,null,null,null,null,0,null,null,{"$f":"VLOOKUP(A9931,'[1]Update Sheet'!$A$3:$Y$15578,25,FALSE)","v":0},"Reportable"]
["THE BUTTERFLY SCHEME",45899,null,"N","N",true,"GB","Y","VCSE","LS16 6BQ",null,null,"LEEDS LS16",85590,85,"Education services              ",0.10257966678326461,null,null,null,null,null,null,null,null,2200,"*",null,{"$f":"VLOOKUP(A9950,'[1]Update Sheet'!$A$3:$Y$15578,25,FALSE)","v":0},"Reportable"]
["LADDER4LIFE LTD",75450,null,"N","N",true,"GB","Y","PRIVATE SECTOR","NE66 3AH",null,null,"ALNWICK NE66",85600,85,"Education services              ",0.10257966678326461,null,null,null,null,null,null,null,null,2172,"*",null,{"$f":"VLOOKUP(A9975,'[1]Update Sheet'!$A$3:$Y$15578,25,FALSE)","v":0},"Reportable"]
["DR RHIANNON LEWIS",75404,1,"Y","Y",true,"GB","Y","PRIVATE SECTOR","LL16 5UD","South West Wales","Swansea Bay UHB","TREFNANT LL16",86000,86,"Human health services             ",0.29193168620018201,null,null,null,null,null,null,null,null,2150,"*",null,{"$f":"VLOOKUP(A9994,'[1]Update Sheet'!$A$3:$Y$15578,25,FALSE)","v":0},"Reportable"]
["LUMI THERAPY LTD",77480,null,"N","N",true,"GB","Y","PRIVATE SECTOR","EX2 8NY",null,null,"EXETER EX2",46420,46,"Wholesale trade services, except of motor vehicles and motorcycles       ",2.0310031510736858E-2,null,null,null,null,null,null,null,null,2137.5,"*",null,{"$f":"VLOOKUP(A10000,'[1]Update Sheet'!$A$3:$Y$15578,25,FALSE)","v":0},"Reportable"]
["WHITE RIVER DESIGN",76546,null,"N","N",true,"GB","Y","PRIVATE SECTOR","PL26 7SN",null,null,"ST AUSTELL PL26",41100,"42.1-2","Constructions and construction works for civil engineering         ",0.38802246325570439,null,null,null,null,null,null,null,null,2104.5,"*",null,{"$f":"VLOOKUP(A10019,'[1]Update Sheet'!$A$3:$Y$15578,25,FALSE)","v":0},"Reportable"]
["PARNELL PRODUCTS LTD",64875,null,"N","N",true,"GB","Y","PRIVATE SECTOR","NE22 6AX",null,null,"NORTHUMBE NE22",96090,96,"Other personal services             ",7.6712791957121843E-2,null,null,null,null,null,null,null,null,2086.56,"*",null,{"$f":"VLOOKUP(A10038,'[1]Update Sheet'!$A$3:$Y$15578,25,FALSE)","v":0},"Reportable"]
["ADAM DAVIES PHOTOGRAPHY & FILM",61634,1,"Y","Y",true,"GB","Y","PRIVATE SECTOR","SA2 8NS","South West Wales","Swansea Bay UHB","SWANSEA SA2",74201,74,"Other professional, scientific and technical services          ",0.19142587698446711,null,null,null,null,null,null,null,null,2058.35,"*",null,{"$f":"VLOOKUP(A10063,'[1]Update Sheet'!$A$3:$Y$15578,25,FALSE)","v":0},"Reportable"]
["ALPINE LAND SURVEYORS LTD",51491,1,"Y","Y",true,"GB","N","PRIVATE SECTOR","CF44 9UP","South East Wales","Cwm Taf Morgannwg UHB","ABERDARE CF44",86900,86,"Human health services             ",0.29193168620018201,null,null,null,null,null,null,null,null,2044.8,"*",null,{"$f":"VLOOKUP(A10082,'[1]Update Sheet'!$A$3:$Y$15578,25,FALSE)","v":0},"Reportable"]
["A R TWIGG & SON LTD",53609,null,"N","N",true,"GB","Y","PRIVATE SECTOR","RG19 4NA",null,null,"THATCHAM RG19",96030,96,"Other personal services             ",7.6712791957121843E-2,null,null,null,null,null,null,null,null,2021.4,"*",null,{"$f":"VLOOKUP(A10101,'[1]Update Sheet'!$A$3:$Y$15578,25,FALSE)","v":0},"Reportable"]
["CONNECT COLLABORATIONS LTD",67911,null,"N","N",true,"GB","N","PRIVATE SECTOR","M16 0AD",null,null,"MANCHESTE PE31",70229,70,"Services of head offices; management consulting services         ",9.3681183759862049E-2,null,null,null,null,null,null,null,null,2000,"*",null,{"$f":"VLOOKUP(A10126,'[1]Update Sheet'!$A$3:$Y$15578,25,FALSE)","v":0},"Reportable"]
["SIAN WISEMAN",49748,1,"Y","Y",true,"GB","N","PRIVATE SECTOR","CF15 7NJ","South East Wales","Cardiff and Vale UHB","CARDIFF CF15",7487,74,"Other professional, scientific and technical services          ",0.19142587698446711,null,null,null,null,null,null,null,null,1983.9,"*",null,{"$f":"VLOOKUP(A10145,'[1]Update Sheet'!$A$3:$Y$15578,25,FALSE)","v":0},"Reportable"]
["LASERMET LTD",20621,null,"N","N",true,"GB","N","PRIVATE SECTOR","BH9 1HR",null,null,"ESTATES",74909,74,"Other professional, scientific and technical services          ",0.19142587698446711,null,null,null,null,null,null,null,null,1980,"*",null,{"$f":"VLOOKUP(A10151,'[1]Update Sheet'!$A$3:$Y$15578,25,FALSE)","v":0},"Reportable"]
["WISEGROVE LTD TA ACTIN TIME",29099,null,"N","N",true,"GB","N","PRIVATE SECTOR","N21 3LH",null,null,"LONDON N21",96090,96,"Other personal services             ",7.6712791957121843E-2,null,null,null,null,null,null,null,null,1956,"*",null,{"$f":"VLOOKUP(A10170,'[1]Update Sheet'!$A$3:$Y$15578,25,FALSE)","v":0},"Reportable"]
["DAVID BURNBY & ASSOCIATES",49505,null,"N","N",true,"GB","N","PRIVATE SECTOR","HU5 4DE",null,null,"HULL HU5",70229,70,"Services of head offices; management consulting services         ",9.3681183759862049E-2,null,null,null,null,null,null,null,null,1922.88,"*",null,{"$f":"VLOOKUP(A10189,'[1]Update Sheet'!$A$3:$Y$15578,25,FALSE)","v":0},"Reportable"]
["DYFFRYN CARE LTD",47028,1,"Y","Y",true,"GB","N","PRIVATE SECTOR","LL18 4BY","North Wales","Betsi Cadwaladr UHB","RHYL LL18",87200,87,"Residential care services             ",0.16514437058930551,null,null,null,null,null,null,null,null,1903,"*",null,{"$f":"VLOOKUP(A10214,'[1]Update Sheet'!$A$3:$Y$15578,25,FALSE)","v":0},"Reportable"]
["HEALTH & SAFETY LABORATORY",25428,null,"N","N",true,"GB","N","PUBLIC SECTOR","SK17 9JN",null,null,"PHARMACY",86101,86,"Human health services             ",0.29193168620018201,null,null,null,null,null,null,null,null,1890,"*",null,{"$f":"VLOOKUP(A10233,'[1]Update Sheet'!$A$3:$Y$15578,25,FALSE)","v":0},"Reportable"]
["INSPIRED TESTING LTD",73001,null,"N","N",true,"GB","Y","PRIVATE SECTOR","SE1 7LY",null,null,"LONDON SE1",62012,62,"Computer programming, consultancy and related services          ",0.13144659704407699,null,null,null,null,null,null,null,null,1860,"*",null,{"$f":"VLOOKUP(A10258,'[1]Update Sheet'!$A$3:$Y$15578,25,FALSE)","v":0},"Reportable"]
["LAKE COUNTRY HOUSE & SPA",36264,1,"Y","Y",true,"GB","N","PRIVATE SECTOR","LD4 4BS","Mid Wales","Powys Teaching HB","LLANGAMMA LD4",55100,55,"Accommodation services              ",0.32444602703376968,null,null,null,null,null,null,null,null,1839.7,"*",null,{"$f":"VLOOKUP(A10277,'[1]Update Sheet'!$A$3:$Y$15578,25,FALSE)","v":0},"Reportable"]
["HYGIENA INTERNATIONAL LTD",29772,null,"N","N",true,"GB","Y","PRIVATE SECTOR","WD24 4YJ",null,null,"WATFORD WD24",46760,46,"Wholesale trade services, except of motor vehicles and motorcycles       ",2.0310031510736858E-2,null,null,null,null,null,null,null,null,1810.35,"*",null,{"$f":"VLOOKUP(A10296,'[1]Update Sheet'!$A$3:$Y$15578,25,FALSE)","v":0},"Reportable"]
["SWIFTS PRIVATE HIRE LLAMDLOES",6206,1,"Y","Y",true,"GB","Y","PRIVATE SECTOR","SY18 6PQ","Mid Wales","Powys Teaching HB","LLANIDLOE SY18",49320,"49.3-5","Land transport services and transport services via pipelines, excluding rail transport     ",0.60315703544097854,null,null,null,null,null,null,null,null,1803.08,"*",null,{"$f":"VLOOKUP(A10302,'[1]Update Sheet'!$A$3:$Y$15578,25,FALSE)","v":0},"Reportable"]
["CLEAN ME CLEAN LTD",77171,1,"Y","Y",true,"GB","Y","PRIVATE SECTOR","SA3 5RP","South West Wales","Swansea Bay UHB","SWANSEA SA3",81210,81,"Services to buildings and landscape           ",0.1712664478524781,null,null,null,null,null,null,null,null,1800,"*",null,{"$f":"VLOOKUP(A10321,'[1]Update Sheet'!$A$3:$Y$15578,25,FALSE)","v":0},"Reportable"]
["HARVEYS OF OLDHAM (HOLDINGS) LTD",75475,null,"N","N",true,"GB","N","PRIVATE SECTOR","OL4 1YU",null,null,"OLDHAM OL4",14120,14,"Wearing apparel              ",0.79124467818111843,null,null,null,null,null,null,null,null,1789.99,"*",null,{"$f":"VLOOKUP(A10340,'[1]Update Sheet'!$A$3:$Y$15578,25,FALSE)","v":0},"Reportable"]
["THE COMPASSIONATE LEADERSHIP COMPANY LTD",75904,null,"N","N",true,"GB","Y","PRIVATE SECTOR","BS21 7NU",null,null,"CLEVEDON BS21",70229,70,"Services of head offices; management consulting services         ",9.3681183759862049E-2,null,null,null,null,null,null,null,null,1757.82,"*",null,{"$f":"VLOOKUP(A10365,'[1]Update Sheet'!$A$3:$Y$15578,25,FALSE)","v":0},"Reportable"]
["QUALS DIRECT LTD",64411,null,"N","N",true,"GB","Y","PRIVATE SECTOR","M33 2AF",null,null,"SALE M33",58290,58,"Publishing services              ",8.0219457227851232E-2,null,null,null,null,null,null,null,null,1740,"*",null,{"$f":"VLOOKUP(A10384,'[1]Update Sheet'!$A$3:$Y$15578,25,FALSE)","v":0},"Reportable"]
["MIKE FARRAR CONSULTING LTD",63769,null,"N","N",true,"GB","Y","PRIVATE SECTOR","HD8 8HT",null,null,"HUDDERSFI HD8",70229,70,"Services of head offices; management consulting services         ",9.3681183759862049E-2,null,null,null,null,null,null,null,null,1705.18,"*",null,{"$f":"VLOOKUP(A10409,'[1]Update Sheet'!$A$3:$Y$15578,25,FALSE)","v":0},"Reportable"]
["DR IAN G RYDER",76978,null,"N","N",true,"GB","Y","PRIVATE SECTOR","BRISTOL",null,null,"BRISTOL",86000,86,"Human health services             ",0.29193168620018201,null,null,null,null,null,null,null,null,1687.5,"*",null,{"$f":"VLOOKUP(A10428,'[1]Update Sheet'!$A$3:$Y$15578,25,FALSE)","v":0},"Reportable"]
["RADECARL LTD",39652,1,"Y","Y",true,"GB","Y","PRIVATE SECTOR","CF83 2NZ","South East Wales","Aneurin Bevan UHB","CAERPHILL CF83",68100,"68.2IMP","Owner-Occupiers' Housing Services",3.9621368125994462E-2,null,null,null,null,null,null,null,null,1668,"*",null,{"$f":"VLOOKUP(A10447,'[1]Update Sheet'!$A$3:$Y$15578,25,FALSE)","v":0},"Reportable"]
["SPORTING WALES MEDIA LTD",76682,1,"Y","Y",true,"GB","Y","PRIVATE SECTOR","NP26 4PG","North Wales","Betsi Cadwaladr UHB","CALDICOT NP26",74202,74,"Other professional, scientific and technical services          ",0.19142587698446711,null,null,null,null,null,null,null,null,1656,"*",null,{"$f":"VLOOKUP(A10453,'[1]Update Sheet'!$A$3:$Y$15578,25,FALSE)","v":0},"Reportable"]
["G B ENGINEERING (WALES) LTD TA BORDERSTORE",65519,1,"Y","Y",true,"GB","Y","PRIVATE SECTOR","NP11 3PL","South East Wales","Aneurin Bevan UHB","CRUMLIN NP11",25990,"25OTHER","Fabricated metal products, excl. machinery and equipment and weapons & ammunition - 25.1-3/25.5-9   ",0.45904169551503349,null,null,null,null,null,null,null,null,1644,"*",null,{"$f":"VLOOKUP(A10472,'[1]Update Sheet'!$A$3:$Y$15578,25,FALSE)","v":0},"Reportable"]
["HD WORKWEAR LTD",77027,null,"N","N",true,"GB","Y","PRIVATE SECTOR","AL7 1WL",null,null,"WELWYN GAR AL7",46420,46,"Wholesale trade services, except of motor vehicles and motorcycles       ",2.0310031510736858E-2,null,null,null,null,null,null,null,null,1611.09,"*",null,{"$f":"VLOOKUP(A10501,'[1]Update Sheet'!$A$3:$Y$15578,25,FALSE)","v":0},"Reportable"]
["DR PAUL HOWELL",67188,null,"N","N",true,"GB","N","PRIVATE SECTOR","E1 1BB",null,null,"LONDON E1",86210,86,"Human health services             ",0.29193168620018201,null,null,null,null,null,null,null,null,1600,"*",null,{"$f":"VLOOKUP(A10515,'[1]Update Sheet'!$A$3:$Y$15578,25,FALSE)","v":0},"Reportable"]
["HALO CORPORATE FINANCE LTD",59570,null,"N","N",true,"GB","Y","PRIVATE SECTOR","RH12 4RU",null,null,"FAYGATE RH12",77330,77,"Rental and leasing services            ",0.13477794599811871,null,null,null,null,null,null,null,null,1587.36,"*",null,{"$f":"VLOOKUP(A10534,'[1]Update Sheet'!$A$3:$Y$15578,25,FALSE)","v":0},"Reportable"]
["A24 LTD",76272,null,"N","N",true,"GB","N","PRIVATE SECTOR","EC4N 7AU",null,null,"LONDON EC4M",62020,62,"Computer programming, consultancy and related services          ",0.13144659704407699,null,null,null,null,null,null,null,null,1566,"*",null,{"$f":"VLOOKUP(A10559,'[1]Update Sheet'!$A$3:$Y$15578,25,FALSE)","v":0},"Reportable"]
["DOCUSIGN INC",74694,null,"N","N",true,"US","N","PRIVATE SECTOR","CA 94105",null,null,"FOREIGN",96090,96,"Other personal services             ",7.6712791957121843E-2,null,null,null,null,null,null,null,null,1552.5,"*",null,{"$f":"VLOOKUP(A10578,'[1]Update Sheet'!$A$3:$Y$15578,25,FALSE)","v":0},"Reportable"]
["CGI BUSINESS SERVICES LTD",56620,null,"N","N",true,"GB","Y","PRIVATE SECTOR","EC1N 8TS",null,null,"LONDON EC1N",70229,70,"Services of head offices; management consulting services         ",9.3681183759862049E-2,null,null,null,null,null,null,null,null,1536,"*",null,{"$f":"VLOOKUP(A10597,'[1]Update Sheet'!$A$3:$Y$15578,25,FALSE)","v":0},"Reportable"]
["THE UNITED KINGDOM SCIENCE PARK ASSOCIATION",68055,null,"N","N",true,"GB","Y","VCSE","CB10 1XL",null,null,"SAFFRON CB10",94110,94,"Services furnished by membership organisations           ",0.1210358880635142,null,null,null,null,null,null,null,null,1530,"*",null,{"$f":"VLOOKUP(A10603,'[1]Update Sheet'!$A$3:$Y$15578,25,FALSE)","v":0},"Reportable"]
["WENTWORTH CARE LTD",39864,null,"N","N",true,"GB","Y","PRIVATE SECTOR","WC1X 0JG",null,null,"KINGTON HR5",87100,87,"Residential care services             ",0.16514437058930551,null,null,null,null,null,null,null,null,230698.59,"*",null,{"$f":"VLOOKUP(A10622,'[1]Update Sheet'!$A$3:$Y$15578,25,FALSE)","v":0},"Reportable"]
["DR PAUL ALLAN SEDGWICK",76065,null,"N","N",true,"GB","Y","PRIVATE SECTOR","CH48 1PJ",null,null,"FRANKBY CH48",86000,86,"Human health services             ",0.29193168620018201,null,null,null,null,null,null,null,null,1500,"*",null,{"$f":"VLOOKUP(A10647,'[1]Update Sheet'!$A$3:$Y$15578,25,FALSE)","v":0},"Reportable"]
["CARDIGAN CASTLE ENTERPRISES LTD",73454,1,"Y","Y",true,"GB","Y","PRIVATE SECTOR","SA43 1JA","Mid Wales","Hywel Dda UHB","CARDIGAN SA43",91020,91,"Libraries, archives, museums and other cultural services         ",0.1638049098676421,null,null,null,null,null,null,null,null,1487.5,"*",null,{"$f":"VLOOKUP(A10666,'[1]Update Sheet'!$A$3:$Y$15578,25,FALSE)","v":0},"Reportable"]
["SAMUEL JOHNSON",77406,null,"N","N",true,"GB","N","PRIVATE SECTOR","WA7 6UT",null,null,"RUNCORN  WA7",86000,86,"Human health services             ",0.29193168620018201,null,null,null,null,null,null,null,null,1468.38,"*",null,{"$f":"VLOOKUP(A10685,'[1]Update Sheet'!$A$3:$Y$15578,25,FALSE)","v":0},"Reportable"]
["UBQO LTD",74306,null,"N","N",true,"GB","N","PRIVATE SECTOR","SW17 9JG",null,null,"LONDON SW17",58290,58,"Publishing services              ",8.0219457227851232E-2,null,null,null,null,null,null,null,null,1440,"*",null,{"$f":"VLOOKUP(A10710,'[1]Update Sheet'!$A$3:$Y$15578,25,FALSE)","v":0},"Reportable"]
["BUFTON HEATING",32121,1,"Y","Y",true,"GB","Y","PRIVATE SECTOR","SY16 4LE","Mid Wales","Powys Teaching HB","NEWTOWN SY16",43220,42.99,"Specialised construction works             ",0.31026786628535008,null,null,null,null,null,null,null,null,1426.8,"*",null,{"$f":"VLOOKUP(A10729,'[1]Update Sheet'!$A$3:$Y$15578,25,FALSE)","v":0},"Reportable"]
["VALE CARE SERVICES LTD",52452,1,"Y","Y",true,"GB","Y","PRIVATE SECTOR","CF11 9HB","South East Wales","Cardiff and Vale UHB","CARDIFF CF5",87100,87,"Residential care services             ",0.16514437058930551,null,null,null,null,null,null,null,null,1405.35,"*",null,{"$f":"VLOOKUP(A10748,'[1]Update Sheet'!$A$3:$Y$15578,25,FALSE)","v":0},"Reportable"]
["BAPO LTD",34152,null,"N","N",true,"GB","N","PRIVATE SECTOR","PA1 1TJ",null,null,"PAISLEY PA1",94120,94,"Services furnished by membership organisations           ",0.1210358880635142,null,null,null,null,null,null,null,null,1396.5,"*",null,{"$f":"VLOOKUP(A10773,'[1]Update Sheet'!$A$3:$Y$15578,25,FALSE)","v":0},"Reportable"]
["HPMA WALES",48417,1,"Y","Y",true,"GB","Y","VCSE","NP44 7HF","South East Wales","Aneurin Bevan UHB","CWMBRAN NP44",94990,94,"Services furnished by membership organisations           ",0.1210358880635142,null,null,null,null,null,null,null,null,1377,"*",null,{"$f":"VLOOKUP(A10792,'[1]Update Sheet'!$A$3:$Y$15578,25,FALSE)","v":0},"Reportable"]
["THE SPEECH THERAPY PRACTICE LTD",588,null,"N","N",true,"GB","N","PRIVATE SECTOR","B30 1TG",null,null,"BIRMINGHA B30",86220,86,"Human health services             ",0.29193168620018201,null,null,null,null,null,null,null,null,1370,"*",null,{"$f":"VLOOKUP(A10798,'[1]Update Sheet'!$A$3:$Y$15578,25,FALSE)","v":0},"Reportable"]
["MORLAIS CASTLE GOLF CLUB",55945,1,"Y","Y",true,"GB","N","PRIVATE SECTOR","CF48 2UY","South East Wales","Cwm Taf Morgannwg UHB","MORLAIS CF48",93120,93,"Sports services and amusement and recreation services         ",0.22280360830166321,null,null,null,null,null,null,null,null,1355.8,"*",null,{"$f":"VLOOKUP(A10817,'[1]Update Sheet'!$A$3:$Y$15578,25,FALSE)","v":0},"Reportable"]
["MOULDED FOAMS LTD",37815,1,"Y","Y",true,"GB","N","PRIVATE SECTOR","NP12 2EU","South East Wales","Aneurin Bevan UHB","BLACKWOOD NP12",22290,22,"Rubber and plastic products            ",0.57621788964022036,null,null,null,null,null,null,null,null,1346.71,"*",null,{"$f":"VLOOKUP(A10836,'[1]Update Sheet'!$A$3:$Y$15578,25,FALSE)","v":0},"Reportable"]
["NICK BARRATT BEHAVIOUR CHANGE CONSULTANCY LTD",73287,null,"N","N",true,"GB","Y","VCSE","GU51 3DU",null,null,"FLEET GU51",96090,96,"Other personal services             ",7.6712791957121843E-2,null,null,null,null,null,null,null,null,1320,"*",null,{"$f":"VLOOKUP(A10861,'[1]Update Sheet'!$A$3:$Y$15578,25,FALSE)","v":0},"Reportable"]
["CORNELLY COMMUNITY CENTRE",61735,1,"Y","Y",true,"GB","N","VCSE","CF33 4AS","South East Wales","Cwm Taf Morgannwg UHB","BRIDGEND CF33",82990,82,"Office administrative, office support and other business support services       ",0.1180504360352973,null,null,null,null,null,null,null,null,1305,"*",null,{"$f":"VLOOKUP(A10880,'[1]Update Sheet'!$A$3:$Y$15578,25,FALSE)","v":0},"Reportable"]
["ENTERPRISE CLOTHING CO",41416,1,"Y","Y",true,"GB","N","PRIVATE SECTOR","SA6 8QN","South West Wales","Swansea Bay UHB","SWANSEA SA6",46420,46,"Wholesale trade services, except of motor vehicles and motorcycles       ",2.0310031510736858E-2,null,null,null,null,null,null,null,null,1290.18,"*",null,{"$f":"VLOOKUP(A10905,'[1]Update Sheet'!$A$3:$Y$15578,25,FALSE)","v":0},"Reportable"]
["EOPINEX LTD",76147,null,"N","N",true,"GB","Y","PRIVATE SECTOR","EC1A 9ET",null,null,"LONDON EC1A",86900,86,"Human health services             ",0.29193168620018201,null,null,null,null,null,null,null,null,1272,"*",null,{"$f":"VLOOKUP(A10924,'[1]Update Sheet'!$A$3:$Y$15578,25,FALSE)","v":0},"Reportable"]
["MORRIS CARE LTD",40535,null,"N","N",true,"GB","N","PRIVATE SECTOR","SY3 8LH",null,null,"SHREWSBURY SY3",87100,87,"Residential care services             ",0.16514437058930551,null,null,null,null,null,null,null,null,107373.79,"*",null,{"$f":"VLOOKUP(A10943,'[1]Update Sheet'!$A$3:$Y$15578,25,FALSE)","v":0},"Reportable"]
["IAN ISAAC ASSOCIATES LTD",72239,null,"N","N",true,"GB","N","PRIVATE SECTOR","IP16 4PZ",null,null,"ALDRINGH IP16",86210,86,"Human health services             ",0.29193168620018201,null,null,null,null,null,null,null,null,1260,"*",null,{"$f":"VLOOKUP(A10949,'[1]Update Sheet'!$A$3:$Y$15578,25,FALSE)","v":0},"Reportable"]
["THISTLE CARE LTD",65669,1,"Y","Y",true,"GB","Y","PRIVATE SECTOR","CF5 1JD","South East Wales","Cardiff and Vale UHB","CARDIFF CF5",86900,86,"Human health services             ",0.29193168620018201,null,null,null,null,null,null,null,null,1242,"*",null,{"$f":"VLOOKUP(A10968,'[1]Update Sheet'!$A$3:$Y$15578,25,FALSE)","v":0},"Reportable"]
["YSGOL MAESYDDERWEN",74759,1,"Y","Y",true,"GB","Y","PUBLIC SECTOR","SA9 1AP","Mid Wales","Powys Teaching HB","YSTRADGYN SA9",96090,96,"Other personal services             ",7.6712791957121843E-2,null,null,null,null,null,null,null,null,1230,"*",null,{"$f":"VLOOKUP(A10987,'[1]Update Sheet'!$A$3:$Y$15578,25,FALSE)","v":0},"Reportable"]
["DOLMAN THEATRE",46419,1,"Y","Y",true,"GB","N","VCSE","NP20 1HY","South East Wales","Aneurin Bevan UHB","NEWPORT NP20",90020,90,"Creative, arts and entertainment services           ",0.2018836157509922,null,null,null,null,null,null,null,null,1212.75,"*",null,{"$f":"VLOOKUP(A11012,'[1]Update Sheet'!$A$3:$Y$15578,25,FALSE)","v":0},"Reportable"]
["UK & IRELAND ASSOCIATION OF CANCER REGISTRIES (UKIACR)",59999,1,"Y","Y",true,"GB","N","VCSE","CF10 4BZ","South East Wales","Cardiff and Vale UHB","CARDIFF CF10",96090,96,"Other personal services             ",7.6712791957121843E-2,null,null,null,null,null,null,null,null,1200,"*",null,{"$f":"VLOOKUP(A11031,'[1]Update Sheet'!$A$3:$Y$15578,25,FALSE)","v":0},"Reportable"]
["ATTACHMENT WORKS LTD",70293,null,"N","N",true,"GB","Y","PRIVATE SECTOR","DE4 5FS",null,null,"TANSLEY DE4",96090,96,"Other personal services             ",7.6712791957121843E-2,null,null,null,null,null,null,null,null,1200,"*",null,{"$f":"VLOOKUP(A11056,'[1]Update Sheet'!$A$3:$Y$15578,25,FALSE)","v":0},"Reportable"]
["FINDEL EDUCATION LTD",2112,null,"N","N",true,"GB","N","PRIVATE SECTOR","SK14 4HR",null,null,"HYDE SK14",47910,47,"Retail trade services, except of motor vehicles and motorcycles       ",0.17404287306456559,null,null,null,null,null,null,null,null,1188.51,"*",null,{"$f":"VLOOKUP(A11075,'[1]Update Sheet'!$A$3:$Y$15578,25,FALSE)","v":0},"Reportable"]
["RAPID PRIME CARE LTD",71937,null,"N","N",true,"GB","N","PRIVATE SECTOR","B66 4HA",null,null,"SMETHWICK B66",78200,78,"Employment services              ",0.1176282196328419,null,null,null,null,null,null,null,null,1176.1600000000001,"*",null,{"$f":"VLOOKUP(A11094,'[1]Update Sheet'!$A$3:$Y$15578,25,FALSE)","v":0},"Reportable"]
["THE IMPERIAL HOTEL INDIA",76569,null,"N","N",true,"GB","Y","PRIVATE SECTOR",110001,null,null,"FOREIGN",55100,55,"Accommodation services              ",0.32444602703376968,null,null,null,null,null,null,null,null,1174.95,"*",null,{"$f":"VLOOKUP(A11100,'[1]Update Sheet'!$A$3:$Y$15578,25,FALSE)","v":0},"Reportable"]
["EVENT BRANDING UK LTD",75366,1,"Y","Y",true,"GB","Y","PRIVATE SECTOR","SA7 9BA","South West Wales","Swansea Bay UHB","SWANSEA SA7",18129,18,"Printing and recording services            ",0.38173396113307168,null,null,null,null,null,null,null,null,1158,"*",null,{"$f":"VLOOKUP(A11119,'[1]Update Sheet'!$A$3:$Y$15578,25,FALSE)","v":0},"Reportable"]
["DARCY PRODUCTS LTD",52463,null,"N","N",true,"GB","Y","PRIVATE SECTOR","ME20 6GN",null,null,"AYLESFORD ME20",32990,32,"Other manufactured goods             ",0.67238249414981133,null,null,null,null,null,null,null,null,1147.25,"*",null,{"$f":"VLOOKUP(A11138,'[1]Update Sheet'!$A$3:$Y$15578,25,FALSE)","v":0},"Reportable"]
["ANGELA HINTON TA FIT4WORK",73108,null,"N","N",true,"GB","Y","PRIVATE SECTOR","LS16 9EU",null,null,"LEEDS LS16",86900,86,"Human health services             ",0.29193168620018201,null,null,null,null,null,null,null,null,1125,"*",null,{"$f":"VLOOKUP(A11163,'[1]Update Sheet'!$A$3:$Y$15578,25,FALSE)","v":0},"Reportable"]
["PKA TAXIS",63459,1,"Y","Y",true,"GB","Y","PRIVATE SECTOR","LL18 5TT","North Wales","Betsi Cadwaladr UHB","BODELWYDD LL18",49320,"49.3-5","Land transport services and transport services via pipelines, excluding rail transport     ",0.60315703544097854,null,null,null,null,null,null,null,null,1112,"*",null,{"$f":"VLOOKUP(A11182,'[1]Update Sheet'!$A$3:$Y$15578,25,FALSE)","v":0},"Reportable"]
["SERVER ROOM ENVIRONMENTS LTD",74592,1,"Y","Y",true,"GB","Y","PRIVATE SECTOR","CH7 1XB","North Wales","Betsi Cadwaladr UHB","MOLD CH7",96090,96,"Other personal services             ",7.6712791957121843E-2,null,null,null,null,null,null,null,null,1098,"*",null,{"$f":"VLOOKUP(A11207,'[1]Update Sheet'!$A$3:$Y$15578,25,FALSE)","v":0},"Reportable"]
["A DEC DENTAL UK LTD",54288,null,"N","N",true,"GB","Y","PRIVATE SECTOR","CV11 6QH",null,null,"NUNEATON CV11",32500,32,"Other manufactured goods             ",0.67238249414981133,null,null,null,null,null,null,null,null,1084.82,"*",null,{"$f":"VLOOKUP(A11226,'[1]Update Sheet'!$A$3:$Y$15578,25,FALSE)","v":0},"Reportable"]
["GARTEC LTD",32308,null,"N","N",true,"GB","N","PRIVATE SECTOR","HP19 8HL",null,null,"AYLESBURY HP19",33200,"33OTHER","Rest of repair; Installation - 33.11-14/17/19/20          ",0.18696882687485539,null,null,null,null,null,null,null,null,1079.94,"*",null,{"$f":"VLOOKUP(A11245,'[1]Update Sheet'!$A$3:$Y$15578,25,FALSE)","v":0},"Reportable"]
["PHYSICAL COMPANY",15093,null,"N","N",true,"GB","N","PRIVATE SECTOR","HP14 3RR",null,null,"STOCKENCH HP14",47990,47,"Retail trade services, except of motor vehicles and motorcycles       ",0.17404287306456559,null,null,null,null,null,null,null,null,1075.71,"*",null,{"$f":"VLOOKUP(A11251,'[1]Update Sheet'!$A$3:$Y$15578,25,FALSE)","v":0},"Reportable"]
["CARDIGAN BAY & CELTIC BAY GUEST HOUSE",63026,1,"Y","Y",true,"GB","Y","PRIVATE SECTOR","SY23 2BX","Mid Wales","Hywel Dda UHB","ABERYSTWY SY23",55100,55,"Accommodation services              ",0.32444602703376968,null,null,null,null,null,null,null,null,1060,"*",null,{"$f":"VLOOKUP(A11270,'[1]Update Sheet'!$A$3:$Y$15578,25,FALSE)","v":0},"Reportable"]
["ARIANA FARIS",33048,1,"Y","Y",true,"GB","N","PRIVATE SECTOR","CF24 1RX","South East Wales","Cardiff and Vale UHB","CARDIFF CF24",7487,74,"Other professional, scientific and technical services          ",0.19142587698446711,null,null,null,null,null,null,null,null,1050,"*",null,{"$f":"VLOOKUP(A11295,'[1]Update Sheet'!$A$3:$Y$15578,25,FALSE)","v":0},"Reportable"]
["DISCOUNT DISPLAYS",31952,null,"N","N",true,"GB","N","PRIVATE SECTOR","CR0 3EB",null,null,"CROYDON CR0",32990,32,"Other manufactured goods             ",0.67238249414981133,null,null,null,null,null,null,null,null,1039.1500000000001,"*",null,{"$f":"VLOOKUP(A11314,'[1]Update Sheet'!$A$3:$Y$15578,25,FALSE)","v":0},"Reportable"]
["INTEGRATED TECH LTD",76294,null,"N","N",true,"GB","Y","PRIVATE SECTOR","EC1V 2NZ",null,null,"GREAT DODD NN29",62090,62,"Computer programming, consultancy and related services          ",0.13144659704407699,null,null,null,null,null,null,null,null,1027.19,"*",null,{"$f":"VLOOKUP(A11333,'[1]Update Sheet'!$A$3:$Y$15578,25,FALSE)","v":0},"Reportable"]
["BRITISH ORTHODONTIC SOCIETY",1437,null,"N","N",true,"GB","Y","VCSE","EC4V 6AP",null,null,"LONDON EC4V",94120,94,"Services furnished by membership organisations           ",0.1210358880635142,null,null,null,null,null,null,null,null,1023,"*",null,{"$f":"VLOOKUP(A11346,'[1]Update Sheet'!$A$3:$Y$15578,25,FALSE)","v":0},"Reportable"]
["RAM MEDICA LTD",76825,null,"N","N",true,"GB","Y","PRIVATE SECTOR","BS8 1HB",null,null,"BRISTOL BS8",86220,86,"Human health services             ",0.29193168620018201,null,null,null,null,null,null,null,null,1005,"*",null,{"$f":"VLOOKUP(A11376,'[1]Update Sheet'!$A$3:$Y$15578,25,FALSE)","v":0},"Reportable"]
["NEWTOWN HIGH SCHOOL",75140,1,"Y","Y",true,"GB","Y","PUBLIC SECTOR","SY16 1JE","Mid Wales","Powys Teaching HB","NEWTOWN SY16",96090,96,"Other personal services             ",7.6712791957121843E-2,null,null,null,null,null,null,null,null,1000,"*",null,{"$f":"VLOOKUP(A11395,'[1]Update Sheet'!$A$3:$Y$15578,25,FALSE)","v":0},"Reportable"]
["LITTLE HOUSE CONSULTANCY LTD",76341,1,"Y","Y",true,"GB","Y","PRIVATE SECTOR","SA3 3DX","South West Wales","Swansea Bay UHB","SWANSEA SA3",62090,62,"Computer programming, consultancy and related services          ",0.13144659704407699,null,null,null,null,null,null,null,null,1000,"*",null,{"$f":"VLOOKUP(A11401,'[1]Update Sheet'!$A$3:$Y$15578,25,FALSE)","v":0},"Reportable"]
["ADSO LTD",70847,null,"N","N",true,"GB","Y","PRIVATE SECTOR","SW16 4RD",null,null,"LONDON SW16",86101,86,"Human health services             ",0.29193168620018201,null,null,null,null,null,null,null,null,1000,"*",null,{"$f":"VLOOKUP(A11420,'[1]Update Sheet'!$A$3:$Y$15578,25,FALSE)","v":0},"Reportable"]
["ASSOCIATION FOR THE STUDY OF MEDICAL EDUCATION",23245,null,"N","N",true,"GB","N","VCSE","EH2 1JE",null,null,"EDINBURGH EH2",94120,94,"Services furnished by membership organisations           ",0.1210358880635142,null,null,null,null,null,null,null,null,984,"*",null,{"$f":"VLOOKUP(A11445,'[1]Update Sheet'!$A$3:$Y$15578,25,FALSE)","v":0},"Reportable"]
["NEWBRIDGE RFC",66719,1,"Y","Y",true,"GB","Y","VCSE","NP11 5FR","South East Wales","Aneurin Bevan UHB","NEWBRIDGE NP11",93000,93,"Sports services and amusement and recreation services         ",0.22280360830166321,null,null,null,null,null,null,null,null,972,"*",null,{"$f":"VLOOKUP(A11464,'[1]Update Sheet'!$A$3:$Y$15578,25,FALSE)","v":0},"Reportable"]
["STERI PRODUCTS LTD",54440,null,"N","N",true,"GB","Y","PRIVATE SECTOR","CM7 2PU",null,null,"BRAINTREE CM7",32990,32,"Other manufactured goods             ",0.67238249414981133,null,null,null,null,null,null,null,null,960,"*",null,{"$f":"VLOOKUP(A11483,'[1]Update Sheet'!$A$3:$Y$15578,25,FALSE)","v":0},"Reportable"]
["BUZZY4SHOTS UK",55180,null,"N","N",true,"GB","N","PRIVATE SECTOR","BS30 6HA",null,null,"BRISTOL BS30",96090,96,"Other personal services             ",7.6712791957121843E-2,null,null,null,null,null,null,null,null,954.96,"*",null,{"$f":"VLOOKUP(A11508,'[1]Update Sheet'!$A$3:$Y$15578,25,FALSE)","v":0},"Reportable"]
["DR AMMAR SALMAN",75668,1,"Y","Y",true,"GB","N","PRIVATE SECTOR","CF23 6HB","South East Wales","Cardiff and Vale UHB","PCS PAY",86210,86,"Human health services             ",0.29193168620018201,null,null,null,null,null,null,null,null,949.5,"*",null,{"$f":"VLOOKUP(A11527,'[1]Update Sheet'!$A$3:$Y$15578,25,FALSE)","v":0},"Reportable"]
["ROYS TRAVELS",58249,1,"Y","Y",true,"GB","N","PRIVATE SECTOR","CF3 3BP","South East Wales","Cardiff and Vale UHB","CARDIFF CF3",86900,86,"Human health services             ",0.29193168620018201,null,null,null,null,null,null,null,null,940,"*",null,{"$f":"VLOOKUP(A11546,'[1]Update Sheet'!$A$3:$Y$15578,25,FALSE)","v":0},"Reportable"]
["UK TEST INSTRUMENTS LTD",1192,null,"N","N",true,"GB","N","PRIVATE SECTOR","ST5 7UG",null,null,"ACUTEST",46499,46,"Wholesale trade services, except of motor vehicles and motorcycles       ",2.0310031510736858E-2,null,null,null,null,null,null,null,null,936.06,"*",null,{"$f":"VLOOKUP(A11552,'[1]Update Sheet'!$A$3:$Y$15578,25,FALSE)","v":0},"Reportable"]
["ALAN MEUDELL",55071,1,"Y","N","Additional Welsh Supplier","GB","N","PRIVATE SECTOR","CF82 7BG","South East Wales","Aneurin Bevan UHB","HENGOED CF82",72000,72,"Scientific research and development services           ",0.18562764998368861,null,null,null,null,null,null,null,null,930,"*",null,{"$f":"VLOOKUP(A11571,'[1]Update Sheet'!$A$3:$Y$15578,25,FALSE)","v":0},"Reportable"]
["WINDSOCK CO LTD",32134,null,"N","N",true,"GB","N","PRIVATE SECTOR","CM4 0DU",null,null,"INGATES CM4",32990,32,"Other manufactured goods             ",0.67238249414981133,null,null,null,null,null,null,null,null,918,"*",null,{"$f":"VLOOKUP(A11596,'[1]Update Sheet'!$A$3:$Y$15578,25,FALSE)","v":0},"Reportable"]
["ZDUP AVA SECURITY & COMMUNICATIONS LTD",51878,1,"Y","Y",true,"GB","Y","PRIVATE SECTOR","NP44 5BR","South East Wales","Aneurin Bevan UHB","CWMBRAN NP44",96090,96,"Other personal services             ",7.6712791957121843E-2,null,null,null,null,null,null,null,null,904.2,"*",null,{"$f":"VLOOKUP(A11615,'[1]Update Sheet'!$A$3:$Y$15578,25,FALSE)","v":0},"Reportable"]
["DR PETER CLARK",76750,1,"Y","Y",true,"GB","N","PRIVATE SECTOR","NP15 2YB","South East Wales","Aneurin Bevan UHB","USK NP15",86000,86,"Human health services             ",0.29193168620018201,null,null,null,null,null,null,null,null,900,"*",null,{"$f":"VLOOKUP(A11634,'[1]Update Sheet'!$A$3:$Y$15578,25,FALSE)","v":0},"Reportable"]
["BEVERLEY HAYNES CONSULTANCY",52281,null,"N","N",true,"GB","N","PRIVATE SECTOR","HD9 7EP",null,null,"HUDDERSFI HD9",62000,62,"Computer programming, consultancy and related services          ",0.13144659704407699,null,null,null,null,null,null,null,null,884.1,"*",null,{"$f":"VLOOKUP(A11659,'[1]Update Sheet'!$A$3:$Y$15578,25,FALSE)","v":0},"Reportable"]
["FRESHWATER MEDICAL LTD",76216,null,"N","N",true,"GB","Y","PRIVATE SECTOR","N2 3NG",null,null,"BIRMINGHA B15",86210,86,"Human health services             ",0.29193168620018201,null,null,null,null,null,null,null,null,875,"*",null,{"$f":"VLOOKUP(A11678,'[1]Update Sheet'!$A$3:$Y$15578,25,FALSE)","v":0},"Reportable"]
["BOULDER ADVENTURES LTD",75707,1,"Y","Y",true,"GB","Y","PRIVATE SECTOR","LL55 4HE","North Wales","Betsi Cadwaladr UHB","CAERNARFON LL55",55209,55,"Accommodation services              ",0.32444602703376968,null,null,null,null,null,null,null,null,860,"*",null,{"$f":"VLOOKUP(A11703,'[1]Update Sheet'!$A$3:$Y$15578,25,FALSE)","v":0},"Reportable"]
["R & D VENTILATION SYSTEMS LTD",24197,1,"Y","N","Additional Welsh Supplier","GB","N","PRIVATE SECTOR","SA10 7DR","South West Wales","Swansea Bay UHB","NEATH SA10",25990,"25OTHER","Fabricated metal products, excl. machinery and equipment and weapons & ammunition - 25.1-3/25.5-9   ",0.45904169551503349,null,null,null,null,null,null,null,null,846,"*",null,{"$f":"VLOOKUP(A11722,'[1]Update Sheet'!$A$3:$Y$15578,25,FALSE)","v":0},"Reportable"]
["SAFE RESPONSE LTD",75049,null,"N","N",true,"GB","Y","PRIVATE SECTOR","TQ2 6DE",null,null,"TORQUAY TQ2",32990,32,"Other manufactured goods             ",0.67238249414981133,null,null,null,null,null,null,null,null,839.86,"*",null,{"$f":"VLOOKUP(A11741,'[1]Update Sheet'!$A$3:$Y$15578,25,FALSE)","v":0},"Reportable"]
["HOCKERILL ENGRAVING LTD TA PREMIER TROPHIES",73156,null,"N","N",true,"GB","Y","PRIVATE SECTOR","BS26 2UG",null,null,"ROOKSBRIDGE BS2",96090,96,"Other personal services             ",7.6712791957121843E-2,null,null,null,null,null,null,null,null,835.78,"*",null,{"$f":"VLOOKUP(A11747,'[1]Update Sheet'!$A$3:$Y$15578,25,FALSE)","v":0},"Reportable"]
["CRELLING HARNESSES LTD",3420,null,"N","N",true,"GB","N","PRIVATE SECTOR","FY5 3LJ",null,null,"THORNTON FY5",96090,96,"Other personal services             ",7.6712791957121843E-2,null,null,null,null,null,null,null,null,822,"*",null,{"$f":"VLOOKUP(A11766,'[1]Update Sheet'!$A$3:$Y$15578,25,FALSE)","v":0},"Reportable"]
["CEGIN HEDYN CIC",76439,1,"Y","Y",true,"GB","Y","VCSE","SA31 3AD","South West Wales","Hywel Dda UHB","CARMARTHE SA31",56102,56,"Food and beverage serving services           ",0.28886167518608219,null,null,null,null,null,null,null,null,810,"*",null,{"$f":"VLOOKUP(A11785,'[1]Update Sheet'!$A$3:$Y$15578,25,FALSE)","v":0},"Reportable"]
["SAFETY KNIFE CO UK",14580,null,"N","N",true,"GB","N","PRIVATE SECTOR","GL2 4NF",null,null,"GLOUCESTE GL2",96090,96,"Other personal services             ",7.6712791957121843E-2,null,null,null,null,null,null,null,null,796.56,"*",null,{"$f":"VLOOKUP(A11810,'[1]Update Sheet'!$A$3:$Y$15578,25,FALSE)","v":0},"Reportable"]
["ALI BROWN",75738,null,"N","N",true,"GB","Y","PRIVATE SECTOR","SW15 2AX",null,null,"BRISTOL BS3",62012,62,"Computer programming, consultancy and related services          ",0.13144659704407699,null,null,null,null,null,null,null,null,785.2,"*",null,{"$f":"VLOOKUP(A11829,'[1]Update Sheet'!$A$3:$Y$15578,25,FALSE)","v":0},"Reportable"]
["MILLPOND",49105,null,"N","N",true,"GB","N","PRIVATE SECTOR","N10 1HE",null,null,"LONDON N10",70229,70,"Services of head offices; management consulting services         ",9.3681183759862049E-2,null,null,null,null,null,null,null,null,770,"*",null,{"$f":"VLOOKUP(A11854,'[1]Update Sheet'!$A$3:$Y$15578,25,FALSE)","v":0},"Reportable"]
["AGORA BUSINESS PUBLICATIONS LLP",27708,null,"N","N",true,"GB","N","PRIVATE SECTOR","BD23 3AN",null,null,"SKIPTON BD23",96090,96,"Other personal services             ",7.6712791957121843E-2,null,null,null,null,null,null,null,null,758.64,"*",null,{"$f":"VLOOKUP(A11873,'[1]Update Sheet'!$A$3:$Y$15578,25,FALSE)","v":0},"Reportable"]
["THE CHARTERED SOCIETY OF PHYSIOTHERAPY",75706,null,"N","N",true,"GB","Y","VCSE","CB5 8PB",null,null,"CAMBRIDGE CB5",94120,94,"Services furnished by membership organisations           ",0.1210358880635142,null,null,null,null,null,null,null,null,750,"*",null,{"$f":"VLOOKUP(A11892,'[1]Update Sheet'!$A$3:$Y$15578,25,FALSE)","v":0},"Reportable"]
["S3IA LTD",51474,null,"N","N",true,"GB","N","PRIVATE SECTOR","E4 6AG",null,null,"LONDON E4",70229,70,"Services of head offices; management consulting services         ",9.3681183759862049E-2,null,null,null,null,null,null,null,null,750,"*",null,{"$f":"VLOOKUP(A11898,'[1]Update Sheet'!$A$3:$Y$15578,25,FALSE)","v":0},"Reportable"]
["R HILLS GARDEN MACHINERY",76840,1,"Y","Y",true,"GB","Y","PRIVATE SECTOR","SA4 9EX","South West Wales","Swansea Bay UHB","SWANSEA SA4",33120,"33OTHER","Rest of repair; Installation - 33.11-14/17/19/20          ",0.18696882687485539,null,null,null,null,null,null,null,null,745,"*",null,{"$f":"VLOOKUP(A11917,'[1]Update Sheet'!$A$3:$Y$15578,25,FALSE)","v":0},"Reportable"]
["DJ THOMAS COACHES LTD",56617,1,"Y","Y",true,"GB","Y","PRIVATE SECTOR","SA11 1PY","South West Wales","Swansea Bay UHB","NEATH SA11",49319,"49.3-5","Land transport services and transport services via pipelines, excluding rail transport     ",0.60315703544097854,null,null,null,null,null,null,null,null,730,"*",null,{"$f":"VLOOKUP(A11942,'[1]Update Sheet'!$A$3:$Y$15578,25,FALSE)","v":0},"Reportable"]
["FENREGIS TROPHIES LTD",49461,null,"N","N",true,"GB","N","PRIVATE SECTOR","PE13 1RD",null,null,"WISBECH PE13",96090,96,"Other personal services             ",7.6712791957121843E-2,null,null,null,null,null,null,null,null,720.55000000000007,"*",null,{"$f":"VLOOKUP(A11961,'[1]Update Sheet'!$A$3:$Y$15578,25,FALSE)","v":0},"Reportable"]
["GLYN RAINER TV CAMERAMAN",76325,1,"Y","Y",true,"GB","Y","PRIVATE SECTOR","SA61 1EL","South West Wales","Hywel Dda UHB","HAVERFORD SA61",59112,59,"Motion picture, video and TV programme production services, sound recording & music publishing   ",0.1101389562964399,null,null,null,null,null,null,null,null,720,"*",null,{"$f":"VLOOKUP(A11980,'[1]Update Sheet'!$A$3:$Y$15578,25,FALSE)","v":0},"Reportable"]
["UMBRELLA FAITH LTD",77470,1,"Y","Y",true,"GB","Y","PRIVATE SECTOR","CF24 5EA","South East Wales","Cardiff and Vale UHB","CARDIFF CF24",47910,47,"Retail trade services, except of motor vehicles and motorcycles       ",0.17404287306456559,null,null,null,null,null,null,null,null,709.79,"*",null,{"$f":"VLOOKUP(A12005,'[1]Update Sheet'!$A$3:$Y$15578,25,FALSE)","v":0},"Reportable"]
["JULIE DOYLE BSL INTERPRETING SERVICES",21444,1,"Y","Y",true,"GB","Y","PRIVATE SECTOR","CF3 3BB","South East Wales","Cardiff and Vale UHB","CARDIFF CF3",96090,96,"Other personal services             ",7.6712791957121843E-2,null,null,null,null,null,null,null,null,701.90000000000009,"*",null,{"$f":"VLOOKUP(A12024,'[1]Update Sheet'!$A$3:$Y$15578,25,FALSE)","v":0},"Reportable"]
["CPS (WALES) LTD",56172,1,"Y","Y",true,"GB","Y","PRIVATE SECTOR","CF83 3HU","South East Wales","Aneurin Bevan UHB","CAERPHILLY CF83",18121,18,"Printing and recording services            ",0.38173396113307168,null,null,null,null,null,null,null,null,698.98,"*",null,{"$f":"VLOOKUP(A12043,'[1]Update Sheet'!$A$3:$Y$15578,25,FALSE)","v":0},"Reportable"]
["DEFENCE COMPOSITES LTD",70694,null,"N","N",true,"GB","Y","PRIVATE SECTOR","WA14 5GL",null,null,"ROCHDALE OL16",14190,14,"Wearing apparel              ",0.79124467818111843,null,null,null,null,null,null,null,null,696,"*",null,{"$f":"VLOOKUP(A12049,'[1]Update Sheet'!$A$3:$Y$15578,25,FALSE)","v":0},"Reportable"]
["EXPLORE YOUR SENSES",57207,null,"N","N",true,"GB","N","PRIVATE SECTOR","BD18 3HH",null,null,"SHIPLEY BD18",96090,96,"Other personal services             ",7.6712791957121843E-2,null,null,null,null,null,null,null,null,683.94,"*",null,{"$f":"VLOOKUP(A12068,'[1]Update Sheet'!$A$3:$Y$15578,25,FALSE)","v":0},"Reportable"]
["PUMP FASHION LTD",61178,null,"N","N",true,"GB","N","PRIVATE SECTOR","DA15 8PW",null,null,"SIDCUP DA15",47910,47,"Retail trade services, except of motor vehicles and motorcycles       ",0.17404287306456559,null,null,null,null,null,null,null,null,672.7,"*",null,{"$f":"VLOOKUP(A12093,'[1]Update Sheet'!$A$3:$Y$15578,25,FALSE)","v":0},"Reportable"]
["PSYCHIATRIC SERVICES - NORTH EAST LTD",69590,null,"N","N",true,"GB","N","PRIVATE SECTOR","NE28 9NZ",null,null,"NEWCASTLE NE28",86220,86,"Human health services             ",0.29193168620018201,null,null,null,null,null,null,null,null,665.36,"*",null,{"$f":"VLOOKUP(A12112,'[1]Update Sheet'!$A$3:$Y$15578,25,FALSE)","v":0},"Reportable"]
["DR M M ROTHBURN",48998,null,"N","N",true,"GB","N","PRIVATE SECTOR","L9 7AL",null,null,"LIVERPOOL L9",86210,86,"Human health services             ",0.29193168620018201,null,null,null,null,null,null,null,null,660,"*",null,{"$f":"VLOOKUP(A12131,'[1]Update Sheet'!$A$3:$Y$15578,25,FALSE)","v":0},"Reportable"]
["BARNARD ENGINEERING LTD",68105,1,"Y","Y",true,"GB","Y","PRIVATE SECTOR","CH7 1JW","North Wales","Betsi Cadwaladr UHB","MOLD CH7",86900,86,"Human health services             ",0.29193168620018201,null,null,null,null,null,null,null,null,642,"*",null,{"$f":"VLOOKUP(A12156,'[1]Update Sheet'!$A$3:$Y$15578,25,FALSE)","v":0},"Reportable"]
["DR FAYE BUCKLEY",77143,1,"Y","Y",true,"GB","N","PRIVATE SECTOR","CF64 3RE","South East Wales","Cardiff and Vale UHB","PCS PAY",86000,86,"Human health services             ",0.29193168620018201,null,null,null,null,null,null,null,null,633,"*",null,{"$f":"VLOOKUP(A12175,'[1]Update Sheet'!$A$3:$Y$15578,25,FALSE)","v":0},"Reportable"]
["EPILEPSY SOCIETY",4604,null,"N","N",true,"GB","N","VCSE","SL9 0RJ",null,null,"CHALFONT SL9",86900,86,"Human health services             ",0.29193168620018201,null,null,null,null,null,null,null,null,625,"*",null,{"$f":"VLOOKUP(A12194,'[1]Update Sheet'!$A$3:$Y$15578,25,FALSE)","v":0},"Reportable"]
["PDC HEALTHCARE",61416,null,"N","N",true,"GB","Y","PRIVATE SECTOR","TW12 1NP",null,null,"HAMPTON TW12",82990,82,"Office administrative, office support and other business support services       ",0.1180504360352973,null,null,null,null,null,null,null,null,620.27,"*",null,{"$f":"VLOOKUP(A12205,'[1]Update Sheet'!$A$3:$Y$15578,25,FALSE)","v":0},"Reportable"]
["DAISY CORPORATE SERVICES LTD",57329,null,"N","Y","Removal of a False Welsh Supplier","GB","Y","PRIVATE SECTOR","BB9 5SR",null,null,"NELSON BB9",62020,62,"Computer programming, consultancy and related services          ",0.13144659704407699,null,null,null,null,null,null,null,null,614.4,"*",null,{"$f":"VLOOKUP(A12218,'[1]Update Sheet'!$A$3:$Y$15578,25,FALSE)","v":0},"Reportable"]
["DAVID S HALL",77026,1,"Y","Y",true,"GB","Y","PRIVATE SECTOR","LL28 4RZ","North Wales","Betsi Cadwaladr UHB","CONWY LL28",86000,86,"Human health services             ",0.29193168620018201,null,null,null,null,null,null,null,null,602,"*",null,{"$f":"VLOOKUP(A12243,'[1]Update Sheet'!$A$3:$Y$15578,25,FALSE)","v":0},"Reportable"]
["LEAH SIAN DAVIES",58207,1,"Y","Y",true,"GB","N","PRIVATE SECTOR","CF5 1BS","South East Wales","Cardiff and Vale UHB","CARDIFF CF5",85590,85,"Education services              ",0.10257966678326461,null,null,null,null,null,null,null,null,600,"*",null,{"$f":"VLOOKUP(A12262,'[1]Update Sheet'!$A$3:$Y$15578,25,FALSE)","v":0},"Reportable"]
["BEVERLEY SURGICAL SERVICES LTD",76702,null,"N","N",true,"GB","Y","PRIVATE SECTOR","HU10 6EU",null,null,"HULL HU10",86210,86,"Human health services             ",0.29193168620018201,null,null,null,null,null,null,null,null,600,"*",null,{"$f":"VLOOKUP(A12281,'[1]Update Sheet'!$A$3:$Y$15578,25,FALSE)","v":0},"Reportable"]
["BRYNICH LEISURE",43629,1,"Y","Y",true,"GB","N","PRIVATE SECTOR","LD3 7SH","Mid Wales","Powys Teaching HB","BRECON LD3",93310,93,"Sports services and amusement and recreation services         ",0.22280360830166321,null,null,null,null,null,null,null,null,591.25,"*",null,{"$f":"VLOOKUP(A12306,'[1]Update Sheet'!$A$3:$Y$15578,25,FALSE)","v":0},"Reportable"]
["PAUL CHIPLIN",76707,1,"Y","Y",true,"GB","Y","PRIVATE SECTOR","CF72 8AS","South East Wales","Cwm Taf Morgannwg UHB","PONTYCLUN CF72",86000,86,"Human health services             ",0.29193168620018201,null,null,null,null,null,null,null,null,584.04999999999995,"*",null,{"$f":"VLOOKUP(A12325,'[1]Update Sheet'!$A$3:$Y$15578,25,FALSE)","v":0},"Reportable"]
["T H JONES & SON T/A CAELLOI MOTORS",65113,1,"Y","Y",true,"GB","Y","PRIVATE SECTOR","LL53 5YT","North Wales","Betsi Cadwaladr UHB","PWLLHELI LL53",49319,"49.3-5","Land transport services and transport services via pipelines, excluding rail transport     ",0.60315703544097854,null,null,null,null,null,null,null,null,580,"*",null,{"$f":"VLOOKUP(A12331,'[1]Update Sheet'!$A$3:$Y$15578,25,FALSE)","v":0},"Reportable"]
["PHILIP BLAKE",49818,1,"Y","Y",true,"GB","N","PRIVATE SECTOR","LL65 3PY","North Wales","Betsi Cadwaladr UHB","HOLYHEAD LL65",7487,74,"Other professional, scientific and technical services          ",0.19142587698446711,null,null,null,null,null,null,null,null,570.24,"*",null,{"$f":"VLOOKUP(A12350,'[1]Update Sheet'!$A$3:$Y$15578,25,FALSE)","v":0},"Reportable"]
["JLJ HEALTHCARE LTD",4043,null,"N","N",true,"GB","N","PRIVATE SECTOR","B63 3JS",null,null,"HALESOWEN B63",46460,46,"Wholesale trade services, except of motor vehicles and motorcycles       ",2.0310031510736858E-2,null,null,null,null,null,null,null,null,561.6,"*",null,{"$f":"VLOOKUP(A12369,'[1]Update Sheet'!$A$3:$Y$15578,25,FALSE)","v":0},"Reportable"]
["STERTIL (UK)",17110,null,"N","N",true,"GB","N","PRIVATE SECTOR","NN4 7PW",null,null,"NORTHAMPT NN4",28220,28,"Machinery and equipment n.e.c.            ",0.33561667817643598,null,null,null,null,null,null,null,null,553.17999999999995,"*",null,{"$f":"VLOOKUP(A12394,'[1]Update Sheet'!$A$3:$Y$15578,25,FALSE)","v":0},"Reportable"]
["DISASTER MANAGEMENT TRAINING",44342,null,"N","N",true,"GB","N","PRIVATE SECTOR","EX2 7GJ",null,null,"EXETER EX2",2400,2,"Products of forestry, logging and related services         ",0.27880734055191519,null,null,null,null,null,null,null,null,550,"*",null,{"$f":"VLOOKUP(A12413,'[1]Update Sheet'!$A$3:$Y$15578,25,FALSE)","v":0},"Reportable"]
["PILLGWENLLY MILLENIUM CENTRE TRUST",51447,1,"Y","Y",true,"GB","Y","VCSE","NP20 2GH","South East Wales","Aneurin Bevan UHB","NEWPORT NP20",93199,93,"Sports services and amusement and recreation services         ",0.22280360830166321,null,null,null,null,null,null,null,null,543.5,"*",null,{"$f":"VLOOKUP(A12432,'[1]Update Sheet'!$A$3:$Y$15578,25,FALSE)","v":0},"Reportable"]
["CALDICOT METHODIST CHURCH",76754,1,"Y","Y",true,"GB","Y","PUBLIC SECTOR","NP26 4HT","South East Wales","Aneurin Bevan UHB","CALDICOT NP26",94910,94,"Services furnished by membership organisations           ",0.1210358880635142,null,null,null,null,null,null,null,null,540,"*",null,{"$f":"VLOOKUP(A12457,'[1]Update Sheet'!$A$3:$Y$15578,25,FALSE)","v":0},"Reportable"]
["ELMO SPECIALISTS LTD",76037,1,"Y","Y",true,"GB","Y","PRIVATE SECTOR","SY16 2AB","Mid Wales","Powys Teaching HB","NEWPORT NP19",86900,86,"Human health services             ",0.29193168620018201,null,null,null,null,null,null,null,null,530,"*",null,{"$f":"VLOOKUP(A12476,'[1]Update Sheet'!$A$3:$Y$15578,25,FALSE)","v":0},"Reportable"]
["QUARTZELEC LTD",50779,1,"Y","Y",true,"GB","N","PRIVATE SECTOR","SA5 4HF","South West Wales","Swansea Bay UHB","WREXHAM LL13",25990,"25OTHER","Fabricated metal products, excl. machinery and equipment and weapons & ammunition - 25.1-3/25.5-9   ",0.45904169551503349,null,null,null,null,null,null,null,null,527.4,"*",null,{"$f":"VLOOKUP(A12482,'[1]Update Sheet'!$A$3:$Y$15578,25,FALSE)","v":0},"Reportable"]
["PARADISE PILLOWS",34700,1,"Y","Y",true,"GB","N","PRIVATE SECTOR","LL31 9YS","North Wales","Betsi Cadwaladr UHB","DEGANWY LL31",96090,96,"Other personal services             ",7.6712791957121843E-2,null,null,null,null,null,null,null,null,520,"*",null,{"$f":"VLOOKUP(A12501,'[1]Update Sheet'!$A$3:$Y$15578,25,FALSE)","v":0},"Reportable"]
["FIRST 4 NUMBERS LTD",66001,1,"Y","Y",true,"GB","Y","PRIVATE SECTOR","CF33 6RP","South East Wales","Cwm Taf Morgannwg UHB","PYLE CF33",18129,18,"Printing and recording services            ",0.38173396113307168,null,null,null,null,null,null,null,null,509.06000000000012,"*",null,{"$f":"VLOOKUP(A12520,'[1]Update Sheet'!$A$3:$Y$15578,25,FALSE)","v":0},"Reportable"]
["THE AGILE LEADER LTD",75762,null,"N","N",true,"GB","Y","PRIVATE SECTOR","SO19 9QY",null,null,"SOUTHAMPTON SO1",58110,58,"Publishing services              ",8.0219457227851232E-2,null,null,null,null,null,null,null,null,500,"*",null,{"$f":"VLOOKUP(A12545,'[1]Update Sheet'!$A$3:$Y$15578,25,FALSE)","v":0},"Reportable"]
["KINGFISHER CASTINGS LTD T/A DENTACAST.CO.UK",45270,null,"N","N",true,"GB","Y","PRIVATE SECTOR","EX5 2UL",null,null,"EXETER EX2",32500,32,"Other manufactured goods             ",0.67238249414981133,null,null,null,null,null,null,null,null,11543.77,"*",null,{"$f":"VLOOKUP(A12564,'[1]Update Sheet'!$A$3:$Y$15578,25,FALSE)","v":0},"Reportable"]
["DRB GROUP LTD",66850,null,"N","N",true,"GB","Y","PRIVATE SECTOR","CH5 2QR",null,null,"DEESIDE CH5",82990,82,"Office administrative, office support and other business support services       ",0.1180504360352973,null,null,null,null,null,null,null,null,498,"*",null,{"$f":"VLOOKUP(A12583,'[1]Update Sheet'!$A$3:$Y$15578,25,FALSE)","v":0},"Reportable"]
["TO HEALTH LTD",76239,null,"N","N",true,"GB","Y","PRIVATE SECTOR","WA1 1SL",null,null,"WARRINGTO WA1",86900,86,"Human health services             ",0.29193168620018201,null,null,null,null,null,null,null,null,486,"*",null,{"$f":"VLOOKUP(A12608,'[1]Update Sheet'!$A$3:$Y$15578,25,FALSE)","v":0},"Reportable"]
["NORTH WALES ORTHODONTIC STUDY GROUP",55067,1,"Y","Y",true,"GB","N","VCSE","LL57 2PW","North Wales","Betsi Cadwaladr UHB","BANGOR LL57",96090,96,"Other personal services             ",7.6712791957121843E-2,null,null,null,null,null,null,null,null,480,"*",null,{"$f":"VLOOKUP(A12627,'[1]Update Sheet'!$A$3:$Y$15578,25,FALSE)","v":0},"Reportable"]
["PENYRHEOL COMMUNITY CENTRE",41885,1,"Y","Y",true,"GB","N","PUBLIC SECTOR","CF83 2ET","South East Wales","Aneurin Bevan UHB","CAERPHILL CF83",93290,93,"Sports services and amusement and recreation services         ",0.22280360830166321,null,null,null,null,null,null,null,null,475,"*",null,{"$f":"VLOOKUP(A12652,'[1]Update Sheet'!$A$3:$Y$15578,25,FALSE)","v":0},"Reportable"]
["MYRIAD UK LTD",46774,null,"N","N",true,"GB","N","PRIVATE SECTOR","NR13 6QH",null,null,"NORWICH NR13",46900,46,"Wholesale trade services, except of motor vehicles and motorcycles       ",2.0310031510736858E-2,null,null,null,null,null,null,null,null,467.52,"*",null,{"$f":"VLOOKUP(A12671,'[1]Update Sheet'!$A$3:$Y$15578,25,FALSE)","v":0},"Reportable"]
["BLACKWOOD FIRE LTD",7971,1,"Y","Y",true,"GB","N","PRIVATE SECTOR","NP12 2DQ","South East Wales","Aneurin Bevan UHB","BLACKWOOD NP12",80200,80,"Security and investigation services            ",9.5408278947996958E-2,null,null,null,null,null,null,null,null,455.64,"*",null,{"$f":"VLOOKUP(A12690,'[1]Update Sheet'!$A$3:$Y$15578,25,FALSE)","v":0},"Reportable"]
["RSC SPARES LTD",55057,1,"Y","Y",true,"GB","Y","PRIVATE SECTOR","SA1 2AY","South West Wales","Swansea Bay UHB","SWANSEA SA1",46760,46,"Wholesale trade services, except of motor vehicles and motorcycles       ",2.0310031510736858E-2,null,null,null,null,null,null,null,null,450.06000000000012,"*",null,{"$f":"VLOOKUP(A12696,'[1]Update Sheet'!$A$3:$Y$15578,25,FALSE)","v":0},"Reportable"]
["BUBBLE AND SQUEAK LTD",76344,1,"Y","Y",true,"GB","Y","PRIVATE SECTOR","LL16 4UA","North Wales","Betsi Cadwaladr UHB","TREFNANT LL16",81221,81,"Services to buildings and landscape           ",0.1712664478524781,null,null,null,null,null,null,null,null,450,"*",null,{"$f":"VLOOKUP(A12715,'[1]Update Sheet'!$A$3:$Y$15578,25,FALSE)","v":0},"Reportable"]
["BRITISH LYMPHOLOGY SOCIETY",4605,null,"N","N",true,"GB","N","VCSE","SN7 8RF",null,null,"FARINGDON SN7",94120,94,"Services furnished by membership organisations           ",0.1210358880635142,null,null,null,null,null,null,null,null,440,"*",null,{"$f":"VLOOKUP(A12740,'[1]Update Sheet'!$A$3:$Y$15578,25,FALSE)","v":0},"Reportable"]
["ONE TRAINING SERVICES LTD",77573,null,"N","N",true,"GB","Y","PRIVATE SECTOR","W6 8DA",null,null,"LONDON W6",85590,85,"Education services              ",0.10257966678326461,null,null,null,null,null,null,null,null,432,"*",null,{"$f":"VLOOKUP(A12759,'[1]Update Sheet'!$A$3:$Y$15578,25,FALSE)","v":0},"Reportable"]
["DEFINITELY WILD",73336,null,"N","N",true,"GB","N","VCSE","GL7 4FR",null,null,"FAIRFORD GL7",96090,96,"Other personal services             ",7.6712791957121843E-2,null,null,null,null,null,null,null,null,425.5,"*",null,{"$f":"VLOOKUP(A12778,'[1]Update Sheet'!$A$3:$Y$15578,25,FALSE)","v":0},"Reportable"]
["BROMLEYS UPHOLSTERERS",10365,1,"Y","Y",true,"GB","Y","PRIVATE SECTOR","LL18 1SY","North Wales","Betsi Cadwaladr UHB","RHYL LL18",95240,95,"Repair services of computers and personal and household goods       ",0.109537934139032,null,null,null,null,null,null,null,null,420,"*",null,{"$f":"VLOOKUP(A12803,'[1]Update Sheet'!$A$3:$Y$15578,25,FALSE)","v":0},"Reportable"]
["QUALITY WATER SPECIALISTS LLP",31407,null,"N","N",true,"GB","N","PRIVATE SECTOR","DL12 8UJ",null,null,"BARNARD C DL12",96090,96,"Other personal services             ",7.6712791957121843E-2,null,null,null,null,null,null,null,null,413.9,"*",null,{"$f":"VLOOKUP(A12822,'[1]Update Sheet'!$A$3:$Y$15578,25,FALSE)","v":0},"Reportable"]
["DAVINCI MOBILITY VROSS WHEELCHAIR LTD",20987,null,"N","N",true,"GB","N","PRIVATE SECTOR","L11 0EE",null,null,"LIVERPOOL L11",30920,"30OTHER","Other transport equipment - 30.2/4/9           ",0.1896917059859729,null,null,null,null,null,null,null,null,407.2,"*",null,{"$f":"VLOOKUP(A12841,'[1]Update Sheet'!$A$3:$Y$15578,25,FALSE)","v":0},"Reportable"]
["ECO PRINT EURO LTD",75658,null,"N","N",true,"GB","N","PRIVATE SECTOR","NG14 6QL",null,null,"NOTTINGHA NG14",13990,13,"Textiles               ",0.77085168361943579,null,null,null,null,null,null,null,null,405.07,"*",null,{"$f":"VLOOKUP(A12847,'[1]Update Sheet'!$A$3:$Y$15578,25,FALSE)","v":0},"Reportable"]
["JAMES WILLIAMS",67272,1,"Y","Y",true,"GB","N","PRIVATE SECTOR","CF38 2EB","South East Wales","Cwm Taf Morgannwg UHB","PONTYPRID CF38",86000,86,"Human health services             ",0.29193168620018201,null,null,null,null,null,null,null,null,400,"*",null,{"$f":"VLOOKUP(A12866,'[1]Update Sheet'!$A$3:$Y$15578,25,FALSE)","v":0},"Reportable"]
["SLIK-PAK LTD",5094,null,"N","N",true,"GB","Y","PRIVATE SECTOR","SK14 4EH",null,null,"MANCHESTE M20",46900,46,"Wholesale trade services, except of motor vehicles and motorcycles       ",2.0310031510736858E-2,null,null,null,null,null,null,null,null,396,"*",null,{"$f":"VLOOKUP(A12891,'[1]Update Sheet'!$A$3:$Y$15578,25,FALSE)","v":0},"Reportable"]
["ESPERE HEALTHCARE LTD",76461,null,"N","N",true,"GB","Y","PRIVATE SECTOR","SG17 5DD",null,null,"SHEFFORDSG17",46460,46,"Wholesale trade services, except of motor vehicles and motorcycles       ",2.0310031510736858E-2,null,null,null,null,null,null,null,null,388.32,"*",null,{"$f":"VLOOKUP(A12910,'[1]Update Sheet'!$A$3:$Y$15578,25,FALSE)","v":0},"Reportable"]
["DWF LLP",52722,null,"N","N",true,"GB","N","PRIVATE SECTOR","M3 3AA",null,null,"MANCHESTE M3",86900,86,"Human health services             ",0.29193168620018201,null,null,null,null,null,null,null,null,380,"*",null,{"$f":"VLOOKUP(A12929,'[1]Update Sheet'!$A$3:$Y$15578,25,FALSE)","v":0},"Reportable"]
["BEACONS PSYCHOLOGY SERVICE",77194,null,"N","N",true,"GB","N","PRIVATE SECTOR","HR1 2TP",null,null,"HEREFORD HR1",86000,86,"Human health services             ",0.29193168620018201,null,null,null,null,null,null,null,null,375,"*",null,{"$f":"VLOOKUP(A12954,'[1]Update Sheet'!$A$3:$Y$15578,25,FALSE)","v":0},"Reportable"]
["EMORSGATE SEEDS",72337,null,"N","N",true,"GB","N","PRIVATE SECTOR","PE34 4RT",null,null,"KINGS LYN PE34",96090,96,"Other personal services             ",7.6712791957121843E-2,null,null,null,null,null,null,null,null,369.2,"*",null,{"$f":"VLOOKUP(A12973,'[1]Update Sheet'!$A$3:$Y$15578,25,FALSE)","v":0},"Reportable"]
["SCIMED LTD",53241,null,"N","N",true,"GB","N","PRIVATE SECTOR","SK4 3GN",null,null,"STOCKPORT SK4",46180,46,"Wholesale trade services, except of motor vehicles and motorcycles       ",2.0310031510736858E-2,null,null,null,null,null,null,null,null,367.2,"*",null,{"$f":"VLOOKUP(A12979,'[1]Update Sheet'!$A$3:$Y$15578,25,FALSE)","v":0},"Reportable"]
["VANESSA JONES",68193,null,"N","N",true,"GB","N","PRIVATE SECTOR","ME16 8DA",null,null,"MAIDSTONE ME16",96090,96,"Other personal services             ",7.6712791957121843E-2,null,null,null,null,null,null,null,null,360,"*",null,{"$f":"VLOOKUP(A12998,'[1]Update Sheet'!$A$3:$Y$15578,25,FALSE)","v":0},"Reportable"]
["ABLE 2 TRAIN LTD",74095,1,"Y","Y",true,"GB","Y","PRIVATE SECTOR","NP26 5TL","South East Wales","Aneurin Bevan UHB","PORTSKEWETT NP2",85590,85,"Education services              ",0.10257966678326461,null,null,null,null,null,null,null,null,360,"*",null,{"$f":"VLOOKUP(A13017,'[1]Update Sheet'!$A$3:$Y$15578,25,FALSE)","v":0},"Reportable"]
["YOUR MOVE SERVICES LTD",75687,1,"Y","Y",true,"GB","Y","PRIVATE SECTOR","NP4 0TL","South East Wales","Aneurin Bevan UHB","PONTYPOOL NP4",49420,"49.3-5","Land transport services and transport services via pipelines, excluding rail transport     ",0.60315703544097854,null,null,null,null,null,null,null,null,350,"*",null,{"$f":"VLOOKUP(A13042,'[1]Update Sheet'!$A$3:$Y$15578,25,FALSE)","v":0},"Reportable"]
["KAYS MEDICAL LTD",20259,null,"N","N",true,"GB","N","PRIVATE SECTOR","L24 8QR",null,null,"PHARMACY",46460,46,"Wholesale trade services, except of motor vehicles and motorcycles       ",2.0310031510736858E-2,null,null,null,null,null,null,null,null,349.39,"*",null,{"$f":"VLOOKUP(A13061,'[1]Update Sheet'!$A$3:$Y$15578,25,FALSE)","v":0},"Reportable"]
["GTFM",41362,1,"Y","Y",true,"GB","N","VCSE","CF37 5EA","South East Wales","Cwm Taf Morgannwg UHB","PONTYPRID CF37",88990,88,"Social work services without accommodation           ",0.12926092802643949,null,null,null,null,null,null,null,null,337.12,"*",null,{"$f":"VLOOKUP(A13086,'[1]Update Sheet'!$A$3:$Y$15578,25,FALSE)","v":0},"Reportable"]
["TDW DISTRIBUTION LTD",64014,1,"Y","Y",true,"GB","Y","PRIVATE SECTOR","CF31 3EZ","South East Wales","Cwm Taf Morgannwg UHB","BRIDGEND CF31",49410,"49.3-5","Land transport services and transport services via pipelines, excluding rail transport     ",0.60315703544097854,null,null,null,null,null,null,null,null,330,"*",null,{"$f":"VLOOKUP(A13104,'[1]Update Sheet'!$A$3:$Y$15578,25,FALSE)","v":0},"Reportable"]
["THE CASTLE HOTEL (NEATH)",63211,1,"Y","Y",true,"GB","N","PRIVATE SECTOR","SA11 1RB","South West Wales","Swansea Bay UHB","NEATH SA11",96090,96,"Other personal services             ",7.6712791957121843E-2,null,null,null,null,null,null,null,null,325,"*",null,{"$f":"VLOOKUP(A13123,'[1]Update Sheet'!$A$3:$Y$15578,25,FALSE)","v":0},"Reportable"]
["SPORTSAFE UK LTD",55111,null,"N","N",true,"GB","N","PRIVATE SECTOR","CO1 2TJ",null,null,"COLCHESTE CO1",82990,82,"Office administrative, office support and other business support services       ",0.1180504360352973,null,null,null,null,null,null,null,null,324,"*",null,{"$f":"VLOOKUP(A13129,'[1]Update Sheet'!$A$3:$Y$15578,25,FALSE)","v":0},"Reportable"]
["CARE IN WALES LTD",45469,1,"Y","Y",true,"GB","Y","PRIVATE SECTOR","CF62 7EA","South East Wales","Cardiff and Vale UHB","BARRY CF62",88100,88,"Social work services without accommodation           ",0.12926092802643949,null,null,null,null,null,null,null,null,320,"*",null,{"$f":"VLOOKUP(A13148,'[1]Update Sheet'!$A$3:$Y$15578,25,FALSE)","v":0},"Reportable"]
["KENES INTERNATIONAL",46928,null,"N","N",true,"SZ","N","PRIVATE SECTOR",null,null,null,"FOREIGN",70229,70,"Services of head offices; management consulting services         ",9.3681183759862049E-2,null,null,null,null,null,null,null,null,315.64999999999998,"*",null,{"$f":"VLOOKUP(A13167,'[1]Update Sheet'!$A$3:$Y$15578,25,FALSE)","v":0},"Reportable"]
["BARCUD CYF",76388,1,"Y","Y",true,"GB","Y","PRIVATE SECTOR","SA48 7HH","Mid Wales","Hywel Dda UHB","LAMPETER SA48",68201,"68.2IMP","Owner-Occupiers' Housing Services",3.9621368125994462E-2,null,null,null,null,null,null,null,null,307.2,"*",null,{"$f":"VLOOKUP(A13192,'[1]Update Sheet'!$A$3:$Y$15578,25,FALSE)","v":0},"Reportable"]
["YSGOL PONTROBERT",76912,1,"Y","Y",true,"GB","Y","PUBLIC SECTOR","SY22 6JN","Mid Wales","Powys Teaching HB","PONTROBERT SY22",85200,85,"Education services              ",0.10257966678326461,null,null,null,null,null,null,null,null,300,"*",null,{"$f":"VLOOKUP(A13211,'[1]Update Sheet'!$A$3:$Y$15578,25,FALSE)","v":0},"Reportable"]
["UK DRY RISER LTD",40406,null,"N","N",true,"GB","Y","PRIVATE SECTOR","BL8 2AD",null,null,"BURY BL8",43290,42.99,"Specialised construction works             ",0.31026786628535008,null,null,null,null,null,null,null,null,300,"*",null,{"$f":"VLOOKUP(A13230,'[1]Update Sheet'!$A$3:$Y$15578,25,FALSE)","v":0},"Reportable"]
["P & O LLOYD LTD",61722,1,"Y","Y",true,"GB","N","PRIVATE SECTOR","CH6 6JJ","North Wales","Betsi Cadwaladr UHB","BAGILLT CH6",49390,"49.3-5","Land transport services and transport services via pipelines, excluding rail transport     ",0.60315703544097854,null,null,null,null,null,null,null,null,300,"*",null,{"$f":"VLOOKUP(A13255,'[1]Update Sheet'!$A$3:$Y$15578,25,FALSE)","v":0},"Reportable"]
["KNIGHTON CHURCH IN WALES PRIMARY SCHOOL",71316,1,"Y","Y",true,"GB","N","PUBLIC SECTOR","LD7 1HP","Mid Wales","Powys Teaching HB","KNGHTON LD7",85200,85,"Education services              ",0.10257966678326461,null,null,null,null,null,null,null,null,300,"*",null,{"$f":"VLOOKUP(A13274,'[1]Update Sheet'!$A$3:$Y$15578,25,FALSE)","v":0},"Reportable"]
["GUILSFIELD COMMUNITY PRIMARY SCHOOL",76857,1,"Y","Y",true,"GB","Y","PUBLIC SECTOR","SY21 9ND","Mid Wales","Powys Teaching HB","WELSHPOOL SY21",85200,85,"Education services              ",0.10257966678326461,null,null,null,null,null,null,null,null,300,"*",null,{"$f":"VLOOKUP(A13280,'[1]Update Sheet'!$A$3:$Y$15578,25,FALSE)","v":0},"Reportable"]
["BRECON CAR RENTALS LTD",8418,1,"Y","Y",true,"GB","N","PRIVATE SECTOR","LD3 7EH","Mid Wales","Powys Teaching HB","BRECON LD3",96090,96,"Other personal services             ",7.6712791957121843E-2,null,null,null,null,null,null,null,null,300,"*",null,{"$f":"VLOOKUP(A13299,'[1]Update Sheet'!$A$3:$Y$15578,25,FALSE)","v":0},"Reportable"]
["LIGHT PATH OPTICAL (UK) LTD",51314,null,"N","N",true,"GB","N","PRIVATE SECTOR","EX13 7LZ",null,null,"AXMINSTER EX13",26511,26,"Computer, electronic and optical products           ",0.38174938765811312,null,null,null,null,null,null,null,null,296.16000000000003,"*",null,{"$f":"VLOOKUP(A13318,'[1]Update Sheet'!$A$3:$Y$15578,25,FALSE)","v":0},"Reportable"]
["MR OLIVER BAILEY",74907,null,"N","N",true,"GB","N","PRIVATE SECTOR","NE66 1UT",null,null,"ALNWICK NE66",96090,96,"Other personal services             ",7.6712791957121843E-2,null,null,null,null,null,null,null,null,289.11,"*",null,{"$f":"VLOOKUP(A13343,'[1]Update Sheet'!$A$3:$Y$15578,25,FALSE)","v":0},"Reportable"]
["STANTON PSYCHOLOGICAL SERVICES LTD",50053,null,"N","N",true,"GB","N","PRIVATE SECTOR","SO51 7JH",null,null,"ROMSEY SO51",70229,70,"Services of head offices; management consulting services         ",9.3681183759862049E-2,null,null,null,null,null,null,null,null,285,"*",null,{"$f":"VLOOKUP(A13362,'[1]Update Sheet'!$A$3:$Y$15578,25,FALSE)","v":0},"Reportable"]
["INGENIOUS PRODUCTS LTD (MEDPAC)",75423,null,"N","N",true,"GB","Y","PRIVATE SECTOR","IP23 7PH",null,null,"OCCOLD IP23",47990,47,"Retail trade services, except of motor vehicles and motorcycles       ",0.17404287306456559,null,null,null,null,null,null,null,null,278.22000000000003,"*",null,{"$f":"VLOOKUP(A13387,'[1]Update Sheet'!$A$3:$Y$15578,25,FALSE)","v":0},"Reportable"]
["CAROLYN POULTER",76871,1,"Y","Y",true,"GB","Y","PRIVATE SECTOR","CF32 0EH","South East Wales","Cwm Taf Morgannwg UHB","BRIDGEND CF32",85000,85,"Education services              ",0.10257966678326461,null,null,null,null,null,null,null,null,274.10000000000002,"*",null,{"$f":"VLOOKUP(A13406,'[1]Update Sheet'!$A$3:$Y$15578,25,FALSE)","v":0},"Reportable"]
["RED CASTLE TEA ROOM",75696,1,"Y","Y",true,"GB","Y","VCSE","NP7 8PB","South East Wales","Aneurin Bevan UHB","ABERGAVEN  NP7",56102,56,"Food and beverage serving services           ",0.28886167518608219,null,null,null,null,null,null,null,null,270,"*",null,{"$f":"VLOOKUP(A13425,'[1]Update Sheet'!$A$3:$Y$15578,25,FALSE)","v":0},"Reportable"]
["CLARE ALLEN",61948,null,"N","N",true,"GB","N","PRIVATE SECTOR","M20 2GB",null,null,"MANCHESTE M20",7487,74,"Other professional, scientific and technical services          ",0.19142587698446711,null,null,null,null,null,null,null,null,270,"*",null,{"$f":"VLOOKUP(A13431,'[1]Update Sheet'!$A$3:$Y$15578,25,FALSE)","v":0},"Reportable"]
["RED VALLEY ENTERPRISES CIC",53709,1,"Y","Y",true,"GB","N","VCSE","CF39 8TG","South East Wales","Cwm Taf Morgannwg UHB","PORTH CF39",56210,56,"Food and beverage serving services           ",0.28886167518608219,null,null,null,null,null,null,null,null,264,"*",null,{"$f":"VLOOKUP(A13450,'[1]Update Sheet'!$A$3:$Y$15578,25,FALSE)","v":0},"Reportable"]
["SHIVOO LTD",69472,null,"N","N",true,"GB","Y","PRIVATE SECTOR","TW3 1XT",null,null,"HOUNSLOW TW3",82990,82,"Office administrative, office support and other business support services       ",0.1180504360352973,null,null,null,null,null,null,null,null,259.2,"*",null,{"$f":"VLOOKUP(A13469,'[1]Update Sheet'!$A$3:$Y$15578,25,FALSE)","v":0},"Reportable"]
["THE COLLEGE OF RADIOGRAPHERS",18678,null,"N","N",true,"GB","N","PRIVATE SECTOR","SE1 2EW",null,null,"LONDON SE1",94000,94,"Services furnished by membership organisations           ",0.1210358880635142,null,null,null,null,null,null,null,null,250,"*",null,{"$f":"VLOOKUP(A13494,'[1]Update Sheet'!$A$3:$Y$15578,25,FALSE)","v":0},"Reportable"]
["COEXIST COMMUNITY KITCHEN CIC",77041,null,"N","N",true,"GB","Y","VCSE","BS5 6JF",null,null,"BRISTOL BS5",56000,56,"Food and beverage serving services           ",0.28886167518608219,null,null,null,null,null,null,null,null,250,"*",null,{"$f":"VLOOKUP(A13513,'[1]Update Sheet'!$A$3:$Y$15578,25,FALSE)","v":0},"Reportable"]
["CHURCH HOUSE WELSHPOOL",77017,1,"Y","Y",true,"GB","Y","VCSE","SY21 7DP","Mid Wales","Powys Teaching HB","WELSHPOOL SY21",94030,91,"Libraries, archives, museums and other cultural services         ",0.1638049098676421,null,null,null,null,null,null,null,null,245,"*",null,{"$f":"VLOOKUP(A13538,'[1]Update Sheet'!$A$3:$Y$15578,25,FALSE)","v":0},"Reportable"]
["LOUISE CRANGLE FAULKNER THERAPEUTIC SERVICES",75861,null,"N","N",true,"NI","Y","PRIVATE SECTOR","BT41 4RU",null,null,"NORTHERN BT41",85000,85,"Education services              ",0.10257966678326461,null,null,null,null,null,null,null,null,240,"*",null,{"$f":"VLOOKUP(A13557,'[1]Update Sheet'!$A$3:$Y$15578,25,FALSE)","v":0},"Reportable"]
["RICHMOND CONTAINERS CTP LTD",50456,null,"N","N",true,"GB","N","PRIVATE SECTOR","G74 5HA",null,null,"PHARMACY",86900,86,"Human health services             ",0.29193168620018201,null,null,null,null,null,null,null,null,237.01,"*",null,{"$f":"VLOOKUP(A13576,'[1]Update Sheet'!$A$3:$Y$15578,25,FALSE)","v":0},"Reportable"]
["WETLAB LTD",56062,null,"N","N",true,"GB","N","PRIVATE SECTOR","CV8 2TD",null,null,"KENILWORT CV8",86900,86,"Human health services             ",0.29193168620018201,null,null,null,null,null,null,null,null,225.6,"*",null,{"$f":"VLOOKUP(A13601,'[1]Update Sheet'!$A$3:$Y$15578,25,FALSE)","v":0},"Reportable"]
["TCARDS DIRECT",48809,null,"N","N",true,"GB","N","PRIVATE SECTOR","ME19 5BP",null,null,"WEST MALL ME19",47910,47,"Retail trade services, except of motor vehicles and motorcycles       ",0.17404287306456559,null,null,null,null,null,null,null,null,222,"*",null,{"$f":"VLOOKUP(A13620,'[1]Update Sheet'!$A$3:$Y$15578,25,FALSE)","v":0},"Reportable"]
["WRITTEN IN LIGHTS",63704,1,"Y","Y",true,"GB","Y","PRIVATE SECTOR","CF23 5NF","South East Wales","Cardiff and Vale UHB","CARDIFF CF23",96090,96,"Other personal services             ",7.6712791957121843E-2,null,null,null,null,null,null,null,null,220,"*",null,{"$f":"VLOOKUP(A13626,'[1]Update Sheet'!$A$3:$Y$15578,25,FALSE)","v":0},"Reportable"]
["INTEGREX LTD",51549,null,"N","N",true,"GB","N","PRIVATE SECTOR","DE11 9PT",null,null,"BURTON ON DE11",26200,26,"Computer, electronic and optical products           ",0.38174938765811312,null,null,null,null,null,null,null,null,216,"*",null,{"$f":"VLOOKUP(A13645,'[1]Update Sheet'!$A$3:$Y$15578,25,FALSE)","v":0},"Reportable"]
["CAPEL BEREA NEWYDD",69088,1,"Y","Y",true,"GB","Y","VCSE","LL57 2AX","North Wales","Betsi Cadwaladr UHB","BANGOR LL57",94000,94,"Services furnished by membership organisations           ",0.1210358880635142,null,null,null,null,null,null,null,null,210,"*",null,{"$f":"VLOOKUP(A13664,'[1]Update Sheet'!$A$3:$Y$15578,25,FALSE)","v":0},"Reportable"]
["IDENTIFIED HEALTH CARE LTD",75813,1,"Y","Y",true,"GB","Y","PRIVATE SECTOR","NP20 2AH","South East Wales","Aneurin Bevan UHB","NEWPORT NP20",86900,86,"Human health services             ",0.29193168620018201,null,null,null,null,null,null,null,null,200.62,"*",null,{"$f":"VLOOKUP(A13689,'[1]Update Sheet'!$A$3:$Y$15578,25,FALSE)","v":0},"Reportable"]
["IAN GREEN",75847,1,"Y","Y",true,"GB","Y","PRIVATE SECTOR","LD2 3RT","Mid Wales","Powys Teaching HB","BUILTH WEL LD2",86000,86,"Human health services             ",0.29193168620018201,null,null,null,null,null,null,null,null,200,"*",null,{"$f":"VLOOKUP(A13708,'[1]Update Sheet'!$A$3:$Y$15578,25,FALSE)","v":0},"Reportable"]
["THE PLOUGH INN (ST ASAPH)",55864,1,"Y","Y",true,"GB","N","PRIVATE SECTOR","LL17 0LU","North Wales","Betsi Cadwaladr UHB","ST ASAPH LL17",70100,70,"Services of head offices; management consulting services         ",9.3681183759862049E-2,null,null,null,null,null,null,null,null,198,"*",null,{"$f":"VLOOKUP(A13727,'[1]Update Sheet'!$A$3:$Y$15578,25,FALSE)","v":0},"Reportable"]
["DR IE OKOME",76919,null,"N","N",true,"GB","Y","PRIVATE SECTOR","SG2 9DD",null,null,"STEVENAGE SG2",86000,86,"Human health services             ",0.29193168620018201,null,null,null,null,null,null,null,null,193.51,"*",null,{"$f":"VLOOKUP(A13752,'[1]Update Sheet'!$A$3:$Y$15578,25,FALSE)","v":0},"Reportable"]
["HUMPHRIES ASSOCIATES LTD",75714,null,"N","N",true,"GB","Y","PRIVATE SECTOR","HR2 0EL",null,null,"HEREFORD HR2",82990,82,"Office administrative, office support and other business support services       ",0.1180504360352973,null,null,null,null,null,null,null,null,191,"*",null,{"$f":"VLOOKUP(A13771,'[1]Update Sheet'!$A$3:$Y$15578,25,FALSE)","v":0},"Reportable"]
["STEVEN MCHUGH",58889,1,"Y","Y",true,"GB","N","PRIVATE SECTOR","LL31 9AD","North Wales","Betsi Cadwaladr UHB","LLANDUDNO LL31",7487,74,"Other professional, scientific and technical services          ",0.19142587698446711,null,null,null,null,null,null,null,null,189.65,"*",null,{"$f":"VLOOKUP(A13777,'[1]Update Sheet'!$A$3:$Y$15578,25,FALSE)","v":0},"Reportable"]
["FIRST AID WAREHOUSE LTD",39006,null,"N","N",true,"GB","N","PRIVATE SECTOR","WA1 4RQ",null,null,"WARRINGTO WA1",74990,74,"Other professional, scientific and technical services          ",0.19142587698446711,null,null,null,null,null,null,null,null,184.6,"*",null,{"$f":"VLOOKUP(A13796,'[1]Update Sheet'!$A$3:$Y$15578,25,FALSE)","v":0},"Reportable"]
["TOWN & COUNTRY FENCING SUPPLIES LTD",73361,1,"Y","Y",true,"GB","Y","VCSE","CF39 8HL","South East Wales","Cwm Taf Morgannwg UHB","TONYREFAI CF39",81300,81,"Services to buildings and landscape           ",0.1712664478524781,null,null,null,null,null,null,null,null,180,"*",null,{"$f":"VLOOKUP(A13815,'[1]Update Sheet'!$A$3:$Y$15578,25,FALSE)","v":0},"Reportable"]
["J&M MEDICAL",4145,null,"N","N",true,"GB","Y","PRIVATE SECTOR","SR5 1DD",null,null,"SUNDERLAN SR5",86210,86,"Human health services             ",0.29193168620018201,null,null,null,null,null,null,null,null,178.62,"*",null,{"$f":"VLOOKUP(A13840,'[1]Update Sheet'!$A$3:$Y$15578,25,FALSE)","v":0},"Reportable"]
["DR HARISH REDDY",72302,1,"Y","Y",true,"GB","Y","PRIVATE SECTOR","SA38 9NS","Mid Wales","Hywel Dda UHB","NEWCASTLE SA38",86000,86,"Human health services             ",0.29193168620018201,null,null,null,null,null,null,null,null,173.37,"*",null,{"$f":"VLOOKUP(A13859,'[1]Update Sheet'!$A$3:$Y$15578,25,FALSE)","v":0},"Reportable"]
["DECADENT LTD",57516,null,"N","N",true,"GB","Y","PRIVATE SECTOR","BS30 5RL",null,null,"BRISTOL BS30",47749,47,"Retail trade services, except of motor vehicles and motorcycles       ",0.17404287306456559,null,null,null,null,null,null,null,null,168,"*",null,{"$f":"VLOOKUP(A13878,'[1]Update Sheet'!$A$3:$Y$15578,25,FALSE)","v":0},"Reportable"]
["CIRCUIT LAUNDERETTE SERVICES LTD",50164,null,"N","N",true,"GB","N","PRIVATE SECTOR","HX6 4AJ",null,null,"HALIFAX HX6",82990,82,"Office administrative, office support and other business support services       ",0.1180504360352973,null,null,null,null,null,null,null,null,161.01,"*",null,{"$f":"VLOOKUP(A13903,'[1]Update Sheet'!$A$3:$Y$15578,25,FALSE)","v":0},"Reportable"]
["WORK & WEAR DIRECT LTD",76814,null,"N","N",true,"GB","Y","PRIVATE SECTOR","SS11 8DD",null,null,"WICKFORD SS11",46990,47,"Retail trade services, except of motor vehicles and motorcycles       ",0.17404287306456559,null,null,null,null,null,null,null,null,157.19999999999999,"*",null,{"$f":"VLOOKUP(A13922,'[1]Update Sheet'!$A$3:$Y$15578,25,FALSE)","v":0},"Reportable"]
["CHOCOLATE HOUSE CAFE",77166,1,"Y","Y",true,"GB","Y","PRIVATE SECTOR","CF37 2NP","South East Wales","Cwm Taf Morgannwg UHB","PONTYPRIDD CF37",56000,56,"Food and beverage serving services           ",0.28886167518608219,null,null,null,null,null,null,null,null,155,"*",null,{"$f":"VLOOKUP(A13931,'[1]Update Sheet'!$A$3:$Y$15578,25,FALSE)","v":0},"Reportable"]
["REACT SERVICES",68342,1,"Y","Y",true,"GB","Y","PRIVATE SECTOR","NP18 3SQ","South East Wales","Aneurin Bevan UHB","NEWPORT NP18",74909,74,"Other professional, scientific and technical services          ",0.19142587698446711,null,null,null,null,null,null,null,null,150.4,"*",null,{"$f":"VLOOKUP(A13946,'[1]Update Sheet'!$A$3:$Y$15578,25,FALSE)","v":0},"Reportable"]
["OWEN AND LESLEY JENKINS",76417,1,"Y","Y",true,"GB","Y","PRIVATE SECTOR","SA3 5DZ","South West Wales","Swansea Bay UHB",null,86000,86,"Human health services             ",0.29193168620018201,null,null,null,null,null,null,null,null,150,"*",null,{"$f":"VLOOKUP(A13965,'[1]Update Sheet'!$A$3:$Y$15578,25,FALSE)","v":0},"Reportable"]
["POTTERYCRAFTS LTD",53580,null,"N","N",true,"GB","N","PRIVATE SECTOR","ST4 4ET",null,null,"STOKE-ON ST4",23490,"23OTHER","Glass, refractory, clay, other porcelain and ceramic, stone and abrasive products - 23.1-4/7-9   ",1.202877205736401,null,null,null,null,null,null,null,null,148,"*",null,{"$f":"VLOOKUP(A13990,'[1]Update Sheet'!$A$3:$Y$15578,25,FALSE)","v":0},"Reportable"]
["CYNON VALLEY MUSEUM TRUST",74195,1,"Y","Y",true,"GB","Y","VCSE","CF44 8DL","South East Wales","Cwm Taf Morgannwg UHB","ABERDARE CF44",96090,96,"Other personal services             ",7.6712791957121843E-2,null,null,null,null,null,null,null,null,144,"*",null,{"$f":"VLOOKUP(A14009,'[1]Update Sheet'!$A$3:$Y$15578,25,FALSE)","v":0},"Reportable"]
["PTAWA ENTERPRISES LTD TA THRIVE GROUP WALES",76662,1,"Y","Y",true,"GB","Y","PRIVATE SECTOR","SA12 7BR","South West Wales","Swansea Bay UHB","PORT TALBOT SA1",82990,82,"Office administrative, office support and other business support services       ",0.1180504360352973,null,null,null,null,null,null,null,null,136.80000000000001,"*",null,{"$f":"VLOOKUP(A14034,'[1]Update Sheet'!$A$3:$Y$15578,25,FALSE)","v":0},"Reportable"]
["DIRECT PLASTICS LTD",50553,null,"N","N",true,"GB","N","PRIVATE SECTOR","S13 8HS",null,null,"SHEFFIELD 8HS",46180,46,"Wholesale trade services, except of motor vehicles and motorcycles       ",2.0310031510736858E-2,null,null,null,null,null,null,null,null,131.04,"*",null,{"$f":"VLOOKUP(A14053,'[1]Update Sheet'!$A$3:$Y$15578,25,FALSE)","v":0},"Reportable"]
["NUAIRE LTD",4090,null,"N","N",true,"GB","N","PRIVATE SECTOR","CF83 1NA",null,null,"ESTATES",28250,28,"Machinery and equipment n.e.c.            ",0.33561667817643598,null,null,null,null,null,null,null,null,125.74,"*",null,{"$f":"VLOOKUP(A14072,'[1]Update Sheet'!$A$3:$Y$15578,25,FALSE)","v":0},"Reportable"]
["CLOUD BASED SOLUTIONS LTD",77268,null,"N","N",true,"GB","Y","PRIVATE SECTOR","EN5 5SU",null,null,"BARNET EN5",46520,46,"Wholesale trade services, except of motor vehicles and motorcycles       ",2.0310031510736858E-2,null,null,null,null,null,null,null,null,124.79,"*",null,{"$f":"VLOOKUP(A14078,'[1]Update Sheet'!$A$3:$Y$15578,25,FALSE)","v":0},"Reportable"]
["SHOOSMITHS LLP",59801,null,"N","N",true,"GB","N","PRIVATE SECTOR","B4 6SH",null,null,"NORTHAMPTON NN4",96090,96,"Other personal services             ",7.6712791957121843E-2,null,null,null,null,null,null,null,null,120,"*",null,{"$f":"VLOOKUP(A14097,'[1]Update Sheet'!$A$3:$Y$15578,25,FALSE)","v":0},"Reportable"]
["BABI N BOO",76158,1,"Y","Y",true,"GB","Y","PRIVATE SECTOR","LL65 1AA","North Wales","Betsi Cadwaladr UHB","HOLYHEAD LL65",13000,13,"Textiles               ",0.77085168361943579,null,null,null,null,null,null,null,null,117.78,"*",null,{"$f":"VLOOKUP(A14116,'[1]Update Sheet'!$A$3:$Y$15578,25,FALSE)","v":0},"Reportable"]
["MRS JA JONES",77205,1,"Y","Y",true,"GB","Y","PRIVATE SECTOR","SY18 6HG","Mid Wales","Powys Teaching HB","LLANIDLOES SY18",86000,86,"Human health services             ",0.29193168620018201,null,null,null,null,null,null,null,null,110,"*",null,{"$f":"VLOOKUP(A14141,'[1]Update Sheet'!$A$3:$Y$15578,25,FALSE)","v":0},"Reportable"]
["EASYSPACE LTD T/A HOSTING UK",61471,null,"N","N",true,"GB","Y","PRIVATE SECTOR","LL17 0LJ",null,null,"ST ASAPH LL17",63110,63,"Information services              ",0.16934169875693919,null,null,null,null,null,null,null,null,107.4,"*",null,{"$f":"VLOOKUP(A14160,'[1]Update Sheet'!$A$3:$Y$15578,25,FALSE)","v":0},"Reportable"]
["SEPSIS ENTERPRISES LTD",58759,null,"N","N",true,"GB","N","PRIVATE SECTOR","WS9 0RB",null,null,"WALSALL WS9",96090,96,"Other personal services             ",7.6712791957121843E-2,null,null,null,null,null,null,null,null,100.8,"*",null,{"$f":"VLOOKUP(A14185,'[1]Update Sheet'!$A$3:$Y$15578,25,FALSE)","v":0},"Reportable"]
["INDIGO EVENTS AND OCCASIONS LTD",76972,1,"Y","Y",true,"GB","Y","PRIVATE SECTOR","SA1 2PB","South West Wales","Swansea Bay UHB","SWANSEA SA1",56210,56,"Food and beverage serving services           ",0.28886167518608219,null,null,null,null,null,null,null,null,100,"*",null,{"$f":"VLOOKUP(A14204,'[1]Update Sheet'!$A$3:$Y$15578,25,FALSE)","v":0},"Reportable"]
["DR O E WILLIAMS",75589,1,"Y","Y",true,"GB","Y","PRIVATE SECTOR","LL17 0EL","North Wales","Betsi Cadwaladr UHB","ST ASAPH LL17",86210,86,"Human health services             ",0.29193168620018201,null,null,null,null,null,null,null,null,99,"*",null,{"$f":"VLOOKUP(A14223,'[1]Update Sheet'!$A$3:$Y$15578,25,FALSE)","v":0},"Reportable"]
["ST MARYS CATHOLIC CHURCH",64275,1,"Y","Y",true,"GB","N","VCSE","SA31 3DE","South West Wales","Hywel Dda UHB","CAMARTHEN SA31",94910,94,"Services furnished by membership organisations           ",0.1210358880635142,null,null,null,null,null,null,null,null,97.5,"*",null,{"$f":"VLOOKUP(A14229,'[1]Update Sheet'!$A$3:$Y$15578,25,FALSE)","v":0},"Reportable"]
["LEGAL AND MEDICAL INVESTMENTS LTD",73393,null,"N","N",true,"GB","N","PRIVATE SECTOR","GL50 2UX",null,null,"CHELTEN GL50",86900,86,"Human health services             ",0.29193168620018201,null,null,null,null,null,null,null,null,91.78,"*",null,{"$f":"VLOOKUP(A14248,'[1]Update Sheet'!$A$3:$Y$15578,25,FALSE)","v":0},"Reportable"]
["DEANES REMOVALS",38870,1,"Y","Y",true,"GB","N","PRIVATE SECTOR","LL31 9SH","North Wales","Betsi Cadwaladr UHB","ESTATES",49420,"49.3-5","Land transport services and transport services via pipelines, excluding rail transport     ",0.60315703544097854,null,null,null,null,null,null,null,null,90,"*",null,{"$f":"VLOOKUP(A14267,'[1]Update Sheet'!$A$3:$Y$15578,25,FALSE)","v":0},"Reportable"]
["SHROPSHIRE WILDLIFE TRADING COMPANY LTD",57909,null,"N","N",true,"GB","N","PRIVATE SECTOR","SY2 6AH",null,null,"SHREWSBURY SY2",96090,96,"Other personal services             ",7.6712791957121843E-2,null,null,null,null,null,null,null,null,84,"*",null,{"$f":"VLOOKUP(A14292,'[1]Update Sheet'!$A$3:$Y$15578,25,FALSE)","v":0},"Reportable"]
["PENARTH MINISTRY AREA",75723,1,"Y","Y",true,"GB","Y","VCSE","CF64 3EH","South East Wales","Cardiff and Vale UHB","PENARTH CF64",96090,96,"Other personal services             ",7.6712791957121843E-2,null,null,null,null,null,null,null,null,80,"*",null,{"$f":"VLOOKUP(A14311,'[1]Update Sheet'!$A$3:$Y$15578,25,FALSE)","v":0},"Reportable"]
["EMT HEALTHCARE LTD",56999,null,"N","N",true,"GB","N","PRIVATE SECTOR","NG9 2JR",null,null,"BEESTON NG9",46460,46,"Wholesale trade services, except of motor vehicles and motorcycles       ",2.0310031510736858E-2,null,null,null,null,null,null,null,null,77.650000000000006,"*",null,{"$f":"VLOOKUP(A14336,'[1]Update Sheet'!$A$3:$Y$15578,25,FALSE)","v":0},"Reportable"]
["GREYLANDS GUEST HOUSE",75717,1,"Y","Y",true,"GB","Y","PRIVATE SECTOR","LD1 6AG","Mid Wales","Powys Teaching HB","LLANDRINDOD LD1",55000,55,"Accommodation services              ",0.32444602703376968,null,null,null,null,null,null,null,null,74,"*",null,{"$f":"VLOOKUP(A14355,'[1]Update Sheet'!$A$3:$Y$15578,25,FALSE)","v":0},"Reportable"]
["DR CHRISTOPH SCHULTZ",45753,1,"Y","Y",true,"GB","N","PRIVATE SECTOR","SY18 6EZ","Mid Wales","Powys Teaching HB","LLANIDLOE SY18",86210,86,"Human health services             ",0.29193168620018201,null,null,null,null,null,null,null,null,68.599999999999994,"*",null,{"$f":"VLOOKUP(A14374,'[1]Update Sheet'!$A$3:$Y$15578,25,FALSE)","v":0},"Reportable"]
["NEWDAWN WORK WEAR LTD",75018,1,"Y","Y",true,"GB","Y","PRIVATE SECTOR","LL30 1DS","North Wales","Betsi Cadwaladr UHB","LLANDUDNO LL30",47710,47,"Retail trade services, except of motor vehicles and motorcycles       ",0.17404287306456559,null,null,null,null,null,null,null,null,67.5,"*",null,{"$f":"VLOOKUP(A14380,'[1]Update Sheet'!$A$3:$Y$15578,25,FALSE)","v":0},"Reportable"]
["SILVER CLOUD SIGNS LTD",64120,1,"Y","Y",true,"GB","Y","PRIVATE SECTOR","NP12 2DZ","South East Wales","Aneurin Bevan UHB","BLACKWOOD NP12",32990,32,"Other manufactured goods             ",0.67238249414981133,null,null,null,null,null,null,null,null,61.2,"*",null,{"$f":"VLOOKUP(A14399,'[1]Update Sheet'!$A$3:$Y$15578,25,FALSE)","v":0},"Reportable"]
["SUMAYYA MUSHTAQ",74546,1,"Y","Y",true,"GB","Y","PRIVATE SECTOR","LL57 2LW","North Wales","Betsi Cadwaladr UHB","BANGOR LL57",72000,72,"Scientific research and development services           ",0.18562764998368861,null,null,null,null,null,null,null,null,58.5,"*",null,{"$f":"VLOOKUP(A14424,'[1]Update Sheet'!$A$3:$Y$15578,25,FALSE)","v":0},"Reportable"]
["GROUNDWORK CAERPHILLY",62158,1,"Y","Y",true,"GB","Y","VCSE","NP12 2BH","South East Wales","Aneurin Bevan UHB","BLACKWOOD NP12",78109,78,"Employment services              ",0.1176282196328419,null,null,null,null,null,null,null,null,54,"*",null,{"$f":"VLOOKUP(A14443,'[1]Update Sheet'!$A$3:$Y$15578,25,FALSE)","v":0},"Reportable"]
["UK PARKING CONTROL LTD",75758,null,"N","N",true,"GB","Y","PRIVATE SECTOR","CV1 2NT",null,null,"COVENTRY CV1",52219,52,"Warehousing and support services for transportation          ",0.24376795453982661,null,null,null,null,null,null,null,null,50,"*",null,{"$f":"VLOOKUP(A14462,'[1]Update Sheet'!$A$3:$Y$15578,25,FALSE)","v":0},"Reportable"]
["MOUSER ELECTRONICS INC",47123,null,"N","N",true,"GB","N","PRIVATE SECTOR","HP12 4HJ",null,null,"FOREIGN",64204,64,"Financial services, except insurance and pension funding         ",0.1103075939416239,null,null,null,null,null,null,null,null,45.61,"*",null,{"$f":"VLOOKUP(A14487,'[1]Update Sheet'!$A$3:$Y$15578,25,FALSE)","v":0},"Reportable"]
["RTB TECHNICAL SERVICES LTD TA SHAWS SERVICE STATION",74028,1,"Y","Y",true,"GB","Y","PRIVATE SECTOR","LL18 5LU","North Wales","Betsi Cadwaladr UHB","CONWY LL18",96090,96,"Other personal services             ",7.6712791957121843E-2,null,null,null,null,null,null,null,null,39,"*",null,{"$f":"VLOOKUP(A14506,'[1]Update Sheet'!$A$3:$Y$15578,25,FALSE)","v":0},"Reportable"]
["ANDREWS CHILLED FOODS LTD",61455,1,"Y","Y",true,"GB","Y","PRIVATE SECTOR","SA18 1NS","South West Wales","Hywel Dda UHB","AMMANFORD SA18",46320,46,"Wholesale trade services, except of motor vehicles and motorcycles       ",2.0310031510736858E-2,null,null,null,null,null,null,null,null,35.25,"*",null,{"$f":"VLOOKUP(A14525,'[1]Update Sheet'!$A$3:$Y$15578,25,FALSE)","v":0},"Reportable"]
["BRONLLYS HOSPITAL SOCIAL CLUB",8425,1,"Y","Y",true,"GB","N","VCSE","LD3 0LU","Mid Wales","Powys Teaching HB","BRECON LD3",86900,86,"Human health services             ",0.29193168620018201,null,null,null,null,null,null,null,null,29.25,"*",null,{"$f":"VLOOKUP(A14550,'[1]Update Sheet'!$A$3:$Y$15578,25,FALSE)","v":0},"Reportable"]
["GUARDIAN SURGICAL LTD",4005,null,"N","N",true,"GB","N","PRIVATE SECTOR","KA26 9PL",null,null,"GIRVAN KA26",86101,86,"Human health services             ",0.29193168620018201,null,null,null,null,null,null,null,null,24.6,"*",null,{"$f":"VLOOKUP(A14569,'[1]Update Sheet'!$A$3:$Y$15578,25,FALSE)","v":0},"Reportable"]
["SPORTTAPE LTD",50526,1,"Y","Y",true,"GB","Y","PRIVATE SECTOR","CF83 3GG","South East Wales","Aneurin Bevan UHB","CAERPHILL CF83",47910,47,"Retail trade services, except of motor vehicles and motorcycles       ",0.17404287306456559,null,null,null,null,null,null,null,null,23.98,"*",null,{"$f":"VLOOKUP(A14575,'[1]Update Sheet'!$A$3:$Y$15578,25,FALSE)","v":0},"Reportable"]
["NINA PATRICIA PARRY LANGDON",60109,1,"Y","Y",true,"GB","N","PRIVATE SECTOR","CF23 6QU","South East Wales","Cardiff and Vale UHB","CARDIFF CF23",86000,86,"Human health services             ",0.29193168620018201,null,null,null,null,null,null,null,null,15.95,"*",null,{"$f":"VLOOKUP(A14594,'[1]Update Sheet'!$A$3:$Y$15578,25,FALSE)","v":0},"Reportable"]
["MATTHEW EVANS",76780,1,"Y","Y",true,"GB","N","PRIVATE SECTOR","NP19 4SA","South East Wales","Aneurin Bevan UHB","NEWPORT NP19",86000,86,"Human health services             ",0.29193168620018201,null,null,null,null,null,null,null,null,2.0699999999999998,"*",null,{"$f":"VLOOKUP(A14613,'[1]Update Sheet'!$A$3:$Y$15578,25,FALSE)","v":0},"Reportable"]
["ZDUP SERVISCOMM XTRA",50612,null,"N","N",true,"GB","N","PRIVATE SECTOR","DL3 8AA",null,null,"DARLINGTO DL3",61900,61,"Telecommunications services              ",0.10520703191029331,null,null,null,null,null,null,null,null,0,null,null,{"$f":"VLOOKUP(A14638,'[1]Update Sheet'!$A$3:$Y$15578,25,FALSE)","v":{"$error":"#N/A"}},"Reportable"]
["ZDUP - RSS GLOBAL LTD TA BLUE ARROW",75406,null,"N","N",true,"GB","N","PRIVATE SECTOR","LU1 3BA",null,null,{"$error":"#N/A"},78200,78,"Employment services              ",0.1176282196328419,null,null,null,null,null,null,null,null,0,null,null,{"$f":"VLOOKUP(A14657,'[1]Update Sheet'!$A$3:$Y$15578,25,FALSE)","v":{"$error":"#N/A"}},"Reportable"]
["YSGOL ESCEIFIOG",74004,1,"Y","Y",true,"GB","Y","PUBLIC SECTOR","LL60 6DD","North Wales","Betsi Cadwaladr UHB","GAERWEN, LL60",96090,96,"Other personal services             ",7.6712791957121843E-2,null,null,null,null,null,null,null,null,0,null,null,{"$f":"VLOOKUP(A14682,'[1]Update Sheet'!$A$3:$Y$15578,25,FALSE)","v":0},"Reportable"]
["YORK HOUSE VENTURES LTD",65139,null,"N","N",true,"GB","Y","PRIVATE SECTOR","YO10 5BN",null,null,"YORK YO10",87200,87,"Residential care services             ",0.16514437058930551,null,null,null,null,null,null,null,null,0,null,null,{"$f":"VLOOKUP(A14701,'[1]Update Sheet'!$A$3:$Y$15578,25,FALSE)","v":{"$error":"#N/A"}},"Reportable"]
["XERETEC OFFICE SYSTEMS LTD",55921,null,"N","N",true,"GB","Y","PRIVATE SECTOR","RG41 2FD",null,null,"WOKINGHA RG41",46900,46,"Wholesale trade services, except of motor vehicles and motorcycles       ",2.0310031510736858E-2,null,null,null,null,null,null,null,null,0,null,null,{"$f":"VLOOKUP(A14720,'[1]Update Sheet'!$A$3:$Y$15578,25,FALSE)","v":0},"Reportable"]
["WROXETER HOTEL LTD",55338,null,"N","N",true,"GB","N","PRIVATE SECTOR","SY5 6PH",null,null,"SHREWSBUR SY5",55100,55,"Accommodation services              ",0.32444602703376968,null,null,null,null,null,null,null,null,0,null,null,{"$f":"VLOOKUP(A14726,'[1]Update Sheet'!$A$3:$Y$15578,25,FALSE)","v":{"$error":"#N/A"}},"Reportable"]
["WOODLANDS FIELD LTD T/A WOODLANDS FIELD CHARITY",61713,1,"Y","Y",true,"GB","N","VCSE","NP4 8BU","South East Wales","Aneurin Bevan UHB","PONTYPOOL NP4",96090,96,"Other personal services             ",7.6712791957121843E-2,null,null,null,null,null,null,null,null,0,null,null,{"$f":"VLOOKUP(A14745,'[1]Update Sheet'!$A$3:$Y$15578,25,FALSE)","v":{"$error":"#N/A"}},"Reportable"]
["WILSONS SOLICITORS LLP",53870,null,"N","N",true,"GB","N","PRIVATE SECTOR","SP1 2SB",null,null,"SALISBURY SP1",69102,69.099999999999994,"Legal services              ",5.7877621976311508E-2,null,null,null,null,null,null,null,null,0,null,null,{"$f":"VLOOKUP(A14764,'[1]Update Sheet'!$A$3:$Y$15578,25,FALSE)","v":{"$error":"#N/A"}},"Reportable"]
["WHARTON ELECTRONICS LTD",53978,null,"N","N",true,"GB","Y","PRIVATE SECTOR","OX9 3XA",null,null,"OXON OX9",26110,26,"Computer, electronic and optical products           ",0.38174938765811312,null,null,null,null,null,null,null,null,0,null,null,{"$f":"VLOOKUP(A14789,'[1]Update Sheet'!$A$3:$Y$15578,25,FALSE)","v":{"$error":"#N/A"}},"Reportable"]
["WELSH PAIN SOCIETY",6851,1,"Y","Y",true,"GB","N","VCSE","LD3 3AW","Mid Wales","Powys Teaching HB","PONTYPOOL NP4",96090,96,"Other personal services             ",7.6712791957121843E-2,null,null,null,null,null,null,null,null,0,null,null,{"$f":"VLOOKUP(A14812,'[1]Update Sheet'!$A$3:$Y$15578,25,FALSE)","v":{"$error":"#N/A"}},"Reportable"]
["WELCO",33375,null,"N","N",true,"GB","Y","PRIVATE SECTOR","OX16 3JU",null,null,"BANBURY OX16",70100,70,"Services of head offices; management consulting services         ",9.3681183759862049E-2,null,null,null,null,null,null,null,null,0,null,null,{"$f":"VLOOKUP(A14832,'[1]Update Sheet'!$A$3:$Y$15578,25,FALSE)","v":{"$error":"#N/A"}},"Reportable"]
["WATERFRONT DENTAL CENTRE LTD",59733,1,"Y","N","Additional Welsh Supplier","GB","N","PRIVATE SECTOR","SA18 QTY","South West Wales","Swansea Bay UHB","SWANSEA SA1",86230,86,"Human health services             ",0.29193168620018201,null,null,null,null,null,null,null,null,0,null,null,{"$f":"VLOOKUP(A14851,'[1]Update Sheet'!$A$3:$Y$15578,25,FALSE)","v":{"$error":"#N/A"}},"Reportable"]
["WALES ENGLAND CARE LTD",53375,1,"Y","Y",true,"GB","Y","PRIVATE SECTOR","NP20 1JT","South East Wales","Aneurin Bevan UHB","NEWPORT NP20",96090,96,"Other personal services             ",7.6712791957121843E-2,null,null,null,null,null,null,null,null,0,null,null,{"$f":"VLOOKUP(A14870,'[1]Update Sheet'!$A$3:$Y$15578,25,FALSE)","v":{"$error":"#N/A"}},"Reportable"]
["VUE MEDIA LTD",77472,null,"N","N",true,"GB","Y","PRIVATE SECTOR","NN8 6ZB",null,null,"WELLINGBORO NN8",58190,58,"Publishing services              ",8.0219457227851232E-2,null,null,null,null,null,null,null,null,0,null,null,{"$f":"VLOOKUP(A14876,'[1]Update Sheet'!$A$3:$Y$15578,25,FALSE)","v":{"$error":"#N/A"}},"Reportable"]
["VISION 2000 (UK) LTD",71146,1,"Y","Y",true,"GB","Y","PRIVATE SECTOR","NP44 5BJ","South East Wales","Aneurin Bevan UHB","CWMBRAN NP44",86900,86,"Human health services             ",0.29193168620018201,null,null,null,null,null,null,null,null,0,null,null,{"$f":"VLOOKUP(A14895,'[1]Update Sheet'!$A$3:$Y$15578,25,FALSE)","v":{"$error":"#N/A"}},"Reportable"]
["VICAR AND CHURCHWARDENS OF PENRHYNCOCH CHURCH",72980,1,"Y","Y",true,"GB","Y","VCSE","SY23 1EY","Mid Wales","Hywel Dda UHB","ABERYSYWYTH SY1",96090,96,"Other personal services             ",7.6712791957121843E-2,null,null,null,null,null,null,null,null,0,null,null,{"$f":"VLOOKUP(A14914,'[1]Update Sheet'!$A$3:$Y$15578,25,FALSE)","v":0},"Reportable"]
["SILVER BIRCH CARDS",52493,null,"N","N",true,"GB","N","PRIVATE SECTOR","TF9 3UR",null,null,"MARKET D TF9",96090,96,"Other personal services             ",7.6712791957121843E-2,null,null,null,null,null,null,null,null,0,null,null,{"$f":"VLOOKUP(A14939,'[1]Update Sheet'!$A$3:$Y$15578,25,FALSE)","v":{"$error":"#N/A"}},"Reportable"]
["UROLOGY CHAMBERS LTD",70318,null,"N","N",true,"GB","Y","PRIVATE SECTOR","N6 5QJ",null,null,"LONDON N6",86220,86,"Human health services             ",0.29193168620018201,null,null,null,null,null,null,null,null,0,null,null,{"$f":"VLOOKUP(A14958,'[1]Update Sheet'!$A$3:$Y$15578,25,FALSE)","v":{"$error":"#N/A"}},"Reportable"]
["UNITED OPEN MRI LTD",50096,null,"N","N",true,"GB","N","PRIVATE SECTOR","B15 1TS",null,null,"BIRMIMGHA B15",86900,86,"Human health services             ",0.29193168620018201,null,null,null,null,null,null,null,null,0,null,null,{"$f":"VLOOKUP(A14983,'[1]Update Sheet'!$A$3:$Y$15578,25,FALSE)","v":{"$error":"#N/A"}},"Reportable"]
["UK TEST LTD",72517,null,"N","N",true,"GB","Y","VCSE","BL1 2UA",null,null,"BOLTON BL1",43210,42.99,"Specialised construction works             ",0.31026786628535008,null,null,null,null,null,null,null,null,0,null,null,{"$f":"VLOOKUP(A15002,'[1]Update Sheet'!$A$3:$Y$15578,25,FALSE)","v":{"$error":"#N/A"}},"Reportable"]
["UBIQUS UK LTD",61796,null,"N","N",true,"GB","N","PRIVATE SECTOR","SE1 0HL",null,null,"LONDON SE1",82190,82,"Office administrative, office support and other business support services       ",0.1180504360352973,null,null,null,null,null,null,null,null,0,null,null,{"$f":"VLOOKUP(A15021,'[1]Update Sheet'!$A$3:$Y$15578,25,FALSE)","v":{"$error":"#N/A"}},"Reportable"]
["TY SA LTD",77450,null,"N","Y","Removal of a False Welsh Supplier","GB","Y","PRIVATE SECTOR","N1 7GU",null,null,null,68320,68.3,"Real estate services on a fee or contract basis       ",8.4914337844308282E-2,null,null,null,null,null,null,null,null,0,null,null,{"$f":"VLOOKUP(A15027,'[1]Update Sheet'!$A$3:$Y$15578,25,FALSE)","v":{"$error":"#N/A"}},"Reportable"]
["TSC LIFESCIENCES LTD",77756,null,"N","N",true,"GB","Y","PRIVATE SECTOR","OX144SA",null,null,"ABINGDON OX14",74909,74,"Other professional, scientific and technical services          ",0.19142587698446711,null,null,null,null,null,null,null,null,0,null,null,{"$f":"VLOOKUP(A15046,'[1]Update Sheet'!$A$3:$Y$15578,25,FALSE)","v":{"$error":"#N/A"}},"Reportable"]
["TREND DIABETES LTD",77767,null,"N","N",true,"GB","Y","PRIVATE SECTOR","PE3 9BT",null,null,"PETERBOROUG PE3",86900,86,"Human health services             ",0.29193168620018201,null,null,null,null,null,null,null,null,0,null,null,{"$f":"VLOOKUP(A15071,'[1]Update Sheet'!$A$3:$Y$15578,25,FALSE)","v":{"$error":"#N/A"}},"Reportable"]
["TRACY THOMAS",71563,1,"Y","Y",true,"GB","Y","PRIVATE SECTOR","CH7 1SG","North Wales","Betsi Cadwaladr UHB","MOLD CH7",7487,74,"Other professional, scientific and technical services          ",0.19142587698446711,null,null,null,null,null,null,null,null,0,null,null,{"$f":"VLOOKUP(A15090,'[1]Update Sheet'!$A$3:$Y$15578,25,FALSE)","v":{"$error":"#N/A"}},"Reportable"]
["TOTAL EXPO LTD COMPANY",75151,null,"N","N",true,"IE","Y","PRIVATE SECTOR","D24 FW5D",null,null,"FOREIGN",96090,96,"Other personal services             ",7.6712791957121843E-2,null,null,null,null,null,null,null,null,0,null,null,{"$f":"VLOOKUP(A15109,'[1]Update Sheet'!$A$3:$Y$15578,25,FALSE)","v":0},"Reportable"]
["TINY WIZARD STUDIO LTD",70420,1,"Y","Y",true,"GB","Y","PRIVATE SECTOR","NP7 7RL","South East Wales","Aneurin Bevan UHB","ABERGAVEN NP7",74100,74,"Other professional, scientific and technical services          ",0.19142587698446711,null,null,null,null,null,null,null,null,0,null,null,{"$f":"VLOOKUP(A15134,'[1]Update Sheet'!$A$3:$Y$15578,25,FALSE)","v":{"$error":"#N/A"}},"Reportable"]
["THREE SAINTS HOTEL",47911,1,"Y","Y",true,"GB","N","PRIVATE SECTOR","CF72 8YT","South East Wales","Cwm Taf Morgannwg UHB","PONTYCLUN CF72",55100,55,"Accommodation services              ",0.32444602703376968,null,null,null,null,null,null,null,null,0,null,null,{"$f":"VLOOKUP(A15153,'[1]Update Sheet'!$A$3:$Y$15578,25,FALSE)","v":{"$error":"#N/A"}},"Reportable"]
["THERAPY NORTHWEST",73853,null,"N","N",true,"GB","Y","PRIVATE SECTOR","PR7 4EZ",null,null,"CHORLEY PR7",86000,86,"Human health services             ",0.29193168620018201,null,null,null,null,null,null,null,null,0,null,null,{"$f":"VLOOKUP(A15172,'[1]Update Sheet'!$A$3:$Y$15578,25,FALSE)","v":{"$error":"#N/A"}},"Reportable"]
["THEALE MEDICAL CENTRE",74853,null,"N","N",true,"GB","Y","PRIVATE SECTOR","RG7 5AS",null,null,"THEALE RG7",86900,86,"Human health services             ",0.29193168620018201,null,null,null,null,null,null,null,null,0,null,null,{"$f":"VLOOKUP(A15178,'[1]Update Sheet'!$A$3:$Y$15578,25,FALSE)","v":{"$error":"#N/A"}},"Reportable"]
["THE SKY PROJECT",70534,null,"N","N",true,"GB","N","VCSE","BS30 9SL",null,null,"BRISTOL BS30",96090,96,"Other personal services             ",7.6712791957121843E-2,null,null,null,null,null,null,null,null,0,null,null,{"$f":"VLOOKUP(A15197,'[1]Update Sheet'!$A$3:$Y$15578,25,FALSE)","v":{"$error":"#N/A"}},"Reportable"]
["THE PLOUGH AT RHOSMAEN LTD",64799,1,"Y","Y",true,"GB","Y","PRIVATE SECTOR","SA19 6NP","South West Wales","Hywel Dda UHB","LLANDEILO SA19",55100,55,"Accommodation services              ",0.32444602703376968,null,null,null,null,null,null,null,null,0,null,null,{"$f":"VLOOKUP(A15222,'[1]Update Sheet'!$A$3:$Y$15578,25,FALSE)","v":{"$error":"#N/A"}},"Reportable"]
["THE NAS LORNA WING CENTRE FOR AUTISM",43709,null,"N","N",true,"GB","N","VCSE","BR2 9HT",null,null,"BROMLEY BR2",94120,94,"Services furnished by membership organisations           ",0.1210358880635142,null,null,null,null,null,null,null,null,0,null,null,{"$f":"VLOOKUP(A15241,'[1]Update Sheet'!$A$3:$Y$15578,25,FALSE)","v":{"$error":"#N/A"}},"Reportable"]
["THE LAW MEDICAL GROUP PRACTICE",73798,null,"N","N",true,"GB","Y","PRIVATE SECTOR","NW10 5UY",null,null,"LONDON NW10",69102,69.099999999999994,"Legal services              ",5.7877621976311508E-2,null,null,null,null,null,null,null,null,0,null,null,{"$f":"VLOOKUP(A15260,'[1]Update Sheet'!$A$3:$Y$15578,25,FALSE)","v":0},"Reportable"]
["KANE CLOUD COMMUNICATIONS LTD",53446,1,"Y","Y",true,"GB","Y","PRIVATE SECTOR",null,"South East Wales","Aneurin Bevan UHB","NEWPORT NP20",61900,61,"Telecommunications services              ",0.10520703191029331,null,null,null,null,null,null,null,null,0,null,null,{"$f":"VLOOKUP(A15285,'[1]Update Sheet'!$A$3:$Y$15578,25,FALSE)","v":{"$error":"#N/A"}},"Reportable"]
["MORSE LAW LTD T/A JOHN MORSE SOLICITORS",53965,1,"Y","Y",true,"GB","N","PRIVATE SECTOR","SA1 4DG","South West Wales","Swansea Bay UHB","SWANSEA SA1",69102,69.099999999999994,"Legal services              ",5.7877621976311508E-2,null,null,null,null,null,null,null,null,266920,"*",null,{"$f":"VLOOKUP(A15304,'[1]Update Sheet'!$A$3:$Y$15578,25,FALSE)","v":0},"Reportable"]
["THE COTTAGE NURSING HOME",39857,null,"N","N",true,"GB","Y","PRIVATE SECTOR","NN29 7AB",null,null,"CORNERSTONE",86102,86,"Human health services             ",0.29193168620018201,null,null,null,null,null,null,null,null,0,null,null,{"$f":"VLOOKUP(A15310,'[1]Update Sheet'!$A$3:$Y$15578,25,FALSE)","v":{"$error":"#N/A"}},"Reportable"]
["THE CAROLINE WALKER TRUST","10114",null,"N","N",true,"GB","N","PRIVATE SECTOR","WD5 0DQ",null,null,"ABBOTS  LA WD5",86900,86,"Human health services             ",0.29193168620018201,null,null,null,null,null,null,null,null,0,null,null,{"$f":"VLOOKUP(A15329,'[1]Update Sheet'!$A$3:$Y$15578,25,FALSE)","v":{"$error":"#N/A"}},"Reportable"]
["THE ASSOCIATION OF ORTHOPAEDIC PRACTITIONERS",51160,null,"N","N",true,"GB","N","VCSE","G66 1FA",null,null,"GLASGOW G66",94120,93,"Sports services and amusement and recreation services         ",0.22280360830166321,null,null,null,null,null,null,null,null,0,null,null,{"$f":"VLOOKUP(A15348,'[1]Update Sheet'!$A$3:$Y$15578,25,FALSE)","v":{"$error":"#N/A"}},"Reportable"]
["TELECOM SERVICE CENTRES LTD TA WEBHELP UK AND GOBEYOND PARTNERS",73120,null,"N","N",true,"GB","N","PRIVATE SECTOR","FK5 4RX",null,null,"FALKIRK FK5",61900,61,"Telecommunications services              ",0.10520703191029331,null,null,null,null,null,null,null,null,0,null,null,{"$f":"VLOOKUP(A15373,'[1]Update Sheet'!$A$3:$Y$15578,25,FALSE)","v":{"$error":"#N/A"}},"Reportable"]
["TARA F RENTON",74260,null,"N","N",true,"GB","Y","PRIVATE SECTOR","TW1 1QR",null,null,"LONDON TW1",96090,96,"Other personal services             ",7.6712791957121843E-2,null,null,null,null,null,null,null,null,0,null,null,{"$f":"VLOOKUP(A15392,'[1]Update Sheet'!$A$3:$Y$15578,25,FALSE)","v":0},"Reportable"]
["TABLETALK MEDIA LTD",62380,null,"N","N",true,"GB","Y","PRIVATE SECTOR","W1W 8ST",null,null,"LONDON W1W",73120,73,"Advertising and market research services           ",0.1101924211553026,null,null,null,null,null,null,null,null,0,null,null,{"$f":"VLOOKUP(A15411,'[1]Update Sheet'!$A$3:$Y$15578,25,FALSE)","v":{"$error":"#N/A"}},"Reportable"]
["SWITCHPLAN LTD",33933,null,"N","N",true,"GB","N","PRIVATE SECTOR","TF2 7QZ",null,null,"TELFORD TF2",43210,42.99,"Specialised construction works             ",0.31026786628535008,null,null,null,null,null,null,null,null,0,null,null,{"$f":"VLOOKUP(A15436,'[1]Update Sheet'!$A$3:$Y$15578,25,FALSE)","v":{"$error":"#N/A"}},"Reportable"]
["SUZY MATTHIJSSEN",76984,null,"N","N",true,"GB","Y","PRIVATE SECTOR","1053 RS",null,null,"FOREIGN",86000,86,"Human health services             ",0.29193168620018201,null,null,null,null,null,null,null,null,0,null,null,{"$f":"VLOOKUP(A15455,'[1]Update Sheet'!$A$3:$Y$15578,25,FALSE)","v":{"$error":"#N/A"}},"Reportable"]
["SUCCESSFUL EVENTS LTD",74450,null,"N","N",true,"GB","Y","PRIVATE SECTOR","LS7 4PH",null,null,"LEEDS LS7",79110,79,"Travel agency, tour operator and other reservation services and related services     ",0.14046399701908621,null,null,null,null,null,null,null,null,0,null,null,{"$f":"VLOOKUP(A15480,'[1]Update Sheet'!$A$3:$Y$15578,25,FALSE)","v":{"$error":"#N/A"}},"Reportable"]
["STORE MORE GARDEN BUILDINGS LTD",62232,null,"N","N",true,"GB","Y","PRIVATE SECTOR","SK6 2SZ",null,null,"STOCKPORT SK6",46900,46,"Wholesale trade services, except of motor vehicles and motorcycles       ",2.0310031510736858E-2,null,null,null,null,null,null,null,null,0,null,null,{"$f":"VLOOKUP(A15499,'[1]Update Sheet'!$A$3:$Y$15578,25,FALSE)","v":{"$error":"#N/A"}},"Reportable"]
["STEFAN SADDLER AUTO ELECTRICAL",43163,1,"Y","Y",true,"GB","N","PRIVATE SECTOR","CF14 2JP","South East Wales","Cardiff and Vale UHB","CARDIFF CF14",96090,96,"Other personal services             ",7.6712791957121843E-2,null,null,null,null,null,null,null,null,0,null,null,{"$f":"VLOOKUP(A15518,'[1]Update Sheet'!$A$3:$Y$15578,25,FALSE)","v":{"$error":"#N/A"}},"Reportable"]
["STAR MULTIFUELS LTD",71065,1,"Y","Y",true,"GB","Y","PRIVATE SECTOR","SA18 1LQ","South West Wales","Hywel Dda UHB","AMMANFORD SA18",96090,96,"Other personal services             ",7.6712791957121843E-2,null,null,null,null,null,null,null,null,0,null,null,{"$f":"VLOOKUP(A15524,'[1]Update Sheet'!$A$3:$Y$15578,25,FALSE)","v":{"$error":"#N/A"}},"Exclude- Captured under Waste, Energy, Water or Invesments"]
["ST LLAWDDOG CHURCH YSGOL SUL",75272,1,"Y","Y",true,"GB","Y","VCSE","SA44 5JF","South West Wales","Hywel Dda UHB","LLANDYSUL SA44",69102,69.099999999999994,"Legal services              ",5.7877621976311508E-2,null,null,null,null,null,null,null,null,0,null,null,{"$f":"VLOOKUP(A15543,'[1]Update Sheet'!$A$3:$Y$15578,25,FALSE)","v":0},"Reportable"]
["SPRINGMASTERS LTD",55399,null,"N","N",true,"GB","N","PRIVATE SECTOR","B98 8LF",null,null,"ESTATES",96090,96,"Other personal services             ",7.6712791957121843E-2,null,null,null,null,null,null,null,null,0,null,null,{"$f":"VLOOKUP(A15562,'[1]Update Sheet'!$A$3:$Y$15578,25,FALSE)","v":{"$error":"#N/A"}},"Reportable"]
["SPECIALIZED SECURITY PRODUCTS LTD",67300,null,"N","N",true,"GB","N","PRIVATE SECTOR","SG9 9AZ",null,null,"BUNTINGFORD SG9",46520,46,"Wholesale trade services, except of motor vehicles and motorcycles       ",2.0310031510736858E-2,null,null,null,null,null,null,null,null,0,null,null,{"$f":"VLOOKUP(A15587,'[1]Update Sheet'!$A$3:$Y$15578,25,FALSE)","v":0},"Reportable"]
["SOUTH WALES FORK TRUCKS (SWFT)",24454,1,"Y","Y",true,"GB","N","PRIVATE SECTOR","SA11 4DU","South West Wales","Swansea Bay UHB","NEATH SA11",82990,82,"Office administrative, office support and other business support services       ",0.1180504360352973,null,null,null,null,null,null,null,null,0,null,null,{"$f":"VLOOKUP(A15606,'[1]Update Sheet'!$A$3:$Y$15578,25,FALSE)","v":{"$error":"#N/A"}},"Reportable"]
["SOLTYS BREWSTER ECOLOGY LTD",55107,1,"Y","Y",true,"GB","N","PRIVATE SECTOR","CF64 2AA","South East Wales","Cardiff and Vale UHB","PENARTH CF64",86900,86,"Human health services             ",0.29193168620018201,null,null,null,null,null,null,null,null,0,null,null,{"$f":"VLOOKUP(A15631,'[1]Update Sheet'!$A$3:$Y$15578,25,FALSE)","v":{"$error":"#N/A"}},"Reportable"]
["SNOWDONIA DONKEYS CIO",73683,1,"Y","Y",true,"GB","Y","VCSE","LL57 4BB","North Wales","Betsi Cadwaladr UHB","BANGOR LL57",96090,96,"Other personal services             ",7.6712791957121843E-2,null,null,null,null,null,null,null,null,0,null,null,{"$f":"VLOOKUP(A15650,'[1]Update Sheet'!$A$3:$Y$15578,25,FALSE)","v":0},"Reportable"]
["SMTL",28414,1,"Y","Y",true,"GB","N","PUBLIC SECTOR","CF31 1RQ","South East Wales","Cwm Taf Morgannwg UHB","BRIDGEND CF31",72190,72,"Scientific research and development services           ",0.18562764998368861,null,null,null,null,null,null,null,null,0,null,null,{"$f":"VLOOKUP(A15653,'[1]Update Sheet'!$A$3:$Y$15578,25,FALSE)","v":{"$error":"#N/A"}},"Reportable"]
["SITE SOLUTIONS ENGINEERING LTD",48405,null,"N","N",true,"GB","Y","PRIVATE SECTOR","LL11 3RD",null,null,"ESTATES",43220,42.99,"Specialised construction works             ",0.31026786628535008,null,null,null,null,null,null,null,null,0,null,null,{"$f":"VLOOKUP(A15674,'[1]Update Sheet'!$A$3:$Y$15578,25,FALSE)","v":{"$error":"#N/A"}},"Reportable"]
["SIMPLY RHINO LTD",65161,null,"N","N",true,"GB","N","PRIVATE SECTOR","IG8 9RS",null,null,"WOODFORD IG8",96090,96,"Other personal services             ",7.6712791957121843E-2,null,null,null,null,null,null,null,null,0,null,null,{"$f":"VLOOKUP(A15693,'[1]Update Sheet'!$A$3:$Y$15578,25,FALSE)","v":{"$error":"#N/A"}},"Reportable"]
["SHELLEY FAIRPLAY TA HARP WALES",74309,1,"Y","Y",true,"GB","Y","VCSE","CF15 8DL","South East Wales","Cardiff and Vale UHB","CARDIFF CF15",96090,96,"Other personal services             ",7.6712791957121843E-2,null,null,null,null,null,null,null,null,0,null,null,{"$f":"VLOOKUP(A15718,'[1]Update Sheet'!$A$3:$Y$15578,25,FALSE)","v":0},"Reportable"]
["SEVERN FUELS LTD",19668,1,"Y","Y",true,"GB","Y","PRIVATE SECTOR","NP26 3UE","South East Wales","Aneurin Bevan UHB","NEWPORT NP26",86900,86,"Human health services             ",0.29193168620018201,null,null,null,null,null,null,null,null,0,null,null,{"$f":"VLOOKUP(A15737,'[1]Update Sheet'!$A$3:$Y$15578,25,FALSE)","v":{"$error":"#N/A"}},"Exclude- Captured under Waste, Energy, Water or Invesments"]
["SEBASTIAN TINDALL",74897,1,"Y","Y",true,"GB","Y","PRIVATE SECTOR","SA3 4DD","South West Wales","Swansea Bay UHB","MUMBLES SA3",96090,96,"Other personal services             ",7.6712791957121843E-2,null,null,null,null,null,null,null,null,0,null,null,{"$f":"VLOOKUP(A15756,'[1]Update Sheet'!$A$3:$Y$15578,25,FALSE)","v":0},"Reportable"]
["SCALING THE HEIGHTS LLP",69929,null,"N","N",true,"GB","Y","PRIVATE SECTOR","SN16 0LR",null,null,"MALMESBURY SN16",96090,96,"Other personal services             ",7.6712791957121843E-2,null,null,null,null,null,null,null,null,0,null,null,{"$f":"VLOOKUP(A15781,'[1]Update Sheet'!$A$3:$Y$15578,25,FALSE)","v":{"$error":"#N/A"}},"Reportable"]
["SAMYE FOUNDATION WALES",54659,1,"Y","Y",true,"GB","N","VCSE","CF5 1GZ","South East Wales","Cardiff and Vale UHB","CARDIFF CF5",74990,74,"Other professional, scientific and technical services          ",0.19142587698446711,null,null,null,null,null,null,null,null,0,null,null,{"$f":"VLOOKUP(A15800,'[1]Update Sheet'!$A$3:$Y$15578,25,FALSE)","v":{"$error":"#N/A"}},"Reportable"]
["SAFE HAVEN CARE LTD",63743,1,"Y","Y",true,"GB","Y","PRIVATE SECTOR","SA72 6HU","South West Wales","Swansea Bay UHB","PEMBROKE SA72",87100,87,"Residential care services             ",0.16514437058930551,null,null,null,null,null,null,null,null,0,null,null,{"$f":"VLOOKUP(A15819,'[1]Update Sheet'!$A$3:$Y$15578,25,FALSE)","v":{"$error":"#N/A"}},"Reportable"]
["S TRANTER MAINTENANCE SERVICES LTD",67685,1,"Y","Y",true,"GB","Y","PRIVATE SECTOR","CF48 2HP","South East Wales","Cwm Taf Morgannwg UHB","MERTHYR CF48",41100,"42.1-2","Constructions and construction works for civil engineering         ",0.38802246325570439,null,null,null,null,null,null,null,null,0,null,null,{"$f":"VLOOKUP(A15825,'[1]Update Sheet'!$A$3:$Y$15578,25,FALSE)","v":{"$error":"#N/A"}},"Reportable"]
["RUNNING IMP LTD",40725,null,"N","N",true,"GB","N","PRIVATE SECTOR","LN6 3LQ",null,null,"LINCOLN LN6",18129,18,"Printing and recording services            ",0.38173396113307168,null,null,null,null,null,null,null,null,0,null,null,{"$f":"VLOOKUP(A15844,'[1]Update Sheet'!$A$3:$Y$15578,25,FALSE)","v":{"$error":"#N/A"}},"Reportable"]
["ROTHERWOOD HEALTHCARE (ST GEORGES PARK) LTD",67484,null,"N","N",true,"GB","Y","PRIVATE SECTOR","TF2 9LL",null,null,"TELFORDTF2",87100,87,"Residential care services             ",0.16514437058930551,null,null,null,null,null,null,null,null,0,null,null,{"$f":"VLOOKUP(A15869,'[1]Update Sheet'!$A$3:$Y$15578,25,FALSE)","v":{"$error":"#N/A"}},"Reportable"]
["UCL CONSULTANTS LTD",56130,null,"N","N",true,"GB","N","PRIVATE SECTOR","W1T 4TJ",null,null,"LONDON WLT",74909,74,"Other professional, scientific and technical services          ",0.19142587698446711,null,null,null,null,null,null,null,null,21348,"*",null,{"$f":"VLOOKUP(A15888,'[1]Update Sheet'!$A$3:$Y$15578,25,FALSE)","v":0},"Reportable"]
["ROBERTS LIMBRICK LTD",76998,null,"N","N",true,"GB","Y","PRIVATE SECTOR","GL1 1DG",null,null,"GLOUCESTER GL1",71111,71,"Architectural and engineering services; technical testing and analysis services       ",0.1560575201743172,null,null,null,null,null,null,null,null,0,null,null,{"$f":"VLOOKUP(A15907,'[1]Update Sheet'!$A$3:$Y$15578,25,FALSE)","v":{"$error":"#N/A"}},"Reportable"]
["RICS BOOKS",9690,null,"N","N",true,"GB","Y","PRIVATE SECTOR","CV4 8JE",null,null,"COVENTRY CV4",7487,74,"Other professional, scientific and technical services          ",0.19142587698446711,null,null,null,null,null,null,null,null,0,null,null,{"$f":"VLOOKUP(A15932,'[1]Update Sheet'!$A$3:$Y$15578,25,FALSE)","v":{"$error":"#N/A"}},"Reportable"]
["RHIANNON REES TA SEASIDE APARTMENTS",74568,1,"Y","Y",true,"GB","Y","VCSE","SY23 2AZ","Mid Wales","Hywel Dda UHB","ABERYSTWY SY23",55100,55,"Accommodation services              ",0.32444602703376968,null,null,null,null,null,null,null,null,0,null,null,{"$f":"VLOOKUP(A15951,'[1]Update Sheet'!$A$3:$Y$15578,25,FALSE)","v":{"$error":"#N/A"}},"Reportable"]
["RESEARCH PUBLISHING INTERNATIONAL LTD",74487,null,"N","N",true,"GB","Y","VCSE","GL10 3FA",null,null,"GLOUCESTER GL10",58190,58,"Publishing services              ",8.0219457227851232E-2,null,null,null,null,null,null,null,null,0,null,null,{"$f":"VLOOKUP(A15970,'[1]Update Sheet'!$A$3:$Y$15578,25,FALSE)","v":{"$error":"#N/A"}},"Reportable"]
["REMOVING ELEPHANTS LTD",73961,null,"N","N",true,"GB","Y","PRIVATE SECTOR","WA8 OWN",null,null,"WIDNES WA8",62020,62,"Computer programming, consultancy and related services          ",0.13144659704407699,null,null,null,null,null,null,null,null,0,null,null,{"$f":"VLOOKUP(A15976,'[1]Update Sheet'!$A$3:$Y$15578,25,FALSE)","v":{"$error":"#N/A"}},"Reportable"]
["REDKITE (MANUFACTURING) LTD",9645,1,"Y","Y",true,"GB","N","PRIVATE SECTOR","SY17 5SG","Mid Wales","Powys Teaching HB","CAERSWS SY17",96090,96,"Other personal services             ",7.6712791957121843E-2,null,null,null,null,null,null,null,null,0,null,null,{"$f":"VLOOKUP(A15995,'[1]Update Sheet'!$A$3:$Y$15578,25,FALSE)","v":{"$error":"#N/A"}},"Reportable"]
["REALBUZZ GROUP LTD",73269,null,"N","N",true,"GB","N","PRIVATE SECTOR","CH1 1DA",null,null,"CHESTER CH1",64209,64,"Financial services, except insurance and pension funding         ",0.1103075939416239,null,null,null,null,null,null,null,null,0,null,null,{"$f":"VLOOKUP(A16020,'[1]Update Sheet'!$A$3:$Y$15578,25,FALSE)","v":{"$error":"#N/A"}},"Reportable"]
["RAVENS WAY",73146,1,"Y","Y",true,"GB","Y","PRIVATE SECTOR","LL54 7DP","North Wales","Betsi Cadwaladr UHB","CAERNARFON LL54",86900,86,"Human health services             ",0.29193168620018201,null,null,null,null,null,null,null,null,0,null,null,{"$f":"VLOOKUP(A16039,'[1]Update Sheet'!$A$3:$Y$15578,25,FALSE)","v":{"$error":"#N/A"}},"Reportable"]
["RADNOR HILLS MINERAL WATER COMPANY LTD",64299,null,"N","N",true,"GB","Y","PRIVATE SECTOR","LD7 1LU",null,null,"KNIGHTON LD7",11070,11.07,"Soft drinks              ",0.33206048925839682,null,null,null,null,null,null,null,null,0,null,null,{"$f":"VLOOKUP(A16058,'[1]Update Sheet'!$A$3:$Y$15578,25,FALSE)","v":{"$error":"#N/A"}},"Reportable"]
["QUEST SOFTWARE INTERNATIONAL LTD",51101,null,"N","N",true,"IE","Y","PRIVATE SECTOR","-",null,null,"FOREIGN",62000,62,"Computer programming, consultancy and related services          ",0.13144659704407699,null,null,null,null,null,null,null,null,0,null,null,{"$f":"VLOOKUP(A16083,'[1]Update Sheet'!$A$3:$Y$15578,25,FALSE)","v":{"$error":"#N/A"}},"Reportable"]
["QT & C","55143",null,"N","N",true,"GB","N","PRIVATE SECTOR","MK40 2FG",null,null,"BEDFORD MK40",82990,82,"Office administrative, office support and other business support services       ",0.1180504360352973,null,null,null,null,null,null,null,null,0,null,null,{"$f":"VLOOKUP(A16102,'[1]Update Sheet'!$A$3:$Y$15578,25,FALSE)","v":{"$error":"#N/A"}},"Reportable"]
["PW HIRE LTD",69593,null,"N","N",true,"GB","Y","PRIVATE SECTOR","ST4 2HS",null,null,"STOKE ON ST4",77390,77,"Rental and leasing services            ",0.13477794599811871,null,null,null,null,null,null,null,null,0,null,null,{"$f":"VLOOKUP(A16108,'[1]Update Sheet'!$A$3:$Y$15578,25,FALSE)","v":{"$error":"#N/A"}},"Reportable"]
["PT ACADEMY",61569,null,"N","N",true,"GB","Y","PRIVATE SECTOR","B15 1AU",null,null,"BIRMINGHAM B15",85510,85,"Education services              ",0.10257966678326461,null,null,null,null,null,null,null,null,0,null,null,{"$f":"VLOOKUP(A16127,'[1]Update Sheet'!$A$3:$Y$15578,25,FALSE)","v":{"$error":"#N/A"}},"Reportable"]
["PROPRINT",38395,1,"Y","Y",true,"GB","Y","PRIVATE SECTOR","SA31 1LR","South West Wales","Hywel Dda UHB","CARMARTHE SA31",82990,82,"Office administrative, office support and other business support services       ",0.1180504360352973,null,null,null,null,null,null,null,null,0,null,null,{"$f":"VLOOKUP(A16146,'[1]Update Sheet'!$A$3:$Y$15578,25,FALSE)","v":{"$error":"#N/A"}},"Reportable"]
["PROCARE SPORTS MEDICINE",66706,null,"N","N",true,"GB","Y","PRIVATE SECTOR","TR1 1ED",null,null,"TRURO TR1",96090,96,"Other personal services             ",7.6712791957121843E-2,null,null,null,null,null,null,null,null,0,null,null,{"$f":"VLOOKUP(A16171,'[1]Update Sheet'!$A$3:$Y$15578,25,FALSE)","v":{"$error":"#N/A"}},"Reportable"]
["PRICE & KELWAY SOLICITORS",50723,1,"Y","Y",true,"GB","N","PRIVATE SECTOR","SA73 3JA","South West Wales","Hywel Dda UHB","MILFORD SA73",69102,69.099999999999994,"Legal services              ",5.7877621976311508E-2,null,null,null,null,null,null,null,null,0,null,null,{"$f":"VLOOKUP(A16190,'[1]Update Sheet'!$A$3:$Y$15578,25,FALSE)","v":{"$error":"#N/A"}},"Reportable"]
["PRACTICAL LAW COMPANY LIMITED",46528,null,"N","N",true,"GB","N","PRIVATE SECTOR","SE1 8DJ",null,null,"LONDON SE1",58142,58,"Publishing services              ",8.0219457227851232E-2,null,null,null,null,null,null,null,null,0,null,null,{"$f":"VLOOKUP(A16209,'[1]Update Sheet'!$A$3:$Y$15578,25,FALSE)","v":{"$error":"#N/A"}},"Reportable"]
["ZDUP AWEL HOMECARE & SUPPORT",57605,1,"Y","Y",true,"GB","Y","PRIVATE SECTOR","LL15 1AF","North Wales","Betsi Cadwaladr UHB","RUTHIN LL15",88100,88,"Social work services without accommodation           ",0.12926092802643949,null,null,null,null,null,null,null,null,37753.300000000017,"*",null,{"$f":"VLOOKUP(A16234,'[1]Update Sheet'!$A$3:$Y$15578,25,FALSE)","v":0},"Reportable"]
["PLAS LLANELLY HOUSE CYF",66981,1,"Y","Y",true,"GB","Y","PRIVATE SECTOR","SA15 3UF","South West Wales","Hywel Dda UHB","LLANELLI SA15",91030,91,"Libraries, archives, museums and other cultural services         ",0.1638049098676421,null,null,null,null,null,null,null,null,0,null,null,{"$f":"VLOOKUP(A16253,'[1]Update Sheet'!$A$3:$Y$15578,25,FALSE)","v":{"$error":"#N/A"}},"Reportable"]
["PLANMECA UK",53631,null,"N","N",true,"GB","N","PRIVATE SECTOR","CV6 6GE",null,null,"STEVENAGE SG1",46900,46,"Wholesale trade services, except of motor vehicles and motorcycles       ",2.0310031510736858E-2,null,null,null,null,null,null,null,null,0,null,null,{"$f":"VLOOKUP(A16259,'[1]Update Sheet'!$A$3:$Y$15578,25,FALSE)","v":0},"Reportable"]
["PHONELINK MAINTENANCE LTD",56881,1,"Y","Y",true,"GB","N","PRIVATE SECTOR","SA4 3BW","South West Wales","Swansea Bay UHB","SWANSEA SA4",61100,61,"Telecommunications services              ",0.10520703191029331,null,null,null,null,null,null,null,null,0,null,null,{"$f":"VLOOKUP(A16278,'[1]Update Sheet'!$A$3:$Y$15578,25,FALSE)","v":{"$error":"#N/A"}},"Reportable"]
["PGP (UK) LTD",6812,null,"N","N",true,"GB","N","PRIVATE SECTOR","B1 2JB",null,null,"BIRMINGHA B1",62020,62,"Computer programming, consultancy and related services          ",0.13144659704407699,null,null,null,null,null,null,null,null,0,null,null,{"$f":"VLOOKUP(A16297,'[1]Update Sheet'!$A$3:$Y$15578,25,FALSE)","v":{"$error":"#N/A"}},"Reportable"]
["PENNY SIMPSON",73273,null,"N","N",true,"GB","N","PRIVATE SECTOR","CO7 9LR",null,null,"WIVENHOE CO7",96090,96,"Other personal services             ",7.6712791957121843E-2,null,null,null,null,null,null,null,null,0,null,null,{"$f":"VLOOKUP(A16322,'[1]Update Sheet'!$A$3:$Y$15578,25,FALSE)","v":0},"Reportable"]
["PEMBROKESHIRE ASSOCIATION OF COMMUNITY TRANSPORT ORGANISATIONS",54815,1,"Y","N","Additional Welsh Supplier","GB","N","VCSE","SA62 6EQ","South West Wales","Hywel Dda UHB","HAVERFORD SA62",88990,88,"Social work services without accommodation           ",0.12926092802643949,null,null,null,null,null,null,null,null,0,null,null,{"$f":"VLOOKUP(A16341,'[1]Update Sheet'!$A$3:$Y$15578,25,FALSE)","v":{"$error":"#N/A"}},"Reportable"]
["PATRICK BLACKMORE SOLICITORS",57910,1,"Y","Y",true,"GB","N","PRIVATE SECTOR","LL59 5EE","North Wales","Betsi Cadwaladr UHB","ANGLESEY LL59",69102,69.099999999999994,"Legal services              ",5.7877621976311508E-2,null,null,null,null,null,null,null,null,0,null,null,{"$f":"VLOOKUP(A16366,'[1]Update Sheet'!$A$3:$Y$15578,25,FALSE)","v":{"$error":"#N/A"}},"Reportable"]
["PARKGATE HOTEL CARDIFF LTD",74143,1,"Y","Y",true,"GB","Y","PRIVATE SECTOR","CF10 1DA","South East Wales","Cardiff and Vale UHB","CARDIFF CF10",41100,"42.1-2","Constructions and construction works for civil engineering         ",0.38802246325570439,null,null,null,null,null,null,null,null,0,null,null,{"$f":"VLOOKUP(A16385,'[1]Update Sheet'!$A$3:$Y$15578,25,FALSE)","v":{"$error":"#N/A"}},"Reportable"]
["PADDA CARE LTD",72641,1,"Y","Y",true,"GB","Y","PRIVATE SECTOR","SA18 3YS","South West Wales","Hywel Dda UHB","AMMANFORD SA18",87300,87,"Residential care services             ",0.16514437058930551,null,null,null,null,null,null,null,null,0,null,null,{"$f":"VLOOKUP(A16404,'[1]Update Sheet'!$A$3:$Y$15578,25,FALSE)","v":{"$error":"#N/A"}},"Reportable"]
["OUD CONSULTANCY & CONFERENCE MANAGEMENT","61765",null,"N","N",true,"NL","N","PRIVATE SECTOR","1101 LA",null,null,"FOREIGN",70229,70,"Services of head offices; management consulting services         ",9.3681183759862049E-2,null,null,null,null,null,null,null,null,0,null,null,{"$f":"VLOOKUP(A16429,'[1]Update Sheet'!$A$3:$Y$15578,25,FALSE)","v":{"$error":"#N/A"}},"Reportable"]
["ORBITAL PROSTHETIC SUPPLIES",10846,null,"N","N",true,"GB","N","PRIVATE SECTOR","RH10 7GW",null,null,"CRAWLEY RH10",32500,32,"Other manufactured goods             ",0.67238249414981133,null,null,null,null,null,null,null,null,0,null,null,{"$f":"VLOOKUP(A16448,'[1]Update Sheet'!$A$3:$Y$15578,25,FALSE)","v":{"$error":"#N/A"}},"Reportable"]
["ONE HOTEL LTD",53901,1,"Y","Y",true,"GB","N","PRIVATE SECTOR","SA3 5TQ","South West Wales","Swansea Bay UHB","SWANSEA SA3",55100,55,"Accommodation services              ",0.32444602703376968,null,null,null,null,null,null,null,null,0,null,null,{"$f":"VLOOKUP(A16467,'[1]Update Sheet'!$A$3:$Y$15578,25,FALSE)","v":{"$error":"#N/A"}},"Reportable"]
["OLUWASEUN STELLA BEJIDE",74022,null,"N","N",true,"GB","Y","PRIVATE SECTOR","M40 2RH",null,null,"MANCHESTE M40",96090,96,"Other personal services             ",7.6712791957121843E-2,null,null,null,null,null,null,null,null,0,null,null,{"$f":"VLOOKUP(A16473,'[1]Update Sheet'!$A$3:$Y$15578,25,FALSE)","v":0},"Reportable"]
["OAKWOOD HOUSE PROPERTIES LTD",73355,1,"Y","Y",true,"GB","Y","PRIVATE SECTOR","LD65NT","Mid Wales","Powys Teaching HB","RHAYADER LD6",55900,55,"Accommodation services              ",0.32444602703376968,null,null,null,null,null,null,null,null,0,null,null,{"$f":"VLOOKUP(A16492,'[1]Update Sheet'!$A$3:$Y$15578,25,FALSE)","v":{"$error":"#N/A"}},"Reportable"]
["NORWEGIAN CHURCH CARDIFF BAY",73418,1,"Y","Y",true,"GB","Y","VCSE","CF10 4PA","South East Wales","Cardiff and Vale UHB","CARDIFF CF10",96090,96,"Other personal services             ",7.6712791957121843E-2,null,null,null,null,null,null,null,null,0,null,null,{"$f":"VLOOKUP(A16517,'[1]Update Sheet'!$A$3:$Y$15578,25,FALSE)","v":0},"Reportable"]
["POW STUDENT EXPENSES",76736,1,null,null,null,"GB","N","PUBLIC SECTOR",null,null,null,"FACTOR 4",0,0,0,null,null,null,null,null,null,null,null,null,973.24,"*",null,{"$f":"VLOOKUP(A16538,'[1]Update Sheet'!$A$3:$Y$15578,25,FALSE)","v":"Public Sector- Exclude"},"?"]
["NIKKI THOMAS-ROBERTS T/A PHOENIX MINDFUL LIVING",64941,1,"Y","Y",true,"GB","Y","PRIVATE SECTOR","CF62 3FU","South East Wales","Cardiff and Vale UHB","RHOOSE CF62",96090,96,"Other personal services             ",7.6712791957121843E-2,null,null,null,null,null,null,null,null,0,null,null,{"$f":"VLOOKUP(A16554,'[1]Update Sheet'!$A$3:$Y$15578,25,FALSE)","v":{"$error":"#N/A"}},"Reportable"]
["PUBLIC HEALTH WALES NHS TRUST",23606,1,null,null,null,"GB","N","PUBLIC SECTOR","CF10 4BZ",null,null,"CARDIFF CF15",null,null,null,null,null,null,null,null,null,null,null,null,28098849.149999999,"*",null,{"$f":"VLOOKUP(A16579,'[1]Update Sheet'!$A$3:$Y$15578,25,FALSE)","v":"Public Sector- Exclude"},"Exclude- Intra NHS "]
["SALISBURY NHS FOUNDATION TRUST",7251,0,null,null,null,"GB","N","PUBLIC SECTOR","SP2 8BJ",null,null,"SALISBURY SP2",null,null,null,null,null,null,null,null,null,null,null,null,100041,"*",null,{"$f":"VLOOKUP(A16598,'[1]Update Sheet'!$A$3:$Y$15578,25,FALSE)","v":"Public Sector- Exclude"},"Exclude- Intra NHS "]
["SOUTH TYNESIDE AND SUNDERLAND NHS FOUNDATION TRUST",39775,0,null,null,null,"GB","N","PUBLIC SECTOR","NE34 0PL",null,null,"SOUTH SHI NE34",null,null,null,null,null,null,null,null,null,null,null,null,4067.01,"*",null,{"$f":"VLOOKUP(A16617,'[1]Update Sheet'!$A$3:$Y$15578,25,FALSE)","v":"Public Sector- Exclude"},"Exclude- Intra NHS "]
["SOUTHAMPTON UNIVERSITY HOSPITALS NHS TRUST",15710,0,null,null,null,"GB","N","PUBLIC SECTOR","SO16 6YD",null,null,"AR SOUTHAMPT",null,null,null,null,null,null,null,null,null,null,null,null,549824.21000000008,"*",null,{"$f":"VLOOKUP(A16623,'[1]Update Sheet'!$A$3:$Y$15578,25,FALSE)","v":"Public Sector- Exclude"},"Exclude- Intra NHS "]
["TAMESIDE & GLOSSOP PRIMARY CARE NHS TRUST",46361,0,null,null,null,"GB","N","PUBLIC SECTOR",null,null,null,"WAKEFIELD WF3",null,null,null,null,null,null,null,null,null,null,null,null,0,null,null,{"$f":"VLOOKUP(A16642,'[1]Update Sheet'!$A$3:$Y$15578,25,FALSE)","v":"Public Sector- Exclude"},"Exclude- Intra NHS "]
["NEW START CARE SERVICES LTD","50690",1,"Y","Y",true,"GB","Y","PRIVATE SECTOR","NP12 1EQ","South East Wales","Aneurin Bevan UHB","BLACKWOOD NP12",82990,82,"Office administrative, office support and other business support services       ",0.1180504360352973,null,null,null,null,null,null,null,null,0,null,null,{"$f":"VLOOKUP(A16667,'[1]Update Sheet'!$A$3:$Y$15578,25,FALSE)","v":{"$error":"#N/A"}},"Reportable"]
["NEOCEUTICALS LTD",69840,null,"N","N",true,"GB","Y","PRIVATE SECTOR","YO10 5DG",null,null,"YORK YO10",21100,21,"Basic pharmaceutical products and pharmaceutical preparations          ",0.62099518156965727,null,null,null,null,null,null,null,null,0,null,null,{"$f":"VLOOKUP(A16686,'[1]Update Sheet'!$A$3:$Y$15578,25,FALSE)","v":{"$error":"#N/A"}},"Reportable"]
["NAZIR AFZAL",73499,null,"N","N",true,"GB","N","PRIVATE SECTOR","M22 4BS",null,null,"MANCHESTER M22",96090,96,"Other personal services             ",7.6712791957121843E-2,null,null,null,null,null,null,null,null,0,null,null,{"$f":"VLOOKUP(A16705,'[1]Update Sheet'!$A$3:$Y$15578,25,FALSE)","v":0},"Reportable"]
["NADJA MELO",61231,1,"Y","Y",true,"GB","N","PRIVATE SECTOR","SA3 4PN","South West Wales","Swansea Bay UHB","SWANSEA SA3",96090,96,"Other personal services             ",7.6712791957121843E-2,null,null,null,null,null,null,null,null,0,null,null,{"$f":"VLOOKUP(A16730,'[1]Update Sheet'!$A$3:$Y$15578,25,FALSE)","v":{"$error":"#N/A"}},"Reportable"]
["MUDIAD YSGOLIAN MEITHRIN",37277,1,"Y","N","Additional Welsh Supplier ","GB","N","VCSE","SY23 1PD","Mid Wales","Hywel Dda UHB","ABERYSTWY SY23",85600,85,"Education services              ",0.10257966678326461,null,null,null,null,null,null,null,null,0,null,null,{"$f":"VLOOKUP(A16749,'[1]Update Sheet'!$A$3:$Y$15578,25,FALSE)","v":{"$error":"#N/A"}},"Reportable"]
["MSB SOLICITORS LTD",69598,null,"N","N",true,"GB","N","PRIVATE SECTOR","L3 9SJ",null,null,{"$error":"#N/A"},69102,69.099999999999994,"Legal services              ",5.7877621976311508E-2,null,null,null,null,null,null,null,null,0,null,null,{"$f":"VLOOKUP(A16755,'[1]Update Sheet'!$A$3:$Y$15578,25,FALSE)","v":{"$error":"#N/A"}},"Reportable"]
["MR TEES,S ICE CREAM LTD",73803,1,"Y","Y",true,"GB","Y","PRIVATE SECTOR","LL12 9YG","North Wales","Betsi Cadwaladr UHB","WREXHAM LL12",10520,"10.2 -3","Processed and preserved fish, crustaceans, molluscs, fruit and vegetables       ",0.72054253504280763,null,null,null,null,null,null,null,null,0,null,null,{"$f":"VLOOKUP(A16774,'[1]Update Sheet'!$A$3:$Y$15578,25,FALSE)","v":{"$error":"#N/A"}},"Reportable"]
["MPM WRISTBANDS",62260,1,"Y","Y",true,"GB","Y","PRIVATE SECTOR","SA5 8DA","South West Wales","Swansea Bay UHB","SWANSEA SA5",47990,47,"Retail trade services, except of motor vehicles and motorcycles       ",0.17404287306456559,null,null,null,null,null,null,null,null,0,null,null,{"$f":"VLOOKUP(A16793,'[1]Update Sheet'!$A$3:$Y$15578,25,FALSE)","v":{"$error":"#N/A"}},"Reportable"]
["MONDOMED NV","45620",null,"N","N",true,"BE","N","PRIVATE SECTOR","-",null,null,"FOREIGN",46900,46,"Wholesale trade services, except of motor vehicles and motorcycles       ",2.0310031510736858E-2,null,null,null,null,null,null,null,null,0,null,null,{"$f":"VLOOKUP(A16818,'[1]Update Sheet'!$A$3:$Y$15578,25,FALSE)","v":{"$error":"#N/A"}},"Reportable"]
["MKCL DEUTSCHLAND GMBH",56109,null,"N","N",true,"DK","N","PRIVATE SECTOR","D-23843",null,null,"FOREIGN",62000,62,"Computer programming, consultancy and related services          ",0.13144659704407699,null,null,null,null,null,null,null,null,0,null,null,{"$f":"VLOOKUP(A16837,'[1]Update Sheet'!$A$3:$Y$15578,25,FALSE)","v":{"$error":"#N/A"}},"Reportable"]
["MIRADA MEDICAL LTD",52500,null,"N","N",true,"GB","Y","PRIVATE SECTOR","OX1 1BY",null,null,"OXFORD OX1",46460,46,"Wholesale trade services, except of motor vehicles and motorcycles       ",2.0310031510736858E-2,null,null,null,null,null,null,null,null,0,null,null,{"$f":"VLOOKUP(A16856,'[1]Update Sheet'!$A$3:$Y$15578,25,FALSE)","v":0},"Reportable"]
["MIKE JONES",57989,1,"Y","Y",true,"GB","N","PRIVATE SECTOR","SA9 1QX","Mid Wales","Powys Teaching HB","SWANSEA SA9",96090,96,"Other personal services             ",7.6712791957121843E-2,null,null,null,null,null,null,null,null,0,null,null,{"$f":"VLOOKUP(A16881,'[1]Update Sheet'!$A$3:$Y$15578,25,FALSE)","v":{"$error":"#N/A"}},"Reportable"]
["MICHAEL LINNELL & CO LTD",60280,null,"N","N",true,"GB","N","PRIVATE SECTOR","CM3 3BE",null,null,"CHELMSFO CM2",32990,32,"Other manufactured goods             ",0.67238249414981133,null,null,null,null,null,null,null,null,0,null,null,{"$f":"VLOOKUP(A16900,'[1]Update Sheet'!$A$3:$Y$15578,25,FALSE)","v":{"$error":"#N/A"}},"Reportable"]
["MIB DATA SOLUTIONS LTD",57726,null,"N","N",true,"GB","N","PRIVATE SECTOR","CV8 2LG",null,null,"KENILWORTH CV8",63110,63,"Information services              ",0.16934169875693919,null,null,null,null,null,null,null,null,0,null,null,{"$f":"VLOOKUP(A16906,'[1]Update Sheet'!$A$3:$Y$15578,25,FALSE)","v":{"$error":"#N/A"}},"Reportable"]
["MERIL UK LTD",77641,null,"N","N",true,"GB","Y","PRIVATE SECTOR","BS32 4NE",null,null,"BRADLEY STO BS3",47990,47,"Retail trade services, except of motor vehicles and motorcycles       ",0.17404287306456559,null,null,null,null,null,null,null,null,0,null,null,{"$f":"VLOOKUP(A16925,'[1]Update Sheet'!$A$3:$Y$15578,25,FALSE)","v":{"$error":"#N/A"}},"Reportable"]
["MELIN ENERGY CONSULTANTS LTD",35557,1,"Y","Y",true,"GB","Y","PRIVATE SECTOR","SA14 8LQ","South West Wales","Hywel Dda UHB","LLANELLI SA14",86900,86,"Human health services             ",0.29193168620018201,null,null,null,null,null,null,null,null,0,null,null,{"$f":"VLOOKUP(A16944,'[1]Update Sheet'!$A$3:$Y$15578,25,FALSE)","v":{"$error":"#N/A"}},"Reportable"]
["MEDICAT SPECIALISTS",51329,null,"N","N",true,"GB","N","PRIVATE SECTOR","BS6 7PF",null,null,"BRISTOL BS6",78200,78,"Employment services              ",0.1176282196328419,null,null,null,null,null,null,null,null,0,null,null,{"$f":"VLOOKUP(A16969,'[1]Update Sheet'!$A$3:$Y$15578,25,FALSE)","v":{"$error":"#N/A"}},"Reportable"]
["MEDDYGFA LANSDOWNE SURGERY",49941,1,"Y","Y",true,"GB","Y","PRIVATE SECTOR","CF11 8DG","South East Wales","Cardiff and Vale UHB","PCS PAY",86210,86,"Human health services             ",0.29193168620018201,null,null,null,null,null,null,null,null,0,null,null,{"$f":"VLOOKUP(A16988,'[1]Update Sheet'!$A$3:$Y$15578,25,FALSE)","v":{"$error":"#N/A"}},"Reportable"]
["MAZIN BURHAN LTD",74217,null,"N","N",true,"GB","Y","PRIVATE SECTOR","NW7 2PJ",null,null,"LONDON NW7",96090,96,"Other personal services             ",7.6712791957121843E-2,null,null,null,null,null,null,null,null,0,null,null,{"$f":"VLOOKUP(A17007,'[1]Update Sheet'!$A$3:$Y$15578,25,FALSE)","v":0},"Reportable"]
["MARTIN BIONICS INNOVATIONS LLC",74481,null,"N","N",true,"US","N","PRIVATE SECTOR","OK 73104",null,null,"FOREIGN",96090,96,"Other personal services             ",7.6712791957121843E-2,null,null,null,null,null,null,null,null,0,null,null,{"$f":"VLOOKUP(A17032,'[1]Update Sheet'!$A$3:$Y$15578,25,FALSE)","v":0},"Reportable"]
["MARCHNATA AQUA MARKETING LTD",51509,1,"Y","Y",true,"GB","Y","PRIVATE SECTOR","LL55 1SE","North Wales","Betsi Cadwaladr UHB","CAERNARFO LL55",82990,82,"Office administrative, office support and other business support services       ",0.1180504360352973,null,null,null,null,null,null,null,null,0,null,null,{"$f":"VLOOKUP(A17051,'[1]Update Sheet'!$A$3:$Y$15578,25,FALSE)","v":{"$error":"#N/A"}},"Reportable"]
["MANORBIER GARDEN CENTRE",74606,1,"Y","Y",true,"GB","Y","PRIVATE SECTOR","SA70 7SN","South West Wales","Swansea Bay UHB","TENBY SA70",96090,96,"Other personal services             ",7.6712791957121843E-2,null,null,null,null,null,null,null,null,0,null,null,{"$f":"VLOOKUP(A17057,'[1]Update Sheet'!$A$3:$Y$15578,25,FALSE)","v":0},"Reportable"]
["MAIA THOMAS",75071,1,"Y","Y",true,"GB","Y","PRIVATE SECTOR","SY23 3DR","Mid Wales","Hywel Dda UHB","ABERYSTWY SY23",96090,96,"Other personal services             ",7.6712791957121843E-2,null,null,null,null,null,null,null,null,0,null,null,{"$f":"VLOOKUP(A17076,'[1]Update Sheet'!$A$3:$Y$15578,25,FALSE)","v":0},"Reportable"]
["MACHINERY MOVEMENTS AND CRANE HIRE LTD",51237,1,"Y","Y",true,"GB","Y","PRIVATE SECTOR","CF10 4LT","South East Wales","Cardiff and Vale UHB","CARDIFF CF10",77320,77,"Rental and leasing services            ",0.13477794599811871,null,null,null,null,null,null,null,null,0,null,null,{"$f":"VLOOKUP(A17095,'[1]Update Sheet'!$A$3:$Y$15578,25,FALSE)","v":{"$error":"#N/A"}},"Reportable"]
["LYAN PACKAGING SUPPLIES LTD T/A ICERTECH",70688,1,"Y","Y",true,"GB","N","PRIVATE SECTOR",null,"North Wales","Betsi Cadwaladr UHB","WREXHAM LL13",46760,46,"Wholesale trade services, except of motor vehicles and motorcycles       ",2.0310031510736858E-2,null,null,null,null,null,null,null,null,0,null,null,{"$f":"VLOOKUP(A17120,'[1]Update Sheet'!$A$3:$Y$15578,25,FALSE)","v":0},"Reportable"]
["LORNA JAYNE THOMAS",69287,1,"Y","Y",true,"GB","Y","PRIVATE SECTOR","CF35 5DR","South East Wales","Cardiff and Vale UHB","PCS PAY",86900,86,"Human health services             ",0.29193168620018201,null,null,null,null,null,null,null,null,0,null,null,{"$f":"VLOOKUP(A17139,'[1]Update Sheet'!$A$3:$Y$15578,25,FALSE)","v":{"$error":"#N/A"}},"Reportable"]
["LLOYD JAMES HAMBRIDGE",69757,1,"Y","Y",true,"GB","Y","PRIVATE SECTOR","NP12 1FD","South East Wales","Aneurin Bevan UHB","BLACKWOOD NP12",96090,96,"Other personal services             ",7.6712791957121843E-2,null,null,null,null,null,null,null,null,0,null,null,{"$f":"VLOOKUP(A17164,'[1]Update Sheet'!$A$3:$Y$15578,25,FALSE)","v":{"$error":"#N/A"}},"Reportable"]
["LLANFAES COMMUNITY CENTRE",74266,1,"Y","Y",true,"GB","Y","VCSE","LL58 8LF","North Wales","Betsi Cadwaladr UHB","LLANFAES LL58",82990,82,"Office administrative, office support and other business support services       ",0.1180504360352973,null,null,null,null,null,null,null,null,0,null,null,{"$f":"VLOOKUP(A17183,'[1]Update Sheet'!$A$3:$Y$15578,25,FALSE)","v":{"$error":"#N/A"}},"Reportable"]
["LIVERPOOL CIVIL LAW LTD",63508,null,"N","N",true,"GB","N","PRIVATE SECTOR","L3 9HF",null,null,"LIVERPOOL L3",69101,69.099999999999994,"Legal services              ",5.7877621976311508E-2,null,null,null,null,null,null,null,null,0,null,null,{"$f":"VLOOKUP(A17202,'[1]Update Sheet'!$A$3:$Y$15578,25,FALSE)","v":{"$error":"#N/A"}},"Reportable"]
["LISA MANSFIELD",71803,1,"Y","Y",true,"GB","Y","PRIVATE SECTOR","CF39 9HA","South East Wales","Cwm Taf Morgannwg UHB","RHONDDA CF39",7487,74,"Other professional, scientific and technical services          ",0.19142587698446711,null,null,null,null,null,null,null,null,0,null,null,{"$f":"VLOOKUP(A17208,'[1]Update Sheet'!$A$3:$Y$15578,25,FALSE)","v":{"$error":"#N/A"}},"Reportable"]
["LIFECAST BODY SIMULATION LTD",72370,null,"N","N",true,"GB","N","PRIVATE SECTOR","WD6 1JG",null,null,"BOREHAM WD6",86900,86,"Human health services             ",0.29193168620018201,null,null,null,null,null,null,null,null,0,null,null,{"$f":"VLOOKUP(A17227,'[1]Update Sheet'!$A$3:$Y$15578,25,FALSE)","v":{"$error":"#N/A"}},"Reportable"]
["LENTE DESIGNS LTD",73887,null,"N","N",true,"GB","Y","PRIVATE SECTOR","HP22 5HS",null,null,"ASTON LIN HP22",96090,96,"Other personal services             ",7.6712791957121843E-2,null,null,null,null,null,null,null,null,0,null,null,{"$f":"VLOOKUP(A17246,'[1]Update Sheet'!$A$3:$Y$15578,25,FALSE)","v":0},"Reportable"]
["LAURENCE HALL LTD",73060,1,"Y","Y",true,"GB","Y","PRIVATE SECTOR","CF24 2LH","South East Wales","Cardiff and Vale UHB","CARDIFF CF24",59112,59,"Motion picture, video and TV programme production services, sound recording & music publishing   ",0.1101389562964399,null,null,null,null,null,null,null,null,0,null,null,{"$f":"VLOOKUP(A17271,'[1]Update Sheet'!$A$3:$Y$15578,25,FALSE)","v":{"$error":"#N/A"}},"Reportable"]
["LAING OROURKE WALES & WEST LTD",19901,null,"N","N",true,"GB","Y","PRIVATE SECTOR","DA2 6SN",null,null,"DARTFORD DA2",86900,86,"Human health services             ",0.29193168620018201,null,null,null,null,null,null,null,null,0,null,null,{"$f":"VLOOKUP(A17290,'[1]Update Sheet'!$A$3:$Y$15578,25,FALSE)","v":{"$error":"#N/A"}},"Reportable"]
["KONGRESKOMPAGNIET A/S",58397,null,"N","N",true,"DK","N","PRIVATE SECTOR","-",null,null,{"$error":"#N/A"},68202,"68.2IMP","Owner-Occupiers' Housing Services",3.9621368125994462E-2,null,null,null,null,null,null,null,null,0,null,null,{"$f":"VLOOKUP(A17315,'[1]Update Sheet'!$A$3:$Y$15578,25,FALSE)","v":{"$error":"#N/A"}},"Reportable"]
["KINGFISHER COACHING LTD",73365,null,"N","N",true,"GB","Y","PRIVATE SECTOR","M2 1DH",null,null,"MANCHESTE M2",70210,70,"Services of head offices; management consulting services         ",9.3681183759862049E-2,null,null,null,null,null,null,null,null,0,null,null,{"$f":"VLOOKUP(A17334,'[1]Update Sheet'!$A$3:$Y$15578,25,FALSE)","v":{"$error":"#N/A"}},"Reportable"]
["KEVIN GRIFFITHS",74713,1,"Y","Y",true,"GB","Y","PRIVATE SECTOR","LL40 2TL","North Wales","Betsi Cadwaladr UHB","GANLLWYD LL40",96090,96,"Other personal services             ",7.6712791957121843E-2,null,null,null,null,null,null,null,null,0,null,null,{"$f":"VLOOKUP(A17353,'[1]Update Sheet'!$A$3:$Y$15578,25,FALSE)","v":0},"Reportable"]
["KBS DEPOT LTD",74118,null,"N","N",true,"GB","Y","PRIVATE SECTOR","IP26 5LQ",null,null,"THETFORD IP26",47910,47,"Retail trade services, except of motor vehicles and motorcycles       ",0.17404287306456559,null,null,null,null,null,null,null,null,0,null,null,{"$f":"VLOOKUP(A17378,'[1]Update Sheet'!$A$3:$Y$15578,25,FALSE)","v":{"$error":"#N/A"}},"Reportable"]
["KAYKEL COMMUNICATIONS",33234,1,"Y","Y",true,"GB","Y","PRIVATE SECTOR","CF47 0YN","South East Wales","Cwm Taf Morgannwg UHB","MERTHYR T CF47",61900,61,"Telecommunications services              ",0.10520703191029331,null,null,null,null,null,null,null,null,0,null,null,{"$f":"VLOOKUP(A17379,'[1]Update Sheet'!$A$3:$Y$15578,25,FALSE)","v":{"$error":"#N/A"}},"Reportable"]
["K P HUGHES & ASSOCIATES LTD",69685,null,"N","N",true,"GB","N","PRIVATE SECTOR","RM4 1PB",null,null,"ROMFORD RM4",70229,70,"Services of head offices; management consulting services         ",9.3681183759862049E-2,null,null,null,null,null,null,null,null,0,null,null,{"$f":"VLOOKUP(A17402,'[1]Update Sheet'!$A$3:$Y$15578,25,FALSE)","v":{"$error":"#N/A"}},"Reportable"]
["JULIA CAWTE",75185,null,"N","N",true,"GB","Y","PRIVATE SECTOR","BS8 3ES",null,null,"BRISTOL BS8",96090,96,"Other personal services             ",7.6712791957121843E-2,null,null,null,null,null,null,null,null,0,null,null,{"$f":"VLOOKUP(A17421,'[1]Update Sheet'!$A$3:$Y$15578,25,FALSE)","v":0},"Reportable"]
["JONATHAN DUNN",63255,1,"Y","Y",true,"GB","N","PRIVATE SECTOR","CF24 2BH","South East Wales","Cardiff and Vale UHB","CARDIFF CF24",96090,96,"Other personal services             ",7.6712791957121843E-2,null,null,null,null,null,null,null,null,0,null,null,{"$f":"VLOOKUP(A17440,'[1]Update Sheet'!$A$3:$Y$15578,25,FALSE)","v":{"$error":"#N/A"}},"Reportable"]
["JOHN CAMPBELL BEATTIE PHD",52604,null,"N","N",true,"GB","N","PRIVATE SECTOR","PL9 9JZ",null,null,"PLYMOUTH PL5",7487,74,"Other professional, scientific and technical services          ",0.19142587698446711,null,null,null,null,null,null,null,null,0,null,null,{"$f":"VLOOKUP(A17465,'[1]Update Sheet'!$A$3:$Y$15578,25,FALSE)","v":{"$error":"#N/A"}},"Reportable"]
["JIGS N REELS",74192,null,"N","N",true,"GB","Y","PRIVATE SECTOR","WR2 5TP",null,null,"WORCESTER WR2",96090,96,"Other personal services             ",7.6712791957121843E-2,null,null,null,null,null,null,null,null,0,null,null,{"$f":"VLOOKUP(A17484,'[1]Update Sheet'!$A$3:$Y$15578,25,FALSE)","v":0},"Reportable"]
["JBR COMMERCIAL PROPERTY GROUP LTD TA JENKINS BEST",74653,1,"Y","Y",true,"GB","N","PRIVATE SECTOR","CF37 5BE","South East Wales","Cwm Taf Morgannwg UHB","TREFOREST CF37",68310,68.3,"Real estate services on a fee or contract basis       ",8.4914337844308282E-2,null,null,null,null,null,null,null,null,0,null,null,{"$f":"VLOOKUP(A17503,'[1]Update Sheet'!$A$3:$Y$15578,25,FALSE)","v":{"$error":"#N/A"}},"Reportable"]
["JAMES GILLAM LTD",74023,null,"N","N",true,"GB","Y","PRIVATE SECTOR","TA20 9BL",null,null,"CHARD TA20",96090,96,"Other personal services             ",7.6712791957121843E-2,null,null,null,null,null,null,null,null,0,null,null,{"$f":"VLOOKUP(A17528,'[1]Update Sheet'!$A$3:$Y$15578,25,FALSE)","v":0},"Reportable"]
["J AND D PRODUCTS LTD",74621,null,"N","N",true,"GB","Y","PRIVATE SECTOR","TS23 4BY",null,null,"BILLING TS23",20412,20.399999999999999,"Soap and detergents, cleaning and polishing preparations, perfumes and toilet preparations     ",0.71887260581861478,null,null,null,null,null,null,null,null,0,null,null,{"$f":"VLOOKUP(A17547,'[1]Update Sheet'!$A$3:$Y$15578,25,FALSE)","v":{"$error":"#N/A"}},"Reportable"]
["IT WORKS HEALTH LTD",67597,null,"N","N",true,"GB","Y","PRIVATE SECTOR","PR2 9LF",null,null,"PRESTON PR2",86900,86,"Human health services             ",0.29193168620018201,null,null,null,null,null,null,null,null,0,null,null,{"$f":"VLOOKUP(A17553,'[1]Update Sheet'!$A$3:$Y$15578,25,FALSE)","v":{"$error":"#N/A"}},"Reportable"]
["IOM CONSULTING LTD",64328,null,"N","N",true,"GB","Y","PRIVATE SECTOR","EH14 4AP",null,null,"ESTATES",86900,86,"Human health services             ",0.29193168620018201,null,null,null,null,null,null,null,null,0,null,null,{"$f":"VLOOKUP(A17572,'[1]Update Sheet'!$A$3:$Y$15578,25,FALSE)","v":{"$error":"#N/A"}},"Reportable"]
["INTERNATIONAL LAMPS LTD",704,null,"N","N",true,"GB","Y","PRIVATE SECTOR","CM19 5FG",null,null,"HARLOW CM19",46520,46,"Wholesale trade services, except of motor vehicles and motorcycles       ",2.0310031510736858E-2,null,null,null,null,null,null,null,null,0,null,null,{"$f":"VLOOKUP(A17591,'[1]Update Sheet'!$A$3:$Y$15578,25,FALSE)","v":0},"Reportable"]
["INSIGHT MEDICINE & LAW SERVICES LTD",65245,null,"N","N",true,"GB","N","PRIVATE SECTOR","OX14 5EG",null,null,"ABINGDON OX14",82302,82,"Office administrative, office support and other business support services       ",0.1180504360352973,null,null,null,null,null,null,null,null,0,null,null,{"$f":"VLOOKUP(A17616,'[1]Update Sheet'!$A$3:$Y$15578,25,FALSE)","v":{"$error":"#N/A"}},"Reportable"]
["INDUSTRIAL GAS SPRINGS LTD",53747,null,"N","N",true,"GB","Y","PRIVATE SECTOR","CR4 4HR",null,null,"MITCHUM CR4",96090,96,"Other personal services             ",7.6712791957121843E-2,null,null,null,null,null,null,null,null,0,null,null,{"$f":"VLOOKUP(A17635,'[1]Update Sheet'!$A$3:$Y$15578,25,FALSE)","v":{"$error":"#N/A"}},"Reportable"]
["IMPERIAL COLLEGE OF SCIENCE TECHNOLOGY AND MEDICINE",592,null,"N","N",true,"GB","N","VCSE","W12 0NN",null,null,"LONDON W12",85600,85,"Education services              ",0.10257966678326461,null,null,null,null,null,null,null,null,0,null,null,{"$f":"VLOOKUP(A17654,'[1]Update Sheet'!$A$3:$Y$15578,25,FALSE)","v":{"$error":"#N/A"}},"Reportable"]
["IAN GRUNDY LTD",74129,null,"N","N",true,"GB","Y","PRIVATE SECTOR","SM5 1PD",null,null,"CARHSALT SM5",96090,96,"Other personal services             ",7.6712791957121843E-2,null,null,null,null,null,null,null,null,0,null,null,{"$f":"VLOOKUP(A17679,'[1]Update Sheet'!$A$3:$Y$15578,25,FALSE)","v":0},"Reportable"]
["HUTCHINSON THOMAS",51690,1,"Y","Y",true,"GB","N","PRIVATE SECTOR","SA11 1LF","South West Wales","Swansea Bay UHB","NEATH SA11",74990,74,"Other professional, scientific and technical services          ",0.19142587698446711,null,null,null,null,null,null,null,null,0,null,null,{"$f":"VLOOKUP(A17698,'[1]Update Sheet'!$A$3:$Y$15578,25,FALSE)","v":{"$error":"#N/A"}},"Reportable"]
["HUNTINGDONSHIRE DISTRICT COUNCIL",67087,null,"N","N",true,"GB","N","PUBLIC SECTOR","PE29 3TN",null,null,"HUNTINGDO PE29",84000,84,"Public administration and defence services; compulsory social security services       ",0.1703405261372164,null,null,null,null,null,null,null,null,0,null,null,{"$f":"VLOOKUP(A17704,'[1]Update Sheet'!$A$3:$Y$15578,25,FALSE)","v":{"$error":"#N/A"}},"Reportable"]
["HTL WINDOWS & DOORS LTD",20356,null,"N","N",true,"GB","Y","PRIVATE SECTOR","WV15 5BA",null,null,"BRIDGNOR WV15",32990,32,"Other manufactured goods             ",0.67238249414981133,null,null,null,null,null,null,null,null,0,null,null,{"$f":"VLOOKUP(A17723,'[1]Update Sheet'!$A$3:$Y$15578,25,FALSE)","v":{"$error":"#N/A"}},"Reportable"]
["HONEYCOMB PRINT SERVICES LTD",67593,1,"Y","Y",true,"GB","Y","PRIVATE SECTOR","NP7 5HE","South East Wales","Aneurin Bevan UHB","ABERGAVEN NP7",86900,86,"Human health services             ",0.29193168620018201,null,null,null,null,null,null,null,null,0,null,null,{"$f":"VLOOKUP(A17742,'[1]Update Sheet'!$A$3:$Y$15578,25,FALSE)","v":{"$error":"#N/A"}},"Reportable"]
["HILTON BIRMINGHAM METROPOLE",53527,null,"N","N",true,"GB","N","PRIVATE SECTOR","B40 1PP",null,null,"BIRMINGHAM B40",96090,96,"Other personal services             ",7.6712791957121843E-2,null,null,null,null,null,null,null,null,0,null,null,{"$f":"VLOOKUP(A17767,'[1]Update Sheet'!$A$3:$Y$15578,25,FALSE)","v":{"$error":"#N/A"}},"Reportable"]
["HG PILATES",73161,1,"Y","Y",true,"GB","N","PRIVATE SECTOR","CF31 5FF","South East Wales","Cwm Taf Morgannwg UHB","BRIDGEND CF31",96090,96,"Other personal services             ",7.6712791957121843E-2,null,null,null,null,null,null,null,null,0,null,null,{"$f":"VLOOKUP(A17786,'[1]Update Sheet'!$A$3:$Y$15578,25,FALSE)","v":0},"Reportable"]
["HELEN FRENCH",73033,1,"Y","Y",true,"GB","N","PRIVATE SECTOR","CF72 8JZ","South East Wales","Cardiff and Vale UHB","PONTYCLUN CF72",86900,86,"Human health services             ",0.29193168620018201,null,null,null,null,null,null,null,null,0,null,null,{"$f":"VLOOKUP(A17811,'[1]Update Sheet'!$A$3:$Y$15578,25,FALSE)","v":{"$error":"#N/A"}},"Reportable"]
["HEALTHCARE DIRECT LTD",72057,null,"N","N",true,"GB","N","PRIVATE SECTOR","WD6 1LP",null,null,"BOREHAMWO WD6",47910,47,"Retail trade services, except of motor vehicles and motorcycles       ",0.17404287306456559,null,null,null,null,null,null,null,null,0,null,null,{"$f":"VLOOKUP(A17830,'[1]Update Sheet'!$A$3:$Y$15578,25,FALSE)","v":{"$error":"#N/A"}},"Reportable"]
["HAZCHEM SAFETY LTD",69518,null,"N","N",true,"GB","Y","PRIVATE SECTOR","NN13 7BE",null,null,"BRACKLEY NN13",96090,96,"Other personal services             ",7.6712791957121843E-2,null,null,null,null,null,null,null,null,0,null,null,{"$f":"VLOOKUP(A17849,'[1]Update Sheet'!$A$3:$Y$15578,25,FALSE)","v":{"$error":"#N/A"}},"Reportable"]
["HAYAAT WOMENS TRUST",62502,1,"Y","Y",true,"GB","Y","VCSE","CF10 5FE","South East Wales","Cardiff and Vale UHB","CARDIFF CF24",96090,96,"Other personal services             ",7.6712791957121843E-2,null,null,null,null,null,null,null,null,0,null,null,{"$f":"VLOOKUP(A17855,'[1]Update Sheet'!$A$3:$Y$15578,25,FALSE)","v":{"$error":"#N/A"}},"Reportable"]
["HARMONY FIRE LTD",73076,null,"N","N",true,"GB","Y","PRIVATE SECTOR","DT9 5EB",null,null,"DORSET DT9",96090,96,"Other personal services             ",7.6712791957121843E-2,null,null,null,null,null,null,null,null,0,null,null,{"$f":"VLOOKUP(A17874,'[1]Update Sheet'!$A$3:$Y$15578,25,FALSE)","v":0},"Reportable"]
["HAMPTONS CARPETS OF NARBERTH LTD",73028,1,"Y","Y",true,"GB","Y","PRIVATE SECTOR","SA67 7DB","South West Wales","Swansea Bay UHB","NARBERTH",47530,47,"Retail trade services, except of motor vehicles and motorcycles       ",0.17404287306456559,null,null,null,null,null,null,null,null,0,null,null,{"$f":"VLOOKUP(A17893,'[1]Update Sheet'!$A$3:$Y$15578,25,FALSE)","v":{"$error":"#N/A"}},"Reportable"]
["H S JACKSON & SON (FENCING) LTD",62938,null,"N","N",true,"GB","N","PRIVATE SECTOR","TN25 6BN",null,null,"ASHFORD TN25",16290,16,"Wood and of products of wood and cork, except furniture; articles of straw and plaiting materials",0.47464506998431383,null,null,null,null,null,null,null,null,0,null,null,{"$f":"VLOOKUP(A17918,'[1]Update Sheet'!$A$3:$Y$15578,25,FALSE)","v":{"$error":"#N/A"}},"Reportable"]
["GWASG FFRANCON PRESS",27266,1,"Y","Y",true,"GB","Y","PRIVATE SECTOR","LL57 3LY","North Wales","Betsi Cadwaladr UHB","ESTATES",18129,18,"Printing and recording services            ",0.38173396113307168,null,null,null,null,null,null,null,null,0,null,null,{"$f":"VLOOKUP(A17937,'[1]Update Sheet'!$A$3:$Y$15578,25,FALSE)","v":{"$error":"#N/A"}},"Reportable"]
["GREEN MAGIC COMPANY",24655,null,"N","N",true,"GB","N","PRIVATE SECTOR","SO32 2SA",null,null,"SOUTHAMPT SO32",96090,96,"Other personal services             ",7.6712791957121843E-2,null,null,null,null,null,null,null,null,0,null,null,{"$f":"VLOOKUP(A17962,'[1]Update Sheet'!$A$3:$Y$15578,25,FALSE)","v":{"$error":"#N/A"}},"Reportable"]
["GPS LOCUMS LTD",49626,null,"N","N",true,"GB","N","PRIVATE SECTOR","CM12 9YB",null,null,"BILLARICA CM12",78109,78,"Employment services              ",0.1176282196328419,null,null,null,null,null,null,null,null,0,null,null,{"$f":"VLOOKUP(A17981,'[1]Update Sheet'!$A$3:$Y$15578,25,FALSE)","v":{"$error":"#N/A"}},"Reportable"]
["GM TREBLE LTD",26415,null,"N","N",true,"GB","Y","PRIVATE SECTOR","WV4 6AN",null,null,"WOLVERHAM WV4",46140,46,"Wholesale trade services, except of motor vehicles and motorcycles       ",2.0310031510736858E-2,null,null,null,null,null,null,null,null,0,null,null,{"$f":"VLOOKUP(A18000,'[1]Update Sheet'!$A$3:$Y$15578,25,FALSE)","v":0},"Reportable"]
["GLYN CLYDACH HOTEL",11869,1,"Y","Y",true,"GB","N","PRIVATE SECTOR","SA10 7AJ","South West Wales","Swansea Bay UHB","NEATH SA10",55100,55,"Accommodation services              ",0.32444602703376968,null,null,null,null,null,null,null,null,0,null,null,{"$f":"VLOOKUP(A18006,'[1]Update Sheet'!$A$3:$Y$15578,25,FALSE)","v":{"$error":"#N/A"}},"Reportable"]
["GLENBIO LTD",74078,null,"N","N",true,"GB","Y","PRIVATE SECTOR","BT41 4NN",null,null,"ANTRIM BT41",20590,20.5,"Other chemical products             ",1.3810539127369941,null,null,null,null,null,null,null,null,0,null,null,{"$f":"VLOOKUP(A18025,'[1]Update Sheet'!$A$3:$Y$15578,25,FALSE)","v":{"$error":"#N/A"}},"Reportable"]
["GHC GWENT CHILD PSYCHOLOGY SCHEME",67315,1,"Y","Y",true,"GB","N","VCSE","CF81 9DT","South East Wales","Aneurin Bevan UHB","FACTOR11",86900,86,"Human health services             ",0.29193168620018201,null,null,null,null,null,null,null,null,0,null,null,{"$f":"VLOOKUP(A18050,'[1]Update Sheet'!$A$3:$Y$15578,25,FALSE)","v":{"$error":"#N/A"}},"Reportable"]
["ZDUP UKCLOUD LTD",69147,null,"N","N",true,"GB","Y","PRIVATE SECTOR",null,null,null,"FARNBORO GU14",47910,47,"Retail trade services, except of motor vehicles and motorcycles       ",0.17404287306456559,null,null,null,null,null,null,null,null,0,null,null,{"$f":"VLOOKUP(A18069,'[1]Update Sheet'!$A$3:$Y$15578,25,FALSE)","v":{"$error":"#N/A"}},"Reportable"]
["GARYS CABS (2013) LTD",11218,1,"Y","Y",true,"GB","Y","PRIVATE SECTOR","SY23 1TA","Mid Wales","Hywel Dda UHB","ABERYSTWY SY23",49320,"49.3-5","Land transport services and transport services via pipelines, excluding rail transport     ",0.60315703544097854,null,null,null,null,null,null,null,null,0,null,null,{"$f":"VLOOKUP(A18088,'[1]Update Sheet'!$A$3:$Y$15578,25,FALSE)","v":{"$error":"#N/A"}},"Reportable"]
["GAIL MARSHALL",74039,1,"Y","Y",true,"GB","Y","PRIVATE SECTOR","CF83 1DE","South East Wales","Aneurin Bevan UHB","CAERPHILLY CF83",96090,96,"Other personal services             ",7.6712791957121843E-2,null,null,null,null,null,null,null,null,0,null,null,{"$f":"VLOOKUP(A18113,'[1]Update Sheet'!$A$3:$Y$15578,25,FALSE)","v":0},"Reportable"]
["FULLBROOK SOLUTIONS LTD",68028,1,"Y","Y",true,"GB","Y","PRIVATE SECTOR","SY18 6NG","Mid Wales","Powys Teaching HB","LLANIDLOE SY18",70229,70,"Services of head offices; management consulting services         ",9.3681183759862049E-2,null,null,null,null,null,null,null,null,0,null,null,{"$f":"VLOOKUP(A18132,'[1]Update Sheet'!$A$3:$Y$15578,25,FALSE)","v":{"$error":"#N/A"}},"Reportable"]
["FRASER NEIL MCLEOD",61099,null,"N","N",true,"GB","N","PRIVATE SECTOR","BS6 6UT",null,null,"BRISTOL BS6",74909,74,"Other professional, scientific and technical services          ",0.19142587698446711,null,null,null,null,null,null,null,null,0,null,null,{"$f":"VLOOKUP(A18151,'[1]Update Sheet'!$A$3:$Y$15578,25,FALSE)","v":{"$error":"#N/A"}},"Reportable"]
["FRANCESCA CLARK",55329,null,"N","N",true,"GB","N","PRIVATE SECTOR",null,null,null,"PCS PAY",86900,86,"Human health services             ",0.29193168620018201,null,null,null,null,null,null,null,null,0,null,null,{"$f":"VLOOKUP(A18157,'[1]Update Sheet'!$A$3:$Y$15578,25,FALSE)","v":{"$error":"#N/A"}},"Reportable"]
["FOREST COURT CARE LTD",72431,null,"N","N",true,"GB","Y","PRIVATE SECTOR","HA6 1PQ",null,null,"LONDON HA6",87100,87,"Residential care services             ",0.16514437058930551,null,null,null,null,null,null,null,null,0,null,null,{"$f":"VLOOKUP(A18176,'[1]Update Sheet'!$A$3:$Y$15578,25,FALSE)","v":{"$error":"#N/A"}},"Reportable"]
["FLEDGLINGS",29139,null,"N","N",true,"GB","N","VCSE","N1 7EU",null,null,"LONDON N1",96090,96,"Other personal services             ",7.6712791957121843E-2,null,null,null,null,null,null,null,null,0,null,null,{"$f":"VLOOKUP(A18201,'[1]Update Sheet'!$A$3:$Y$15578,25,FALSE)","v":{"$error":"#N/A"}},"Reportable"]
["FIRST ASCENT GROUP LTD T/A EMERGENETICS",59782,null,"N","N",true,"GB","Y","PRIVATE SECTOR","CB4 0WS",null,null,"CAMBRIDGE CB4",70229,70,"Services of head offices; management consulting services         ",9.3681183759862049E-2,null,null,null,null,null,null,null,null,0,null,null,{"$f":"VLOOKUP(A18220,'[1]Update Sheet'!$A$3:$Y$15578,25,FALSE)","v":{"$error":"#N/A"}},"Reportable"]
["FERRING PHARMACEUTICALS LTD",117,null,"N","N",true,"GB","N","PRIVATE SECTOR","UB7 7PS",null,null,"PHARMACY",46460,46,"Wholesale trade services, except of motor vehicles and motorcycles       ",2.0310031510736858E-2,null,null,null,null,null,null,null,null,0,null,null,{"$f":"VLOOKUP(A18239,'[1]Update Sheet'!$A$3:$Y$15578,25,FALSE)","v":{"$error":"#N/A"}},"Reportable"]
["FALCK UK AMBULANCE SERVICE LTD",44073,null,"N","N",true,"GB","N","PRIVATE SECTOR","E15 1XH",null,null,"LONDON E15",49390,"49.3-5","Land transport services and transport services via pipelines, excluding rail transport     ",0.60315703544097854,null,null,null,null,null,null,null,null,0,null,null,{"$f":"VLOOKUP(A18264,'[1]Update Sheet'!$A$3:$Y$15578,25,FALSE)","v":{"$error":"#N/A"}},"Reportable"]
["EXPO PORTABLE LTD",74268,null,"N","N",true,"GB","Y","PRIVATE SECTOR","AL7 1JU",null,null,"HERTS AL7",82301,82,"Office administrative, office support and other business support services       ",0.1180504360352973,null,null,null,null,null,null,null,null,0,null,null,{"$f":"VLOOKUP(A18282,'[1]Update Sheet'!$A$3:$Y$15578,25,FALSE)","v":{"$error":"#N/A"}},"Reportable"]
["EVANS WOLFENDEN PARTNERSHIP LLP",23116,1,"Y","Y",true,"GB","N","PRIVATE SECTOR","LL57 4DF","North Wales","Betsi Cadwaladr UHB","ESTATES",71111,71,"Architectural and engineering services; technical testing and analysis services       ",0.1560575201743172,null,null,null,null,null,null,null,null,0,null,null,{"$f":"VLOOKUP(A18301,'[1]Update Sheet'!$A$3:$Y$15578,25,FALSE)","v":{"$error":"#N/A"}},"Reportable"]
["ESM DIGITAL SOLUTIONS LTD",66134,null,"N","N",true,"GB","N","PRIVATE SECTOR","K67 Y5F2",null,null,"FOREIGN",62012,62,"Computer programming, consultancy and related services          ",0.13144659704407699,null,null,null,null,null,null,null,null,0,null,null,{"$f":"VLOOKUP(A18326,'[1]Update Sheet'!$A$3:$Y$15578,25,FALSE)","v":{"$error":"#N/A"}},"Reportable"]
["ENVIROTECT LTD",66240,null,"N","N",true,"GB","N","PRIVATE SECTOR","LU7 4UH",null,null,"LEIGHTON B LU7",86900,86,"Human health services             ",0.29193168620018201,null,null,null,null,null,null,null,null,0,null,null,{"$f":"VLOOKUP(A18345,'[1]Update Sheet'!$A$3:$Y$15578,25,FALSE)","v":{"$error":"#N/A"}},"Reportable"]
["ENHANCED RECOVERY AFTER SURGERY SOCIETY (UK) CIC",64516,null,"N","N",true,"GB","Y","VCSE","BA20 2RH",null,null,"YEOVIL BA20",86900,86,"Human health services             ",0.29193168620018201,null,null,null,null,null,null,null,null,0,null,null,{"$f":"VLOOKUP(A18351,'[1]Update Sheet'!$A$3:$Y$15578,25,FALSE)","v":{"$error":"#N/A"}},"Reportable"]
["EMERGENCY PERSONNEL LTD",69826,null,"N","N",true,"GB","N","PRIVATE SECTOR","E14 9XQ",null,null,"LONDON E14",86900,86,"Human health services             ",0.29193168620018201,null,null,null,null,null,null,null,null,0,null,null,{"$f":"VLOOKUP(A18370,'[1]Update Sheet'!$A$3:$Y$15578,25,FALSE)","v":{"$error":"#N/A"}},"Reportable"]
["ELIZABETH WESTAWAY",72872,1,"Y","Y",true,"GB","Y","PRIVATE SECTOR","SA2 0RQ","South West Wales","Swansea Bay UHB","SWANSEA SA2",96090,96,"Other personal services             ",7.6712791957121843E-2,null,null,null,null,null,null,null,null,0,null,null,{"$f":"VLOOKUP(A18389,'[1]Update Sheet'!$A$3:$Y$15578,25,FALSE)","v":0},"Reportable"]
["JAMES HARVARD LTD",71059,null,"N","N",true,"GB","N","PRIVATE SECTOR",null,null,null,{"$error":"#N/A"},70229,70,"Services of head offices; management consulting services         ",9.3681183759862049E-2,null,null,null,null,null,null,null,null,0,null,null,{"$f":"VLOOKUP(A18414,'[1]Update Sheet'!$A$3:$Y$15578,25,FALSE)","v":{"$error":"#N/A"}},"Reportable"]
["EDUCTIONAL EQUIPMENT SUPPLIES LTD",71119,null,"N","N",true,"GB","Y","PRIVATE SECTOR","WF2 9SR",null,null,"WAKEFIELD WF2",86900,86,"Human health services             ",0.29193168620018201,null,null,null,null,null,null,null,null,0,null,null,{"$f":"VLOOKUP(A18433,'[1]Update Sheet'!$A$3:$Y$15578,25,FALSE)","v":{"$error":"#N/A"}},"Reportable"]
["E3 CONSULTANCY LTD TA E3 TECHNOLOGIES",73107,null,"N","N",true,"GB","Y","PRIVATE SECTOR","CB25 0FH",null,null,"SWAFFHAM CB25",74909,74,"Other professional, scientific and technical services          ",0.19142587698446711,null,null,null,null,null,null,null,null,0,null,null,{"$f":"VLOOKUP(A18458,'[1]Update Sheet'!$A$3:$Y$15578,25,FALSE)","v":{"$error":"#N/A"}},"Reportable"]
["DURHAM COUNTY COUNCIL",63608,null,"N","N",true,"GB","N","PUBLIC SECTOR","DH1 5UG",null,null,{"$error":"#N/A"},84000,84,"Public administration and defence services; compulsory social security services       ",0.1703405261372164,null,null,null,null,null,null,null,null,0,null,null,{"$f":"VLOOKUP(A18477,'[1]Update Sheet'!$A$3:$Y$15578,25,FALSE)","v":{"$error":"#N/A"}},"Reportable"]
["DRSH LTD",77757,null,"N","N",true,"GB","Y","PRIVATE SECTOR","SE1 2XG",null,null,null,70229,70,"Services of head offices; management consulting services         ",9.3681183759862049E-2,null,null,null,null,null,null,null,null,0,null,null,{"$f":"VLOOKUP(A18496,'[1]Update Sheet'!$A$3:$Y$15578,25,FALSE)","v":{"$error":"#N/A"}},"Reportable"]
["DREAMSKIN HEALTH LTD",65177,null,"N","N",true,"GB","Y","PRIVATE SECTOR","AL9 5NB",null,null,"HATFIELD AL9",21100,21,"Basic pharmaceutical products and pharmaceutical preparations          ",0.62099518156965727,null,null,null,null,null,null,null,null,0,null,null,{"$f":"VLOOKUP(A18502,'[1]Update Sheet'!$A$3:$Y$15578,25,FALSE)","v":{"$error":"#N/A"}},"Reportable"]
["DR YASMIN ISMAIL",55425,null,"N","N",true,"GB","N","PRIVATE SECTOR","BS5 6TX",null,null,"BRISTOL BS5",86000,86,"Human health services             ",0.29193168620018201,null,null,null,null,null,null,null,null,0,null,null,{"$f":"VLOOKUP(A18521,'[1]Update Sheet'!$A$3:$Y$15578,25,FALSE)","v":{"$error":"#N/A"}},"Reportable"]
["DR STEPHEN WATT-SMITH",68378,null,"N","N",true,"GB","Y","PRIVATE SECTOR","OX3 7RP",null,null,"OXFORD OX3",86000,86,"Human health services             ",0.29193168620018201,null,null,null,null,null,null,null,null,0,null,null,{"$f":"VLOOKUP(A18540,'[1]Update Sheet'!$A$3:$Y$15578,25,FALSE)","v":{"$error":"#N/A"}},"Reportable"]
["DR REBECCA WILLIAMS",74950,1,"Y","Y",true,"GB","Y","PRIVATE SECTOR","LL57 1NR","North Wales","Betsi Cadwaladr UHB","BANGOR LL57",86900,86,"Human health services             ",0.29193168620018201,null,null,null,null,null,null,null,null,0,null,null,{"$f":"VLOOKUP(A18565,'[1]Update Sheet'!$A$3:$Y$15578,25,FALSE)","v":{"$error":"#N/A"}},"Reportable"]
["DR PETER ANDERSON",65008,null,"N","N",true,"GB","N","PRIVATE SECTOR","YO60 6SP",null,null,"YORK YO60",86000,86,"Human health services             ",0.29193168620018201,null,null,null,null,null,null,null,null,0,null,null,{"$f":"VLOOKUP(A18584,'[1]Update Sheet'!$A$3:$Y$15578,25,FALSE)","v":{"$error":"#N/A"}},"Reportable"]
["DR MOHAMMAD KASHIF",71671,null,"N","N",true,"GB","Y","PRIVATE SECTOR","WV4 5HN",null,null,"WOLVERHAM WV4",86000,86,"Human health services             ",0.29193168620018201,null,null,null,null,null,null,null,null,0,null,null,{"$f":"VLOOKUP(A18609,'[1]Update Sheet'!$A$3:$Y$15578,25,FALSE)","v":{"$error":"#N/A"}},"Reportable"]
["DR LUAY KAFIENAH",61397,null,"N","N",true,"GB","N","PRIVATE SECTOR","WS3 2JJ",null,null,"WALSALL WS3",86000,86,"Human health services             ",0.29193168620018201,null,null,null,null,null,null,null,null,0,null,null,{"$f":"VLOOKUP(A18628,'[1]Update Sheet'!$A$3:$Y$15578,25,FALSE)","v":{"$error":"#N/A"}},"Reportable"]
["DR K A MCMILLAN",72277,null,"N","N",true,"GB","Y","PRIVATE SECTOR","WR14 3RL",null,null,"MALVERN WR14",86000,86,"Human health services             ",0.29193168620018201,null,null,null,null,null,null,null,null,0,null,null,{"$f":"VLOOKUP(A18647,'[1]Update Sheet'!$A$3:$Y$15578,25,FALSE)","v":{"$error":"#N/A"}},"Reportable"]
["DR JOHN J BYRNE",53389,null,"N","N",true,"IE","N","PRIVATE SECTOR","-",null,null,"FOREIGN",86000,86,"Human health services             ",0.29193168620018201,null,null,null,null,null,null,null,null,0,null,null,{"$f":"VLOOKUP(A18653,'[1]Update Sheet'!$A$3:$Y$15578,25,FALSE)","v":{"$error":"#N/A"}},"Reportable"]
["DR HUGH HERZIG",65511,null,"N","N",true,"GB","N","PRIVATE SECTOR","BS6 6BZ",null,null,"BRISTOL BS6",86000,86,"Human health services             ",0.29193168620018201,null,null,null,null,null,null,null,null,0,null,null,{"$f":"VLOOKUP(A18672,'[1]Update Sheet'!$A$3:$Y$15578,25,FALSE)","v":{"$error":"#N/A"}},"Reportable"]
["DR FIONA RAWLINSON",57614,1,"Y","Y",true,"GB","N","PRIVATE SECTOR","CF14 4YS","South East Wales","Cardiff and Vale UHB",{"$error":"#N/A"},86220,86,"Human health services             ",0.29193168620018201,null,null,null,null,null,null,null,null,0,null,null,{"$f":"VLOOKUP(A18691,'[1]Update Sheet'!$A$3:$Y$15578,25,FALSE)","v":{"$error":"#N/A"}},"Reportable"]
["DR CHANDRAN THAVACHELUI",58966,null,"N","N",true,"GB","N","PRIVATE SECTOR","WR14 1TX",null,null,{"$error":"#N/A"},86000,86,"Human health services             ",0.29193168620018201,null,null,null,null,null,null,null,null,0,null,null,{"$f":"VLOOKUP(A18716,'[1]Update Sheet'!$A$3:$Y$15578,25,FALSE)","v":{"$error":"#N/A"}},"Reportable"]
["DR ANGUS ROBIN",51594,null,"N","N",true,"GB","N","PRIVATE SECTOR","TA21 9LZ",null,null,"WELLINGTO TA21",86000,86,"Human health services             ",0.29193168620018201,null,null,null,null,null,null,null,null,0,null,null,{"$f":"VLOOKUP(A18735,'[1]Update Sheet'!$A$3:$Y$15578,25,FALSE)","v":{"$error":"#N/A"}},"Reportable"]
["DOWN SURGICAL LTD",60180,null,"N","Y","Removal of a False Welsh Supplier","GB","N","PRIVATE SECTOR","BT30 9HH",null,null,"DOWNPATRI BT30",46180,46,"Wholesale trade services, except of motor vehicles and motorcycles       ",2.0310031510736858E-2,null,null,null,null,null,null,null,null,0,null,null,{"$f":"VLOOKUP(A18760,'[1]Update Sheet'!$A$3:$Y$15578,25,FALSE)","v":{"$error":"#N/A"}},"Reportable"]
["DOLE FOOD SERVICE SWANSEA",71529,null,"N","N",true,"GB","N","PRIVATE SECTOR","PE11 3YR",null,null,"SPALDING PE11",46310,46,"Wholesale trade services, except of motor vehicles and motorcycles       ",2.0310031510736858E-2,null,null,null,null,null,null,null,null,209296.99999999991,"*",null,{"$f":"VLOOKUP(A18779,'[1]Update Sheet'!$A$3:$Y$15578,25,FALSE)","v":0},"Reportable"]
["DIRECTIONS ON MICROSOFT",53352,null,"N","N",true,"US","Y","PRIVATE SECTOR","WA98033",null,null,"FOREIGN",96090,96,"Other personal services             ",7.6712791957121843E-2,null,null,null,null,null,null,null,null,0,null,null,{"$f":"VLOOKUP(A18798,'[1]Update Sheet'!$A$3:$Y$15578,25,FALSE)","v":{"$error":"#N/A"}},"Reportable"]
["DINAS DISTRIBUTION","64298",null,"N","N",true,"GB","N","PRIVATE SECTOR","BL3 3TQ",null,null,"DINAS PO CF64",46460,46,"Wholesale trade services, except of motor vehicles and motorcycles       ",2.0310031510736858E-2,null,null,null,null,null,null,null,null,0,null,null,{"$f":"VLOOKUP(A18804,'[1]Update Sheet'!$A$3:$Y$15578,25,FALSE)","v":{"$error":"#N/A"}},"Reportable"]
["DEVYSER UK LTD",74109,null,"N","N",true,"GB","N","PRIVATE SECTOR","CH1 3EQ",null,null,"CHESTER CH1",82990,82,"Office administrative, office support and other business support services       ",0.1180504360352973,null,null,null,null,null,null,null,null,0,null,null,{"$f":"VLOOKUP(A18823,'[1]Update Sheet'!$A$3:$Y$15578,25,FALSE)","v":{"$error":"#N/A"}},"Reportable"]
["DELCARE",49594,1,"Y","Y",true,"GB","Y","PRIVATE SECTOR","NP20 4HF","South East Wales","Aneurin Bevan UHB","OLD OWNERS",86101,86,"Human health services             ",0.29193168620018201,null,null,null,null,null,null,null,null,0,null,null,{"$f":"VLOOKUP(A18848,'[1]Update Sheet'!$A$3:$Y$15578,25,FALSE)","v":{"$error":"#N/A"}},"Reportable"]
["DAVID W HARRIS & CO SOLICITORS",40571,1,"Y","Y",true,"GB","N","PRIVATE SECTOR","CF72 8AD","South East Wales","Cwm Taf Morgannwg UHB","PONTYCLUN CF72",69102,69.099999999999994,"Legal services              ",5.7877621976311508E-2,null,null,null,null,null,null,null,null,0,null,null,{"$f":"VLOOKUP(A18867,'[1]Update Sheet'!$A$3:$Y$15578,25,FALSE)","v":{"$error":"#N/A"}},"Reportable"]
["DARWIN GROUP LTD",69387,null,"N","N",true,"GB","Y","PRIVATE SECTOR","SY4 4EA",null,null,"SHREWSBUR SY4",43999,42.99,"Specialised construction works             ",0.31026786628535008,2023,{"$f":"82.4*1000","v":82400},{"$f":"48*1000","v":48000},{"$f":"387*1000","v":387000},{"$f":"SUM(S18886:U18886)","v":517400},{"$f":"77759*1000","v":77759000},{"$f":"V18886/W18886","v":6.6538921539628856E-3},"carbon reduction plan",0,null,null,{"$f":"VLOOKUP(A18886,'[1]Update Sheet'!$A$3:$Y$15578,25,FALSE)","v":"In Master List"},"Reportable"]
["D H JONES LTD",73327,1,"Y","Y",true,"GB","Y","PRIVATE SECTOR","LL23 7NL","North Wales","Betsi Cadwaladr UHB","BALA LL23",96090,96,"Other personal services             ",7.6712791957121843E-2,null,null,null,null,null,null,null,null,0,null,null,{"$f":"VLOOKUP(A18911,'[1]Update Sheet'!$A$3:$Y$15578,25,FALSE)","v":0},"Reportable"]
["CPC PROJECT SERVICES LLP",72589,null,"N","N",true,"GB","Y","PRIVATE SECTOR","EC2V 7AN",null,null,"LONDON EC2V",70229,70,"Services of head offices; management consulting services         ",9.3681183759862049E-2,null,null,null,null,null,null,null,null,0,null,null,{"$f":"VLOOKUP(A18930,'[1]Update Sheet'!$A$3:$Y$15578,25,FALSE)","v":{"$error":"#N/A"}},"Reportable"]
["CTT GROUP LTD",46055,null,"N","N",true,"GB","Y","PRIVATE SECTOR","TN2 3XF",null,null,"TUNBRIDGE TN2",41100,"42.1-2","Constructions and construction works for civil engineering         ",0.38802246325570439,null,null,null,null,null,null,null,null,0,null,null,{"$f":"VLOOKUP(A18949,'[1]Update Sheet'!$A$3:$Y$15578,25,FALSE)","v":{"$error":"#N/A"}},"Reportable"]
["CS STORAGE LTD",52812,null,"N","N",true,"GB","N","PRIVATE SECTOR","PR5 6DA",null,null,"PRESTON PR5",52103,52,"Warehousing and support services for transportation          ",0.24376795453982661,null,null,null,null,null,null,null,null,0,null,null,{"$f":"VLOOKUP(A18955,'[1]Update Sheet'!$A$3:$Y$15578,25,FALSE)","v":{"$error":"#N/A"}},"Reportable"]
["CROSSHANDS INDUSTRIAL TRAINING LTD",60255,1,"Y","Y",true,"GB","N","PRIVATE SECTOR","SA14 6PP","South West Wales","Hywel Dda UHB","CWMGWILI SA14",85590,85,"Education services              ",0.10257966678326461,null,null,null,null,null,null,null,null,0,null,null,{"$f":"VLOOKUP(A18974,'[1]Update Sheet'!$A$3:$Y$15578,25,FALSE)","v":{"$error":"#N/A"}},"Reportable"]
["CRAIG YOUNG CONSULTING LTD",72392,null,"N","N",true,"GB","Y","PRIVATE SECTOR","SY11 4AD",null,null,"OSWESTRY SY11",47640,47,"Retail trade services, except of motor vehicles and motorcycles       ",0.17404287306456559,null,null,null,null,null,null,null,null,0,null,null,{"$f":"VLOOKUP(A18999,'[1]Update Sheet'!$A$3:$Y$15578,25,FALSE)","v":{"$error":"#N/A"}},"Reportable"]
["COSMO CARE UK LTD",68251,null,"N","N",true,"GB","Y","PRIVATE SECTOR","CM1 7LE",null,null,"CHELMSFORD CM1",86220,86,"Human health services             ",0.29193168620018201,null,null,null,null,null,null,null,null,0,null,null,{"$f":"VLOOKUP(A19018,'[1]Update Sheet'!$A$3:$Y$15578,25,FALSE)","v":{"$error":"#N/A"}},"Reportable"]
["COOL SOLUTION REFRIGERATION LTD",43238,1,"Y","Y",true,"GB","Y","PRIVATE SECTOR","CF24 5JR","South East Wales","Cardiff and Vale UHB","CARDIFF CF10",43220,42.99,"Specialised construction works             ",0.31026786628535008,null,null,null,null,null,null,null,null,0,null,null,{"$f":"VLOOKUP(A19037,'[1]Update Sheet'!$A$3:$Y$15578,25,FALSE)","v":{"$error":"#N/A"}},"Reportable"]
["COMPOSED IMAGES",73556,1,"Y","Y",true,"GB","Y","PRIVATE SECTOR","CF5 4SB","South East Wales","Cardiff and Vale UHB","CARDIFF CF5",96090,96,"Other personal services             ",7.6712791957121843E-2,null,null,null,null,null,null,null,null,0,null,null,{"$f":"VLOOKUP(A19062,'[1]Update Sheet'!$A$3:$Y$15578,25,FALSE)","v":0},"Reportable"]
["COMBAT HEATING SOLUTIONS LTD",74962,null,"N","N",true,"GB","Y","PRIVATE SECTOR","WS10 0NP",null,null,"ESTATES",96090,96,"Other personal services             ",7.6712791957121843E-2,null,null,null,null,null,null,null,null,0,null,null,{"$f":"VLOOKUP(A19081,'[1]Update Sheet'!$A$3:$Y$15578,25,FALSE)","v":0},"Reportable"]
["COLM MCALINDEN",68427,1,"Y","Y",true,"GB","Y","PRIVATE SECTOR","SA3 5DQ","South West Wales","Swansea Bay UHB","PCS PAY",86220,86,"Human health services             ",0.29193168620018201,null,null,null,null,null,null,null,null,0,null,null,{"$f":"VLOOKUP(A19087,'[1]Update Sheet'!$A$3:$Y$15578,25,FALSE)","v":{"$error":"#N/A"}},"Reportable"]
["CLOVELLY GUEST HOUSE",52944,null,"N","N",true,"GB","N","PRIVATE SECTOR","B37 7HY",null,null,"BIRMINGHAM B37",55900,55,"Accommodation services              ",0.32444602703376968,null,null,null,null,null,null,null,null,0,null,null,{"$f":"VLOOKUP(A19123,'[1]Update Sheet'!$A$3:$Y$15578,25,FALSE)","v":{"$error":"#N/A"}},"Reportable"]
["CLOUDERA INC",69341,null,"N","N",true,"US","Y","PRIVATE SECTOR","-",null,null,"FOREIGN",62012,62,"Computer programming, consultancy and related services          ",0.13144659704407699,null,null,null,null,null,null,null,null,0,null,null,{"$f":"VLOOKUP(A19124,'[1]Update Sheet'!$A$3:$Y$15578,25,FALSE)","v":{"$error":"#N/A"}},"Reportable"]
["CLEAR WATER EVENTS LTD",74567,null,"N","N",true,"GB","Y","PRIVATE SECTOR","B62 0EB",null,null,"HALESOWEN B62",86900,86,"Human health services             ",0.29193168620018201,null,null,null,null,null,null,null,null,0,null,null,{"$f":"VLOOKUP(A19149,'[1]Update Sheet'!$A$3:$Y$15578,25,FALSE)","v":{"$error":"#N/A"}},"Reportable"]
["CLAIRE BASTEN TA BLOOD RESULTS MADE EASY",67040,null,"N","N",true,"GB","Y","PRIVATE SECTOR","NG22 8UP",null,null,"NEWARK NG22",62090,62,"Computer programming, consultancy and related services          ",0.13144659704407699,null,null,null,null,null,null,null,null,0,null,null,{"$f":"VLOOKUP(A19168,'[1]Update Sheet'!$A$3:$Y$15578,25,FALSE)","v":{"$error":"#N/A"}},"Reportable"]
["CINCINNATI CHILDREN'S HOSPITAL MEDICAL CENTER",75138,null,"N","N",true,"US","N","PRIVATE SECTOR",null,null,null,"FOREIGN",86900,86,"Human health services             ",0.29193168620018201,null,null,null,null,null,null,null,null,0,null,null,{"$f":"VLOOKUP(A19187,'[1]Update Sheet'!$A$3:$Y$15578,25,FALSE)","v":{"$error":"#N/A"}},"Reportable"]
["CHILDRENS LIVER DISEASE FOUNDATION",62497,null,"N","N",true,"GB","Y","VCSE","B3 3JY",null,null,"BIRMINGHA M3",96090,96,"Other personal services             ",7.6712791957121843E-2,null,null,null,null,null,null,null,null,0,null,null,{"$f":"VLOOKUP(A19212,'[1]Update Sheet'!$A$3:$Y$15578,25,FALSE)","v":{"$error":"#N/A"}},"Reportable"]
["CHARTER VEHICLE HIRE",1576,1,"Y","N","Additional Welsh Supplier","GB","N","PRIVATE SECTOR","CF14 2FF","South East Wales","Cardiff and Vale UHB","CARDIFF CF4",49320,"49.3-5","Land transport services and transport services via pipelines, excluding rail transport     ",0.60315703544097854,null,null,null,null,null,null,null,null,0,null,null,{"$f":"VLOOKUP(A19231,'[1]Update Sheet'!$A$3:$Y$15578,25,FALSE)","v":{"$error":"#N/A"}},"Reportable"]
["CENTRAL RECRUITMENT SOLUTIONS LTD",73976,1,"Y","Y",true,"GB","Y","PRIVATE SECTOR","NP23 5SD","South East Wales","Aneurin Bevan UHB","EBBW VALE NP23",78200,78,"Employment services              ",0.1176282196328419,null,null,null,null,null,null,null,null,0,null,null,{"$f":"VLOOKUP(A19256,'[1]Update Sheet'!$A$3:$Y$15578,25,FALSE)","v":{"$error":"#N/A"}},"Reportable"]
["CEFN COED COMMUNITY CENTRE",64264,1,"Y","Y",true,"GB","N","VCSE","CF48 2NA","South East Wales","Cwm Taf Morgannwg UHB","MERTHYR TY CF48",82990,82,"Office administrative, office support and other business support services       ",0.1180504360352973,null,null,null,null,null,null,null,null,0,null,null,{"$f":"VLOOKUP(A19275,'[1]Update Sheet'!$A$3:$Y$15578,25,FALSE)","v":{"$error":"#N/A"}},"Reportable"]
["CATRIN JONES ASSOCIATES (ARCHITECTURAL GLASS)",65476,1,"Y","Y",true,"GB","Y","PRIVATE SECTOR","SA4 3UP","South West Wales","Swansea Bay UHB","SWANSEA SA4",43342,42.99,"Specialised construction works             ",0.31026786628535008,null,null,null,null,null,null,null,null,0,null,null,{"$f":"VLOOKUP(A19294,'[1]Update Sheet'!$A$3:$Y$15578,25,FALSE)","v":{"$error":"#N/A"}},"Reportable"]
["CATERPARTS LTD",22536,null,"N","N",true,"GB","N","PRIVATE SECTOR","NN13 7UG",null,null,"BRACKLEY NN13",46900,46,"Wholesale trade services, except of motor vehicles and motorcycles       ",2.0310031510736858E-2,null,null,null,null,null,null,null,null,0,null,null,{"$f":"VLOOKUP(A19300,'[1]Update Sheet'!$A$3:$Y$15578,25,FALSE)","v":{"$error":"#N/A"}},"Reportable"]
["CARPET SERVICES CARDIFF LTD",1529,1,"Y","N","Additional Welsh Supplier","GB","N","PRIVATE SECTOR","CF15 7RE","South East Wales","Cardiff and Vale UHB","CARDIFF CF15",43330,42.99,"Specialised construction works             ",0.31026786628535008,null,null,null,null,null,null,null,null,0,null,null,{"$f":"VLOOKUP(A19319,'[1]Update Sheet'!$A$3:$Y$15578,25,FALSE)","v":{"$error":"#N/A"}},"Reportable"]
["CAREFUSION UK 232 LTD",33710,null,"N","N",true,"GB","N","PRIVATE SECTOR","RG24 8NA",null,null,"BASINGSTO RG22",32500,32,"Other manufactured goods             ",0.67238249414981133,null,null,null,null,null,null,null,null,0,null,null,{"$f":"VLOOKUP(A19338,'[1]Update Sheet'!$A$3:$Y$15578,25,FALSE)","v":{"$error":"#N/A"}},"Reportable"]
["CAPITAL LAW LLP",55210,1,"Y","Y",true,"GB","Y","PRIVATE SECTOR","CF10 4AZ","South East Wales","Cardiff and Vale UHB","CARDIFF CF10",69101,69.099999999999994,"Legal services              ",5.7877621976311508E-2,null,null,null,null,null,null,null,null,0,null,null,{"$f":"VLOOKUP(A19363,'[1]Update Sheet'!$A$3:$Y$15578,25,FALSE)","v":0},"Reportable"]
["CAN QUALIFICATIONS LTD",74861,null,"N","N",true,"GB","Y","PRIVATE SECTOR","CW1 6GL",null,null,"CREWE CW1",96090,96,"Other personal services             ",7.6712791957121843E-2,null,null,null,null,null,null,null,null,0,null,null,{"$f":"VLOOKUP(A19382,'[1]Update Sheet'!$A$3:$Y$15578,25,FALSE)","v":0},"Reportable"]
["CAERPHILLY CARE FOR CARERS",41269,1,"Y","Y",true,"GB","Y","PRIVATE SECTOR","CF83 2TP","South East Wales","Aneurin Bevan UHB","CAERPHILL CF83",88100,88,"Social work services without accommodation           ",0.12926092802643949,null,null,null,null,null,null,null,null,0,null,null,{"$f":"VLOOKUP(A19407,'[1]Update Sheet'!$A$3:$Y$15578,25,FALSE)","v":{"$error":"#N/A"}},"Reportable"]
["BUY & SMILE LTD",68919,null,"N","N",true,"GB","Y","PRIVATE SECTOR","HA4 9EZ",null,null,"RUISLIP HA4",86900,86,"Human health services             ",0.29193168620018201,null,null,null,null,null,null,null,null,0,null,null,{"$f":"VLOOKUP(A19426,'[1]Update Sheet'!$A$3:$Y$15578,25,FALSE)","v":{"$error":"#N/A"}},"Reportable"]
["BULLOCK BROTHERS",52064,1,"Y","Y",true,"GB","Y","PRIVATE SECTOR","SA20 0BZ","South West Wales","Hywel Dda UHB","LLANDOVER SA20",43220,42.99,"Specialised construction works             ",0.31026786628535008,null,null,null,null,null,null,null,null,0,null,null,{"$f":"VLOOKUP(A19445,'[1]Update Sheet'!$A$3:$Y$15578,25,FALSE)","v":{"$error":"#N/A"}},"Reportable"]
["TRINITY CENTRE",73751,1,"Y","Y",true,"GB","Y","VCSE","CF24 1LE","South East Wales","Cardiff and Vale UHB","CARDIFF CF24",86900,86,"Human health services             ",0.29193168620018201,null,null,null,null,null,null,null,null,4900,"*",null,{"$f":"VLOOKUP(A19451,'[1]Update Sheet'!$A$3:$Y$15578,25,FALSE)","v":0},"Reportable"]
["BROWN AND MASON GROUP LTD",77423,null,"N","N",true,"GB","Y","PRIVATE SECTOR","DA2 6QQ",null,null,"DARTFORD DA2",43110,42.99,"Specialised construction works             ",0.31026786628535008,null,null,null,null,null,null,null,null,0,null,null,{"$f":"VLOOKUP(A19470,'[1]Update Sheet'!$A$3:$Y$15578,25,FALSE)","v":{"$error":"#N/A"}},"Reportable"]
["BRITISH BROADCASTING CORPORATION",77265,null,"N","N",true,"GB","Y","PUBLIC SECTOR","W1A 1AA",null,null,"LONDON W1A",60000,60,"Programming and broadcasting services            ",0.11919581648223911,null,null,null,null,null,null,null,null,0,null,null,{"$f":"VLOOKUP(A19495,'[1]Update Sheet'!$A$3:$Y$15578,25,FALSE)","v":{"$error":"#N/A"}},"Reportable"]
["BRIDGEND MUNICIPAL BOWLS CLUB",74647,1,"Y","Y",true,"GB","Y","VCSE","CF31 4AH","South East Wales","Cwm Taf Morgannwg UHB","BRIDGEND CF31",96090,96,"Other personal services             ",7.6712791957121843E-2,null,null,null,null,null,null,null,null,0,null,null,{"$f":"VLOOKUP(A19514,'[1]Update Sheet'!$A$3:$Y$15578,25,FALSE)","v":0},"Reportable"]
["BREAD & BUTTER CREATIVE LTD",52948,null,"N","N",true,"GB","N","PRIVATE SECTOR","OX5 1NA",null,null,"KIDLINGTON OX5",96090,96,"Other personal services             ",7.6712791957121843E-2,null,null,null,null,null,null,null,null,0,null,null,{"$f":"VLOOKUP(A19533,'[1]Update Sheet'!$A$3:$Y$15578,25,FALSE)","v":{"$error":"#N/A"}},"Reportable"]
["BOOKPOINT LTD","1405",null,"N","N",true,"GB","N","PRIVATE SECTOR","OX14 4YY",null,null,"ABINGDON OX144",52103,52,"Warehousing and support services for transportation          ",0.24376795453982661,null,null,null,null,null,null,null,null,0,null,null,{"$f":"VLOOKUP(A19558,'[1]Update Sheet'!$A$3:$Y$15578,25,FALSE)","v":{"$error":"#N/A"}},"Reportable"]
["BLUE TRANSPORTATION LTD",67371,1,"Y","Y",true,"GB","Y","PRIVATE SECTOR","CF5 4AB","South East Wales","Cardiff and Vale UHB","CARDIFF CF5",49410,"49.3-5","Land transport services and transport services via pipelines, excluding rail transport     ",0.60315703544097854,null,null,null,null,null,null,null,null,0,null,null,{"$f":"VLOOKUP(A19577,'[1]Update Sheet'!$A$3:$Y$15578,25,FALSE)","v":{"$error":"#N/A"}},"Reportable"]
["BLACKWOOD CENTRAL METHODIST CHURCH",38562,1,"Y","N","Additional Welsh Supplier ","GB","N","VCSE","NP12 1ES","South East Wales","Aneurin Bevan UHB","BLACKWOOD NP12",94910,94,"Services furnished by membership organisations           ",0.1210358880635142,null,null,null,null,null,null,null,null,0,null,null,{"$f":"VLOOKUP(A19596,'[1]Update Sheet'!$A$3:$Y$15578,25,FALSE)","v":{"$error":"#N/A"}},"Reportable"]
["BJM IG PRIVACY LTD",69446,null,"N","N",true,"GB","Y","PRIVATE SECTOR","IP6 0NL",null,null,"IPSWICH IP6",62020,62,"Computer programming, consultancy and related services          ",0.13144659704407699,null,null,null,null,null,null,null,null,0,null,null,{"$f":"VLOOKUP(A19602,'[1]Update Sheet'!$A$3:$Y$15578,25,FALSE)","v":{"$error":"#N/A"}},"Reportable"]
["BIBA MEDICAL LTD",77678,null,"N","N",true,"GB","Y","PRIVATE SECTOR","SW6 5NR",null,null,"LONDON SW6",86900,86,"Human health services             ",0.29193168620018201,null,null,null,null,null,null,null,null,0,null,null,{"$f":"VLOOKUP(A19621,'[1]Update Sheet'!$A$3:$Y$15578,25,FALSE)","v":{"$error":"#N/A"}},"Reportable"]
["BENTLEY SOLICITORS LTD",69781,null,"N","N",true,"GB","Y","PRIVATE SECTOR","CW1 6EA",null,null,"CREWE CW1",69102,69.099999999999994,"Legal services              ",5.7877621976311508E-2,null,null,null,null,null,null,null,null,0,null,null,{"$f":"VLOOKUP(A19646,'[1]Update Sheet'!$A$3:$Y$15578,25,FALSE)","v":{"$error":"#N/A"}},"Reportable"]
["BEDLINOG AND TRELEWIS COMMUNITY COUNCIL",74781,1,"Y","Y",true,"GB","Y","PUBLIC SECTOR","CF47 0JA","South East Wales","Cwm Taf Morgannwg UHB","MERTHYR CF47",82990,82,"Office administrative, office support and other business support services       ",0.1180504360352973,null,null,null,null,null,null,null,null,0,null,null,{"$f":"VLOOKUP(A19665,'[1]Update Sheet'!$A$3:$Y$15578,25,FALSE)","v":{"$error":"#N/A"}},"Reportable"]
["BBTS ENTERPRISES LTD",23808,null,"N","N",true,"GB","Y","PRIVATE SECTOR","M15 6SE",null,null,"MANCHESTE M156",82990,82,"Office administrative, office support and other business support services       ",0.1180504360352973,null,null,null,null,null,null,null,null,0,null,null,{"$f":"VLOOKUP(A19684,'[1]Update Sheet'!$A$3:$Y$15578,25,FALSE)","v":{"$error":"#N/A"}},"Reportable"]
["BARNABY CECIL FINANCIAL PLANNING LTD",74886,null,"N","N",true,"GB","N","PRIVATE SECTOR","E11 1HG",null,null,"LONDON E11",86900,86,"Human health services             ",0.29193168620018201,null,null,null,null,null,null,null,null,0,null,null,{"$f":"VLOOKUP(A19709,'[1]Update Sheet'!$A$3:$Y$15578,25,FALSE)","v":{"$error":"#N/A"}},"Reportable"]
["BAIRD ACADEMY LTD",73157,null,"N","N",true,"GB","Y","PRIVATE SECTOR","LS11 8PR",null,null,"LEEDS LS11",96090,96,"Other personal services             ",7.6712791957121843E-2,null,null,null,null,null,null,null,null,0,null,null,{"$f":"VLOOKUP(A19728,'[1]Update Sheet'!$A$3:$Y$15578,25,FALSE)","v":0},"Reportable"]
["BACK TO BASICS CARE AND TRAINING LTD",71215,1,"Y","Y",true,"GB","Y","PRIVATE SECTOR","SA14 8LQ","South West Wales","Hywel Dda UHB","DAFEN SA14",87300,87,"Residential care services             ",0.16514437058930551,null,null,null,null,null,null,null,null,0,null,null,{"$f":"VLOOKUP(A19734,'[1]Update Sheet'!$A$3:$Y$15578,25,FALSE)","v":{"$error":"#N/A"}},"Reportable"]
["AUTOMOTIVE SERVICES",48167,null,"N","N",true,"GB","N","PRIVATE SECTOR","BS22 7FX",null,null,"WESTON SU BS22",68209,"68.2IMP","Owner-Occupiers' Housing Services",3.9621368125994462E-2,null,null,null,null,null,null,null,null,0,null,null,{"$f":"VLOOKUP(A19753,'[1]Update Sheet'!$A$3:$Y$15578,25,FALSE)","v":0},"Reportable"]
["ATHERTON MEDICAL & LEGAL LTD",74675,null,"N","N",true,"GB","Y","PRIVATE SECTOR","BS2 8BJ",null,null,"BRISTOL BS2",86210,86,"Human health services             ",0.29193168620018201,null,null,null,null,null,null,null,null,0,null,null,{"$f":"VLOOKUP(A19772,'[1]Update Sheet'!$A$3:$Y$15578,25,FALSE)","v":{"$error":"#N/A"}},"Reportable"]
["ASSET CARS LTD",77577,1,"Y","Y",true,"GB","Y","PRIVATE SECTOR","NP13 1TG","South East Wales","Aneurin Bevan UHB",null,33170,"33OTHER","Rest of repair; Installation - 33.11-14/17/19/20          ",0.18696882687485539,null,null,null,null,null,null,null,null,0,null,null,{"$f":"VLOOKUP(A19797,'[1]Update Sheet'!$A$3:$Y$15578,25,FALSE)","v":{"$error":"#N/A"}},"Reportable"]
["ASH GROVE MEDICAL CENTRE",50268,1,"Y","Y",true,"GB","Y","PRIVATE SECTOR","SA15 3JH","South West Wales","Hywel Dda UHB","LLANELLI SA15",86210,86,"Human health services             ",0.29193168620018201,null,null,null,null,null,null,null,null,0,null,null,{"$f":"VLOOKUP(A19816,'[1]Update Sheet'!$A$3:$Y$15578,25,FALSE)","v":{"$error":"#N/A"}},"Reportable"]
["AREATHA COMANESCU",50752,1,"Y","Y",true,"GB","N","PRIVATE SECTOR","CF24 2LF","South East Wales","Cardiff and Vale UHB","CARDIFF CF24",82110,82,"Office administrative, office support and other business support services       ",0.1180504360352973,null,null,null,null,null,null,null,null,0,null,null,{"$f":"VLOOKUP(A19835,'[1]Update Sheet'!$A$3:$Y$15578,25,FALSE)","v":{"$error":"#N/A"}},"Reportable"]
["APC TECHNOLOGY GROUP PLC",69764,null,"N","N",true,"GB","Y","PRIVATE SECTOR","ME1 3QR",null,null,"ROCHESTER ME1",96090,96,"Other personal services             ",7.6712791957121843E-2,null,null,null,null,null,null,null,null,0,null,null,{"$f":"VLOOKUP(A19860,'[1]Update Sheet'!$A$3:$Y$15578,25,FALSE)","v":{"$error":"#N/A"}},"Reportable"]
["ANGLESEY SELF STORAGE",77235,1,"Y","Y",true,"GB","Y","PRIVATE SECTOR","LL77 7YL","North Wales","Betsi Cadwaladr UHB","LLANGEFNI LL77",52103,52,"Warehousing and support services for transportation          ",0.24376795453982661,null,null,null,null,null,null,null,null,0,null,null,{"$f":"VLOOKUP(A19879,'[1]Update Sheet'!$A$3:$Y$15578,25,FALSE)","v":{"$error":"#N/A"}},"Reportable"]
["ANDY OSWIN","72368",null,"N","N",true,"GB","Y","PRIVATE SECTOR","BA1 4AZ",null,null,"BATH BA1",82990,82,"Office administrative, office support and other business support services       ",0.1180504360352973,null,null,null,null,null,null,null,null,0,null,null,{"$f":"VLOOKUP(A19885,'[1]Update Sheet'!$A$3:$Y$15578,25,FALSE)","v":{"$error":"#N/A"}},"Reportable"]
["ANDEL LTD",33816,null,"N","N",true,"GB","N","PRIVATE SECTOR","HD7 5XZ",null,null,"HUDDERSFI HD75",86900,86,"Human health services             ",0.29193168620018201,null,null,null,null,null,null,null,null,0,null,null,{"$f":"VLOOKUP(A19904,'[1]Update Sheet'!$A$3:$Y$15578,25,FALSE)","v":{"$error":"#N/A"}},"Reportable"]
["AMAS BI SOLUTIONS LTD",70777,null,"N","N",true,"GB","N","PRIVATE SECTOR","HP12 4AL",null,null,"HIGH WYC HP12",62090,62,"Computer programming, consultancy and related services          ",0.13144659704407699,null,null,null,null,null,null,null,null,0,null,null,{"$f":"VLOOKUP(A19923,'[1]Update Sheet'!$A$3:$Y$15578,25,FALSE)","v":{"$error":"#N/A"}},"Reportable"]
["ALLEGIANT GROUP LTD",71297,null,"N","N",true,"GB","Y","PRIVATE SECTOR","EC1V 2NX",null,null,"LONDON EC1V",86900,86,"Human health services             ",0.29193168620018201,null,null,null,null,null,null,null,null,0,null,null,{"$f":"VLOOKUP(A19948,'[1]Update Sheet'!$A$3:$Y$15578,25,FALSE)","v":{"$error":"#N/A"}},"Reportable"]
["ALBANY ROAD BAPTIST CHURCH",55874,1,"Y","Y",true,"GB","N","VCSE","CF23 4NU","South East Wales","Cardiff and Vale UHB","CARDIFF CF23",96090,96,"Other personal services             ",7.6712791957121843E-2,null,null,null,null,null,null,null,null,0,null,null,{"$f":"VLOOKUP(A19967,'[1]Update Sheet'!$A$3:$Y$15578,25,FALSE)","v":{"$error":"#N/A"}},"Reportable"]
["AJ GILBERT CHEMIST LTD",68407,null,"N","N",true,"GB","Y","PRIVATE SECTOR",null,null,null,"PCS PAY",47730,47,"Retail trade services, except of motor vehicles and motorcycles       ",0.17404287306456559,null,null,null,null,null,null,null,null,0,null,null,{"$f":"VLOOKUP(A19979,'[1]Update Sheet'!$A$3:$Y$15578,25,FALSE)","v":{"$error":"#N/A"}},"Reportable"]
["AISHAA UMARJI","59846",null,"N","N",true,"GB","N","PRIVATE SECTOR","BL3 3AJ",null,null,"BOLTON 3AJ",82990,82,"Office administrative, office support and other business support services       ",0.1180504360352973,null,null,null,null,null,null,null,null,0,null,null,{"$f":"VLOOKUP(A19980,'[1]Update Sheet'!$A$3:$Y$15578,25,FALSE)","v":{"$error":"#N/A"}},"Reportable"]
["AIRWAVE EUROPE LTD",49939,null,"N","N",true,"GB","Y","PRIVATE SECTOR","RH14 9DE",null,null,"ESTATES",82990,82,"Office administrative, office support and other business support services       ",0.1180504360352973,null,null,null,null,null,null,null,null,0,null,null,{"$f":"VLOOKUP(A19981,'[1]Update Sheet'!$A$3:$Y$15578,25,FALSE)","v":{"$error":"#N/A"}},"Reportable"]
["ML LIVE LTD",75134,1,"Y","N","Additional Welsh Supplier","GB","N","PRIVATE SECTOR","NP26 3NU","South East Wales","Aneurin Bevan UHB","CALDICOT NP26",90020,90,"Creative, arts and entertainment services           ",0.2018836157509922,null,null,null,null,null,null,null,null,720,"*",null,{"$f":"VLOOKUP(A19982,'[1]Update Sheet'!$A$3:$Y$15578,25,FALSE)","v":0},"Reportable"]
["AIRFLOW SOLUTIONS",49479,null,"N","N",true,"GB","Y","PRIVATE SECTOR","PA11 3AL",null,null,"BRIDGE OF PA11",86900,86,"Human health services             ",0.29193168620018201,null,null,null,null,null,null,null,null,0,null,null,{"$f":"VLOOKUP(A19983,'[1]Update Sheet'!$A$3:$Y$15578,25,FALSE)","v":{"$error":"#N/A"}},"Reportable"]
["AIRCONCO (UK) LTD",58124,null,"N","N",true,"GB","N","PRIVATE SECTOR","NW7 1BA",null,null,"ESTATES",35300,"35.2-3","Gas; distribution of gaseous fuels through mains; steam and air conditioning supply    ",1.5426173808963051,null,null,null,null,null,null,null,null,0,null,null,{"$f":"VLOOKUP(A19984,'[1]Update Sheet'!$A$3:$Y$15578,25,FALSE)","v":{"$error":"#N/A"}},"Reportable"]
["AIR QUALITY CONTROL LTD",42791,null,"N","N",true,"GB","Y","PRIVATE SECTOR","M40 0JA",null,null,"ESTATES",96090,96,"Other personal services             ",7.6712791957121843E-2,null,null,null,null,null,null,null,null,0,null,null,{"$f":"VLOOKUP(A19985,'[1]Update Sheet'!$A$3:$Y$15578,25,FALSE)","v":{"$error":"#N/A"}},"Reportable"]
["AIR CONDITIONING ENGINEERS LTD",74676,null,"N","N",true,"GB","Y","PRIVATE SECTOR","B49 5QG",null,null,"ALCESTER B40",42210,41.2,"Buildings and building construction works           ",0.30500636264243469,null,null,null,null,null,null,null,null,0,null,null,{"$f":"VLOOKUP(A19986,'[1]Update Sheet'!$A$3:$Y$15578,25,FALSE)","v":{"$error":"#N/A"}},"Reportable"]
["AIR CAERNARFON LTD",71353,1,"Y","Y",true,"GB","Y","PRIVATE SECTOR","LL54 5TP","North Wales","Betsi Cadwaladr UHB","CAERNARFON LL54",52230,52,"Warehousing and support services for transportation          ",0.24376795453982661,null,null,null,null,null,null,null,null,0,null,null,{"$f":"VLOOKUP(A19987,'[1]Update Sheet'!$A$3:$Y$15578,25,FALSE)","v":{"$error":"#N/A"}},"Reportable"]
["AIMTEQ ENERGY MANAGEMENT LTD",72187,null,"N","N",true,"GB","Y","PRIVATE SECTOR","GL7 6JJ",null,null,"CIRENCESTER GL7",43390,42.99,"Specialised construction works             ",0.31026786628535008,null,null,null,null,null,null,null,null,0,null,null,{"$f":"VLOOKUP(A19988,'[1]Update Sheet'!$A$3:$Y$15578,25,FALSE)","v":{"$error":"#N/A"}},"Reportable"]
["AILEEN HOARE",60287,null,"N","N",true,"GB","N","PRIVATE SECTOR","CH4 0GE",null,null,"CHESTER CH4",96090,96,"Other personal services             ",7.6712791957121843E-2,null,null,null,null,null,null,null,null,0,null,null,{"$f":"VLOOKUP(A19989,'[1]Update Sheet'!$A$3:$Y$15578,25,FALSE)","v":{"$error":"#N/A"}},"Reportable"]
["AHMEDIA LTD",52836,null,"N","N",true,"GB","N","PRIVATE SECTOR","RH10 9WE",null,null,"CRAWLEY RH10",96090,96,"Other personal services             ",7.6712791957121843E-2,null,null,null,null,null,null,null,null,0,null,null,{"$f":"VLOOKUP(A19990,'[1]Update Sheet'!$A$3:$Y$15578,25,FALSE)","v":{"$error":"#N/A"}},"Reportable"]
["AHLQUIST LTD  T/A CAMBRIDGE OPTICS",70464,null,"N","N",true,"GB","N","PRIVATE SECTOR","CB8 8PQ",null,null,"WICKHAMCB8",47110,47,"Retail trade services, except of motor vehicles and motorcycles       ",0.17404287306456559,null,null,null,null,null,null,null,null,0,null,null,{"$f":"VLOOKUP(A19991,'[1]Update Sheet'!$A$3:$Y$15578,25,FALSE)","v":{"$error":"#N/A"}},"Reportable"]
["AHF ANALYSENTECHNI",74308,null,"N","N",true,"DE","N","PRIVATE SECTOR","DE-72074",null,null,"FOREIGN",96090,96,"Other personal services             ",7.6712791957121843E-2,null,null,null,null,null,null,null,null,0,null,null,{"$f":"VLOOKUP(A19992,'[1]Update Sheet'!$A$3:$Y$15578,25,FALSE)","v":0},"Reportable"]
["AGUA FABRICS LTD",51086,null,"N","N",true,"GB","Y","PRIVATE SECTOR","NW9 6LH",null,null,"LONDON NW9",46410,46,"Wholesale trade services, except of motor vehicles and motorcycles       ",2.0310031510736858E-2,null,null,null,null,null,null,null,null,0,null,null,{"$f":"VLOOKUP(A19993,'[1]Update Sheet'!$A$3:$Y$15578,25,FALSE)","v":0},"Reportable"]
["AGRIYORK 400 LTD",55400,null,"N","N",true,"GB","N","PRIVATE SECTOR","YO42 2QW",null,null,"YORK YO42",46760,46,"Wholesale trade services, except of motor vehicles and motorcycles       ",2.0310031510736858E-2,null,null,null,null,null,null,null,null,0,null,null,{"$f":"VLOOKUP(A19994,'[1]Update Sheet'!$A$3:$Y$15578,25,FALSE)","v":{"$error":"#N/A"}},"Reportable"]
["AGILE KINETIC LTD",74640,1,"Y","Y",true,"GB","Y","PRIVATE SECTOR","NP20 1GL","South East Wales","Aneurin Bevan UHB","NEWPORT NP20",62012,62,"Computer programming, consultancy and related services          ",0.13144659704407699,null,null,null,null,null,null,null,null,0,null,null,{"$f":"VLOOKUP(A19995,'[1]Update Sheet'!$A$3:$Y$15578,25,FALSE)","v":{"$error":"#N/A"}},"Reportable"]
["AGGREKO UK LTD",8444,null,"N","N",true,"GB","N","PRIVATE SECTOR","G82 3RG",null,null,"DUMBARTON G82",77390,77,"Rental and leasing services            ",0.13477794599811871,null,null,null,null,null,null,null,null,0,null,null,{"$f":"VLOOKUP(A19996,'[1]Update Sheet'!$A$3:$Y$15578,25,FALSE)","v":{"$error":"#N/A"}},"Reportable"]
["AGFA FINANCE UK BRANCH",21401,null,"N","N",true,"GB","Y","PRIVATE SECTOR","TW8 9TH",null,null,"BRENTFORD TW8",47410,47,"Retail trade services, except of motor vehicles and motorcycles       ",0.17404287306456559,null,null,null,null,null,null,null,null,0,null,null,{"$f":"VLOOKUP(A19997,'[1]Update Sheet'!$A$3:$Y$15578,25,FALSE)","v":{"$error":"#N/A"}},"Reportable"]
["AGENDA RECRUITMENT LTD",60780,null,"N","N",true,"GB","N","PRIVATE SECTOR","SG13 7TZ",null,null,"HERTFORD SG13",78200,78,"Employment services              ",0.1176282196328419,null,null,null,null,null,null,null,null,0,null,null,{"$f":"VLOOKUP(A19998,'[1]Update Sheet'!$A$3:$Y$15578,25,FALSE)","v":{"$error":"#N/A"}},"Reportable"]
["AGE CONCERN CHESHIRE TA AGE UK CHESHIRE",73333,null,"N","N",true,"GB","Y","VCSE","CW8 1DT",null,null,"NORTHWICH CW8",96090,96,"Other personal services             ",7.6712791957121843E-2,null,null,null,null,null,null,null,null,0,null,null,{"$f":"VLOOKUP(A19999,'[1]Update Sheet'!$A$3:$Y$15578,25,FALSE)","v":0},"Reportable"]
["AFON NEDD MINISTRY AREA",73335,1,"Y","Y",true,"GB","Y","VCSE","SA10 6BA","South West Wales","Swansea Bay UHB","NEATH SA10",96090,96,"Other personal services             ",7.6712791957121843E-2,null,null,null,null,null,null,null,null,0,null,null,{"$f":"VLOOKUP(A20000,'[1]Update Sheet'!$A$3:$Y$15578,25,FALSE)","v":0},"Reportable"]
["AFE GROUP LTD TA WILLIAMS REFRIGERATION SOUTHERN",68879,null,"N","N",true,"GB","N","PRIVATE SECTOR","ME18 5NN",null,null,"MAIDSTONE ME18",32990,32,"Other manufactured goods             ",0.67238249414981133,null,null,null,null,null,null,null,null,0,null,null,{"$f":"VLOOKUP(A20001,'[1]Update Sheet'!$A$3:$Y$15578,25,FALSE)","v":{"$error":"#N/A"}},"Reportable"]
["AFC WHITCHURCH YC FOOTBALL",77657,1,"Y","Y",true,"GB","Y","VCSE","CF14 1HT","South East Wales","Cardiff and Vale UHB","CARDIFF CF14",93000,93,"Sports services and amusement and recreation services         ",0.22280360830166321,null,null,null,null,null,null,null,null,0,null,null,{"$f":"VLOOKUP(A20002,'[1]Update Sheet'!$A$3:$Y$15578,25,FALSE)","v":{"$error":"#N/A"}},"Reportable"]
["AFASIC CYMRU",21439,1,"Y","Y",true,"GB","N","VCSE","CF24 5BS","South East Wales","Cardiff and Vale UHB","CARDIFF CF24",94990,94,"Services furnished by membership organisations           ",0.1210358880635142,null,null,null,null,null,null,null,null,0,null,null,{"$f":"VLOOKUP(A20003,'[1]Update Sheet'!$A$3:$Y$15578,25,FALSE)","v":{"$error":"#N/A"}},"Reportable"]
["AFAN VALLEY COMMUNITY LEISURE",73491,1,"Y","Y",true,"GB","Y","VCSE","SA13 3EL","South West Wales","Swansea Bay UHB","CYMMER SA13",93199,93,"Sports services and amusement and recreation services         ",0.22280360830166321,null,null,null,null,null,null,null,null,0,null,null,{"$f":"VLOOKUP(A20004,'[1]Update Sheet'!$A$3:$Y$15578,25,FALSE)","v":{"$error":"#N/A"}},"Reportable"]
["AEP INTERNATIONAL B.V.",51647,null,"N","N",true,"NL","Y","PRIVATE SECTOR","2952 CA",null,null,"FOREIGN",96090,96,"Other personal services             ",7.6712791957121843E-2,null,null,null,null,null,null,null,null,0,null,null,{"$f":"VLOOKUP(A20005,'[1]Update Sheet'!$A$3:$Y$15578,25,FALSE)","v":{"$error":"#N/A"}},"Reportable"]
["AEGIS LEGAL LTD",73437,null,"N","N",true,"GB","Y","PRIVATE SECTOR","WA16 7GY",null,null,"KNUTSFORD WA16",69102,69.099999999999994,"Legal services              ",5.7877621976311508E-2,null,null,null,null,null,null,null,null,0,null,null,{"$f":"VLOOKUP(A20006,'[1]Update Sheet'!$A$3:$Y$15578,25,FALSE)","v":0},"Reportable"]
["AECOM PROFESSIONAL SERVICES LLP",53087,null,"N","N",true,"GB","N","PRIVATE SECTOR","AL1 3ER",null,null,"ST ALBANS AL1",96090,96,"Other personal services             ",7.6712791957121843E-2,null,null,null,null,null,null,null,null,0,null,null,{"$f":"VLOOKUP(A20007,'[1]Update Sheet'!$A$3:$Y$15578,25,FALSE)","v":{"$error":"#N/A"}},"Reportable"]
["ADVOCACY MATTERS (WALES)",58030,1,"Y","Y",true,"GB","N","PRIVATE SECTOR","CF5 1JH","South East Wales","Cardiff and Vale UHB",{"$error":"#N/A"},88100,88,"Social work services without accommodation           ",0.12926092802643949,null,null,null,null,null,null,null,null,0,null,null,{"$f":"VLOOKUP(A20008,'[1]Update Sheet'!$A$3:$Y$15578,25,FALSE)","v":{"$error":"#N/A"}},"Reportable"]
["ADVINIA HEALTH CARE LTD",73478,null,"N","N",true,"GB","N","PRIVATE SECTOR","N3 2LN",null,null,"LONDON N3",86900,86,"Human health services             ",0.29193168620018201,null,null,null,null,null,null,null,null,0,null,null,{"$f":"VLOOKUP(A20009,'[1]Update Sheet'!$A$3:$Y$15578,25,FALSE)","v":{"$error":"#N/A"}},"Reportable"]
["ADVASIGN",60934,1,"Y","N","Additional Welsh Supplier","GB","N","PRIVATE SECTOR","CF41 7UW","South West Wales","Swansea Bay UHB","PENTRE CF41",82990,82,"Office administrative, office support and other business support services       ",0.1180504360352973,null,null,null,null,null,null,null,null,0,null,null,{"$f":"VLOOKUP(A20010,'[1]Update Sheet'!$A$3:$Y$15578,25,FALSE)","v":{"$error":"#N/A"}},"Reportable"]
["EVENTS ML LTD",75134,null,"N","N",true,"GB","N","PRIVATE SECTOR","NP26 3NU",null,null,"UNDY NP26",90020,90,"Creative, arts and entertainment services           ",0.2018836157509922,null,null,null,null,null,null,null,null,0,null,null,{"$f":"VLOOKUP(A20011,'[1]Update Sheet'!$A$3:$Y$15578,25,FALSE)","v":{"$error":"#N/A"}},"Reportable"]
["ADVANCED ELECTRICAL SOLUTIONS LTD",45515,1,"Y","Y",true,"GB","Y","PRIVATE SECTOR","NP20 2JL","South East Wales","Aneurin Bevan UHB","NEWPORT NP20",82990,82,"Office administrative, office support and other business support services       ",0.1180504360352973,null,null,null,null,null,null,null,null,0,null,null,{"$f":"VLOOKUP(A20012,'[1]Update Sheet'!$A$3:$Y$15578,25,FALSE)","v":{"$error":"#N/A"}},"Reportable"]
["ADVANCED DIGITAL INNOVATION UK LTD",71417,null,"N","N",true,"GB","Y","PRIVATE SECTOR","LS1 4DP",null,null,"CARDIFF CF10",74909,74,"Other professional, scientific and technical services          ",0.19142587698446711,null,null,null,null,null,null,null,null,0,null,null,{"$f":"VLOOKUP(A20013,'[1]Update Sheet'!$A$3:$Y$15578,25,FALSE)","v":{"$error":"#N/A"}},"Reportable"]
["ADVANCED COMPUTER SYSTEMS (UK) LTD",63070,null,"N","N",true,"GB","N","PRIVATE SECTOR","B1 1RF",null,null,"DONCASTER DN9",62090,62,"Computer programming, consultancy and related services          ",0.13144659704407699,null,null,null,null,null,null,null,null,0,null,null,{"$f":"VLOOKUP(A20014,'[1]Update Sheet'!$A$3:$Y$15578,25,FALSE)","v":{"$error":"#N/A"}},"Reportable"]
["ADVANCE IT SOLUTIONS LTD",71933,null,"N","N",true,"GB","N","PRIVATE SECTOR","B64 6PU",null,null,"BIRMINGHA B64",62012,62,"Computer programming, consultancy and related services          ",0.13144659704407699,null,null,null,null,null,null,null,null,0,null,null,{"$f":"VLOOKUP(A20015,'[1]Update Sheet'!$A$3:$Y$15578,25,FALSE)","v":{"$error":"#N/A"}},"Reportable"]
["ADULT LEARNING WALES",23651,1,"Y","Y",true,"GB","N","PRIVATE SECTOR","CF10 5NB","South East Wales","Cardiff and Vale UHB","CARDIFF CF10",85320,85,"Education services              ",0.10257966678326461,null,null,null,null,null,null,null,null,0,null,null,{"$f":"VLOOKUP(A20016,'[1]Update Sheet'!$A$3:$Y$15578,25,FALSE)","v":{"$error":"#N/A"}},"Reportable"]
["ADT SYSTEMS LTD",40554,null,"N","N",true,"GB","N","PRIVATE SECTOR","BS13 7DG",null,null,"BRISTOL BS13",96090,96,"Other personal services             ",7.6712791957121843E-2,null,null,null,null,null,null,null,null,0,null,null,{"$f":"VLOOKUP(A20017,'[1]Update Sheet'!$A$3:$Y$15578,25,FALSE)","v":{"$error":"#N/A"}},"Reportable"]
["ADRIENNE FREEMAN",62674,null,"N","N",true,"GB","N","PRIVATE SECTOR","WD7 8PX",null,null,"RADLETT WD7",94120,94,"Services furnished by membership organisations           ",0.1210358880635142,null,null,null,null,null,null,null,null,0,null,null,{"$f":"VLOOKUP(A20018,'[1]Update Sheet'!$A$3:$Y$15578,25,FALSE)","v":{"$error":"#N/A"}},"Reportable"]
["ADRIAN TESTER",51916,1,"Y","Y",true,"GB","N","PRIVATE SECTOR","SY23 1JG","Mid Wales","Hywel Dda UHB","ABERYSTWY SY23",7487,74,"Other professional, scientific and technical services          ",0.19142587698446711,null,null,null,null,null,null,null,null,0,null,null,{"$f":"VLOOKUP(A20019,'[1]Update Sheet'!$A$3:$Y$15578,25,FALSE)","v":{"$error":"#N/A"}},"Reportable"]
["ADOPTIONPLUS LTD",70325,null,"N","N",true,"GB","Y","PRIVATE SECTOR","MK16 0FJ",null,null,"MILTON KEY MK16",88990,88,"Social work services without accommodation           ",0.12926092802643949,null,null,null,null,null,null,null,null,0,null,null,{"$f":"VLOOKUP(A20020,'[1]Update Sheet'!$A$3:$Y$15578,25,FALSE)","v":{"$error":"#N/A"}},"Reportable"]
["ADLER MANUFACTURING LTD",8654,1,"Y","Y",true,"GB","N","PRIVATE SECTOR","SL1 4LZ","South East Wales","Cardiff and Vale UHB","CARDIFF CF24",82200,82,"Office administrative, office support and other business support services       ",0.1180504360352973,null,null,null,null,null,null,null,null,0,null,null,{"$f":"VLOOKUP(A20021,'[1]Update Sheet'!$A$3:$Y$15578,25,FALSE)","v":{"$error":"#N/A"}},"Reportable"]
["ADLER AND ALLAN LTD",76996,null,"N","N",true,"GB","Y","PRIVATE SECTOR","HG1 1HQ",null,null,"HARROGATE HG1",46120,46,"Wholesale trade services, except of motor vehicles and motorcycles       ",2.0310031510736858E-2,null,null,null,null,null,null,null,null,0,null,null,{"$f":"VLOOKUP(A20022,'[1]Update Sheet'!$A$3:$Y$15578,25,FALSE)","v":{"$error":"#N/A"}},"Reportable"]
["ADELPHI COLDSTREAM",34595,null,"N","N",true,"GB","Y","PRIVATE SECTOR","RH16 1XQ",null,null,"HAYWARDS RH16",32990,32,"Other manufactured goods             ",0.67238249414981133,null,null,null,null,null,null,null,null,0,null,null,{"$f":"VLOOKUP(A20023,'[1]Update Sheet'!$A$3:$Y$15578,25,FALSE)","v":{"$error":"#N/A"}},"Reportable"]
["ADELE PASK",65771,1,"Y","Y",true,"GB","N","PRIVATE SECTOR","NP12 2HT","South East Wales","Aneurin Bevan UHB","BLACKWOOD NP12",7487,74,"Other professional, scientific and technical services          ",0.19142587698446711,null,null,null,null,null,null,null,null,0,null,null,{"$f":"VLOOKUP(A20024,'[1]Update Sheet'!$A$3:$Y$15578,25,FALSE)","v":{"$error":"#N/A"}},"Reportable"]
["ADEILADWYR MON CYF ANGLESEY BUILDERS LTD",70151,1,"Y","Y",true,"GB","Y","PRIVATE SECTOR","LL77 7XA","North Wales","Betsi Cadwaladr UHB","ESTATES",43390,42.99,"Specialised construction works             ",0.31026786628535008,null,null,null,null,null,null,null,null,0,null,null,{"$f":"VLOOKUP(A20025,'[1]Update Sheet'!$A$3:$Y$15578,25,FALSE)","v":{"$error":"#N/A"}},"Reportable"]
["ADE POWER LTD",48552,null,"N","N",true,"GB","Y","PRIVATE SECTOR","WF9 3AP",null,null,"PONTEFRAC WF9",82990,82,"Office administrative, office support and other business support services       ",0.1180504360352973,null,null,null,null,null,null,null,null,0,null,null,{"$f":"VLOOKUP(A20026,'[1]Update Sheet'!$A$3:$Y$15578,25,FALSE)","v":{"$error":"#N/A"}},"Reportable"]
["ADDISON’S DISEASE SELF HELP GROUP",72163,null,"N","N",true,"GB","Y","VCSE","BS34 8YU",null,null,"BRISTOL BS34",96090,96,"Other personal services             ",7.6712791957121843E-2,null,null,null,null,null,null,null,null,0,null,null,{"$f":"VLOOKUP(A20027,'[1]Update Sheet'!$A$3:$Y$15578,25,FALSE)","v":0},"Reportable"]
["ADDENBROOKES HOSPITAL",8,null,"N","N",true,"GB","N","PUBLIC SECTOR","CB2 2QQ",null,null,"PHARMACY",88990,88,"Social work services without accommodation           ",0.12926092802643949,null,null,null,null,null,null,null,null,0,null,null,{"$f":"VLOOKUP(A20028,'[1]Update Sheet'!$A$3:$Y$15578,25,FALSE)","v":{"$error":"#N/A"}},"Reportable"]
["ADDA LTD TA HILTON LONDON HEATHROW AIRPORT",74754,null,"N","N",true,"GB","N","VCSE","TW6 3AF",null,null,"HOUNSLOW TW6",49320,"49.3-5","Land transport services and transport services via pipelines, excluding rail transport     ",0.60315703544097854,null,null,null,null,null,null,null,null,0,null,null,{"$f":"VLOOKUP(A20029,'[1]Update Sheet'!$A$3:$Y$15578,25,FALSE)","v":{"$error":"#N/A"}},"Reportable"]
["ADARE SEC LTD T/A KALAMAZOO DIRECT",550,null,"N","N",true,"GB","Y","PRIVATE SECTOR","B98 0FY",null,null,"REDDITCH B98",17230,17,"Paper and paper products            ",0.70687696279521584,null,null,null,null,null,null,null,null,0,null,null,{"$f":"VLOOKUP(A20030,'[1]Update Sheet'!$A$3:$Y$15578,25,FALSE)","v":{"$error":"#N/A"}},"Reportable"]
["ADAMS ENVIRONMENTAL LTD",37986,null,"N","N",true,"GB","Y","PRIVATE SECTOR","SM3 9QP",null,null,"SUTTON SM3",71200,71,"Architectural and engineering services; technical testing and analysis services       ",0.1560575201743172,null,null,null,null,null,null,null,null,0,null,null,{"$f":"VLOOKUP(A20031,'[1]Update Sheet'!$A$3:$Y$15578,25,FALSE)","v":{"$error":"#N/A"}},"Reportable"]
["ADAM TURNER",75357,1,"Y","Y",true,"GB","Y","PRIVATE SECTOR","SA3 3AX","South West Wales","Swansea Bay UHB","SWANSEA SA3",96090,96,"Other personal services             ",7.6712791957121843E-2,null,null,null,null,null,null,null,null,0,null,null,{"$f":"VLOOKUP(A20032,'[1]Update Sheet'!$A$3:$Y$15578,25,FALSE)","v":0},"Reportable"]
["ADAM PORTER BDS",70832,1,"Y","Y",true,"GB","N","PRIVATE SECTOR","CF14 1JY","South East Wales","Cardiff and Vale UHB","CARDIFF CF14",7487,74,"Other professional, scientific and technical services          ",0.19142587698446711,null,null,null,null,null,null,null,null,0,null,null,{"$f":"VLOOKUP(A20033,'[1]Update Sheet'!$A$3:$Y$15578,25,FALSE)","v":{"$error":"#N/A"}},"Reportable"]
["ADAM MAGOS",74764,null,"N","N",true,"GB","Y","PRIVATE SECTOR","EN5 4EE",null,null,"BARNET EN5",96090,96,"Other personal services             ",7.6712791957121843E-2,null,null,null,null,null,null,null,null,0,null,null,{"$f":"VLOOKUP(A20034,'[1]Update Sheet'!$A$3:$Y$15578,25,FALSE)","v":0},"Reportable"]
["ADAM CREWE",73690,null,"N","N",true,"GB","Y","PRIVATE SECTOR","SA31 3FA",null,null,"CARMARTHE SA31",96090,96,"Other personal services             ",7.6712791957121843E-2,null,null,null,null,null,null,null,null,0,null,null,{"$f":"VLOOKUP(A20035,'[1]Update Sheet'!$A$3:$Y$15578,25,FALSE)","v":0},"Reportable"]
["AD DUA EMPORIUM LTD",77566,null,"N","N",true,"GB","Y","PRIVATE SECTOR","B11 3PT",null,null,null,47210,47,"Retail trade services, except of motor vehicles and motorcycles       ",0.17404287306456559,null,null,null,null,null,null,null,null,0,null,null,{"$f":"VLOOKUP(A20036,'[1]Update Sheet'!$A$3:$Y$15578,25,FALSE)","v":{"$error":"#N/A"}},"Reportable"]
["ACUMEDIC LTD",326,null,"N","N",true,"GB","Y","PRIVATE SECTOR","NW1 7JN",null,null,"LONDON NW1",32500,32,"Other manufactured goods             ",0.67238249414981133,null,null,null,null,null,null,null,null,0,null,null,{"$f":"VLOOKUP(A20037,'[1]Update Sheet'!$A$3:$Y$15578,25,FALSE)","v":{"$error":"#N/A"}},"Reportable"]
["ACUITY TRAINING LTD",72673,null,"N","N",true,"GB","N","PRIVATE SECTOR","GU2 7YG",null,null,"SURREY GU2",85590,85,"Education services              ",0.10257966678326461,null,null,null,null,null,null,null,null,0,null,null,{"$f":"VLOOKUP(A20038,'[1]Update Sheet'!$A$3:$Y$15578,25,FALSE)","v":{"$error":"#N/A"}},"Reportable"]
["ACUITY RISK MANAGEMENT LLP",41798,null,"N","N",true,"GB","Y","PRIVATE SECTOR","W1W 6XX",null,null,"FARNHAM GU9",62012,62,"Computer programming, consultancy and related services          ",0.13144659704407699,null,null,null,null,null,null,null,null,0,null,null,{"$f":"VLOOKUP(A20039,'[1]Update Sheet'!$A$3:$Y$15578,25,FALSE)","v":{"$error":"#N/A"}},"Reportable"]
["ACUITY LAW LTD",54902,1,"Y","Y",true,"GB","Y","PRIVATE SECTOR","CF10 4PL","South East Wales","Cardiff and Vale UHB","CARDIFF CF10",69102,69.099999999999994,"Legal services              ",5.7877621976311508E-2,null,null,null,null,null,null,null,null,0,null,null,{"$f":"VLOOKUP(A20040,'[1]Update Sheet'!$A$3:$Y$15578,25,FALSE)","v":{"$error":"#N/A"}},"Reportable"]
["ACTION FOR ELDERS TRUST",52159,1,"Y","Y",true,"GB","Y","VCSE","CF23 8RS","South East Wales","Cardiff and Vale UHB","CARDIFF CF23",86000,86,"Human health services             ",0.29193168620018201,null,null,null,null,null,null,null,null,0,null,null,{"$f":"VLOOKUP(A20041,'[1]Update Sheet'!$A$3:$Y$15578,25,FALSE)","v":{"$error":"#N/A"}},"Reportable"]
["PENTAGON SPORT (SOUTH) LTD",75195,null,"N","N",true,"GB","Y","PRIVATE SECTOR","BS32 4QD",null,null,"BRISTOL BS32",43290,42.99,"Specialised construction works             ",0.31026786628535008,null,null,null,null,null,null,null,null,7458,"*",null,{"$f":"VLOOKUP(A20042,'[1]Update Sheet'!$A$3:$Y$15578,25,FALSE)","v":0},"Reportable"]
["ACP ELECTRICAL LTD",66765,1,"Y","Y",true,"GB","N","PRIVATE SECTOR","CF48 3BE","South East Wales","Cwm Taf Morgannwg UHB","MERTYHR TYD CF4",43210,42.99,"Specialised construction works             ",0.31026786628535008,null,null,null,null,null,null,null,null,0,null,null,{"$f":"VLOOKUP(A20043,'[1]Update Sheet'!$A$3:$Y$15578,25,FALSE)","v":{"$error":"#N/A"}},"Reportable"]
["ACORN CARE AND EDUCATION LTD TA OPTIONS AUTISM",74655,null,"N","N",true,"GB","Y","PRIVATE SECTOR","BL1 4AG",null,null,"BOLTON BL1",86900,86,"Human health services             ",0.29193168620018201,null,null,null,null,null,null,null,null,0,null,null,{"$f":"VLOOKUP(A20044,'[1]Update Sheet'!$A$3:$Y$15578,25,FALSE)","v":{"$error":"#N/A"}},"Reportable"]
["ACOO REVIEW LTD TA PROMOS CENTRAL",75407,null,"N","N",true,"GB","Y","PRIVATE SECTOR","G75 0QR",null,null,"GLASGOW G75",96090,96,"Other personal services             ",7.6712791957121843E-2,null,null,null,null,null,null,null,null,0,null,null,{"$f":"VLOOKUP(A20045,'[1]Update Sheet'!$A$3:$Y$15578,25,FALSE)","v":0},"Reportable"]
["ACHIEVING SUSTAINABLE CHANGE LTD",77168,1,"Y","Y",true,"GB","Y","PRIVATE SECTOR","CF23 6PB","South East Wales","Cardiff and Vale UHB",null,74909,74,"Other professional, scientific and technical services          ",0.19142587698446711,null,null,null,null,null,null,null,null,0,null,null,{"$f":"VLOOKUP(A20046,'[1]Update Sheet'!$A$3:$Y$15578,25,FALSE)","v":{"$error":"#N/A"}},"Reportable"]
["ACER ECOLOGY LTD",62451,1,"Y","Y",true,"GB","N","PRIVATE SECTOR","CF64 2RL","South East Wales","Cardiff and Vale UHB","PENARTH CF64",86900,86,"Human health services             ",0.29193168620018201,null,null,null,null,null,null,null,null,0,null,null,{"$f":"VLOOKUP(A20047,'[1]Update Sheet'!$A$3:$Y$15578,25,FALSE)","v":{"$error":"#N/A"}},"Reportable"]
["ACE LANGUAGE SERVICES",29924,1,"Y","Y",true,"GB","N","PRIVATE SECTOR","NP19 8EA","South East Wales","Aneurin Bevan UHB","NEWPORT NP19",74300,74,"Other professional, scientific and technical services          ",0.19142587698446711,null,null,null,null,null,null,null,null,0,null,null,{"$f":"VLOOKUP(A20048,'[1]Update Sheet'!$A$3:$Y$15578,25,FALSE)","v":{"$error":"#N/A"}},"Reportable"]
["ACE ESSENTIAL SUPPLIES LTD",33564,1,"Y","Y",true,"GB","N","PRIVATE SECTOR","CF3 2EY","South East Wales","Cardiff and Vale UHB","CARDIFF CF3",68209,"68.2IMP","Owner-Occupiers' Housing Services",3.9621368125994462E-2,null,null,null,null,null,null,null,null,0,null,null,{"$f":"VLOOKUP(A20049,'[1]Update Sheet'!$A$3:$Y$15578,25,FALSE)","v":0},"Reportable"]
["ACCUSOFT",51039,null,"N","N",true,"US","N","PRIVATE SECTOR","FL 33603",null,null,"TAMPA FL33603",96090,96,"Other personal services             ",7.6712791957121843E-2,null,null,null,null,null,null,null,null,0,null,null,{"$f":"VLOOKUP(A20050,'[1]Update Sheet'!$A$3:$Y$15578,25,FALSE)","v":{"$error":"#N/A"}},"Reportable"]
["ACCRO CLEARLINE LTD",66846,null,"N","N",true,"GB","Y","PRIVATE SECTOR",null,null,null,"SALISBURY SP2",96090,96,"Other personal services             ",7.6712791957121843E-2,null,null,null,null,null,null,null,null,0,null,null,{"$f":"VLOOKUP(A20051,'[1]Update Sheet'!$A$3:$Y$15578,25,FALSE)","v":{"$error":"#N/A"}},"Reportable"]
["ACCOUNTIS EUROPE LTD",51696,1,"Y","Y",true,"GB","Y","PRIVATE SECTOR","LL57 4EZ","North Wales","Betsi Cadwaladr UHB","BANGOR LL57",82990,82,"Office administrative, office support and other business support services       ",0.1180504360352973,null,null,null,null,null,null,null,null,0,null,null,{"$f":"VLOOKUP(A20052,'[1]Update Sheet'!$A$3:$Y$15578,25,FALSE)","v":{"$error":"#N/A"}},"Reportable"]
["ACCO SERVICE DIVISION",4529,null,"N","N",true,"GB","N","PRIVATE SECTOR","HP21 8SZ",null,null,"AYLESBUR HP21",96090,96,"Other personal services             ",7.6712791957121843E-2,null,null,null,null,null,null,null,null,0,null,null,{"$f":"VLOOKUP(A20053,'[1]Update Sheet'!$A$3:$Y$15578,25,FALSE)","v":{"$error":"#N/A"}},"Reportable"]
["ACCIDENT CLAIMS LAWYERS LTD",74065,null,"N","N",true,"GB","Y","PRIVATE SECTOR","L3 4BQ",null,null,"LIVERPOOL L3",69102,69.099999999999994,"Legal services              ",5.7877621976311508E-2,null,null,null,null,null,null,null,null,0,null,null,{"$f":"VLOOKUP(A20054,'[1]Update Sheet'!$A$3:$Y$15578,25,FALSE)","v":0},"Reportable"]
["ACCIDENT & EMERGENCY AGENCY LTD",34708,null,"N","N",true,"GB","N","PRIVATE SECTOR","N1 9NG",null,null,"LONDON E1W",86900,86,"Human health services             ",0.29193168620018201,null,null,null,null,null,null,null,null,0,null,null,{"$f":"VLOOKUP(A20055,'[1]Update Sheet'!$A$3:$Y$15578,25,FALSE)","v":{"$error":"#N/A"}},"Reportable"]
["ACCESSIBILITY POWYS LTD",48917,1,"Y","Y",true,"GB","Y","PRIVATE SECTOR","LD1 5EB","Mid Wales","Powys Teaching HB","LLANDRIND LD1",63990,63,"Information services              ",0.16934169875693919,null,null,null,null,null,null,null,null,0,null,null,{"$f":"VLOOKUP(A20056,'[1]Update Sheet'!$A$3:$Y$15578,25,FALSE)","v":{"$error":"#N/A"}},"Reportable"]
["ACCESS2LEARN LTD",59675,null,"N","N",true,"GB","N","PRIVATE SECTOR","SO40 7QF",null,null,"SOUTHAMPT SO40",86900,86,"Human health services             ",0.29193168620018201,null,null,null,null,null,null,null,null,0,null,null,{"$f":"VLOOKUP(A20057,'[1]Update Sheet'!$A$3:$Y$15578,25,FALSE)","v":{"$error":"#N/A"}},"Reportable"]
["ACCESS INDEPENDENCE CONSULTING LTD",76409,null,"N","N",true,"GB","Y","PRIVATE SECTOR","B4 6GA",null,null,"BIRMINGHAM B4",85600,85,"Education services              ",0.10257966678326461,null,null,null,null,null,null,null,null,0,null,null,{"$f":"VLOOKUP(A20058,'[1]Update Sheet'!$A$3:$Y$15578,25,FALSE)","v":{"$error":"#N/A"}},"Reportable"]
["ACCESS 360 LTD",74278,null,"N","N",true,"GB","N","PRIVATE SECTOR","CM3 8RD",null,null,"ESSEX CM3",96090,96,"Other personal services             ",7.6712791957121843E-2,null,null,null,null,null,null,null,null,0,null,null,{"$f":"VLOOKUP(A20059,'[1]Update Sheet'!$A$3:$Y$15578,25,FALSE)","v":0},"Reportable"]
["ACC LIVERPOOL HOTEL LTD TA PULLMAN LIVERPOOL HOTEL LTD",71415,null,"N","N",true,"GB","Y","PRIVATE SECTOR","L3 4FP",null,null,"LIVERPOOL L3",55100,55,"Accommodation services              ",0.32444602703376968,null,null,null,null,null,null,null,null,0,null,null,{"$f":"VLOOKUP(A20060,'[1]Update Sheet'!$A$3:$Y$15578,25,FALSE)","v":{"$error":"#N/A"}},"Reportable"]
["ACADEMII LTD",72010,1,"Y","Y",true,"GB","Y","PRIVATE SECTOR","CF83 3ED","South East Wales","Cardiff and Vale UHB","CAERPHILL CF83",85600,85,"Education services              ",0.10257966678326461,null,null,null,null,null,null,null,null,0,null,null,{"$f":"VLOOKUP(A20061,'[1]Update Sheet'!$A$3:$Y$15578,25,FALSE)","v":{"$error":"#N/A"}},"Reportable"]
["AC LISTER ELECTRICAL",72029,1,"Y","Y",true,"GB","Y","PRIVATE SECTOR","SY17 5DD","Mid Wales","Powys Teaching HB","LLANDINAM SY17",96090,96,"Other personal services             ",7.6712791957121843E-2,null,null,null,null,null,null,null,null,0,null,null,{"$f":"VLOOKUP(A20062,'[1]Update Sheet'!$A$3:$Y$15578,25,FALSE)","v":0},"Reportable"]
["ABU BAKR MADDEN AL SHABAZZ",69710,1,"Y","Y",true,"GB","Y","PRIVATE SECTOR","CF24 2TB","South East Wales","Cardiff and Vale UHB","TREMORFA CF24",82990,82,"Office administrative, office support and other business support services       ",0.1180504360352973,null,null,null,null,null,null,null,null,0,null,null,{"$f":"VLOOKUP(A20063,'[1]Update Sheet'!$A$3:$Y$15578,25,FALSE)","v":{"$error":"#N/A"}},"Reportable"]
["ABSOLUTE COLDROOM LTD",73300,null,"N","N",true,"GB","Y","PRIVATE SECTOR","BD23 6HR",null,null,"BEAMSLEY BD23",96090,96,"Other personal services             ",7.6712791957121843E-2,null,null,null,null,null,null,null,null,0,null,null,{"$f":"VLOOKUP(A20064,'[1]Update Sheet'!$A$3:$Y$15578,25,FALSE)","v":0},"Reportable"]
["ABOVE DIFFERENCE LTD",65925,null,"N","N",true,"GB","Y","PRIVATE SECTOR","CM1 1JR",null,null,"CHELMSFORD CM1",70229,70,"Services of head offices; management consulting services         ",9.3681183759862049E-2,null,null,null,null,null,null,null,null,0,null,null,{"$f":"VLOOKUP(A20065,'[1]Update Sheet'!$A$3:$Y$15578,25,FALSE)","v":{"$error":"#N/A"}},"Reportable"]
["ABLEWORLD UK LTD",64745,null,"N","N",true,"GB","N","PRIVATE SECTOR","CW5 7JW",null,null,"STAPELEY CW5",47789,47,"Retail trade services, except of motor vehicles and motorcycles       ",0.17404287306456559,null,null,null,null,null,null,null,null,0,null,null,{"$f":"VLOOKUP(A20066,'[1]Update Sheet'!$A$3:$Y$15578,25,FALSE)","v":{"$error":"#N/A"}},"Reportable"]
["ABLE CANOPIES LTD",75127,null,"N","N",true,"GB","Y","PRIVATE SECTOR","CO15 4TR",null,null,"CLACTON ON CO15",41201,41.2,"Buildings and building construction works           ",0.30500636264243469,null,null,null,null,null,null,null,null,0,null,null,{"$f":"VLOOKUP(A20067,'[1]Update Sheet'!$A$3:$Y$15578,25,FALSE)","v":{"$error":"#N/A"}},"Reportable"]
["ABILITY HOTELS (LIVERPOOL) LTD",43131,null,"N","N",true,"GB","N","PRIVATE SECTOR","L1 8LW",null,null,"LIVERPOOL L1",55100,55,"Accommodation services              ",0.32444602703376968,null,null,null,null,null,null,null,null,0,null,null,{"$f":"VLOOKUP(A20068,'[1]Update Sheet'!$A$3:$Y$15578,25,FALSE)","v":{"$error":"#N/A"}},"Reportable"]
["ABIGAIL CRUTCHER",72054,1,"Y","Y",true,"GB","Y","PRIVATE SECTOR","SY21 0BF","Mid Wales","Powys Teaching HB","WELSHPOOL SY21",86900,86,"Human health services             ",0.29193168620018201,null,null,null,null,null,null,null,null,0,null,null,{"$f":"VLOOKUP(A20069,'[1]Update Sheet'!$A$3:$Y$15578,25,FALSE)","v":{"$error":"#N/A"}},"Reportable"]
["ABIANDA",73459,null,"N","N",true,"GB","Y","VCSE","N5 2EF",null,null,"LONDON N5",96090,96,"Other personal services             ",7.6712791957121843E-2,null,null,null,null,null,null,null,null,0,null,null,{"$f":"VLOOKUP(A20070,'[1]Update Sheet'!$A$3:$Y$15578,25,FALSE)","v":0},"Reportable"]
["ABI SOLUTIONS",47657,null,"N","N",true,"GB","N","PRIVATE SECTOR","CR2 7BH",null,null,"PURLEY CR8",82990,82,"Office administrative, office support and other business support services       ",0.1180504360352973,null,null,null,null,null,null,null,null,0,null,null,{"$f":"VLOOKUP(A20071,'[1]Update Sheet'!$A$3:$Y$15578,25,FALSE)","v":{"$error":"#N/A"}},"Reportable"]
["ABERPORTH VILLAGE HALL & RECREATIONAL GROUND",73192,null,"N","N",true,"GB","Y","VCSE","SY43 2EW",null,null,"CARDIGAN SY43",96090,96,"Other personal services             ",7.6712791957121843E-2,null,null,null,null,null,null,null,null,0,null,null,{"$f":"VLOOKUP(A20072,'[1]Update Sheet'!$A$3:$Y$15578,25,FALSE)","v":0},"Reportable"]
["ABERMAD NURSING HOME",38424,1,"Y","Y",true,"GB","Y","PRIVATE SECTOR","SY23 4ES","Mid Wales","Hywel Dda UHB","ABERYSTWY SY23",87100,87,"Residential care services             ",0.16514437058930551,null,null,null,null,null,null,null,null,0,null,null,{"$f":"VLOOKUP(A20073,'[1]Update Sheet'!$A$3:$Y$15578,25,FALSE)","v":{"$error":"#N/A"}},"Reportable"]
["ABERGELE GOLF CLUB",73260,1,"Y","Y",true,"GB","Y","PRIVATE SECTOR","LL228DS","North Wales","Betsi Cadwaladr UHB","ABERGELE LL22",96090,96,"Other personal services             ",7.6712791957121843E-2,null,null,null,null,null,null,null,null,0,null,null,{"$f":"VLOOKUP(A20074,'[1]Update Sheet'!$A$3:$Y$15578,25,FALSE)","v":0},"Reportable"]
["ABERGAVENNY TAXIS LTD","61949",1,"Y","Y",true,"GB","Y","PRIVATE SECTOR","NP7 6DD","South East Wales","Aneurin Bevan UHB","CHC ABERGAVENNY",49320,"49.3-5","Land transport services and transport services via pipelines, excluding rail transport     ",0.60315703544097854,null,null,null,null,null,null,null,null,0,null,null,{"$f":"VLOOKUP(A20075,'[1]Update Sheet'!$A$3:$Y$15578,25,FALSE)","v":{"$error":"#N/A"}},"Reportable"]
["ABERGAVENNY GUIDE CENTRE",73583,1,"Y","Y",true,"GB","N","VCSE","NP7 5TR","South East Wales","Aneurin Bevan UHB","ABERGAVEN NP7",55300,55,"Accommodation services              ",0.32444602703376968,null,null,null,null,null,null,null,null,0,null,null,{"$f":"VLOOKUP(A20076,'[1]Update Sheet'!$A$3:$Y$15578,25,FALSE)","v":{"$error":"#N/A"}},"Reportable"]
["ABERGAVENNY FACILITIES OPERATION",12321,null,"N","N",true,"GB","Y","PRIVATE SECTOR","BS1 4DJ",null,null,"BRISTOL BS1",68320,68.3,"Real estate services on a fee or contract basis       ",8.4914337844308282E-2,null,null,null,null,null,null,null,null,0,null,null,{"$f":"VLOOKUP(A20077,'[1]Update Sheet'!$A$3:$Y$15578,25,FALSE)","v":{"$error":"#N/A"}},"Reportable"]
["ABERGAVENNY CHRONICLE CO LTD",19161,null,"N","N",true,"GB","N","PRIVATE SECTOR","NP7 5AA",null,null,"ABERGAVEN NP7",58130,58,"Publishing services              ",8.0219457227851232E-2,null,null,null,null,null,null,null,null,0,null,null,{"$f":"VLOOKUP(A20078,'[1]Update Sheet'!$A$3:$Y$15578,25,FALSE)","v":{"$error":"#N/A"}},"Reportable"]
["PENTAGON SPORT (SOUTH) LTD TA PENTAGON PLAY",75195,null,"N","N",true,"GB","Y","PRIVATE SECTOR","BS32 4QD",null,null,"BRISTOL BS32",43290,42.99,"Specialised construction works             ",0.31026786628535008,null,null,null,null,null,null,null,null,0,null,null,{"$f":"VLOOKUP(A20079,'[1]Update Sheet'!$A$3:$Y$15578,25,FALSE)","v":{"$error":"#N/A"}},"Reportable"]
["ABERAVON BEACH HOTEL",57050,1,"Y","Y",true,"GB","Y","PRIVATE SECTOR","SA12 6QP","South West Wales","Swansea Bay UHB","PORT TALB SA12",55100,55,"Accommodation services              ",0.32444602703376968,null,null,null,null,null,null,null,null,0,null,null,{"$f":"VLOOKUP(A20080,'[1]Update Sheet'!$A$3:$Y$15578,25,FALSE)","v":{"$error":"#N/A"}},"Reportable"]
["ABERAMAN SURGERY",67456,1,"Y","Y",true,"GB","N","PRIVATE SECTOR","CF44 6SR","South East Wales","Cwm Taf Morgannwg UHB","ABERDARE CF44",86900,86,"Human health services             ",0.29193168620018201,null,null,null,null,null,null,null,null,0,null,null,{"$f":"VLOOKUP(A20081,'[1]Update Sheet'!$A$3:$Y$15578,25,FALSE)","v":{"$error":"#N/A"}},"Reportable"]
["ABER WROUGHT IRON LTD",63764,1,"Y","Y",true,"GB","Y","PRIVATE SECTOR","CF81 9EP","South East Wales","Aneurin Bevan UHB","BARGOED CF81",86900,86,"Human health services             ",0.29193168620018201,null,null,null,null,null,null,null,null,0,null,null,{"$f":"VLOOKUP(A20082,'[1]Update Sheet'!$A$3:$Y$15578,25,FALSE)","v":{"$error":"#N/A"}},"Reportable"]
["ABER VALLEY YMCA",12320,1,"Y","N","Additional Welsh Supplier ","GB","N","VCSE","CF83 4BH","South East Wales","Aneurin Bevan UHB","ABERTRIDW CF8",56301,56,"Food and beverage serving services           ",0.28886167518608219,2023,710830,305880,596660,{"$f":"SUM(S20083:U20083)","v":1613370},21742000,{"$f":"V20083/W20083","v":7.420522491031184E-2},"CRP",0,null,null,{"$f":"VLOOKUP(A20083,'[1]Update Sheet'!$A$3:$Y$15578,25,FALSE)","v":"In Master List"},"Reportable"]
["ABENA UK LTD",32178,null,"N","N",true,"GB","N","PRIVATE SECTOR","CV5 6US",null,null,"COVENTRY CV5",32500,32,"Other manufactured goods             ",0.67238249414981133,null,null,null,null,null,null,null,null,0,null,null,{"$f":"VLOOKUP(A20084,'[1]Update Sheet'!$A$3:$Y$15578,25,FALSE)","v":{"$error":"#N/A"}},"Reportable"]
["ABEL AND IMRAY LLP",77607,null,"N","N",true,"GB","Y","PRIVATE SECTOR","EC4A 3AC",null,null,"LONDON EC4A",69102,69.099999999999994,"Legal services              ",5.7877621976311508E-2,null,null,null,null,null,null,null,null,0,null,null,{"$f":"VLOOKUP(A20085,'[1]Update Sheet'!$A$3:$Y$15578,25,FALSE)","v":{"$error":"#N/A"}},"Reportable"]
["ABC FOOD LAW LTD",77749,null,"N","N",true,"GB","Y","PRIVATE SECTOR","NR4 7UG",null,null,null,82990,82,"Office administrative, office support and other business support services       ",0.1180504360352973,null,null,null,null,null,null,null,null,0,null,null,{"$f":"VLOOKUP(A20086,'[1]Update Sheet'!$A$3:$Y$15578,25,FALSE)","v":{"$error":"#N/A"}},"Reportable"]
["ABBOTT HEALTHCARE PRODUCTS LTD",281,null,"N","N",true,"GB","N","PRIVATE SECTOR","ME10 3SU",null,null,"SITTINGBO ME10",46460,46,"Wholesale trade services, except of motor vehicles and motorcycles       ",2.0310031510736858E-2,null,null,null,null,null,null,null,null,0,null,null,{"$f":"VLOOKUP(A20087,'[1]Update Sheet'!$A$3:$Y$15578,25,FALSE)","v":{"$error":"#N/A"}},"Reportable"]
["ABBEY SOLICITORS",59668,null,"N","N",true,"GB","N","PRIVATE SECTOR","M14 5JQ",null,null,"MANCHESTE M14",69102,69.099999999999994,"Legal services              ",5.7877621976311508E-2,null,null,null,null,null,null,null,null,0,null,null,{"$f":"VLOOKUP(A20088,'[1]Update Sheet'!$A$3:$Y$15578,25,FALSE)","v":{"$error":"#N/A"}},"Reportable"]
["RESPOND SERVICE AND MAINTAIN LTD",75311,null,"N","N",true,"GB","Y","PRIVATE SECTOR","HX3 7TY",null,null,"HALIFAX HX3",70229,70,"Services of head offices; management consulting services         ",9.3681183759862049E-2,null,null,null,null,null,null,null,null,5810.58,"*",null,{"$f":"VLOOKUP(A20089,'[1]Update Sheet'!$A$3:$Y$15578,25,FALSE)","v":0},"Reportable"]
["ABBEY BUILDING SUPPLIES",74151,1,"Y","Y",true,"GB","Y","PRIVATE SECTOR","SA10 6PF","South West Wales","Swansea Bay UHB","NEATH SA10",96090,96,"Other personal services             ",7.6712791957121843E-2,null,null,null,null,null,null,null,null,0,null,null,{"$f":"VLOOKUP(A20090,'[1]Update Sheet'!$A$3:$Y$15578,25,FALSE)","v":0},"Reportable"]
["ABACUS SOLICITORS LLP",62532,null,"N","N",true,"GB","Y","PRIVATE SECTOR","M3 2PN",null,null,{"$error":"#N/A"},69102,69.099999999999994,"Legal services              ",5.7877621976311508E-2,null,null,null,null,null,null,null,null,0,null,null,{"$f":"VLOOKUP(A20091,'[1]Update Sheet'!$A$3:$Y$15578,25,FALSE)","v":{"$error":"#N/A"}},"Reportable"]
["ABACUS PLAYGROUNDS LTD",73093,null,"N","N",true,"GB","Y","PRIVATE SECTOR","DE21 4BB",null,null,"DERBY DE21",43999,42.99,"Specialised construction works             ",0.31026786628535008,null,null,null,null,null,null,null,null,0,null,null,{"$f":"VLOOKUP(A20092,'[1]Update Sheet'!$A$3:$Y$15578,25,FALSE)","v":{"$error":"#N/A"}},"Reportable"]
["AB MOLECULAR LTD",67604,null,"N","N",true,"GB","Y","PRIVATE SECTOR","MK18 2LR",null,null,"BUCKINGHA MK18",46460,46,"Wholesale trade services, except of motor vehicles and motorcycles       ",2.0310031510736858E-2,null,null,null,null,null,null,null,null,0,null,null,{"$f":"VLOOKUP(A20093,'[1]Update Sheet'!$A$3:$Y$15578,25,FALSE)","v":0},"Reportable"]
["AB LITTLEJOHN & SONS LTD TA DENTAL TECHNOLOGY SERVICES",48743,null,"N","N",true,"GB","N","PRIVATE SECTOR","G31 2YX",null,null,"GLASGOW G31",32500,32,"Other manufactured goods             ",0.67238249414981133,null,null,null,null,null,null,null,null,0,null,null,{"$f":"VLOOKUP(A20094,'[1]Update Sheet'!$A$3:$Y$15578,25,FALSE)","v":{"$error":"#N/A"}},"Reportable"]
["AALTO SCIENTIFIC LTD",77368,null,"N","N",true,"GB","Y","PRIVATE SECTOR","GA 31024",null,null,"FOREIGN",28000,28,"Machinery and equipment n.e.c.            ",0.33561667817643598,null,null,null,null,null,null,null,null,0,null,null,{"$f":"VLOOKUP(A20095,'[1]Update Sheet'!$A$3:$Y$15578,25,FALSE)","v":{"$error":"#N/A"}},"Reportable"]
["A4 MTS MIDLANDS LTD",55030,null,"N","N",true,"GB","N","PRIVATE SECTOR","B1 1TW",null,null,"BIRMINGHA B1",82990,82,"Office administrative, office support and other business support services       ",0.1180504360352973,null,null,null,null,null,null,null,null,0,null,null,{"$f":"VLOOKUP(A20096,'[1]Update Sheet'!$A$3:$Y$15578,25,FALSE)","v":{"$error":"#N/A"}},"Reportable"]
["A2B TORFAEN LTD",41219,1,"Y","Y",true,"GB","Y","PRIVATE SECTOR","NP44 3BB","South East Wales","Aneurin Bevan UHB","CWMBRAN NP44",49320,"49.3-5","Land transport services and transport services via pipelines, excluding rail transport     ",0.60315703544097854,null,null,null,null,null,null,null,null,0,null,null,{"$f":"VLOOKUP(A20097,'[1]Update Sheet'!$A$3:$Y$15578,25,FALSE)","v":{"$error":"#N/A"}},"Reportable"]
["A1 RISK SOLUTIONS LTD",62280,null,"N","N",true,"GB","Y","PRIVATE SECTOR","SK15 2QF",null,null,"STALYBRID SK15",96090,96,"Other personal services             ",7.6712791957121843E-2,null,null,null,null,null,null,null,null,0,null,null,{"$f":"VLOOKUP(A20098,'[1]Update Sheet'!$A$3:$Y$15578,25,FALSE)","v":{"$error":"#N/A"}},"Reportable"]
["A1 BLINDS",14586,1,"Y","Y",true,"GB","N","PRIVATE SECTOR","NP22 4LA","South East Wales","Aneurin Bevan UHB","TREDEGAR NP22",82990,82,"Office administrative, office support and other business support services       ",0.1180504360352973,null,null,null,null,null,null,null,null,0,null,null,{"$f":"VLOOKUP(A20099,'[1]Update Sheet'!$A$3:$Y$15578,25,FALSE)","v":{"$error":"#N/A"}},"Reportable"]
["A&S MOORE LTD T/A MOORE’S DENTAL STUDIO",58640,1,"Y","Y",true,"GB","Y","PRIVATE SECTOR","CH7 1PF","North Wales","Betsi Cadwaladr UHB","MOLD CH7",32500,32,"Other manufactured goods             ",0.67238249414981133,null,null,null,null,null,null,null,null,0,null,null,{"$f":"VLOOKUP(A20100,'[1]Update Sheet'!$A$3:$Y$15578,25,FALSE)","v":{"$error":"#N/A"}},"Reportable"]
["A&N PRINT LTD",72070,1,"Y","Y",true,"GB","Y","PRIVATE SECTOR","CF3 2ET","South East Wales","Cardiff and Vale UHB","CARDIFF CF3",18129,18,"Printing and recording services            ",0.38173396113307168,null,null,null,null,null,null,null,null,0,null,null,{"$f":"VLOOKUP(A20101,'[1]Update Sheet'!$A$3:$Y$15578,25,FALSE)","v":{"$error":"#N/A"}},"Reportable"]
["A&N LEWIS",19101,1,"Y","Y",true,"GB","Y","PRIVATE SECTOR","CF5 4AQ","South East Wales","Cardiff and Vale UHB","CARDIFF CF5",43290,42.99,"Specialised construction works             ",0.31026786628535008,null,null,null,null,null,null,null,null,0,null,null,{"$f":"VLOOKUP(A20102,'[1]Update Sheet'!$A$3:$Y$15578,25,FALSE)","v":{"$error":"#N/A"}},"Reportable"]
["A&M BACON LTD",61822,null,"N","N",true,"GB","N","PRIVATE SECTOR","PE7 2AR",null,null,"PETERBORO PE7",82990,82,"Office administrative, office support and other business support services       ",0.1180504360352973,null,null,null,null,null,null,null,null,0,null,null,{"$f":"VLOOKUP(A20103,'[1]Update Sheet'!$A$3:$Y$15578,25,FALSE)","v":{"$error":"#N/A"}},"Reportable"]
["A&J TAXIS",18854,1,"Y","Y",true,"GB","N","PRIVATE SECTOR","LL18 5WH","North Wales","Betsi Cadwaladr UHB","BODELWYDD LL18",96090,96,"Other personal services             ",7.6712791957121843E-2,null,null,null,null,null,null,null,null,0,null,null,{"$f":"VLOOKUP(A20104,'[1]Update Sheet'!$A$3:$Y$15578,25,FALSE)","v":{"$error":"#N/A"}},"Reportable"]
["A&B AUTO PAINT PANEL REPAIRS LTD",73321,1,"Y","Y",true,"GB","Y","PRIVATE SECTOR","CH5 3PZ","North Wales","Betsi Cadwaladr UHB","HAWARDEN CH5",86900,86,"Human health services             ",0.29193168620018201,null,null,null,null,null,null,null,null,0,null,null,{"$f":"VLOOKUP(A20105,'[1]Update Sheet'!$A$3:$Y$15578,25,FALSE)","v":{"$error":"#N/A"}},"Reportable"]
["A&A PLASTICS",50714,1,"Y","N","Additional Welsh Supplier ","GB","N","PRIVATE SECTOR","CF32 9TQ",null,null,"BRIDGEND CF32",22290,22,"Manufacture of other plastic products",0.57621788964022036,null,null,null,null,null,null,null,null,0,null,null,{"$f":"VLOOKUP(A20106,'[1]Update Sheet'!$A$3:$Y$15578,25,FALSE)","v":{"$error":"#N/A"}},"Reportable"]
["A SCHWARZ & SONS",10265,1,"Y","Y",true,"GB","N","PRIVATE SECTOR","CH8 7NJ","North Wales","Betsi Cadwaladr UHB","PCS PAY",47782,47,"Retail trade services, except of motor vehicles and motorcycles       ",0.17404287306456559,null,null,null,null,null,null,null,null,0,null,null,{"$f":"VLOOKUP(A20107,'[1]Update Sheet'!$A$3:$Y$15578,25,FALSE)","v":{"$error":"#N/A"}},"Reportable"]
["A MAN WITH VANS LTD",55605,1,"Y","Y",true,"GB","Y","PRIVATE SECTOR","SA64 0DZ","South West Wales","Hywel Dda UHB",{"$error":"#N/A"},53201,53,"Postal and courier services            ",0.24937981289031211,null,null,null,null,null,null,null,null,0,null,null,{"$f":"VLOOKUP(A20108,'[1]Update Sheet'!$A$3:$Y$15578,25,FALSE)","v":{"$error":"#N/A"}},"Reportable"]
["A M POWER SOLUTIONS LTD",64830,1,"Y","Y",true,"GB","Y","PRIVATE SECTOR","SA17 4RL","South West Wales","Hywel Dda UHB","KIDWELLY SA17",33200,"33OTHER","Rest of repair; Installation - 33.11-14/17/19/20          ",0.18696882687485539,null,null,null,null,null,null,null,null,0,null,null,{"$f":"VLOOKUP(A20109,'[1]Update Sheet'!$A$3:$Y$15578,25,FALSE)","v":{"$error":"#N/A"}},"Reportable"]
["A LIGN MICROSCOPES LTD",77626,null,"N","N",true,"GB","Y","PRIVATE SECTOR","SN10 5PZ",null,null,null,71129,71,"Architectural and engineering services; technical testing and analysis services       ",0.1560575201743172,null,null,null,null,null,null,null,null,0,null,null,{"$f":"VLOOKUP(A20110,'[1]Update Sheet'!$A$3:$Y$15578,25,FALSE)","v":{"$error":"#N/A"}},"Reportable"]
["A J ELECTRICAL SOLUTIONS",68215,1,"Y","Y",true,"GB","Y","PRIVATE SECTOR","LL14 5LS","North Wales","Betsi Cadwaladr UHB","ESTATES",33140,"33OTHER","Rest of repair; Installation - 33.11-14/17/19/20          ",0.18696882687485539,null,null,null,null,null,null,null,null,0,null,null,{"$f":"VLOOKUP(A20111,'[1]Update Sheet'!$A$3:$Y$15578,25,FALSE)","v":{"$error":"#N/A"}},"Reportable"]
["A CLASS APART",58211,1,"Y","Y",true,"GB","N","PRIVATE SECTOR","CF64 4NR","South East Wales","Cardiff and Vale UHB","DINAS POW CF64",47710,47,"Retail trade services, except of motor vehicles and motorcycles       ",0.17404287306456559,null,null,null,null,null,null,null,null,0,null,null,{"$f":"VLOOKUP(A20112,'[1]Update Sheet'!$A$3:$Y$15578,25,FALSE)","v":{"$error":"#N/A"}},"Reportable"]
["A BINNEY DENTAL SURGERY LTD",63825,1,"Y","Y",true,"GB","N","PRIVATE SECTOR","CF24 3AB","South East Wales","Cardiff and Vale UHB","CARDIFF CF24",86210,86,"Human health services             ",0.29193168620018201,null,null,null,null,null,null,null,null,0,null,null,{"$f":"VLOOKUP(A20113,'[1]Update Sheet'!$A$3:$Y$15578,25,FALSE)","v":{"$error":"#N/A"}},"Reportable"]
["A AND M TREE SURGERY AND GROUND MAINTENANCE",74024,1,"Y","Y",true,"GB","Y","PRIVATE SECTOR","LL17 0BG","North Wales","Betsi Cadwaladr UHB","ST ASAPH LL17",86900,86,"Human health services             ",0.29193168620018201,null,null,null,null,null,null,null,null,0,null,null,{"$f":"VLOOKUP(A20114,'[1]Update Sheet'!$A$3:$Y$15578,25,FALSE)","v":{"$error":"#N/A"}},"Reportable"]
["A & J M SHEPPARD LTD",58094,1,"Y","Y",true,"GB","N","PRIVATE SECTOR","CF45 4SY","South East Wales","Cwm Taf Morgannwg UHB","PCS PAY",86000,86,"Human health services             ",0.29193168620018201,null,null,null,null,null,null,null,null,0,null,null,{"$f":"VLOOKUP(A20115,'[1]Update Sheet'!$A$3:$Y$15578,25,FALSE)","v":{"$error":"#N/A"}},"Reportable"]
["A & D INSTRUMENTS LTD",14880,null,"N","N",true,"GB","Y","PRIVATE SECTOR","OX4 6HD",null,null,"OXFORD OX4",46900,46,"Wholesale trade services, except of motor vehicles and motorcycles       ",2.0310031510736858E-2,null,null,null,null,null,null,null,null,0,null,null,{"$f":"VLOOKUP(A20116,'[1]Update Sheet'!$A$3:$Y$15578,25,FALSE)","v":0},"Reportable"]
["73 DEGREE FILMS LTD",74660,1,"Y","Y",true,"GB","Y","PRIVATE SECTOR","LL137QW","North Wales","Betsi Cadwaladr UHB","WREXHAM LL13",59111,59,"Motion picture, video and TV programme production services, sound recording & music publishing   ",0.1101389562964399,null,null,null,null,null,null,null,null,0,null,null,{"$f":"VLOOKUP(A20117,'[1]Update Sheet'!$A$3:$Y$15578,25,FALSE)","v":{"$error":"#N/A"}},"Reportable"]
["ZDUP NHS CROYDON",19813,0,null,null,null,"GB","N","PUBLIC SECTOR",null,null,null,{"$error":"#N/A"},null,null,null,null,null,null,null,null,null,null,null,null,0,null,null,{"$f":"VLOOKUP(A20118,'[1]Update Sheet'!$A$3:$Y$15578,25,FALSE)","v":"Public Sector- Exclude"},"Exclude- Intra NHS "]
["5 A SIDE CHESS LTD",74320,null,"N","N",true,"GB","Y","PRIVATE SECTOR","CB24 3BB",null,null,"CAMBRIDGE CB24",85520,85,"Education services              ",0.10257966678326461,null,null,null,null,null,null,null,null,0,null,null,{"$f":"VLOOKUP(A20119,'[1]Update Sheet'!$A$3:$Y$15578,25,FALSE)","v":{"$error":"#N/A"}},"Reportable"]
["4FRONT THEATRE",74642,null,"N","N",true,"GB","Y","VCSE","WR11 4UP",null,null,"WORCESTER WR11",90010,90,"Creative, arts and entertainment services           ",0.2018836157509922,null,null,null,null,null,null,null,null,0,null,null,{"$f":"VLOOKUP(A20120,'[1]Update Sheet'!$A$3:$Y$15578,25,FALSE)","v":{"$error":"#N/A"}},"Reportable"]
["3V HEALTHCARE LTD",74721,null,"N","N",true,"GB","Y","PRIVATE SECTOR","SK23 0RG",null,null,"HIGH PEAK SK23",86210,86,"Human health services             ",0.29193168620018201,null,null,null,null,null,null,null,null,0,null,null,{"$f":"VLOOKUP(A20121,'[1]Update Sheet'!$A$3:$Y$15578,25,FALSE)","v":{"$error":"#N/A"}},"Reportable"]
["3P DIRECT LTD",55486,null,"N","N",true,"GB","Y","PRIVATE SECTOR","NG19 7DW",null,null,"MANSFIELD NG19",46900,46,"Wholesale trade services, except of motor vehicles and motorcycles       ",2.0310031510736858E-2,null,null,null,null,null,null,null,null,0,null,null,{"$f":"VLOOKUP(A20122,'[1]Update Sheet'!$A$3:$Y$15578,25,FALSE)","v":0},"Reportable"]
["3D CARE (CARDIFF) LTD",55402,1,"Y","Y",true,"GB","N","PRIVATE SECTOR","CF24 2SA","South East Wales","Cardiff and Vale UHB","CARDIFF CF24",86900,86,"Human health services             ",0.29193168620018201,null,null,null,null,null,null,null,null,0,null,null,{"$f":"VLOOKUP(A20123,'[1]Update Sheet'!$A$3:$Y$15578,25,FALSE)","v":{"$error":"#N/A"}},"Reportable"]
["360 TSL LTD","67173",null,"N","N",true,"GB","Y","PRIVATE SECTOR","KT21 1BU",null,null,"ASHTEAD KT21",82990,82,"Office administrative, office support and other business support services       ",0.1180504360352973,null,null,null,null,null,null,null,null,0,null,null,{"$f":"VLOOKUP(A20124,'[1]Update Sheet'!$A$3:$Y$15578,25,FALSE)","v":{"$error":"#N/A"}},"Reportable"]
["2U GETSMARTER US LLC",77611,null,"N","N",true,"GB","N","PRIVATE SECTOR","20706",null,null,"FOREIGN",85000,85,"Education services              ",0.10257966678326461,null,null,null,null,null,null,null,null,0,null,null,{"$f":"VLOOKUP(A20125,'[1]Update Sheet'!$A$3:$Y$15578,25,FALSE)","v":{"$error":"#N/A"}},"Reportable"]
["2DSURGICAL LTD",69359,null,"N","N",true,"GB","N","PRIVATE SECTOR","B60 4FD",null,null,"BROMSGROV B60",82990,82,"Office administrative, office support and other business support services       ",0.1180504360352973,null,null,null,null,null,null,null,null,0,null,null,{"$f":"VLOOKUP(A20126,'[1]Update Sheet'!$A$3:$Y$15578,25,FALSE)","v":{"$error":"#N/A"}},"Reportable"]
["2CL COMMUNICATIONS LTD",52066,null,"N","N",true,"GB","Y","PRIVATE SECTOR","SO50 4NU",null,null,"EASTLEIG SO50",46180,46,"Wholesale trade services, except of motor vehicles and motorcycles       ",2.0310031510736858E-2,null,null,null,null,null,null,null,null,0,null,null,{"$f":"VLOOKUP(A20127,'[1]Update Sheet'!$A$3:$Y$15578,25,FALSE)","v":0},"Reportable"]
["252 COMMUNICATIONS",73688,1,"Y","Y",true,"GB","Y","PRIVATE SECTOR","SY23 3SW","Mid Wales","Hywel Dda UHB","ABERYSTWY SY23",46190,46,"Wholesale trade services, except of motor vehicles and motorcycles       ",2.0310031510736858E-2,null,null,null,null,null,null,null,null,0,null,null,{"$f":"VLOOKUP(A20128,'[1]Update Sheet'!$A$3:$Y$15578,25,FALSE)","v":0},"Reportable"]
["24 CARROT PROMOTIONS",59934,1,"Y","Y",true,"GB","Y","PRIVATE SECTOR","SA38 9PR","Mid Wales","Hywel Dda UHB","CEREDIGION SA38",56210,56,"Food and beverage serving services           ",0.28886167518608219,null,null,null,null,null,null,null,null,0,null,null,{"$f":"VLOOKUP(A20129,'[1]Update Sheet'!$A$3:$Y$15578,25,FALSE)","v":{"$error":"#N/A"}},"Reportable"]
["23 DIGITAL LTD",74416,null,"N","N",true,"GB","Y","PRIVATE SECTOR","BA2 7FS",null,null,"BATH BA2",63110,63,"Information services              ",0.16934169875693919,null,null,null,null,null,null,null,null,0,null,null,{"$f":"VLOOKUP(A20130,'[1]Update Sheet'!$A$3:$Y$15578,25,FALSE)","v":{"$error":"#N/A"}},"Reportable"]
["22 DENTAL",65101,1,"Y","Y",true,"GB","Y","PRIVATE SECTOR","CF39 8JL","South East Wales","Cwm Taf Morgannwg UHB","BRIDGEND CF39",86230,86,"Human health services             ",0.29193168620018201,null,null,null,null,null,null,null,null,0,null,null,{"$f":"VLOOKUP(A20131,'[1]Update Sheet'!$A$3:$Y$15578,25,FALSE)","v":{"$error":"#N/A"}},"Reportable"]
["2 WISH UPON A STAR",67088,1,"Y","Y",true,"GB","Y","VCSE","CF72 8XT","South East Wales","Cwm Taf Morgannwg UHB","CARDIFF CF72",86900,86,"Human health services             ",0.29193168620018201,null,null,null,null,null,null,null,null,0,null,null,{"$f":"VLOOKUP(A20132,'[1]Update Sheet'!$A$3:$Y$15578,25,FALSE)","v":{"$error":"#N/A"}},"Reportable"]
["1ST COMMUNICATIONS I & M LTD",57755,null,"N","N",true,"GB","Y","PRIVATE SECTOR","SE2 0AS",null,null,"LONDON SE2",46520,46,"Wholesale trade services, except of motor vehicles and motorcycles       ",2.0310031510736858E-2,null,null,null,null,null,null,null,null,0,null,null,{"$f":"VLOOKUP(A20133,'[1]Update Sheet'!$A$3:$Y$15578,25,FALSE)","v":0},"Reportable"]
["1ST CHOICE LOCKSMITHS & SECURITY ENGINEERS",58834,1,"Y","Y",true,"GB","N","PRIVATE SECTOR","LL12 7YJ","North Wales","Betsi Cadwaladr UHB","WREXHAM LL13",96090,96,"Other personal services             ",7.6712791957121843E-2,null,null,null,null,null,null,null,null,0,null,null,{"$f":"VLOOKUP(A20134,'[1]Update Sheet'!$A$3:$Y$15578,25,FALSE)","v":{"$error":"#N/A"}},"Reportable"]
["1COLD LTD",43084,null,"N","N",true,"GB","Y","PRIVATE SECTOR","B94 5PY",null,null,"SOLIHULL B94",43999,42.99,"Specialised construction works             ",0.31026786628535008,null,null,null,null,null,null,null,null,0,null,null,{"$f":"VLOOKUP(A20135,'[1]Update Sheet'!$A$3:$Y$15578,25,FALSE)","v":{"$error":"#N/A"}},"Reportable"]
["1974 RAPPORT LTD",75092,null,"N","N",true,"GB","N","PRIVATE SECTOR","ST6 6NA",null,null,"STOKE-ON ST6",96090,96,"Other personal services             ",7.6712791957121843E-2,null,null,null,null,null,null,null,null,0,null,null,{"$f":"VLOOKUP(A20136,'[1]Update Sheet'!$A$3:$Y$15578,25,FALSE)","v":0},"Reportable"]
["174 LAW SOLICITORS LTD",46800,null,"N","N",true,"GB","N","PRIVATE SECTOR","CH41 2TF",null,null,"BIRKENHEA CH41",69102,69.099999999999994,"Legal services              ",5.7877621976311508E-2,null,null,null,null,null,null,null,null,0,null,null,{"$f":"VLOOKUP(A20137,'[1]Update Sheet'!$A$3:$Y$15578,25,FALSE)","v":{"$error":"#N/A"}},"Reportable"]
["13SPIDERS LTD TA SPIDERGROUP",74808,null,"N","N",true,"GB","N","PRIVATE SECTOR","BS4 3AP",null,null,"BRISTOL BS4",96090,96,"Other personal services             ",7.6712791957121843E-2,null,null,null,null,null,null,null,null,0,null,null,{"$f":"VLOOKUP(A20138,'[1]Update Sheet'!$A$3:$Y$15578,25,FALSE)","v":0},"Reportable"]
["11 KBW LTD",68617,null,"N","N",true,"GB","Y","PRIVATE SECTOR","EC4Y 7EQ",null,null,"LONDON EC4Y",69101,69.099999999999994,"Legal services              ",5.7877621976311508E-2,null,null,null,null,null,null,null,null,0,null,null,{"$f":"VLOOKUP(A20139,'[1]Update Sheet'!$A$3:$Y$15578,25,FALSE)","v":0},"Reportable"]
["100% EFFECTIVE LTD",57318,null,"N","N",true,"GB","N","PRIVATE SECTOR","YO10 3DW",null,null,{"$error":"#N/A"},70229,70,"Services of head offices; management consulting services         ",9.3681183759862049E-2,null,null,null,null,null,null,null,null,0,null,null,{"$f":"VLOOKUP(A20140,'[1]Update Sheet'!$A$3:$Y$15578,25,FALSE)","v":{"$error":"#N/A"}},"Reportable"]
["1 FITZHAMON EMBANKMENT APARTMENTS",73258,1,"Y","Y",true,"GB","Y","PRIVATE SECTOR","CF23 5QZ","South East Wales","Cardiff and Vale UHB","CARDIFF CF23",68320,68.3,"Real estate services on a fee or contract basis       ",8.4914337844308282E-2,null,null,null,null,null,null,null,null,0,null,null,{"$f":"VLOOKUP(A20141,'[1]Update Sheet'!$A$3:$Y$15578,25,FALSE)","v":{"$error":"#N/A"}},"Reportable"]
["@SIMULATIONMAN LTD",72623,null,"N","N",true,"GB","Y","PRIVATE SECTOR","SO16 0XY",null,null,"SOUTHAMPT SO16",70229,70,"Services of head offices; management consulting services         ",9.3681183759862049E-2,null,null,null,null,null,null,null,null,0,null,null,{"$f":"VLOOKUP(A20142,'[1]Update Sheet'!$A$3:$Y$15578,25,FALSE)","v":{"$error":"#N/A"}},"Reportable"]
["(AQ) LTD TA AQL",72493,null,"N","N",true,"GB","Y","PRIVATE SECTOR","LS10 1JQ",null,null,"LEEDS LS10",74990,74,"Other professional, scientific and technical services          ",0.19142587698446711,null,null,null,null,null,null,null,null,0,null,null,{"$f":"VLOOKUP(A20143,'[1]Update Sheet'!$A$3:$Y$15578,25,FALSE)","v":{"$error":"#N/A"}},"Reportable"]
["COLCHESTER DENTAL SURGERY LTD",66671,null,"N","N",true,"GB","Y","PRIVATE SECTOR","CF23 9AW","South East Wales","Cardiff and Vale UHB","CARDIFF CF23",86230,86,"Human health services             ",0.29193168620018201,null,null,null,null,null,null,null,null,0,null,null,{"$f":"VLOOKUP(A20144,'[1]Update Sheet'!$A$3:$Y$15578,25,FALSE)","v":{"$error":"#N/A"}},"Reportable"]
["ACCORD HEALTHCARE LTD",44616,null,"N","N",true,"GB","N","PRIVATE SECTOR","HA1 4HF",null,null,"PHARMACY",21200,21,"Basic pharmaceutical products and pharmaceutical preparations          ",0.62099518156965727,null,null,null,null,null,null,null,null,0,null,null,{"$f":"VLOOKUP(A20145,'[1]Update Sheet'!$A$3:$Y$15578,25,FALSE)","v":{"$error":"#N/A"}},"Reportable"]
["\t@67 COMMUNICATIONS LTD",45849,1,"Y","N","Additional Welsh Supplier","GB","N","PRIVATE SECTOR","LL11 1BT","North Wales","Betsi Cadwaladr UHB","WREXHAM LL11",70210,70,"Services of head offices; management consulting services         ",9.3681183759862049E-2,null,null,null,null,null,null,null,null,0,null,null,{"$f":"VLOOKUP(A20146,'[1]Update Sheet'!$A$3:$Y$15578,25,FALSE)","v":{"$error":"#N/A"}},"Reportable"]
["RSM LTD",75311,null,"N","N",true,"GB","Y","PRIVATE SECTOR","HX3 7TY",null,null,"ESTATES",70229,70,"Services of head offices; management consulting services         ",9.3681183759862049E-2,null,null,null,null,null,null,null,null,0,null,null,{"$f":"VLOOKUP(A20147,'[1]Update Sheet'!$A$3:$Y$15578,25,FALSE)","v":{"$error":"#N/A"}},"Reportable"]
["RACHEL TRUSCOTT",75528,1,"Y","Y",true,"GB","Y","PRIVATE SECTOR","CF37 2JA","South East Wales","Cwm Taf Morgannwg UHB","PONTYPRID CF37",86000,86,"Human health services             ",0.29193168620018201,null,null,null,null,null,null,null,null,7700,"*",null,{"$f":"VLOOKUP(A20148,'[1]Update Sheet'!$A$3:$Y$15578,25,FALSE)","v":0},"Reportable"]
["R J TRUSCOTT",75528,1,"Y","Y",true,"GB","Y","PRIVATE SECTOR","CF37 2JA","South East Wales","Cwm Taf Morgannwg UHB","PONTYPRID CF37",86000,86,"Human health services             ",0.29193168620018201,null,null,null,null,null,null,null,null,0,null,null,{"$f":"VLOOKUP(A20149,'[1]Update Sheet'!$A$3:$Y$15578,25,FALSE)","v":{"$error":"#N/A"}},"Reportable"]
["CROESPENMAIN COMMUNITY CENTRE",75645,1,"Y","Y",true,"GB","Y","VCSE","NP12 0LZ","South East Wales","Aneurin Bevan UHB","BLACKWOOD NP12",88990,88,"Social work services without accommodation           ",0.12926092802643949,null,null,null,null,null,null,null,null,1262,"*",null,{"$f":"VLOOKUP(A20150,'[1]Update Sheet'!$A$3:$Y$15578,25,FALSE)","v":0},"Reportable"]
["CROSSPENMAIN COMMUNITY CENTRE",75645,1,"Y","Y",true,"GB","Y","VCSE","NP11 3AW","South East Wales","Aneurin Bevan UHB","BLACKWOOD NP12",93290,93,"Sports services and amusement and recreation services         ",0.22280360830166321,null,null,null,null,null,null,null,null,0,null,null,{"$f":"VLOOKUP(A20151,'[1]Update Sheet'!$A$3:$Y$15578,25,FALSE)","v":{"$error":"#N/A"}},"Reportable"]
["GREENE KING LTD TA VICTORIA HOTEL",75822,null,"N","N",true,"GB","N","PRIVATE SECTOR","FY8 3NE",null,null,"VICTORIA HOTEL",70100,70,"Services of head offices; management consulting services         ",9.3681183759862049E-2,null,null,null,null,null,null,null,null,1630,"*",null,{"$f":"VLOOKUP(A20152,'[1]Update Sheet'!$A$3:$Y$15578,25,FALSE)","v":0},"Reportable"]
["GREENE KING LTD",75822,null,"N","N",true,"GB","Y","PRIVATE SECTOR","IP33 1QT",null,null,"BURY ST EDM IP3",70100,70,"Services of head offices; management consulting services         ",9.3681183759862049E-2,null,null,null,null,null,null,null,null,0,null,null,{"$f":"VLOOKUP(A20153,'[1]Update Sheet'!$A$3:$Y$15578,25,FALSE)","v":{"$error":"#N/A"}},"Reportable"]
["ROOST OPCO 3 LTD TA STUDENT ROOST",75852,null,"N","N",true,"GB","Y","PRIVATE SECTOR","B3 3HT",null,null,"GENERAL",64209,64,"Financial services, except insurance and pension funding         ",0.1103075939416239,null,null,null,null,null,null,null,null,65845.320000000007,"*",null,{"$f":"VLOOKUP(A20154,'[1]Update Sheet'!$A$3:$Y$15578,25,FALSE)","v":0},"Reportable"]
["ROOST OPCO LTD TA STUDENT ROOST",75852,null,"N","N",true,"GB","Y","PRIVATE SECTOR","B3 3HT",null,null,"GENERAL",64209,64,"Financial services, except insurance and pension funding         ",0.1103075939416239,null,null,null,null,null,null,null,null,0,null,null,{"$f":"VLOOKUP(A20155,'[1]Update Sheet'!$A$3:$Y$15578,25,FALSE)","v":{"$error":"#N/A"}},"Reportable"]
["DR LAURA ROBBINS",75969,1,"Y","Y",true,"GB","Y","PRIVATE SECTOR","LL17 0UB","North Wales","Betsi Cadwaladr UHB",null,86000,86,"Human health services             ",0.29193168620018201,null,null,null,null,null,null,null,null,27654.02,"*",null,{"$f":"VLOOKUP(A20156,'[1]Update Sheet'!$A$3:$Y$15578,25,FALSE)","v":0},"Reportable"]
["DR LAURA WILLIAMS",75969,1,"Y","Y",true,"GB","Y","PRIVATE SECTOR","LL17 0UB","North Wales","Betsi Cadwaladr UHB","TREMEIRCHION LL",86000,86,"Human health services             ",0.29193168620018201,null,null,null,null,null,null,null,null,0,null,null,{"$f":"VLOOKUP(A20157,'[1]Update Sheet'!$A$3:$Y$15578,25,FALSE)","v":{"$error":"#N/A"}},"Reportable"]
["SALT CONTRACTS LIMITED",76626,null,"N","N",true,"GB","Y","PRIVATE SECTOR","SE1 8TG",null,null,"LONDON SE1",82990,82,"Office administrative, office support and other business support services       ",0.1180504360352973,null,null,null,null,null,null,null,null,64428,"*",null,{"$f":"VLOOKUP(A20158,'[1]Update Sheet'!$A$3:$Y$15578,25,FALSE)","v":0},"Reportable"]
["GLADSTONE’S LIBRARY",74113,1,"Y","Y",true,"GB","N","VCSE","CH5 3DF","North Wales","Betsi Cadwaladr UHB","DEESIDE CH5",85590,85,"Education services              ",0.10257966678326461,null,null,null,null,null,null,null,null,-9,"*",null,{"$f":"VLOOKUP(A20159,'[1]Update Sheet'!$A$3:$Y$15578,25,FALSE)","v":{"$error":"#N/A"}},"Reportable"]
["SCARBOROUGHS LTD",972,null,"N","N",true,"GB","Y","PRIVATE SECTOR","DT6 5HS",null,null,"DORSET DT6",82990,82,"Office administrative, office support and other business support services       ",0.1180504360352973,null,null,null,null,null,null,null,null,-12,"*",null,{"$f":"VLOOKUP(A20160,'[1]Update Sheet'!$A$3:$Y$15578,25,FALSE)","v":{"$error":"#N/A"}},"Reportable"]
["MERCK SHARP AND DOHME UK LTD",69632,null,"N","N",true,"GB","N","PRIVATE SECTOR","EN11 9BU",null,null,"HODDESDON EN11",70100,70,"Services of head offices; management consulting services         ",9.3681183759862049E-2,null,null,null,null,null,null,null,null,-31.56,"*",null,{"$f":"VLOOKUP(A20161,'[1]Update Sheet'!$A$3:$Y$15578,25,FALSE)","v":{"$error":"#N/A"}},"Reportable"]
["HENRY SCHEIN PRO REPAIR",2582,null,"N","N",true,"GB","N","PRIVATE SECTOR","ME8 0SB",null,null,"GILLINGHA ME8",46900,46,"Wholesale trade services, except of motor vehicles and motorcycles       ",2.0310031510736858E-2,null,null,null,null,null,null,null,null,-43.20000000000001,"*",null,{"$f":"VLOOKUP(A20162,'[1]Update Sheet'!$A$3:$Y$15578,25,FALSE)","v":{"$error":"#N/A"}},"Reportable"]
["PDP COURIER SERVICES LTD",41961,null,"N","N",true,"GB","Y","PRIVATE SECTOR","TW13 7HF",null,null,"PHARMACY",52290,52,"Warehousing and support services for transportation          ",0.24376795453982661,null,null,null,null,null,null,null,null,-83.180000000000064,"*",null,{"$f":"VLOOKUP(A20163,'[1]Update Sheet'!$A$3:$Y$15578,25,FALSE)","v":{"$error":"#N/A"}},"Reportable"]
["THE PALMER CENTRE",65352,1,"Y","Y",true,"GB","Y","VCSE","NP16 5LH","South East Wales","Aneurin Bevan UHB","CHEPSTOW NP19",96090,96,"Other personal services             ",7.6712791957121843E-2,null,null,null,null,null,null,null,null,-86.5,"*",null,{"$f":"VLOOKUP(A20164,'[1]Update Sheet'!$A$3:$Y$15578,25,FALSE)","v":{"$error":"#N/A"}},"Reportable"]
["LOOKERS MOTOR GROUP LTD",71381,null,"N","N",true,"GB","Y","PRIVATE SECTOR","L20 8LR",null,null,"BOOTLE L20",96090,96,"Other personal services             ",7.6712791957121843E-2,null,null,null,null,null,null,null,null,-89.63,"*",null,{"$f":"VLOOKUP(A20165,'[1]Update Sheet'!$A$3:$Y$15578,25,FALSE)","v":{"$error":"#N/A"}},"Reportable"]
["LUXAR LTD",58557,1,"Y","Y",true,"GB","N","PRIVATE SECTOR","LL31 9RY","North Wales","Betsi Cadwaladr UHB","LLANDUDNO LL31",96090,96,"Other personal services             ",7.6712791957121843E-2,null,null,null,null,null,null,null,null,-97.44,"*",null,{"$f":"VLOOKUP(A20166,'[1]Update Sheet'!$A$3:$Y$15578,25,FALSE)","v":{"$error":"#N/A"}},"Reportable"]
["MIRION TECHNOLOGIES INC",52684,null,"N","N",true,"GB","N","PRIVATE SECTOR","SL4 1SE",null,null,"FOREIGN",96090,96,"Other personal services             ",7.6712791957121843E-2,null,null,null,null,null,null,null,null,-122.5,"*",null,{"$f":"VLOOKUP(A20167,'[1]Update Sheet'!$A$3:$Y$15578,25,FALSE)","v":{"$error":"#N/A"}},"Reportable"]
["DIGI KEY",54076,null,"N","N",true,"GB","N","PRIVATE SECTOR","RH10 1UT",null,null,"CRAWLEY RH10",74909,74,"Other professional, scientific and technical services          ",0.19142587698446711,null,null,null,null,null,null,null,null,-143.69,"*",null,{"$f":"VLOOKUP(A20168,'[1]Update Sheet'!$A$3:$Y$15578,25,FALSE)","v":{"$error":"#N/A"}},"Reportable"]
["DORKING HEALTHCARE LTD",61380,null,"N","N",true,"GB","Y","PRIVATE SECTOR","RH3 7NJ",null,null,"BETCHWORTH RH3",86900,86,"Human health services             ",0.29193168620018201,null,null,null,null,null,null,null,null,-153.16,"*",null,{"$f":"VLOOKUP(A20169,'[1]Update Sheet'!$A$3:$Y$15578,25,FALSE)","v":{"$error":"#N/A"}},"Reportable"]
["LETTERSTON MEMORIAL HALL",50573,1,"Y","Y",true,"GB","Y","VCSE","SA62 5EJ","South West Wales","Swansea Bay UHB","LETTERSON SA62",96090,96,"Other personal services             ",7.6712791957121843E-2,null,null,null,null,null,null,null,null,-160,"*",null,{"$f":"VLOOKUP(A20170,'[1]Update Sheet'!$A$3:$Y$15578,25,FALSE)","v":{"$error":"#N/A"}},"Reportable"]
["SALT CONTRACTS LTD",76626,null,"N","N",true,"GB","Y","PRIVATE SECTOR","SE1 8TG",null,null,"LONDON SE1",82990,82,"Office administrative, office support and other business support services       ",0.1180504360352973,null,null,null,null,null,null,null,null,0,null,null,{"$error":"#N/A"},"Reportable"]
["BASSETTS MOTOR GROUP",17657,1,"Y","Y",true,"GB","Y","PRIVATE SECTOR","SA6 8QX","South West Wales","Swansea Bay UHB","BASSETTS HONDA",45111,45,"Wholesale and retail trade and repair services of motor vehicles and motorcycles    ",0.21034629699726889,null,null,null,null,null,null,null,null,-195.94,"*",null,{"$f":"VLOOKUP(A20172,'[1]Update Sheet'!$A$3:$Y$15578,25,FALSE)","v":{"$error":"#N/A"}},"Reportable"]
["HOOKE SOUND & LIGHT LTD T/A TOTAL SOUND SOLUTIONS",57685,1,"Y","Y",true,"GB","Y","PRIVATE SECTOR","SA10 6SN","South West Wales","Swansea Bay UHB","NEATH SA10",77291,77,"Rental and leasing services            ",0.13477794599811871,null,null,null,null,null,null,null,null,-200.51999999999859,"*",null,{"$f":"VLOOKUP(A20173,'[1]Update Sheet'!$A$3:$Y$15578,25,FALSE)","v":{"$error":"#N/A"}},"Reportable"]
["PARKFIELDS COMMUNITY CENTRE",59730,1,"Y","Y",true,"GB","N","VCSE","CH7 1TB","North Wales","Betsi Cadwaladr UHB","MOLD CH7",93290,93,"Sports services and amusement and recreation services         ",0.22280360830166321,null,null,null,null,null,null,null,null,-264.75,"*",null,{"$f":"VLOOKUP(A20174,'[1]Update Sheet'!$A$3:$Y$15578,25,FALSE)","v":{"$error":"#N/A"}},"Reportable"]
["ELITE LIFE SUPPORT TRAINING LTD",71169,1,"Y","Y",true,"GB","N","PRIVATE SECTOR","CF47 0AQ","South East Wales","Cwm Taf Morgannwg UHB","MERTHYR CF47",86220,86,"Human health services             ",0.29193168620018201,null,null,null,null,null,null,null,null,-278,"*",null,{"$f":"VLOOKUP(A20175,'[1]Update Sheet'!$A$3:$Y$15578,25,FALSE)","v":{"$error":"#N/A"}},"Reportable"]
["WINTERHALTER LTD",74316,null,"N","N",true,"GB","Y","PRIVATE SECTOR","MK5 8WH",null,null,"MILTON KEYNES M",86900,86,"Human health services             ",0.29193168620018201,null,null,null,null,null,null,null,null,-306.68,"*",null,{"$f":"VLOOKUP(A20176,'[1]Update Sheet'!$A$3:$Y$15578,25,FALSE)","v":{"$error":"#N/A"}},"Reportable"]
["BVBA VOLCANO EUROPE SPRL",46840,null,"N","N",true,"BE","N","PRIVATE SECTOR",null,null,null,"FOREIGN",46000,46,"Wholesale trade services, except of motor vehicles and motorcycles       ",2.0310031510736858E-2,null,null,null,null,null,null,null,null,-435,"*",null,{"$f":"VLOOKUP(A20177,'[1]Update Sheet'!$A$3:$Y$15578,25,FALSE)","v":{"$error":"#N/A"}},"Reportable"]
["ST PAULS CHURCH HOLYWELL",73929,1,"Y","Y",true,"GB","Y","VCSE","CH8 8QZ","North Wales","Betsi Cadwaladr UHB","HOLYWELL CH8",96090,96,"Other personal services             ",7.6712791957121843E-2,null,null,null,null,null,null,null,null,-480,"*",null,{"$f":"VLOOKUP(A20178,'[1]Update Sheet'!$A$3:$Y$15578,25,FALSE)","v":{"$error":"#N/A"}},"Reportable"]
["COMMERCIAL TRANSFER LTD",50760,null,"N","N",true,"GB","Y","PRIVATE SECTOR","BS4 5QW",null,null,"BRISTOL BS4",49410,"49.3-5","Land transport services and transport services via pipelines, excluding rail transport     ",0.60315703544097854,null,null,null,null,null,null,null,null,-534,"*",null,{"$f":"VLOOKUP(A20179,'[1]Update Sheet'!$A$3:$Y$15578,25,FALSE)","v":{"$error":"#N/A"}},"Reportable"]
["LORIENT POLYPRODUCTS LTD",3952,null,"N","N",true,"GB","Y","PRIVATE SECTOR","TQ12 6UD",null,null,"NEWTON AB TQ12",43999,42.99,"Specialised construction works             ",0.31026786628535008,null,null,null,null,null,null,null,null,-569.4,"*",null,{"$f":"VLOOKUP(A20180,'[1]Update Sheet'!$A$3:$Y$15578,25,FALSE)","v":{"$error":"#N/A"}},"Reportable"]
["PIRAMAL CRITICAL CARE LTD",63983,null,"N","N",true,"GB","N","PRIVATE SECTOR","MK42 9XE",null,null,"BEDFORD MK42",46460,46,"Wholesale trade services, except of motor vehicles and motorcycles       ",2.0310031510736858E-2,null,null,null,null,null,null,null,null,-685.8,"*",null,{"$f":"VLOOKUP(A20181,'[1]Update Sheet'!$A$3:$Y$15578,25,FALSE)","v":{"$error":"#N/A"}},"Reportable"]
["TABLEAU INTERNATIONAL CO",53857,null,"N","N",true,"IE","N","PRIVATE SECTOR","DUBLIN 4",null,null,"DUBLIN 4",62030,62,"Computer programming, consultancy and related services          ",0.13144659704407699,null,null,null,null,null,null,null,null,-800,"*",null,{"$f":"VLOOKUP(A20182,'[1]Update Sheet'!$A$3:$Y$15578,25,FALSE)","v":{"$error":"#N/A"}},"Reportable"]
["CHRISTEYNS UK LTD",12400,null,"N","N",true,"GB","Y","PRIVATE SECTOR","BD4 7EA",null,null,"BRADFORD BD4",20411,20.399999999999999,"Soap and detergents, cleaning and polishing preparations, perfumes and toilet preparations     ",0.71887260581861478,null,null,null,null,null,null,null,null,-832.36,"*",null,{"$f":"VLOOKUP(A20183,'[1]Update Sheet'!$A$3:$Y$15578,25,FALSE)","v":{"$error":"#N/A"}},"Reportable"]
["SINCLAIR GARAGE LTD",5677,1,"Y","Y",true,"GB","N","PRIVATE SECTOR","SA1 8QY","South West Wales","Swansea Bay UHB","CARDIFF CF10",45111,45,"Wholesale and retail trade and repair services of motor vehicles and motorcycles    ",0.21034629699726889,2021,{"$f":"11.201*1000","v":11201},{"$f":"18.061*1000","v":18061},{"$f":"40.313*1000","v":40313},{"$f":"SUM(S20184:U20184)","v":69575},544378686,{"$f":"V20184/W20184","v":1.278062528700839E-4},"CRP",-888.79000000000008,"*",null,{"$f":"VLOOKUP(A20184,'[1]Update Sheet'!$A$3:$Y$15578,25,FALSE)","v":{"$error":"#N/A"}},"Reportable"]
["TJ  LIFT SOLUTIONS LTD",72032,null,"N","N",true,"GB","Y","PRIVATE SECTOR","BB3 0FE",null,null,"DARWEN BB3",33170,"33OTHER","Rest of repair; Installation - 33.11-14/17/19/20          ",0.18696882687485539,null,null,null,null,null,null,null,null,-943.8,"*",null,{"$f":"VLOOKUP(A20185,'[1]Update Sheet'!$A$3:$Y$15578,25,FALSE)","v":{"$error":"#N/A"}},"Reportable"]
["ATEBOL CYFYNGEDIG",71910,1,"Y","Y",true,"GB","Y","PRIVATE SECTOR","SY24 5AQ","Mid Wales","Hywel Dda UHB","ABERYSTWYTH SY2",58110,58,"Publishing services              ",8.0219457227851232E-2,null,null,null,null,null,null,null,null,-1104,"*",null,{"$f":"VLOOKUP(A20186,'[1]Update Sheet'!$A$3:$Y$15578,25,FALSE)","v":{"$error":"#N/A"}},"Reportable"]
["SISK HEALTHCARE UC TA MED SURGICAL",67669,null,"N","N",true,"IE","Y","PRIVATE SECTOR","D11 WY11",null,null,"DUBLIN D11",86900,86,"Human health services             ",0.29193168620018201,null,null,null,null,null,null,null,null,-1187.71,"*",null,{"$f":"VLOOKUP(A20187,'[1]Update Sheet'!$A$3:$Y$15578,25,FALSE)","v":{"$error":"#N/A"}},"Reportable"]
["ZDUP NHS DIGITAL",61025,0,null,null,null,"GB","N","PUBLIC SECTOR",null,null,null,{"$error":"#N/A"},null,null,null,null,null,null,null,null,null,null,null,null,0,null,null,{"$f":"VLOOKUP(A20188,'[1]Update Sheet'!$A$3:$Y$15578,25,FALSE)","v":"Public Sector- Exclude"},"Exclude- Intra NHS "]
["MR JOSHUA  BEYNON",76647,1,"Y","Y",true,"GB","Y","PRIVATE SECTOR","SA72 6BJ","South West Wales","Hywel Dda UHB","PEMBROKE DO SA7",86000,86,"Human health services             ",0.29193168620018201,null,null,null,null,null,null,null,null,4485.5,"*",null,{"$f":"VLOOKUP(A20189,'[1]Update Sheet'!$A$3:$Y$15578,25,FALSE)","v":0},"Reportable"]
["SMITH & NEPHEW ADVANCED SURGICAL DEVICES",46919,null,"N","N",true,"GB","N","PRIVATE SECTOR","WD18 8YE",null,null,"HUNTINGDO PE29",74990,74,"Other professional, scientific and technical services          ",0.19142587698446711,null,null,null,null,null,null,null,null,-1393.45,"*",null,{"$f":"VLOOKUP(A20190,'[1]Update Sheet'!$A$3:$Y$15578,25,FALSE)","v":{"$error":"#N/A"}},"Reportable"]
["OFFICE ANGELS LTD",677,null,"N","N",true,"GB","N","PRIVATE SECTOR","B37 7YE",null,null,"BIRMINGHA B37",78200,78,"Employment services              ",0.1176282196328419,null,null,null,null,null,null,null,null,-1581.09,"*",null,{"$f":"VLOOKUP(A20191,'[1]Update Sheet'!$A$3:$Y$15578,25,FALSE)","v":{"$error":"#N/A"}},"Reportable"]
["GLOBAL GROUP SUPPLIES LTD",69117,null,"N","N",true,"GB","Y","PRIVATE SECTOR","DA6 8AH",null,null,"BEXLEYHEA DA6",82990,82,"Office administrative, office support and other business support services       ",0.1180504360352973,null,null,null,null,null,null,null,null,-1612.5,"*",null,{"$f":"VLOOKUP(A20192,'[1]Update Sheet'!$A$3:$Y$15578,25,FALSE)","v":{"$error":"#N/A"}},"Reportable"]
["FRESH DIRECT (UK) LTD T/A FRESH FAYRE",70842,null,"N","N",true,"GB","N","PRIVATE SECTOR","LS10 1BY",null,null,"LEEDS LS10",46310,46,"Wholesale trade services, except of motor vehicles and motorcycles       ",2.0310031510736858E-2,null,null,null,null,null,null,null,null,-1719.24,"*",null,{"$f":"VLOOKUP(A20193,'[1]Update Sheet'!$A$3:$Y$15578,25,FALSE)","v":{"$error":"#N/A"}},"Reportable"]
["ZDUP ROYAL LIVERPOOL & BROADGREEN UNIVERSITY HOSPITAL NHS TRUSTHOSP",761,0,null,null,null,"GB","N","PUBLIC SECTOR",null,null,null,{"$error":"#N/A"},null,null,null,null,null,null,null,null,null,null,null,null,0,null,null,{"$f":"VLOOKUP(A20194,'[1]Update Sheet'!$A$3:$Y$15578,25,FALSE)","v":"Public Sector- Exclude"},"Exclude- Intra NHS "]
["CATRIN WALTERS",67105,1,"Y","Y",true,"GB","Y","PRIVATE SECTOR","CF5 2DW","South East Wales","Cardiff and Vale UHB","CARDIFF CF5",7487,74,"Other professional, scientific and technical services          ",0.19142587698446711,null,null,null,null,null,null,null,null,-2254.7199999999998,"*",null,{"$f":"VLOOKUP(A20195,'[1]Update Sheet'!$A$3:$Y$15578,25,FALSE)","v":{"$error":"#N/A"}},"Reportable"]
["JOINT OPERATIONS (UK) LLP",55023,null,"N","N",true,"GB","Y","PRIVATE SECTOR","SN4 8SY",null,null,"PHARMACY",86900,86,"Human health services             ",0.29193168620018201,null,null,null,null,null,null,null,null,-2310,"*",null,{"$f":"VLOOKUP(A20196,'[1]Update Sheet'!$A$3:$Y$15578,25,FALSE)","v":{"$error":"#N/A"}},"Reportable"]
["DR SIMON DUNLOP",58766,null,"N","N",true,"GB","N","PRIVATE SECTOR","PL6 8BG",null,null,"PLYMOUTH PL6",86210,86,"Human health services             ",0.29193168620018201,null,null,null,null,null,null,null,null,-2520,"*",null,{"$f":"VLOOKUP(A20197,'[1]Update Sheet'!$A$3:$Y$15578,25,FALSE)","v":{"$error":"#N/A"}},"Reportable"]
["NATIONAL INSTITUTE FOR BIOLOGICAL STANDARDS & CONTROL",3925,null,"N","N",true,"GB","N","PUBLIC SECTOR","SP4 0JG",null,null,"POTTERS B EN6",86900,86,"Human health services             ",0.29193168620018201,null,null,null,null,null,null,null,null,-2776.2,"*",null,{"$f":"VLOOKUP(A20198,'[1]Update Sheet'!$A$3:$Y$15578,25,FALSE)","v":{"$error":"#N/A"}},"Reportable"]
["ORASCOPTIC",43447,null,"N","N",true,"US","Y","PRIVATE SECTOR","USA",null,null,"FOREIGN",86220,86,"Human health services             ",0.29193168620018201,null,null,null,null,null,null,null,null,-2994,"*",null,{"$f":"VLOOKUP(A20199,'[1]Update Sheet'!$A$3:$Y$15578,25,FALSE)","v":{"$error":"#N/A"}},"Reportable"]
["PIERCE MANAGEMENT SERVICES LTD",27870,null,"N","N",true,"GB","Y","PRIVATE SECTOR","OX7 5SR",null,null,"ALTRINCH WA14",62020,62,"Computer programming, consultancy and related services          ",0.13144659704407699,null,null,null,null,null,null,null,null,-5038.0600000000004,"*",null,{"$f":"VLOOKUP(A20200,'[1]Update Sheet'!$A$3:$Y$15578,25,FALSE)","v":{"$error":"#N/A"}},"Reportable"]
["KINGDOM SERVICES GROUP LTD",38875,null,"N","N",true,"GB","N","PRIVATE SECTOR","WA12 0HF",null,null,"NEWTON WA12",70100,70,"Services of head offices; management consulting services         ",9.3681183759862049E-2,null,null,null,null,null,null,null,null,-5629.99,"*",null,{"$f":"VLOOKUP(A20201,'[1]Update Sheet'!$A$3:$Y$15578,25,FALSE)","v":{"$error":"#N/A"}},"Reportable"]
["ANTONIO MEZA",75084,null,"N","N",true,"FR","Y","PRIVATE SECTOR","92130",null,null,"FOREIGN",56290,56,"Food and beverage serving services           ",0.28886167518608219,null,null,null,null,null,null,null,null,-5750,"*",null,{"$f":"VLOOKUP(A20202,'[1]Update Sheet'!$A$3:$Y$15578,25,FALSE)","v":{"$error":"#N/A"}},"Reportable"]
["DIRECT LINE COMMUNICATIONS LTD",38887,1,"Y","Y",true,"GB","Y","PRIVATE SECTOR","CH5 1PP","North Wales","Betsi Cadwaladr UHB","SHOTTON CH51",61100,61,"Telecommunications services              ",0.10520703191029331,null,null,null,null,null,null,null,null,-5760,"*",null,{"$f":"VLOOKUP(A20203,'[1]Update Sheet'!$A$3:$Y$15578,25,FALSE)","v":{"$error":"#N/A"}},"Reportable"]
["TOPSCAN",25880,null,"N","N",true,"GB","Y","PRIVATE SECTOR","BH1 4HN",null,null,"BOURNMOUT BH1",74909,74,"Other professional, scientific and technical services          ",0.19142587698446711,null,null,null,null,null,null,null,null,-6880.8000000000011,"*",null,{"$f":"VLOOKUP(A20204,'[1]Update Sheet'!$A$3:$Y$15578,25,FALSE)","v":{"$error":"#N/A"}},"Reportable"]
["ANTHONY A DAVIES LTD",15146,1,"Y","Y",true,"GB","N","PRIVATE SECTOR","NP7 7RQ","South East Wales","Aneurin Bevan UHB","ABERGAVEN NP7",16230,16,"Wood and of products of wood and cork, except furniture; articles of straw and plaiting materials",0.47464506998431383,null,null,null,null,null,null,null,null,-7975.2,"*",null,{"$f":"VLOOKUP(A20205,'[1]Update Sheet'!$A$3:$Y$15578,25,FALSE)","v":{"$error":"#N/A"}},"Reportable"]
["ASI WISE LTD",67141,null,"N","N",true,"GB","Y","PRIVATE SECTOR","L17 7DW",null,null,"LIVERPOOL L17",86900,86,"Human health services             ",0.29193168620018201,null,null,null,null,null,null,null,null,-8013,"*",null,{"$f":"VLOOKUP(A20206,'[1]Update Sheet'!$A$3:$Y$15578,25,FALSE)","v":{"$error":"#N/A"}},"Reportable"]
["BIOTRONICS 3D LTD",69554,null,"N","N",true,"GB","Y","PRIVATE SECTOR","E14 9NN",null,null,"LONDON E14",86900,86,"Human health services             ",0.29193168620018201,null,null,null,null,null,null,null,null,-8640,"*",null,{"$f":"VLOOKUP(A20207,'[1]Update Sheet'!$A$3:$Y$15578,25,FALSE)","v":{"$error":"#N/A"}},"Reportable"]
["BRITISH INSTITUTE OF LEARNING DISABILITIES TA BILD",1379,null,"N","N",true,"GB","Y","VCSE","DY10 1JL",null,null,"BIRMINGHA B15",94990,94,"Services furnished by membership organisations           ",0.1210358880635142,null,null,null,null,null,null,null,null,-15459.6,"*",null,{"$f":"VLOOKUP(A20208,'[1]Update Sheet'!$A$3:$Y$15578,25,FALSE)","v":{"$error":"#N/A"}},"Reportable"]
["TELETRAC NAVMAN (UK) LTD",60762,null,"N","N",true,"GB","N","PRIVATE SECTOR","MK7 6BZ",null,null,"MILTON KEYN MK7",74909,74,"Other professional, scientific and technical services          ",0.19142587698446711,null,null,null,null,null,null,null,null,-16939.79,"*",null,{"$f":"VLOOKUP(A20209,'[1]Update Sheet'!$A$3:$Y$15578,25,FALSE)","v":{"$error":"#N/A"}},"Reportable"]
["EMIS GROUP PLC",56650,null,"N","N",true,"GB","N","PRIVATE SECTOR","BL6 6QQ",null,null,"BOLTON BL6",70100,70,"Services of head offices; management consulting services         ",9.3681183759862049E-2,null,null,null,null,null,null,null,null,-24090.66,"*",null,{"$f":"VLOOKUP(A20210,'[1]Update Sheet'!$A$3:$Y$15578,25,FALSE)","v":{"$error":"#N/A"}},"Reportable"]
["AXIA ASD LTD",53172,null,"N","N",true,"GB","Y","PRIVATE SECTOR","CH4 8BU",null,null,"CHESTER CH4",82990,82,"Office administrative, office support and other business support services       ",0.1180504360352973,null,null,null,null,null,null,null,null,-28000,"*",null,{"$f":"VLOOKUP(A20211,'[1]Update Sheet'!$A$3:$Y$15578,25,FALSE)","v":{"$error":"#N/A"}},"Reportable"]
["OAKLEAF SURVEYING LTD",64813,null,"N","N",true,"GB","Y","PRIVATE SECTOR","NN3 6WL",null,null,"NORTHAMPTON NN3",71122,71,"Architectural and engineering services; technical testing and analysis services       ",0.1560575201743172,null,null,null,null,null,null,null,null,-28557.360000000001,"*",null,{"$f":"VLOOKUP(A20212,'[1]Update Sheet'!$A$3:$Y$15578,25,FALSE)","v":{"$error":"#N/A"}},"Reportable"]
["BRIDGE TO LIFE (EUROPE) LTD",53686,null,"N","N",true,"GB","N","PRIVATE SECTOR","SW18 4AW",null,null,"LONDON SW18",72110,72,"Scientific research and development services           ",0.18562764998368861,null,null,null,null,null,null,null,null,-36350.400000000001,"*",null,{"$f":"VLOOKUP(A20213,'[1]Update Sheet'!$A$3:$Y$15578,25,FALSE)","v":{"$error":"#N/A"}},"Reportable"]
["ZDUPNHS DIGITAL",61025,0,null,null,null,"GB","N","PUBLIC SECTOR",null,null,null,{"$error":"#N/A"},null,null,null,null,null,null,null,null,null,null,null,null,0,null,null,{"$f":"VLOOKUP(A20214,'[1]Update Sheet'!$A$3:$Y$15578,25,FALSE)","v":{"$error":"#N/A"}},"Exclude- Intra NHS "]
["MR J BEYNON",76647,1,"Y","Y",true,"GB","Y","PRIVATE SECTOR","SA72 6BJ","South West Wales","Hywel Dda UHB",{"$error":"#N/A"},86000,86,"Human health services             ",0.29193168620018201,null,null,null,null,null,null,null,null,0,null,null,{"$f":"VLOOKUP(A20215,'[1]Update Sheet'!$A$3:$Y$15578,25,FALSE)","v":{"$error":"#N/A"}},"Reportable"]
["INVITECH LTD",37523,null,"N","N",true,"GB","Y","PRIVATE SECTOR","PE28 0QG",null,null,"HUNTINGDO PE28",46460,46,"Wholesale trade services, except of motor vehicles and motorcycles       ",2.0310031510736858E-2,null,null,null,null,null,null,null,null,-70707.3,"*",null,{"$f":"VLOOKUP(A20216,'[1]Update Sheet'!$A$3:$Y$15578,25,FALSE)","v":{"$error":"#N/A"}},"Reportable"]
["RACKLINE LTD",6843,null,"N","N",true,"GB","Y","PRIVATE SECTOR","ST7 1RX",null,null,"ESTATES",31010,31,"Furniture               ",0.37636837674684959,null,null,null,null,null,null,null,null,-76441.210000000006,"*",null,{"$f":"VLOOKUP(A20217,'[1]Update Sheet'!$A$3:$Y$15578,25,FALSE)","v":{"$error":"#N/A"}},"Reportable"]
["ZURICH MUNICIPAL",4138,null,"N","N",true,"GB","N","PRIVATE SECTOR","B16 8QP",null,null,"FAREHAM PO15",74990,74,"Other professional, scientific and technical services          ",0.19142587698446711,"",null,null,null,null,null,null,null,-89111.76,"*",null,{"$f":"VLOOKUP(A20218,'[1]Update Sheet'!$A$3:$Y$15578,25,FALSE)","v":{"$error":"#N/A"}},"Reportable"]
["FRESH RECRUITMENT LTD",50736,null,"N","N",true,"GB","N","PRIVATE SECTOR","MK3 6DP",null,null,"MILTON MK3",78200,78,"Employment services              ",0.1176282196328419,null,null,null,null,null,null,null,null,-107775.96,"*",null,{"$f":"VLOOKUP(A20219,'[1]Update Sheet'!$A$3:$Y$15578,25,FALSE)","v":{"$error":"#N/A"}},"Reportable"]
["WHITECROSS DENTAL CARE LTD",76798,null,"N","Y","Removal of a False Welsh Supplier","GB","N","PRIVATE SECTOR","MG26 1GE",null,null,"MANCHESTER MG26",86230,86,"Human health services             ",0.29193168620018201,null,null,null,null,null,null,null,null,0,null,null,{"$error":"#N/A"},"Reportable"]
["R L PLASTICS LTD",69600,null,"N","N",true,"GB","N","PRIVATE SECTOR","CH41 1DF",null,null,"BIRKENHEA CH41",22290,22,"Rubber and plastic products            ",0.57621788964022036,null,null,null,null,null,null,null,null,0,null,null,{"$error":"#N/A"},"Reportable"]
["EVERGREEN HEALTH SOLUTIONS LTD6",76969,null,"N","N",true,"GB","Y","PRIVATE SECTOR","M3 5NA",null,null,"MANCHESTE M3",62012,62,"Computer programming, consultancy and related services          ",0.13144659704407699,null,null,null,null,null,null,null,null,0,null,null,{"$f":"VLOOKUP(A20222,'[1]Update Sheet'!$A$3:$Y$15578,25,FALSE)","v":{"$error":"#N/A"}},"Reportable"]
["EVERGREEN HEALTH SOLUTIONS LTD",76969,null,"N","N",true,"GB","Y","PRIVATE SECTOR","M3 5NA",null,null,"MANCHESTE M3",62012,62,"Computer programming, consultancy and related services          ",0.13144659704407699,null,null,null,null,null,null,null,null,0,null,null,{"$f":"VLOOKUP(A20223,'[1]Update Sheet'!$A$3:$Y$15578,25,FALSE)","v":{"$error":"#N/A"}},"Reportable"]
["SOCIETY FOR CARDIOVASCULAR MAGNETIC RESONANCE",77014,null,"N","N",true,"US","Y","PRIVATE SECTOR","60118",null,null,"FOREIGN",94120,94,"Services furnished by membership organisations           ",0.1210358880635142,null,null,null,null,null,null,null,null,1487.46,"*",null,{"$f":"VLOOKUP(A20224,'[1]Update Sheet'!$A$3:$Y$15578,25,FALSE)","v":0},"Reportable"]
["ZDUPCAREFULAI",70065,1,"Y","Y",true,"GB","Y","PRIVATE SECTOR","NP44 3AW","South East Wales","Aneurin Bevan UHB","CWMBRAN NP44",62020,62,"Computer programming, consultancy and related services          ",0.13144659704407699,null,null,null,null,null,null,null,null,0,null,null,{"$error":"#N/A"},"Reportable"]
["INTERNATIONAL SOCIETY FOR MAGNETIC RESONANCE IN MEDICINE ISMRM",77014,null,"N","N",true,"US","Y","VCSE","CA94520 USA",null,null,"FOREIGN",94120,94,"Services furnished by membership organisations           ",0.1210358880635142,null,null,null,null,null,null,null,null,0,null,null,{"$f":"VLOOKUP(A20226,'[1]Update Sheet'!$A$3:$Y$15578,25,FALSE)","v":{"$error":"#N/A"}},"Reportable"]
["NIGHT MOUNTAIN LTD TA UX DESIGN INSTITUTE",77434,null,"N","N",true,"IE","Y","PRIVATE SECTOR","D08 R2YP",null,null,"FOREIGN",85590,85,"Education services              ",0.10257966678326461,null,null,null,null,null,null,null,null,1550,"*",null,{"$f":"VLOOKUP(A20227,'[1]Update Sheet'!$A$3:$Y$15578,25,FALSE)","v":0},"Reportable"]
["NIGHT MOUNTIN LTD TA UX DESIGN INSTITUTE",77434,null,"N","N",true,"IE","Y","PRIVATE SECTOR","D08 R2YP",null,null,"FOREIGN",85590,85,"Education services              ",0.10257966678326461,null,null,null,null,null,null,null,null,0,null,null,{"$f":"VLOOKUP(A20228,'[1]Update Sheet'!$A$3:$Y$15578,25,FALSE)","v":{"$error":"#N/A"}},"Reportable"]